Workbook
Name a: #REF!
Name a: #REF!
Name a: #REF!
Name a: #REF!
Name asma: #REF!
Name asma: #REF!
Name asma: #REF!
Name asma: #REF!
Name asma1: #REF!
Name asma1: #REF!
Name asma1: #REF!
Name asma1: #REF!
Name Chart_1_En: #REF!
Name Chart_1_En: #REF!
Name Chart_1_En: #REF!
Name Chart_1_En: #REF!
Name Chart_1_En: #REF!
Name dg: #REF!
Name dg: #REF!
Name dg: #REF!
Name dg: #REF!
Name dg: #REF!
Name H: #REF!
Name H: #REF!
Name H: #REF!
Name H: #REF!
Name ljh: #REF!
Name ljh: #REF!
Name ljh: #REF!
Name ljh: #REF!
Name ljh: #REF!
Name omar: #REF!
Name omar: #REF!
Name omar: #REF!
Name omar: #REF!
Name Qtr: #REF!
Name Qtr: #REF!
Name Qtr: #REF!
Name Qtr: #REF!
Name Qtr: #REF!
Name saaa: #REF!
Name saaa: #REF!
Name saaa: #REF!
Name saaa: #REF!
Name saaa: #REF!
Name saber: #REF!
Name saber: #REF!
Name saber: #REF!
Name saber: #REF!
Name saber: #REF!
Name sss: #REF!
Name sss: #REF!
Name sss: #REF!
Name sss: #REF!
Name sss: #REF!

Sheet مقدمة
A2: -$+
A3: إحصاءات الأسعار والأرقام القياسية
A4: CHAPTER XIV PRICE AND PRICE INDEX STATISTICS
G65: Other Expenditures on Transport Equipment
G66: Land Transport
G68: Transport Services Charges
G69: Other Transport Services Charges
G73: Audio and Video Equipment and the Like
G74: Cameras and Requirements
G79: Local and Imported Newspapers and Magazines
B91: انفاق الاسرة على المطاعم والمقاهي والفنادق | G91: H/H's expenditure on Restaurants, Coffee Shops & Hotels
C92: الانفاق على المطاعم والوجبات السريعة خارج المنزل | G92: Meals & fast food Outside home
G93: Residence in Hotels
G98: Baby Care Products & Paper Products
G99: fixed of personal property
G100: Valuable Acquisitions
G101: Personal Luxurious Goods&Goods Not classified other place
G102: Telephone , Fax & Enternet Services

Sheet التقديم
A2: إحصاءات الأسعار والأرقام القياسية | C2: PRICES AND PRICE INDEX STATISTICS
A4: يتضمن هذا الفصل بيانات عن مؤشرات محدثة عن الإنفاق والدخل وهي من نتائج بحث انفاق ودخل الأسرة في قطر والذي أجراه المجلس الوطني للتخطيط على عينة من الأسر القطرية وغير القطرية في عام 2017-2018 . | C4: This chapter includes data regarding expenditure and income indicators derived from the "Household Expenditure and Income Survey" in the State of Qatar which was conducted in 2017-2018 by the National Planning Council on a sample of Qatari and non-Qatari households.
A6: وقد استخدمت نسب الإنفاق على السلع والخدمات المستخرجة من البحث المشار اليه أعلاه في حساب الرقم القياسي لأسعار المستهلك إبتداءً شهر يناير 2020، وباستخدام صيغة لاسبير للأسعار . | C6: Ratios of expenditure on goods and services which were derived from the above mentioned survey were used in the derivation of the Consumer Price Index for the month of January 2020 using Laspeyre's Price Formula.
A8: ويشمـل هذا الفصل على الرقم القياسي لأسعار المستهلك 2024 ، كما يشمل الرقم القياسي لأسعار المنتج 2024 , والرقم القياسي للإنتاج الكمي2024، وكل من المؤشرات الثلاث محسوبة على سنة الأساس2018، والرقم القياسي للألات والمعدات 2024 المحسوب باساس2018 ، والرقم القياسي لقيمة الوحدة للواردات والمحسوب بأساس2018، والرقم القياسي لقيمة الوحدة للصادرات والمحسوب بأساس 2018. | C8: This chapter includes consumer prices index for 2024 , a producer price Index 2024, and industrial production index 2024, all of them calculated based 2018, machinery and equipment price index 2024 is included and calculated based 2018, and unit value index of imports based 2018 and unit value index of export based 2018.
A9: مصادر البيانات : | C9: Sources of data :
A10: - بحث انفاق ودخل الأسرة 2017 - 2018 . | C10: - Household Expenditure and Income Survey, 2017 - 2018
A11: - الأبحاث الميدانية الشهرية لأسعار المستهلك ، واسعار المنتج، والإنتاج الصناعي ، وأسعار الألات والمعدات | C11: - Monthly field surveys on consumer prices , producer prices, Industrial production, and machinary and equipment prices
A12: - السجلات الإدارية الخاصة بمؤشرات قيمة الوحدة للواردات والصادرات | C12: - Business register for unit value of indices for imports and exports

Sheet 104
A2: السلسلة الزمنية السنوية للرقم القياسي لأسعار المستهلك
A3: 2022 - 2024
A4: ANNUAL CPI TIME SERIES
A5: 2022 - 2024
A6: جدول (104) سنة الأساس : 2018 | G6: Table (104) Base year : 2018
A7: الرمز | B7: مجموعات السلع والخدمات | C7: 2022 | D7: 2023 | E7: 2024 | F7: الاهميات النسبية Weights | G7: Groups of goods and services | H7: Code
A8: 0 | B8: الرقم القياسي العام لاسعار الاستهلاك العائلي | C8: 103.7125 | D8: 106.85333 | E8: 108.205 | F8: 10000 | G8: CPI Household Consumption | H8: 0
A9: 1 | B9: الغذاء والمشروبات | C9: 107.0525 | D9: 108.5175 | E9: 109.96 | F9: 1345 | G9: Food and Beverages | H9: 1
A10: 11 | B10: الغذاء | C10: 107.6375 | D10: 108.69167 | E10: 110.075 | F10: 1206 | G10: Food | H10: 11
A11: 012 | B11: المشروبات | C11: 101.97417 | D11: 107.00167 | E11: 108.96417 | F11: 139 | G11: Beverages | H11: 012
A12: 02 | B12: التبغ | C12: 246 | D12: 246 | E12: 246 | F12: 28 | G12: Tobacco | H12: 02
A13: 022 | B13: التبغ | C13: 246 | D13: 246 | E13: 246 | F13: 28 | G13: Tobacco | H13: 022
A14: 03 | B14: الملابس والأحذية | C14: 92.631667 | D14: 92.605833 | E14: 91.415 | F14: 558 | G14: Clothing and Footwear | H14: 03
A15: 031 | B15: الملابس | C15: 90.993333 | D15: 92.006667 | E15: 91.739167 | F15: 477 | G15: Clothing | H15: 031
A16: 032 | B16: الأحذية | C16: 102.27917 | D16: 96.140833 | E16: 89.5075 | F16: 81 | G16: Footwear | H16: 032
A17: 04 | B17: السكن والمياه والكهرباء والغاز وأنواع الوقود الأخرى | C17: 93.575 | D17: 96.9675 | E17: 93.806667 | F17: 2117 | G17: Housing, water, Electricity, Gas, and Other Fuels | H17: 04
A18: 041 | B18: الإيجار الشهري الإجمالي للمساكن وأجور الماء | C18: 92.205 | D18: 96.02 | E18: 92.548333 | F18: 1908 | G18: Actual Rental for Housing | H18: 041
A19: 043 | B19: صيانة واصلاح المساكن | C19: 92.51 | D19: 90.2575 | E19: 90.045 | F19: 77 | G19: Maintenance and repair of the Dwelling | H19: 043
A20: 044 | B20: أمداد المياه وخدماته | C20: 108 | D20: 108 | E20: 108 | F20: 55 | G20: Water Supply and Miscellaneous services Relating to the Dwelling | H20: 044
A21: 045 | B21: الكهرباء، الغاز، ووقود اخرى | C21: 118.2825 | D21: 119.215 | E21: 118.61 | F21: 77 | G21: Electricity, Gas and Other Fuels | H21: 045
A22: 05 | B22: التأثيث والتجهيز المنزلي والصيانة الروتينية للمنازل | C22: 105.18583 | D22: 106.3975 | E22: 105.50667 | F22: 788 | G22: Furnishing, household equipment and routine household maintenance | H22: 05
... A59: 127 | B59: خدمات اخرى | C59: 115 | D59: 111.5 | E59: 114.5 | F59: 23 | G59: Other Services | H59: 127
B80: الغذاء والمشروبات Food and Beverages
B81: التبغ Tobacco
B82: الملابس والأحذية Clothing and Soft ware
B83: السكن والمياه والكهرباء والغاز وأنواع الوقود الأخرى Housing, water, Electricity, Gas, and OtherFuels
B84: الأثاث والمنسوجات والأجهزة المنزلية Furnishing, household equipment and Roitin Housholds maintainance
B85: الصحة Health
B86: النقل Transport
B87: الاتصالات Communication
B88: التسلية والثقافة Recreation and Culture services
B89: التعليم Education
B90: المطاعم والفنادق Resturant and Hotels
B91: السلع والخدمات المتفرقة Miscellaneous Gooda and Services

Sheet 105
A2: السلسلة الزمنية الفصلية للرقم القياسي لأسعار المستهلك
A3: 2024
A4: QUARTERLY CPI TIME SERIES
A5: 2024
A7: جدول (105) سنة الأساس : 2018 | I7: Table (105) Base year : 2018
A8: الرمز | B8: مجموعات السلع والخدمات | C8: الربع الأول Q1 | D8: الربع الثاني Q2 | E8: الربع الثالث Q3 | F8: الربع الرابع Q4 | G8: الاهميات النسبية Weights | H8: Groups of goods and services | I8: Code
A9: 0 | B9: الاستهلاك العائلي | C9: 107.95667 | D9: 107.57333 | E9: 107.71333 | F9: 109.57667 | G9: 10000 | H9: Household Consumption | I9: 0
A10: 1 | B10: الغذاء والمشروبات | C10: 111.58333 | D10: 108.30667 | E10: 108.50667 | F10: 111.44333 | G10: 1345 | H10: Food and Beverages | I10: 1
A11: 11 | B11: الغذاء | C11: 111.72667 | D11: 108.15333 | E11: 108.57333 | F11: 111.84667 | G11: 1206 | H11: Food | I11: 11
A12: 012 | B12: المشروبات | C12: 110.32 | D12: 109.64 | E12: 107.92667 | F12: 107.97 | G12: 139 | H12: Beverages | I12: 012
A13: 02 | B13: التبغ | C13: 246 | D13: 246 | E13: 246 | F13: 246 | G13: 28 | H13: Tobacco | I13: 02
A14: 022 | B14: التبغ | C14: 246 | D14: 246 | E14: 246 | F14: 246 | G14: 28 | H14: Tobacco | I14: 022
A15: 03 | B15: الملابس والأحذية | C15: 90.233333 | D15: 93.296667 | E15: 90.693333 | F15: 91.436667 | G15: 558 | H15: Clothing and footware | I15: 03
A16: 031 | B16: الملابس | C16: 90.803333 | D16: 93.63 | E16: 90.803333 | F16: 91.72 | G16: 477 | H16: Clothing | I16: 031
A17: 032 | B17: الأحذية | C17: 86.88 | D17: 91.343333 | E17: 90.046667 | F17: 89.76 | G17: 81 | H17: Footwear | I17: 032
A18: 04 | B18: السكن والمياه والكهرباء والغاز وأنواع الوقود الأخرى | C18: 95.91 | D18: 95.02 | E18: 92.506667 | F18: 91.79 | G18: 2117 | H18: Housing, water, Electricity, Gas, and OtherFuels | I18: 04
A19: 041 | B19: الإيجار الشهري الإجمالي للمساكن وأجور الماء | C19: 94.73 | D19: 93.763333 | E19: 91.233333 | F19: 90.466667 | G19: 1908 | H19: Actual Rental for Housing | I19: 041
A20: 043 | B20: صيانة واصلاح المساكن | C20: 93.38 | D20: 93.38 | E20: 87.06 | F20: 86.36 | G20: 77 | H20: Maintenance and repair of the Dwelling | I20: 043
A21: 044 | B21: أمداد المياه وخدماته | C21: 108 | D21: 108 | E21: 108 | F21: 108 | G21: 55 | H21: Water Supply and Miscellaneous services Relating to the Dwelling | I21: 044
A22: 045 | B22: الكهرباء، الغاز، ووقود اخرى | C22: 119.04 | D22: 118.49 | E22: 118.49 | F22: 118.42 | G22: 77 | H22: Electricity, Gas and Other Fuels | I22: 045
A23: 05 | B23: التأثيث والتجهيز المنزلي والصيانة الروتينية للمنازل | C23: 105.43667 | D23: 105.89333 | E23: 106.28667 | F23: 104.41 | G23: 788 | H23: Furnishing, household equipment and routine household maintenance | I23: 05
... A60: 127 | B60: خدمات اخرى | C60: 114 | D60: 114 | E60: 115 | F60: 115 | G60: 23 | H60: Other Services | I60: 127

Sheet Gr_35
A20: Graph (35) شكل
A113: الغذاء والمشروبات Food and Beverages | B113: =SUM('104'!F9) -> 1345 | C113: =SUM(B113/B124*100) -> 14.40197
A114: التبع Tobacco | B114: =SUM('104'!F12) -> 28 | C114: =SUM(B114/B124*100) -> 0.29981797
A115: الملابس والاحذية Clothing and footware | B115: =SUM('104'!F14) -> 558 | C115: =SUM(B115/B124*100) -> 5.9749438
A116: السكن والمياه والكهرباء والغاز وأنواع الوقود الأخرى Housing, water, Electricity, Gas, and OtherFuels | B116: =SUM('104'!F17) -> 2117 | C116: =SUM(B116/B124*100) -> 22.66838
A117: التأثيث والتجهيز المنزلي والصيانة الروتينية Furnishing, household equipment and Routine Housholds maintainance | B117: =SUM('104'!F22) -> 788 | C117: =SUM(B117/B124*100) -> 8.4377342 | M117: 2015 | N117: 2014 | O117: 2013 | P117: 2012
A118: الصحة Health | B118: =SUM('104'!F29) -> 265 | C118: =SUM(B118/B124*100) -> 2.8375629
A119: النقل Transport | B119: =SUM('104'!F33) -> 1459 | C119: =SUM(B119/B124*100) -> 15.622658
A120: الاتصالات Communication | B120: =SUM('104'!F37) -> 523 | C120: =SUM(B120/B124*100) -> 5.6001713
A121: التسلية والثقافة Recreation and Culture services | B121: =SUM('104'!F41) -> 1113 | C121: =SUM(B121/B124*100) -> 11.917764
A122: التعليم Education | B122: =SUM('104'!F47) -> 578 | C122: =SUM(B122/B124*100) -> 6.1890995
A123: السلع والخدمات المتفرقة Miscellaneous Goods and Services | B123: =SUM('104'!F55) -> 565 | C123: =SUM(B123/B124*100) -> 6.0498983
B124: =SUM(B113:B123) -> 9339
B154: 1 | C154: Food and Beverages | D154: 1345 | E154: الغذاء والمشروبات | F154: الغذاء والمشروبات Food and Beverages
B155: 02 | C155: Tobacco | D155: 28 | E155: التبغ | F155: التبغ Tobacco
B156: 03 | C156: Clothing and Soft ware | D156: 558 | E156: الملابس والأحذية | F156: الملابس والأحذية Clothing and Soft ware
B157: 04 | C157: Housing, water, Electricity, Gas, and OtherFuels | D157: 2117 | E157: السكن والمياه والكهرباء والغاز وأنواع الوقود الأخرى | F157: السكن والمياه والكهرباء والغاز وأنواع الوقود الأخرى Housing, water, Electricity, Gas, and OtherFuels
B158: 05 | C158: Furnishing, household equipment and Roitin Housholds maintainance | D158: 788 | E158: الأثاث والمنسوجات والأجهزة المنزلية | F158: الأثاث والمنسوجات والأجهزة المنزلية Furnishing, household equipment and Roitin Housholds maintainance
B159: 06 | C159: Health | D159: 265 | E159: الصحة | F159: الصحة Health
B160: 07 | C160: Transport | D160: 1462 | E160: النقل | F160: النقل Transport
B161: 08 | C161: Communication | D161: 523 | E161: الاتصالات | F161: الإتصالات Communication
B162: 09 | C162: Recreation and Culture services | D162: 1110 | E162: التسلية والثقافة | F162: التسلية والثقافة Recreation and Culture services
B163: 10 | C163: Education | D163: 578 | E163: التعليم | F163: التعليم Education
B164: 11 | C164: Resturant and Hotels | D164: 661 | E164: المطاعم والفنادق | F164: المطاعم والفنادق Resturant and Hotels
B165: 12 | C165: Miscellaneous Gooda and Services | D165: 565 | E165: السلع والخدمات المتفرقة | F165: السلع والخدمات المتفرقة Miscellaneous Gooda and Services

Sheet Gr_36
A29: Graph (36) شكل
B57: 2022 | C57: 2023 | D57: 2024
B58: 103.7125 | C58: 106.85333 | D58: 108.205 | E58: الأستهلاك العائلي Household Consumption
B59: 107.0525 | C59: 108.5175 | D59: 109.96 | E59: الغذاء والمشروبات Food, Beverages
B60: 246 | C60: 246 | D60: 246 | E60: التبغ Tobacco
B61: 92.631667 | C61: 92.605833 | D61: 91.415 | E61: السكن والمياه والكهرباء والغاز وأنواع الوقود الأخرى Housing, water, Electricity, Gas, and OtherFuels

Sheet 106
A2: نسبة التغير في الرقم القياسي لأسعار المستهلك الربع السنوي الى نظيره في السنة السابقة
A3: 2024
A4: QUARTERLY CPI (YoY) CHANGES
A5: 2024
A6: جدول (106) , 2018=100 | H6: Table (106) , 2018=100
A7: الرمز | B7: مجموعات السلع والخدمات | C7: الربع الأول Q1 2024 | D7: الربع الثاني Q2 2024 | E7: الربع الثالث Q3 2024 | F7: الربع الرابع Q4 2024 | G7: Groups of goods and services | H7: Code
A8: 1 | B8: الرقم القياسي العام لأسعار الأستهلاك العائلي | C8: 2.2 | D8: 0.9 | E8: 0.8 | F8: 0.72619194 | G8: CPI Household consumption | H8: 1
A9: 01 | B9: الغذاء والمشروبات | C9: 0.1 | D9: 2.5728447 | E9: -1.2198823 | F9: -0.54142496 | G9: Food, Beverages | H9: 01
A10: 02 | B10: التبغ | C10: 0 | D10: 0 | E10: 0 | F10: 0 | G10: Tobacco | H10: 02
A11: 03 | B11: الملابس والأحذية | C11: -2.1 | D11: 0.05362122 | E11: -1.0330278 | F11: 0.42835176 | G11: Clothing and Footwear | H11: 03
A12: 04 | B12: الإيجار والوقود والطاقة | C12: -0.6 | D12: -3.1462354 | E12: -3.9024897 | F12: -3.7975126 | G12: Rent , Fuel and Energy | H12: 04
A13: 05 | B13: الأثاث والمنسوجات والأجهزة المنزلية | C13: 3.7 | D13: -1.7474407 | E13: -1.4739054 | F13: -1.4256042 | G13: Furniture , Textiles and Home Appliance | H13: 05
A14: 06 | B14: الصحة | C14: -0.7 | D14: -1.7660044 | E14: -1.6263468 | F14: -1.0054845 | G14: Health | H14: 06
A15: 07 | B15: النقل | C15: -0.7 | D15: 1.6969111 | E15: 1.0358494 | F15: 1.6832347 | G15: Transport | H15: 07
A16: 08 | B16: الإتصالات | C16: 16.9 | D16: -9.7212889 | E16: 0.73975721 | F16: 4.3643384 | G16: Communication | H16: 08
A17: 09 | B17: التسلية والترفيه والثقافة | C17: 5.7 | D17: 11.994867 | E17: 10.478622 | F17: 4.1025018 | G17: Entertainment, Recreation and Culture | H17: 09
A18: 10 | B18: التعليم | C18: -0.1 | D18: 3.4027175 | E18: 2.0594836 | F18: 1.3337426 | G18: Education | H18: 10
A19: 11 | B19: المطاعم والفنادق | C19: -3.3 | D19: -1.6673432 | E19: 2.4742401 | F19: 1.2195122 | G19: Restaurant and Hotels | H19: 11
A20: 12 | B20: سلع وخدمات متفرقة. | C20: -0.1 | D20: 2.6 | E20: 5.3004957 | F20: 7.2253625 | G20: Miscellaneous goods and services | H20: 12

Sheet Gr_37
A39: Graph (37) شكل
A65: Q1-24/ Q1-23 | B65: Q2-24/ Q2-23 | C65: Q3-24/ Q3-23 | D65: Q4-24/ Q4-23
A66: 2.370642 | B66: 1.0236344 | C66: 0.96231957 | D66: 0.72619194 | E66: الأستهلاك العائلي Household Consumption
A67: 4.691165 | B67: 2.5728447 | C67: -1.2198823 | D67: -0.54142496 | E67: الغذاء والمشروبات والتبغ Food, Beverages & Tobacco
A68: -2.2191259 | B68: -3.1462354 | C68: -3.9024897 | D68: 0.42835176 | E68: الإيجار والوقود والطاقة Rent, utilities and related housing services

Sheet 107
B1: السلسة الزمنية للرقم القياسي لأسعار المنتج المستوى الثاني 2022 - 2024
B2: TIME SERIES OF PRODUCER PRICE INDEX Second Level 2022 - 2024
A3: جدول (107) سنة الاساس = 2018 | G3: Table (107) Base Year = 2018
A4: الرمز | B4: النشاط الاقتصادي | C4: 2022 | D4: 2023 | E4: 2024 | F4: الاهميات النسبية Weights | G4: Economic Activity | H4: Code
A5: 0 | B5: الرقم القياسي العام | C5: 150.82275 | D5: 118.12267 | E5: 113.25889 | F5: 10000 | G5: General Index | H5: 0
A6: C | B6: التعدين واستغلال المحاجر | C6: 154.15907 | D6: 119.71874 | E6: 114.26994 | F6: 8246.2 | G6: Mining and Quarrying | H6: C
A7: 12 | B7: استخراج النفط الخام و الغاز الطبيعي | C7: 154.25792 | D7: 119.75543 | E7: 114.29647 | F7: 8230.9 | G7: Extraction of Crude petroleum and Natural Gas | H7: 12
A8: 15 | B8: الأنشطة الأخرى للتعدين واستغلال المحاجر | C8: 100.98604 | D8: 99.982693 | E8: 99.996467 | F8: 15.3 | G8: Other Mining and Quarrying | H8: 15
A9: D | B9: الصناعة التحويلية | C9: 138.10301 | D9: 110.15484 | E9: 107.30777 | F9: 1585.02 | G9: Manufacturing | H9: D
A10: 21 | B10: صنع المنتجات الغذائية | C10: 103.90904 | D10: 109.2916 | E10: 111.43728 | F10: 28.17 | G10: Manufacture of Food Products | H10: 21
A11: 22 | B11: صنع المشروبات | C11: 99.240886 | D11: 101.38192 | E11: 101.03697 | F11: 9.32 | G11: Manufacture of Beverages | H11: 22
A12: 23 | B12: الطباعة واستنساخ وسائط الأعلام المسجلة | C12: 114.99767 | D12: 117.63539 | E12: 117.17787 | F12: 20.01 | G12: Printing And Reproduction of Recorded Media | H12: 23
A13: 24 | B13: صنع فحم الكوك والمنتجات النفطية المكررة | C13: 129.507 | D13: 113.18643 | E13: 108.11168 | F13: 273.16 | G13: Manufacture of Coke and Refined Petroleum Products | H13: 24
A14: 32 | B14: صنع المواد الكيميائية والمنتجات الكيميائية | C14: 149.2076 | D14: 108.8118 | E14: 104.95815 | F14: 905.17 | G14: Manufacture of Chemicals and Chemical Products | H14: 32
A15: 33 | B15: صنع منتجات المطاط واللدائن | C15: 137.10486 | D15: 142.1944 | E15: 141.48577 | F15: 35.7 | G15: Manufacture of Rubber and Plastics Products | H15: 33
A16: 34 | B16: صنع منتجات المعادن اللافلزية الأخرى | C16: 100.33421 | D16: 98.675693 | E16: 101.59107 | F16: 155.2 | G16: Manufacture of Other Non-Metallic Mineral Products | H16: 34
A17: 35 | B17: صنع الفلزات القاعدية | C17: 137.98739 | D17: 116.35517 | E17: 114.93471 | F17: 158.29 | G17: Manufacture of Basic Metals | H17: 35
A18: 36 | B18: امدادات الكهرباء والغاز والبخار وتكييف الهواء | C18: 104.25381 | D18: 109.64112 | E18: 112.58697 | F18: 115.95 | G18: Electricity, Gas ,Steam And Air Conditioning Supply | H18: 36
B19: امدادات الكهرباء والغاز والبخار وتكييف الهواء | C19: 104.25381 | D19: 109.64112 | E19: 112.58697 | F19: 115.95 | G19: Electricity, Gas ,Steam And Air Conditioning Supply
A20: 37 | B20: امدادات المياه وأنشطة الصرف الصحي وإدارة النفايات ومعالجتها | C20: 113.88846 | D20: 126.66188 | E20: 131.84394 | F20: 52.83 | G20: Water Supply; Sewerage, Waste Management and Remediation Activities | H20: 37
A21: 41 | B21: تجميع المياه ومعالجتها وتوصيلها | C21: 113.88846 | D21: 126.66188 | E21: 131.84394 | F21: 52.83 | G21: Water Collection, Treatment and Supply | H21: 41

Sheet Gr_38
A27: Graph (38) شكل

Sheet Sheet5
A1: NODE_NAME_ARB | B1: NODE_NAME_ENG
A2: الرقم القياسي العام General PPI | B2: General
A3: التعدين Mining | B3: Mining
A4: الكهرباء والماء electricity & water | B4: electricity & water
A5: الصناعة التحويلية Manufacturing | B5: Manufacturing

Sheet 108
B1: الرقم القياسي لسعر المنتج الربع سنوي والسنوي المستوى الثاني 2024
B2: QUARTERLY AND ANNUAL PPI INDEX SECOND LEVEL 2024
A3: جدول (108) سنة الاساس = 2018 | M3: Table (108) Base Year = 2018
A4: الرمز | B4: النشاط الاقتصادي | C4: 2024 | H4: التغير النسبي | L4: الاهميات النسبية Weights | M4: Economic Activity | N4: Code
A5: 0 | C5: الربع الأول Q 1 | D5: الربع الثاني Q 2 | E5: الربع الثالث Q 3 | F5: الربع الرابع Q 4 | G5: السنوي | H5: Q1-24/ Q1-23 | I5: Q2-24/ Q2-23 | J5: Q3-24/ Q3-23 | K5: Q4-24/ Q4-23 | N5: 0
A6: 0 | B6: الرقم القياسي العام | C6: 113.58007 | D6: 114.4247 | E6: 113.7923 | F6: 111.23847 | G6: 113.25889 | H6: -9.545453 | I6: 0.68932245 | J6: -0.12076744 | K6: -6.7991824 | L6: 10000 | M6: General Index | N6: 0
A7: C | B7: التعدين واستغلال المحاجر | C7: 114.51374 | D7: 115.63014 | E7: 115.03833 | F7: 111.89755 | G7: 114.26994 | H7: -10.079849 | I7: 0.62531092 | J7: -0.21315043 | K7: -7.773324 | L7: 8246.2 | M7: Mining and Quarrying | N7: C
A8: 12 | B8: استخراج النفط الخام و الغاز الطبيعي | C8: 114.54078 | D8: 115.65926 | E8: 115.06623 | F8: 111.91962 | G8: 114.29647 | H8: -10.09453 | I8: 0.62635819 | J8: -0.21355836 | K8: -7.7853114 | L8: 8230.9 | M8: Extraction of Crude petroleum and Natural Gas | N8: 12
A9: 15 | B9: الأنشطة الأخرى للتعدين واستغلال المحاجر | C9: 99.965386 | D9: 99.965386 | E9: 100.02755 | F9: 100.02755 | G9: 99.996467 | H9: -0.01728949 | I9: -0.022262071 | J9: 0.039905947 | K9: 0.054755455 | L9: 15.3 | M9: Other Mining and Quarrying | N9: 15
A10: D | B10: الصناعة التحويلية | C10: 107.16248 | D10: 107.94466 | E10: 107.36542 | F10: 106.75853 | G10: 107.30777 | H10: -8.4771228 | I10: 0.92289496 | J10: 0.022254932 | K10: -2.2644743 | L10: 1585.02 | M10: Manufacturing | N10: D
A11: 21 | B11: صنع المنتجات الغذائية | C11: 112.60839 | D11: 111.44341 | E11: 110.61926 | F11: 111.07805 | G11: 111.43728 | H11: 3.7905851 | I11: 3.2891766 | J11: 1.6666661 | K11: -0.79680245 | L11: 28.17 | M11: Manufacture of Food Products | N11: 21
A12: 22 | B12: صنع المشروبات | C12: 100.44201 | D12: 99.090977 | E12: 103.45794 | F12: 101.15693 | G12: 101.03697 | H12: 0.13209532 | I12: -1.3686169 | J12: 1.7123711 | K12: -1.8237273 | L12: 9.32 | M12: Manufacture of Beverages | N12: 22
A13: 23 | B13: الطباعة واستنساخ وسائط الأعلام المسجلة | C13: 117.22689 | D13: 117.29225 | E13: 117.09617 | F13: 117.09617 | G13: 117.17787 | H13: -0.38876547 | I13: -0.33322755 | J13: -0.49984132 | K13: -0.33378368 | L13: 20.01 | M13: Printing and Reproduction of Recorded Media | N13: 23
A14: 24 | B14: صنع فحم الكوك والمنتجات النفطية المكررة | C14: 111.07459 | D14: 110.55689 | E14: 106.34418 | F14: 104.47105 | G14: 108.11168 | H14: -5.3465085 | I14: 8.2214026 | J14: -8.0869168 | K14: -11.11735 | L14: 273.16 | M14: Manufacture of Coke and Refined Petroleum Products | N14: 24
A15: 32 | B15: صنع المواد الكيميائية والمنتجات الكيميائية | C15: 105.77091 | D15: 104.60031 | E15: 104.62267 | F15: 104.8387 | G15: 104.95815 | H15: -10.824149 | I15: -0.73952504 | J15: 1.2944377 | K15: -2.902444 | L15: 905.17 | M15: Manufacture of Chemicals and Chemical Products | N15: 32
A16: 33 | B16: صنع منتجات المطاط واللدائن | C16: 134.1676 | D16: 147.48853 | E16: 148.81693 | F16: 135.47001 | G16: 141.48577 | H16: -3.6537756 | I16: 1.6559985 | J16: 5.3347795 | K16: -5.3689886 | L16: 35.7 | M16: Manufacture of Rubber and Plastics Products | N16: 33
A17: 34 | B17: صنع منتجات المعادن اللافلزية الأخرى | C17: 95.847273 | D17: 105.06841 | E17: 103.5867 | F17: 101.9973 | G17: 101.59107 | H17: -4.9455947 | I17: 4.1561643 | J17: 2.0220094 | K17: 11.522271 | L17: 155.2 | M17: Manufacture of Other Non-Metallic Mineral Products | N17: 34
A18: 35 | B18: صنع الفلزات القاعدية | C18: 111.52528 | D18: 115.17792 | E18: 117.58725 | F18: 115.70525 | G18: 114.93471 | H18: -8.0717614 | I18: -4.4044493 | J18: 4.1419254 | K18: 4.5141579 | L18: 158.29 | M18: Manufacture of Basic Metals | N18: 35
... A22: E | B22: تجميع المياه ومعالجتها وتوصيلها | C22: 124.32584 | D22: 133.35972 | E22: 140.52379 | F22: 127.82764 | G22: 131.84394 | H22: 7.2314818 | I22: 4.2554247 | J22: 2.6117721 | K22: 1.577401 | L22: 52.83 | M22: Water Collection, Treatment and Supply | N22: E

Sheet Gr_39 
A39: Graph (39) شكل
A63: Q1-24/ Q1-23 | B63: Q2-24/ Q2-23 | C63: Q3-24/ Q3-23 | D63: Q4-24/ Q4-23
A64: -9.545453 | B64: 0.68932245 | C64: -0.12076744 | D64: -6.7991824 | E64: الرقم القياسي العام General Index
A65: -10.079849 | B65: 0.62531092 | C65: -0.21315043 | D65: -7.773324 | E65: التعدين Mining
A66: -8.4771228 | B66: 0.92289496 | C66: 0.022254932 | D66: -2.2644743 | E66: الصناعة التحويلية Manufacturing
A67: 9.3218673 | B67: 0.44700962 | C67: 3.7585289 | D67: -3.7758302 | E67: الكهرباء والماء Electricity, water

Sheet 109
B1: الرقم القياسي للإنتاج الصناعي الربع سنوي والسنوي المستوى الثاني 2024
B2: QUARTERLY AND ANNUAL IPI INDEX SECOND LEVEL 2024
A3: جدول (109) سنة الاساس = 2018 | M3: Table (109) Base Year = 2018
A4: الرمز | B4: النشاط الاقتصادي | C4: 2024 | H4: التغير النسبي | L4: الأوزان Weights | M4: Economic Activity | N4: Code
C5: الربع الأول Q 1 | D5: الربع الثاني Q 2 | E5: الربع الثالث Q 3 | F5: الربع الرابع Q 4 | G5: السنوي | H5: Q1-24/ Q1-23 | I5: Q2-24/ Q2-23 | J5: Q3-24/ Q3-23 | K5: Q4-24/ Q4-23
A6: 0 | B6: الرقم القياسي للانتاج الصناعي | C6: 102.29442 | D6: 97.098607 | E6: 101.38303 | F6: 97.889693 | G6: 99.805554 | H6: 0.5 | I6: -6 | J6: -3.4 | K6: 4.9 | L6: 10000 | M6: Index Number of Industerial Production | N6: 0
A7: B | B7: التعدين واستغلال المحاجر | C7: 103.40726 | D7: 96.270297 | E7: 100.5121 | F7: 97.419147 | G7: 99.539968 | H7: 1.3 | I7: -6.7 | J7: -3.7 | K7: 6.1 | L7: 8246.2032 | M7: Mining and quarrying | N7: B
A8: 06 | B8: استخراج النفط الخام والغاز الطبيعي | C8: 103.41457 | D8: 96.269064 | E8: 100.51114 | F8: 97.415262 | G8: 99.539351 | H8: 1.3 | I8: -6.7 | J8: -3.7 | K8: 6.1 | L8: 8230.9015 | M8: Extraction of crude petroleum and natural gas | N8: 06
A9: 08 | B9: الأنشطة الأخرى للتعدين واستغلال المحاجر | C9: 99.47296 | D9: 96.933528 | E9: 101.02934 | F9: 99.508945 | G9: 99.871476 | H9: -3.6 | I9: -8.1 | J9: 1.9 | K9: -2.6 | L9: 15.30174 | M9: Other mining and quarrying | N9: 08
A10: C | B10: الصناعة التحويلية | C10: 98.474434 | D10: 99.873916 | E10: 101.7996 | F10: 99.663938 | G10: 100.11533 | H10: -4.5 | I10: -3.4 | J10: -2.6 | K10: -0.7 | L10: 1585.0149 | M10: Manufacturing | N10: C
A11: 10 | B11: صُنع المنتجات الغذائية | C11: 114.51042 | D11: 114.7547 | E11: 114.926 | F11: 118.87066 | G11: 116.11112 | H11: 1.3 | I11: 0.7 | J11: 5.9 | K11: 9.5 | L11: 28.173509 | M11: Manufacture of food products | N11: 10
A12: 11 | B12: صُنع المشروبات | C12: 95.942514 | D12: 107.7064 | E12: 111.6811 | F12: 112.11366 | G12: 107.13846 | H12: -3.1 | I12: 1.8 | J12: -1.7 | K12: 2.5 | L12: 9.3165599 | M12: Manufacture of beverages | N12: 11
A13: 18 | B13: الطباعة واستنساخ وسائط الأعلام المسجّلة | C13: 15.550567 | D13: 15.035197 | E13: 14.588943 | F13: 14.720243 | G13: 14.970941 | H13: -2.7 | I13: 1.4 | J13: -5.4 | K13: -3.8 | L13: 20.014328 | M13: Printing and reproduction of recorded media | N13: 18
A14: 19 | B14: صنع فحم الكوك والمنتجات النفطية المكررة | C14: 81.320731 | D14: 86.505525 | E14: 89.03447 | F14: 91.796981 | G14: 87.468632 | H14: -10.2 | I14: -0.2 | J14: -2.8 | K14: 1.4 | L14: 273.15949 | M14: Manufacture of coke and refined petroleum products | N14: 19
A15: 20 | B15: صُنع المواد الكيميائية والمنتجات الكيميائية | C15: 102.08773 | D15: 104.74708 | E15: 107.73759 | F15: 99.439643 | G15: 103.38898 | H15: 0.7 | I15: 0.5 | J15: 1.6 | K15: -0.7 | L15: 905.15869 | M15: Manufacture of chemicals and chemical products | N15: 20
A16: 22 | B16: صنع منتجات المطاط واللدائن | C16: 99.898565 | D16: 100.97341 | E16: 98.950056 | F16: 98.807189 | G16: 99.388558 | H16: -3.8 | I16: -0.1 | J16: -6.9 | K16: 0.9 | L16: 35.703267 | M16: Manufacture of rubber and plastics products | N16: 22
A17: 23 | B17: صنع منتجات المعادن اللافلزية الأخرى | C17: 86.623706 | D17: 80.129983 | E17: 75.20138 | F17: 73.142314 | G17: 78.388664 | H17: 8.5 | I17: -3.4 | J17: -11.5 | K17: -22.6 | L17: 155.19521 | M17: Manufacture of other non-metallic mineral products | N17: 23
... A22: 36 | B22: تجميع المياه ومعالجتها وتوصيلها | C22: 99.181308 | D22: 102.44213 | E22: 108.15737 | F22: 102.52386 | G22: 103.38483 | H22: 6 | I22: -1.9 | J22: -0.1 | K22: -2.5 | L22: 52.827844 | M22: Water collection, treatment and supply | N22: 36

Sheet بيان الألات
A1: Machinery And Equipment Price Index
A2: Base year 2012 = 100
A3: CPC Ver.2
C5: Major Groups
A6: 1 | C6: الرقم العام MEPI (General Index )
A7: 38 | C7: الأدوات الموسيقية ، وسلع اخرى قابلة للنقل transportable goods Musical instruments and Other
A8: 42 | C8: العدد والادوات المعدنية Fabricated metal products
A9: 43 | C9: الالات المستخدمة في الاغراض العامة General-purpose machinery
A10: 44 | C10: الالات المخصصة الغرض Special-purpose machines
A11: 444 | C11: الات عمليات التعدين واستغلال المحاجر و الانشاء وأجزاوها Mining and quarrying machinery and construction
A12: 4441 | C12: الات شق الانفاق والالات الاخرى للثقب او الحفر Underground rock cutters and tunneling machinery; other boring
A13: 444121 | C13: آلات غرزوآلات تكسير الصخر ,آلات سبر وحفر
A14: 4442 | C14: الات اخرى متحركة للتمهيد او التسوية او الكشط او الحفر او الدك Moving , grading , levelling , scraping ,excavating , tamping (including bulldozers)
A15: 444211 | C15: بولـدوزرات وجرافات
A16: 444212 | C16: بولـدوزرات وانجلدوزرات
A17: 444221 | C17: آلات تسوية الطرق
... A60: 499133 | C60: دراجات ناريه مجهزة بمحركات ذات مكابس متناوبة للأشتعال الداخلي تزيد سعة اسطواناتها عن500سم3 ولا تتجاوز800سم3

Sheet 110
B1: الرقم القياسي لأسعار الالات والمعدات السنوي المستوى الثاني 2022-2024
B2: ANNUAL MACHINERY AND EQUIPMENT PRICE INDEX SECOND LEVEL 2022-2024
A3: جدول (110) سنة الاساس = 2018 | H3: Table (110) Base Year = 2018
A4: الرمز | B4: النشاط الاقتصادي | C4: 2022 | D4: 2023 | E4: 2024 | F4: الاهميات النسبية Weights | G4: Economic Activity | H4: Code
A5: 0 | B5: الرقم القياسي العام | C5: 98.068425 | D5: 99.684369 | E5: 98.068425 | F5: 100 | G5: General Index | H5: 0
A6: 38 | B6: الأدوات الموسيقية ، وسلع اخرى قابلة للنقل غير مصنفة في مكان اخر | C6: 102.55367 | D6: 100.38356 | E6: 102.55367 | F6: 0.4 | G6: Musical instruments and other transportable goods n.e.c. | H6: 38
A7: 42 | B7: العدد والادوات المعدنية | C7: 104.73178 | D7: 103.62816 | E7: 104.73178 | F7: 0.34 | G7: Fabricated metal products, except machinery and equipment | H7: 42
A8: 43 | B8: الالات المستخدمة في الاغراض العامة | C8: 116.77267 | D8: 107.09279 | E8: 116.77267 | F8: 5.8 | G8: General-purpose machinery | H8: 43
A9: 44 | B9: الات مخصصة الغرض | C9: 96.608441 | D9: 101.55299 | E9: 96.608441 | F9: 23.71 | G9: Special-purpose machinery | H9: 44
A10: 45 | B10: الات المكاتب والمحاسبة والحسابات الالكترونية | C10: 91.075113 | D10: 96.605545 | E10: 91.075113 | F10: 21.44 | G10: Office, accounting and computing machinery | H10: 45
A11: 46 | B11: الآلات والاجهزة الكهربائية | C11: 84.274018 | D11: 94.456565 | E11: 84.274018 | F11: 4.53 | G11: Electrical machinery and apparatus electric motors | H11: 46
A12: 47 | B12: معدات واجهوة الراديو والتلفزيون والاتصالات | C12: 91.807262 | D12: 95.24568 | E12: 91.807262 | F12: 7.13 | G12: Radio, television and communication equipment | H12: 47
A13: 48 | B13: الالات الطبية والاجهزة الدقيقة والادوات البصرية | C13: 91.958746 | D13: 95.399753 | E13: 91.958746 | F13: 1.83 | G13: Medical appliances, precision and optical instruments | H13: 48
A14: 49 | B14: معدات النقل | C14: 91.427215 | D14: 97.057669 | E14: 91.427215 | F14: 34.82 | G14: Transport equipment motor vehicles, | H14: 49

Sheet Gr_40
A39: Graph (40) شكل
A73: Q1-24/ Q1-23 | B73: Q2-24/ Q2-23 | C73: Q3-24/ Q3-23 | D73: Q4-24/ Q4-23
A74: 0.87687989 | B74: -6.0240858 | C74: -2.9863556 | D74: 1.4915287 | E74: الرقم القياسي العام General Index
A75: 0.55924634 | B75: -6.7002961 | C75: -3.1883276 | D75: 1.9318879 | E75: التعدين Mining
A76: -0.74444584 | B76: -3.4454327 | C76: -2.6055513 | D76: -0.51389189 | E76: الصناعة التحويلية Manufacturing
A77: 30.647775 | B77: 4.0352834 | C77: 2.3999628 | D77: 0.97091211 | E77: إمدادات الكهرباء Electricity Supply
A78: 51.716845 | B78: -1.8617269 | C78: -0.13394987 | D78: -2.5298125 | E78: إمدادات المياه Water Supply

Sheet 111
B1: الرقم القياسي لاسعار الالات والمعدات النصف السنوي المستوى الثاني 2024
B2: SEMI-ANNUAL MEPI Second LEVEL 2024
A3: جدول (111) سنة الاساس =2018 | H3: Table (111) Base Year = 2018
A4: الرمز | B4: النشاط الاقتصادي | C4: النصف الاول H1 | D4: النصف الثاني H2 | E4: السنوي Annual | F4: الاهميات النسبية Weights | G4: Economic Activity | H4: Code
A5: 0 | B5: الرقم القياسي العام | C5: 99.911589 | D5: 99.75 | E5: 99.75 | F5: 100 | G5: General Index | H5: 0
A6: 38 | B6: الآلات الموسيقية | C6: 99.4923 | D6: 100.13 | E6: 100.13 | F6: 0.4 | G6: Musical instruments | H6: 38
A7: 42 | B7: المعدات والأدوات المعدنية | C7: 105.08212 | D7: 103.53 | E7: 103.53 | F7: 0.34 | G7: Metal tools and tools | H7: 42
A8: 43 | B8: الآلات المستخدمة في الأغراض العامة | C8: 107.24571 | D8: 103.97 | E8: 103.97 | F8: 5.8 | G8: General - purpose machinery | H8: 43
A9: 44 | B9: الآلات مخصصة الغرض | C9: 101.82717 | D9: 107.56 | E9: 107.56 | F9: 23.71 | G9: Special-purpose machines | H9: 44
A10: 45 | B10: آلات المكاتب والمحاسبة والحاسبات الإلكترونية | C10: 96.571637 | D10: 91.9 | E10: 91.9 | F10: 21.44 | G10: Office, Accounting and Computing machinery | H10: 45
A11: 46 | B11: الآلات والأجهزة الكهربائية | C11: 93.842321 | D11: 94.64 | E11: 94.64 | F11: 4.53 | G11: Machinery and electrical appliances | H11: 46
A12: 47 | B12: معدات وأجهزة الراديو والتلفزيون والاتصالات | C12: 95.619181 | D12: 100.98 | E12: 100.98 | F12: 7.13 | G12: Radio, television and communication equipment | H12: 47
A13: 48 | B13: الآلات الطبية والأجهزة الدقيقة والأدوات البصرية | C13: 97.892813 | D13: 94.42 | E13: 94.42 | F13: 1.83 | G13: Medical appliances, precision and optical instruments, watches and clocks | H13: 48
A14: 49 | B14: معدات النقل | C14: 97.2309 | D14: 96.86 | E14: 96.86 | F14: 34.82 | G14: Transport Equipment | H14: 49
B34: الرقم القياسي العام General Index
B35: الأدوات الموسيقية Musical instruments
B36: المعدات والأدوات المعدنية Metal tools and tools
B37: الالات المستخدمة في الاغراض العامة General - purpose machinery
B38: الات مخصصة الغرض اSpecial-purpose machines
B39: الات المكاتب والمحاسبة والحسابات الالكترونية Office, Accounting and Computing machinery
B40: الآلات والاجهزة الكهربائية Machinery and electrical appliances
B41: معدات واجهوة الراديو والتلفزيون والاتصالات Radio, television and communication equipment
B42: الالات الطبية والاجهزة الدقيقة والادوات البصرية Medical appliances, precision and optical instruments, watches and clocks
B43: معدات النقل Transport Equipment

Sheet Gr_41
A40: Graph (41) شكل

Sheet 112
B1: الرقم القياسي العام لقيمة وحدة الواردات الربع السنوي والسنوي على مستوى المجموعات الرئيسية 2024
B2: QUARTERLY AND ANNUAL IMUVI INDEX MAJOR GROUPS 2024
A3: جدول (112) سنة الاساس = 2018 | M3: Table (112) Base Year = 2018
A4: الرمز | B4: النشاط الاقتصادي | C4: 2024 | H4: التغير النسبي | L4: الأوزان Weights | M4: Economic Activity | N4: Code
C5: الربع الأول Q 1 | D5: الربع الثاني Q 2 | E5: الربع الثالث Q 3 | F5: الربع الرابع Q 4 | G5: السنوي | H5: Q1-23/ Q1-22 | I5: Q2-23/ Q2-22 | J5: Q3-23/ Q3-22 | K5: Q4-23/ Q4-22
A6: i | B6: الرقم القياسي العام | C6: 107.81601 | D6: 109.02694 | E6: 109.16326 | F6: 105.6505 | G6: 113.25889 | H6: 0.63012272 | I6: 0.41566187 | J6: 2.0746862 | K6: -2.6779022 | L6: 10000 | M6: General_Index | N6: i
A7: 0 | B7: الأغذية والحيوانات الحية | C7: 113.64748 | D7: 116.34097 | E7: 116.85871 | F7: 112.62568 | G7: 114.26994 | H7: 3.3940957 | I7: 6.2776774 | J7: 1.4915421 | K7: -5.3181153 | L7: 1002.55 | M7: Food and live animals | N7: 0
A8: 1 | B8: المشروبات والتبغ | C8: 108.8746 | D8: 105.63237 | E8: 105.78026 | F8: 106.04649 | G8: 114.29647 | H8: -1.2488086 | I8: -9.0420521 | J8: -7.1154365 | K8: -5.6454296 | L8: 89.45 | M8: Beverages and tobacco | N8: 1
A9: 2 | B9: مواد خام غير صالحة للأكل باستثناء الوقود | C9: 115.66844 | D9: 118.91767 | E9: 120.43618 | F9: 112.2806 | G9: 99.996467 | H9: -13.098241 | I9: -16.040664 | J9: -10.83051 | K9: -2.2136956 | L9: 182.44 | M9: Crude materials, inedible, except fuels | N9: 2
A10: 3 | B10: الوقود المعدني وزيوت التشحيم والمواد المشابهة | C10: 137.30862 | D10: 137.74214 | E10: 141.68716 | F10: 138.60384 | G10: 107.30777 | H10: 1.7838877 | I10: -3.6020906 | J10: 0.59767619 | K10: -2.6134295 | L10: 108.33 | M10: Mineral fuels, lubricants and related materials | N10: 3
A11: 4 | B11: زيوت ودهون وشموع حيوانية ونباتية | C11: 140.83094 | D11: 139.65092 | E11: 135.71415 | F11: 128.85795 | G11: 111.43728 | H11: 7.2654675 | I11: -1.83688 | J11: -6.7773407 | K11: -10.428586 | L11: 35.83 | M11: Animal and vegetable oils, fats and waxes | N11: 4
A12: 5 | B12: المواد الكيماوية ومنتجاتها غير المذكورة | C12: 111.21993 | D12: 108.34465 | E12: 113.20518 | F12: 108.23537 | G12: 101.03697 | H12: 3.1721755 | I12: -0.53667211 | J12: 2.9738254 | K12: -4.8072822 | L12: 145.63 | M12: Chemicals and related products, n.e.s. | N12: 5
A13: 6 | B13: السلع المصنعة والمصنفة أساساً حسب المادة | C13: 111.16077 | D13: 111.47292 | E13: 114.20184 | F13: 107.68974 | G13: 117.17787 | H13: -3.0775548 | I13: -5.4751855 | J13: -2.9480586 | K13: -5.481495 | L13: 227.41 | M13: Manufactured goods classified chiefly by material | N13: 6
A14: 7 | B14: الآلات ومعدات النقل | C14: 99.998466 | D14: 102.64262 | E14: 99.858693 | F14: 98.161705 | G14: 108.11168 | H14: 2.0657968 | I14: 6.8484676 | J14: 6.3769121 | K14: 0.42595204 | L14: 24.14 | M14: Machinery and transport equipment | N14: 7
A15: 8 | B15: مصنوعات متنوعة | C15: 111.24417 | D15: 110.10396 | E15: 112.70507 | F15: 108.86227 | G15: 104.95815 | H15: 2.2898048 | I15: -4.7226478 | J15: 2.2250143 | K15: -5.6097151 | L15: 70.81 | M15: Miscellaneous manufactured articles | N15: 8
A16: 9 | B16: السلع والمعاملات غير المصنفة في التنصيف الموحد | C16: 148.5514 | D16: 154.75157 | E16: 146.7956 | F16: 153.50875 | G16: 141.48577 | H16: 2.7815634 | I16: 5.0546692 | J16: 7.1024359 | K16: 14.485086 | L16: 56.02 | M16: Commodities and transactions not classified elsewhere in the SITC | N16: 9
G17: 101.59107
G18: 114.93471
G19: 112.58697
G20: 112.58697
G21: 131.84394
G22: 131.84394

Sheet Gr_42
A39: Graph (42) شكل
A65: Q1-23/ Q1-22 | B65: Q2-23/ Q2-22 | C65: Q3-23/ Q3-22 | D65: Q4-23/ Q4-22
A66: ='112'!H6 -> 0.63012272 | B66: ='112'!I6 -> 0.41566187 | C66: ='112'!J6 -> 2.0746862 | D66: -2.5764559 | E66: الرقم القياسي العام General Index
A67: ='112'!H7 -> 3.3940957 | B67: ='112'!I7 -> 6.2776774 | C67: ='112'!J7 -> 1.4915421 | D67: -0.82873459 | E67: الأغذية والحيوانات الحية Food and live animals
A68: ='112'!H8 -> -1.2488086 | B68: ='112'!I8 -> -9.0420521 | C68: ='112'!J8 -> -7.1154365 | D68: -3.0185646 | E68: المشروبات والتبغ Beverages and tobacco
A69: ='112'!H9 -> -13.098241 | B69: ='112'!I9 -> -16.040664 | C69: ='112'!J9 -> -10.83051 | D69: 2.5212645 | E69: مواد خام غير صالحة للأكل باستثناء الوقود Crude materials, inedible, except fuels
A70: ='112'!H10 -> 1.7838877 | B70: ='112'!I10 -> -3.6020906 | C70: ='112'!J10 -> 0.59767619 | D70: -4.3628803 | E70: الوقود المعدني وزيوت التشحيم والمواد المشابهة Mineral fuels, lubricants and related materials
A71: ='112'!H11 -> 7.2654675 | B71: ='112'!I11 -> -1.83688 | C71: ='112'!J11 -> -6.7773407 | D71: 0 | E71: زيوت ودهون وشموع حيوانية ونباتيةAnimal and vegetable oils, fats and waxes
A72: ='112'!H12 -> 3.1721755 | B72: ='112'!I12 -> -0.53667211 | C72: ='112'!J12 -> 2.9738254 | D72: -0.033677177 | E72: المواد الكيماوية ومنتجاتها غير المذكورةChemicals and related products, n.e.s .
A73: ='112'!H13 -> -3.0775548 | B73: ='112'!I13 -> -5.4751855 | C73: ='112'!J13 -> -2.9480586 | D73: -2.2252807 | E73: السلع المصنعة والمصنفة أساساً حسب المادة Manufactured goods classified chiefly by material
A74: ='112'!H14 -> 2.0657968 | B74: ='112'!I14 -> 6.8484676 | C74: ='112'!J14 -> 6.3769121 | D74: -3.7692467 | E74: الآلات ومعدات النقل Machinery and transport equipment
A75: ='112'!H15 -> 2.2898048 | B75: ='112'!I15 -> -4.7226478 | C75: ='112'!J15 -> 2.2250143 | D75: -3.4187109 | E75: مصنوعات متنوعةMiscellaneous manufactured articles
A76: ='112'!H16 -> 2.7815634 | B76: ='112'!I16 -> 5.0546692 | C76: ='112'!J16 -> 7.1024359 | D76: -0.013674393 | E76: السلع والمعاملات غير المصنفة في التنصيف الموحدCommodities and transactions not classified elsewhere in the SITC

Sheet 113
B1: الرقم القياسي العام لقيمة وحدة الصادرات الربع السنوي والسنوي على مستوى المجموعات الرئيسية 2023
B2: QUARTERLY AND ANNUAL EXUVI INDEX MAJOR GROUPS 2023
A3: جدول (113) سنة الاساس = 2018 | M3: Table (113) Base Year = 2018
A4: الرمز | B4: النشاط الاقتصادي | C4: 2023 | H4: التغير النسبي | L4: الأوزان Weights | M4: Economic Activity | N4: Code
C5: الربع الأول Q 1 | D5: الربع الثاني Q 2 | E5: الربع الثالث Q 3 | F5: الربع الرابع Q 4 | G5: السنوي | H5: Q1-23/ Q1-22 | I5: Q2-23/ Q2-22 | J5: Q3-23/ Q3-22 | K5: Q4-23/ Q4-22
A6: i | B6: الرقم القياسي العام | C6: 135.69294 | D6: 122.96427 | E6: 121.07061 | F6: 113.17254 | G6: 123.22509 | H6: 0.91 | I6: 0.79 | J6: 0.77 | K6: 0.83 | L6: 10000 | M6: General_Index | N6: i
A7: 0 | B7: الأغذية والحيوانات الحية | C7: 68.040996 | D7: 76.350222 | E7: 76.944068 | F7: 76.260569 | G7: 74.398964 | H7: 0.84 | I7: 0.99 | J7: 1.21 | K7: 1.2 | L7: 0.65431693 | M7: Food and live animals | N7: 0
A8: 1 | B8: المشروبات والتبغ | C8: 130.42458 | D8: 124.59708 | E8: 124.59168 | F8: 124.59168 | G8: 126.05126 | H8: 1.09 | I8: 1.04 | J8: 0.96 | K8: 0.92 | L8: 0.026553864 | M8: Beverages and tobacco | N8: 1
A9: 2 | B9: مواد خام غير صالحة للأكل باستثناء الوقود | C9: 108.48192 | D9: 106.60082 | E9: 109.38719 | F9: 108.63594 | G9: 108.27647 | H9: 0.73 | I9: 0.72 | J9: 0.81 | K9: 0.76 | L9: 47.936652 | M9: Crude materials, inedible, except fuels | N9: 2
A10: 3 | B10: الوقود المعدني وزيوت التشحيم والمواد المشابهة | C10: 137.92872 | D10: 124.0197 | E10: 123.22712 | F10: 114.16229 | G10: 124.83446 | H10: 0.93 | I10: 0.8 | J10: 0.77 | K10: 0.83 | L10: 8877.5785 | M10: Mineral fuels, lubricants and related materials | N10: 3
A11: 4 | B11: زيوت ودهون وشموع حيوانية ونباتية | C11: 109.46365 | D11: 109.33198 | E11: 109.46365 | F11: 109.46365 | G11: 109.43073 | H11: 1 | I11: 1 | J11: 1 | K11: 1 | L11: 0.015377552 | M11: Animal and vegetable oils, fats and waxes | N11: 4
A12: 5 | B12: المواد الكيماوية ومنتجاتها غير المذكورة | C12: 122.31399 | D12: 117.74827 | E12: 104.0589 | F12: 105.76165 | G12: 112.4707 | H12: 0.78 | I12: 0.72 | J12: 0.76 | K12: 0.8 | L12: 804.8096 | M12: Chemicals and related products, n.e.s. | N12: 5
A13: 6 | B13: السلع المصنعة والمصنفة أساساً حسب المادة | C13: 107.19092 | D13: 106.97027 | E13: 103.09236 | F13: 103.73735 | G13: 105.24772 | H13: 0.81 | I13: 0.81 | J13: 0.81 | K13: 0.83 | L13: 263.04599 | M13: Manufactured goods classified chiefly by material | N13: 6
A14: 7 | B14: الآلات ومعدات النقل | C14: 93.941755 | D14: 96.208543 | E14: 98.351629 | F14: 96.569458 | G14: 96.267846 | H14: 0.93 | I14: 1.03 | J14: 0.9 | K14: 0.9 | L14: 4.5494712 | M14: Machinery and transport equipment | N14: 7
A15: 8 | B15: مصنوعات متنوعة | C15: 103.80785 | D15: 102.94392 | E15: 98.098034 | F15: 96.298543 | G15: 100.28709 | H15: 0.98 | I15: 1.01 | J15: 1.05 | K15: 0.99 | L15: 1.3736793 | M15: Miscellaneous manufactured articles | N15: 8
A16: 9 | B16: السلع والمعاملات غير المصنفة في التنصيف الموحد | C16: 78.740123 | D16: 83.960622 | E16: 88.398887 | F16: 88.398887 | G16: 84.87463 | H16: 0.99 | I16: 1.01 | J16: 1.12 | K16: 1.12 | L16: 0.0098447538 | M16: Commodities and transactions not classified elsewhere in the SITC | N16: 9

Sheet Gr_43
A39: Graph (43) شكل
A67: Q1-23/ Q1-22 | B67: Q2-23/ Q2-22 | C67: Q3-23/ Q3-22 | D67: Q4-23/ Q4-22
A68: ='113'!H6 -> 0.91 | B68: ='113'!I6 -> 0.79 | C68: ='113'!J6 -> 0.77 | D68: ='113'!K6 -> 0.83 | E68: الرقم القياسي العام General Index
A69: ='113'!H7 -> 0.84 | B69: ='113'!I7 -> 0.99 | C69: ='113'!J7 -> 1.21 | D69: ='113'!K7 -> 1.2 | E69: الأغذية والحيوانات الحية Food and live animals
A70: ='113'!H8 -> 1.09 | B70: ='113'!I8 -> 1.04 | C70: ='113'!J8 -> 0.96 | D70: ='113'!K8 -> 0.92 | E70: المشروبات والتبغ Beverages and tobacco
A71: ='113'!H9 -> 0.73 | B71: ='113'!I9 -> 0.72 | C71: ='113'!J9 -> 0.81 | D71: ='113'!K9 -> 0.76 | E71: مواد خام غير صالحة للأكل باستثناء الوقود Crude materials, inedible, except fuels
A72: ='113'!H10 -> 0.93 | B72: ='113'!I10 -> 0.8 | C72: ='113'!J10 -> 0.77 | D72: ='113'!K10 -> 0.83 | E72: الوقود المعدني وزيوت التشحيم والمواد المشابهة Mineral fuels, lubricants and related materials
A73: ='113'!H11 -> 1 | B73: ='113'!I11 -> 1 | C73: ='113'!J11 -> 1 | D73: ='113'!K11 -> 1 | E73: زيوت ودهون وشموع حيوانية ونباتيةAnimal and vegetable oils, fats and waxes
A74: ='113'!H12 -> 0.78 | B74: ='113'!I12 -> 0.72 | C74: ='113'!J12 -> 0.76 | D74: ='113'!K12 -> 0.8 | E74: المواد الكيماوية ومنتجاتها غير المذكورةChemicals and related products, n.e.s .
A75: ='113'!H13 -> 0.81 | B75: ='113'!I13 -> 0.81 | C75: ='113'!J13 -> 0.81 | D75: ='113'!K13 -> 0.83 | E75: السلع المصنعة والمصنفة أساساً حسب المادة Manufactured goods classified chiefly by material
A76: ='113'!H14 -> 0.93 | B76: ='113'!I14 -> 1.03 | C76: ='113'!J14 -> 0.9 | D76: ='113'!K14 -> 0.9 | E76: الآلات ومعدات النقل Machinery and transport equipment
A77: ='113'!H15 -> 0.98 | B77: ='113'!I15 -> 1.01 | C77: ='113'!J15 -> 1.05 | D77: ='113'!K15 -> 0.99 | E77: مصنوعات متنوعةMiscellaneous manufactured articles
A78: ='113'!H16 -> 0.99 | B78: ='113'!I16 -> 1.01 | C78: ='113'!J16 -> 1.12 | D78: ='113'!K16 -> 1.12 | E78: السلع والمعاملات غير المصنفة في التنصيف الموحدCommodities and transactions not classified elsewhere in the SITC

Sheet 114
A1: *متوسط دخل الأسرة القطرية الشهري بالريال حسب فئات الإنفاق لرب الأسرة والمصدر الرئيسي للدخل 2017 - 2018
A2: *AVERAGE MONTHLY QATARI HOUSEHOLD INCOME (IN Q.R) BY GROUP OF MONTHLY EXPENDITURE & MAIN SOURCE OF INCOME
A3: 2017 - 2018
A4: جدول (114) | J4: Table (114)
A5: فئات الإنفاق الشهري | B5: عدد أسر العينة No. of HH in The Sample | C5: متوسط حجم الأسرة Average HH size | D5: المصدر الرئيسي للدخل Main Source of Income | J5: Group of Monthly Expenditure
D6: أجور ورواتب Wages & Salaries | E6: مشاريع خاصة ومهن حرة Employer & Own Account Worker | F6: دخول ممتلكات Property Income | G6: دخول ممتلكات Property Income | H6: مشاريع خاصة ومهن حرة Employer & Own Account Worker | I6: المجموع Total
A7: - 7000 | B7: 4 | C7: 3.49 | D7: 0 | E7: 0 | F7: 0 | G7: 24958 | H7: 14598.5 | I7: 19883.96 | J7: 7000 -
A8: - 10500 | B8: 11 | C8: 3.79 | D8: 52847.5 | E8: 0 | F8: 0 | G8: 29760.74 | H8: 28800.5 | I8: 33723.7 | J8: 10500 -
A9: - 14000 | B9: 18 | C9: 3.6 | D9: 44739.67 | E9: 0 | F9: 31927 | G9: 34052.26 | H9: 21750.35 | I9: 33495.24 | J9: 14000 -
A10: - 17500 | B10: 21 | C10: 5.19 | D10: 54157.85 | E10: 0 | F10: 52719 | G10: 40252.48 | H10: 25116.67 | I10: 45335.15 | J10: 17500 -
A11: - 21000 | B11: 55 | C11: 6.67 | D11: 58137.99 | E11: 0 | F11: 32003.5 | G11: 33004.15 | H11: 29150.2 | I11: 51875.58 | J11: 21000 -
A12: - 24500 | B12: 103 | C12: 6.2 | D12: 63452.56 | E12: 0 | F12: 38974.67 | G12: 37753.55 | H12: 30929.24 | I12: 55584.48 | J12: 24500 -
A13: - 28000 | B13: 108 | C13: 6.72 | D13: 64285.91 | E13: 34719 | F13: 47421.08 | G13: 47987.77 | H13: 33427.23 | I13: 60175.87 | J13: 28000 -
A14: - 31500 | B14: 131 | C14: 7.48 | D14: 78053.8 | E14: 148719 | F14: 52257 | G14: 49936.46 | H14: 29883.75 | I14: 73804.87 | J14: 31500 -
A15: - 35000 | B15: 209 | C15: 7.93 | D15: 72122.31 | E15: 95051.12 | F15: 75393.5 | G15: 59810.29 | H15: 40523.29 | I15: 70221.64 | J15: 35000 -
A16: - 40000 | B16: 196 | C16: 8.26 | D16: 78256.14 | E16: 0 | F16: 214784.5 | G16: 74629.69 | H16: 38649 | I16: 78970.54 | J16: 40000 -
A17: - 45000 | B17: 377 | C17: 8.62 | D17: 85582.25 | E17: 93400.5 | F17: 84624.38 | G17: 84009.91 | H17: 47819 | I17: 85396.15 | J17: 45000 -
A18: - 55000 | B18: 329 | C18: 9.23 | D18: 95396.47 | E18: 36845 | F18: 112788.9 | G18: 100529.58 | H18: 89873.5 | I18: 95459.87 | J18: 55000 -
... A20: - 75000 | B20: 116 | C20: 10.16 | D20: 127926.61 | E20: 108719 | F20: 121168 | G20: 122097 | H20: 0 | I20: 127595.47 | J20: 75000 -
A21: + 85000 | B21: 189 | C21: 12.19 | D21: 155977.8 | E21: 475275.4 | F21: 147875 | G21: 145266.31 | H21: 90168 | I21: 158661.89 | J21: 85000 +
A22: *نتائج مسج دخل وإنفاق الأسرة 2017-2018 | J22: * Household Survey 2017-2018

Sheet 115
A1: *متوسط إنفاق واستهلاك الأسرة الشهري بالريال حسب مجموعات السلع والخدمات والجنسية 2017 - 2018
A2: * AVERAGE MONTHLY HOUSEHOLD EXPENDITURE & CONSUMPTION (IN Q.R) BY GROUPS OF COMMODITIES, SERVICES & NATIONALITY
A3: 2017 - 2018
A4: جدول (115) | E4: Table (115)
A5: مجموعات السلع والخدمات | B5: الجنسية Nationality | D5: المجموع Total | E5: مجموعات السلع والخدمات
B6: قطرية Qatari | C6: غير قطرية Non Qatari
A7: متوسط حجم الأسرة | B7: 8.73 | C7: 4.01 | D7: 5.15 | E7: Average HH Size
A8: أ - الإنفاق النقدي على مجموعات الطعام | B8: 9799.55 | C8: 2683.69 | D8: 4400.56 | E8: A – Food Cash Expenditure
A9: الحبوب و منتجاتها | B9: 747.67 | C9: 224.41 | D9: 350.66 | E9: Cereals & Products
A10: اللحوم و الدواجن | B10: 1733.29 | C10: 312.91 | D10: 655.61 | E10: Meat & Poultry
A11: الأسماك و الأغذية البحرية | B11: 524.53 | C11: 102.8 | D11: 204.56 | E11: Fish and Seafood
A12: الألبان و منتجاتها و البيض | B12: 753.74 | C12: 266.56 | D12: 384.1 | E12: Dairy Products and Eggs
A13: الزيوت و الدهون | B13: 148.17 | C13: 56.54 | D13: 78.64 | E13: Oils and Fats
A14: الفواكه و المكسرات | B14: 1055.11 | C14: 230.1 | D14: 429.15 | E14: Fruits and Nuts
A15: الخضروات و البقول و البطاطا | B15: 752.24 | C15: 250.51 | D15: 371.57 | E15: Vegetables, Legumes and Potatoes
A16: السكر و منتجاته و العسل | B16: 487.32 | C16: 111.22 | D16: 201.96 | E16: Sugar and Sugar Products and Honey
A17: المشروبات غير الكحولية | B17: 555.32 | C17: 152.39 | D17: 249.61 | E17: Beverages (Non-alcoholic)
A18: أطعمة أخرى | B18: 483.1 | C18: 87.49 | D18: 182.94 | E18: Other Foods
... A43: الإنفاق النقدي الكلي ز – ب – هـ +ح + ط | B43: 53688.38 | C43: 16144.7 | D43: 25203.02 | E43: Total Cash Expenditure (G - B - E + H + I)
A44: HH = الاسرة | E44: HH = Household
A45: *نتائج مسج دخل وإنفاق الأسرة 2017-2018 | E45: * Household Survey 2017-2018

Sheet 116
A1: *متوسط دخل الأسرة غير القطرية الشهري بالريال حسب فئات الإنفاق لرب الأسرة والمصدر الرئيسي للدخل 2017 - 2018
A2: *AVERAGE MONTHLY NON QATARI HOUSEHOLD INCOME (IN Q.R) BY GROUP OF MONTHLY EXPENDITURE & MAIN SOURCE OF INCOME
A3: 2017 - 2018
A4: جدول (116) | J4: Table(116)
A5: فئات الإنفاق الشهري | B5: عدد أسر العينة No. of HH in The Sample | C5: متوسط حجم الأسرة Average HH size | D5: المصدر الرئيسي للدخل Main Source of Income | J5: Group of Monthly Expenditure
D6: أجور ورواتب Wages & Salaries | E6: مشاريع خاصة ومهن حرة Employer & Own Account Worker | F6: دخول ممتلكات Property Income | G6: دخول ممتلكات Property Income | H6: مشاريع خاصة ومهن حرة Employer & Own Account Worker | I6: المجموع Total
A7: - 3500 | B7: 69 | C7: 1.19 | D7: 7573.86 | E7: 0 | F7: 0 | G7: 0 | H7: 0 | I7: 7573.86 | J7: 3500 -
A8: 3500 - | B8: 220 | C8: 2.32 | D8: 12365.47 | E8: 12000 | F8: 0 | G8: 0 | H8: 0 | I8: 12363.7 | J8: - 3500
A9: 7000 - | B9: 373 | C9: 3.46 | D9: 17114.49 | E9: 20000 | F9: 0 | G9: 0 | H9: 0 | I9: 17122.11 | J9: - 7000
A10: 10500 - | B10: 380 | C10: 4.25 | D10: 19812.8 | E10: 10000 | F10: 0 | G10: 0 | H10: 0 | I10: 19777.33 | J10: - 10500
A11: 14000 - | B11: 304 | C11: 4.25 | D11: 23763.59 | E11: 0 | F11: 0 | G11: 0 | H11: 0 | I11: 23718.63 | J11: - 14000
A12: 17500 - | B12: 238 | C12: 4.53 | D12: 28837.11 | E12: 21756.1 | F12: 0 | G12: 0 | H12: 0 | I12: 28715.61 | J12: - 17500
A13: 21000 - | B13: 154 | C13: 4.82 | D13: 31169.56 | E13: 0 | F13: 0 | G13: 0 | H13: 0 | I13: 31009.31 | J13: - 21000
A14: 24500 - | B14: 130 | C14: 5.06 | D14: 34446.18 | E14: 15000 | F14: 0 | G14: 0 | H14: 0 | I14: 34402.79 | J14: - 24500
A15: 28000 - | B15: 58 | C15: 5.3 | D15: 40139.32 | E15: 0 | F15: 0 | G15: 0 | H15: 0 | I15: 40139.32 | J15: - 28000
A16: 31500 - | B16: 38 | C16: 4.81 | D16: 40061.51 | E16: 0 | F16: 0 | G16: 0 | H16: 0 | I16: 40061.51 | J16: - 31500
A17: 35000 - | B17: 36 | C17: 4.73 | D17: 53584.17 | E17: 0 | F17: 0 | G17: 0 | H17: 0 | I17: 53584.17 | J17: - 35000
A18: 40000 - | B18: 20 | C18: 5.96 | D18: 56443.39 | E18: 0 | F18: 0 | G18: 0 | H18: 0 | I18: 56443.39 | J18: - 40000
A19: 45000 - | B19: 24 | C19: 4.88 | D19: 60760.98 | E19: 0 | F19: 0 | G19: 0 | H19: 0 | I19: 60760.98 | J19: - 45000
A20: 55000 - | B20: 14 | C20: 5.64 | D20: 66275.09 | E20: 0 | F20: 0 | G20: 0 | H20: 0 | I20: 66275.09 | J20: - 55000
A21: 65000 - | B21: 5 | C21: 5.91 | D21: 65955.1 | E21: 0 | F21: 0 | G21: 0 | H21: 0 | I21: 65955.1 | J21: - 65000
A22: 75000 - | B22: 3 | C22: 5.68 | D22: 62825 | E22: 0 | F22: 0 | G22: 0 | H22: 0 | I22: 62825 | J22: - 75000
A23: 85000 + | B23: 1 | C23: 5 | D23: 0 | E23: 77100 | F23: 0 | G23: 0 | H23: 0 | I23: 77100 | J23: + 85000
A24: *نتائج مسج دخل وإنفاق الأسرة 2017-2018 | J24: * Household Survey 2017-2018

Sheet 117
A1: *متوسط دخل الأسرة الشهري بالريال حسب فئات الإنفاق لرب الأسرة والمصدر الرئيسي للدخل 2017 - 2018
A2: *AVERAGE MONTHLY HOUSEHOLD INCOME (IN Q.R) BY GROUP OF MONTHLY EXPENDITURE & MAIN SOURCE OF INCOME
A3: 2017 - 2018
A4: جدول (117) | J4: Table (117)
A5: فئات الإنفاق الشهري | B5: عدد أسر العينة No. of HH in The Sample | C5: متوسط حجم الأسرة Average HH size | D5: المصدر الرئيسي للدخل Main Source of Income | J5: Group of Monthly Expenditure
D6: أجور ورواتب Wages & Salaries | E6: مشاريع خاصة ومهن حرة Employer & Own Account Worker | F6: دخول ممتلكات Property Income | G6: معاشات تقاعدية Pension | H6: تحويلات أو مصادر اخرى Transfers & Others | I6: المجموع Total
A7: 3500 - | B7: 69 | C7: 1.19 | D7: 7573.86 | E7: 0 | F7: 0 | G7: 0 | H7: 0 | I7: 7573.86 | J7: - 3500
A8: - 3500 | B8: 220 | C8: 2.32 | D8: 12365.47 | E8: 12000 | F8: 0 | G8: 0 | H8: 0 | I8: 12363.7 | J8: 3500 -
A9: - 7000 | B9: 377 | C9: 3.46 | D9: 17114.49 | E9: 20000 | F9: 0 | G9: 24958 | H9: 14598.5 | I9: 17131.48 | J9: 7000 -
A10: - 10500 | B10: 391 | C10: 4.24 | D10: 19867.3 | E10: 10000 | F10: 0 | G10: 29760.74 | H10: 20955.03 | I10: 19904.18 | J10: 10500 -
A11: - 14000 | B11: 322 | C11: 4.24 | D11: 23828.51 | E11: 0 | F11: 31927 | G11: 34052.26 | H11: 15796.84 | I11: 23898.47 | J11: 14000 -
A12: - 17500 | B12: 259 | C12: 4.55 | D12: 29176.24 | E12: 21756.1 | F12: 52719 | G12: 40252.48 | H12: 19921.62 | I12: 29170.02 | J12: 17500 -
A13: - 21000 | B13: 209 | C13: 5.01 | D13: 33354.14 | E13: 0 | F13: 32003.5 | G13: 33004.15 | H13: 20360.22 | I13: 33149.97 | J13: 21000 -
A14: - 24500 | B14: 233 | C14: 5.29 | D14: 38955.62 | E14: 15000 | F14: 38974.67 | G14: 37753.55 | H14: 35318.07 | I14: 38680.55 | J14: 24500 -
A15: - 28000 | B15: 166 | C15: 5.83 | D15: 47955.45 | E15: 34719 | F15: 47421.08 | G15: 47987.77 | H15: 33427.23 | I15: 47604.59 | J15: 28000 -
A16: - 31500 | B16: 169 | C16: 6.21 | D16: 58274.76 | E16: 148719 | F16: 52257 | G16: 49936.46 | H16: 29883.75 | I16: 57687.15 | J16: 31500 -
A17: - 35000 | B17: 245 | C17: 6.8 | D17: 64937.18 | E17: 95051.12 | F17: 75393.5 | G17: 59810.29 | H17: 40523.29 | I17: 64369.8 | J17: 35000 -
A18: - 40000 | B18: 216 | C18: 7.7 | D18: 72530.39 | E18: 0 | F18: 214784.5 | G18: 74629.69 | H18: 38649 | I18: 73467.07 | J18: 40000 -
... A20: - 55000 | B20: 343 | C20: 8.79 | D20: 91648.11 | E20: 36845 | F20: 112788.9 | G20: 100529.58 | H20: 89873.5 | I20: 91934.37 | J20: 55000 -
A21: - 65000 | B21: 206 | C21: 9.94 | D21: 111983 | E21: 337184 | F21: 0 | G21: 127671.53 | H21: 0 | I21: 116722.27 | J21: 65000 -
A22: - 75000 | B22: 119 | C22: 9.81 | D22: 122692.31 | E22: 108719 | F22: 121168 | G22: 122097 | H22: 0 | I22: 122553.33 | J22: 75000 -
A23: + 85000 | B23: 190 | C23: 12.06 | D23: 155977.8 | E23: 227924.02 | F23: 147875 | G23: 145266.31 | H23: 90168 | I23: 157240.71 | J23: 85000 +
A24: *نتائج مسح دخل وإنفاق الأسرة 2017-2018 | J24: * Household Survey 2017-2018

Sheet 118
A1: *متوسط إنفاق واستهلاك الفرد القطري الشهري بالريال حسب مجموعات السلع والخدمات وحجم الأسرة 2017 - 2018
A2: *AVERAGE MONTHLY QATARI HOUSEHOLD EXPENDITURE & CONSUMPTION (IN Q.R) BY GROUPS OF COMMODITIES, SERVICES & HOUSEHOLD SIZE
A3: 2017 - 2018
A4: جدول (118) | H4: Table (118)
A5: مجموعات السلع والخدمات | B5: حجم الأسرة Household Size | G5: المجموع Total | H5: مجموعات السلع والخدمات
B6: 3 - 1 | C6: 6 - 4 | D6: 9 - 7 | E6: 12 - 10 | F6: + 13
A7: متوسط حجم الأسرة | B7: 2.63 | C7: 5.16 | D7: 8.01 | E7: 10.71 | F7: 15.95 | G7: 8.73 | H7: Average HH Size
A8: أ - الإنفاق النقدي على مجموعات الطعام | B8: 1999.43 | C8: 1487.89 | D8: 1219.26 | E8: 992.66 | F8: 878.19 | G8: 1123.03 | H8: A – Food Cash Expenditure
A9: الحبوب و منتجاتها | B9: 166.36 | C9: 111.97 | D9: 94.5 | E9: 75.94 | F9: 64.66 | G9: 85.68 | H9: Cereals & Products
A10: اللحوم و الدواجن | B10: 337.17 | C10: 247.31 | D10: 208.9 | E10: 179.91 | F10: 170.46 | G10: 198.63 | H10: Meat & Poultry
A11: الأسماك و الأغذية البحرية | B11: 114.84 | C11: 83.31 | D11: 64.58 | E11: 53.51 | F11: 44.64 | G11: 60.11 | H11: Fish and Seafood
A12: الألبان و منتجاتها و البيض | B12: 161.16 | C12: 118.32 | D12: 92.8 | E12: 76.1 | F12: 66.44 | G12: 86.38 | H12: Dairy Products and Eggs
A13: الزيوت و الدهون | B13: 35.67 | C13: 24.24 | D13: 18.52 | E13: 15.03 | F13: 11.67 | G13: 16.98 | H13: Oils and Fats
A14: الفواكه و المكسرات | B14: 245.81 | C14: 169.57 | D14: 132.82 | E14: 101.17 | F14: 92.59 | G14: 120.92 | H14: Fruits and Nuts
A15: الخضروات و البقول و البطاطا | B15: 164.23 | C15: 116.89 | D15: 95.08 | E15: 75.59 | F15: 63.7 | G15: 86.21 | H15: Vegetables, Legumes and Potatoes
A16: السكر و منتجاته و العسل | B16: 87.78 | C16: 71.41 | D16: 59.64 | E16: 48.26 | F16: 49.14 | G16: 55.85 | H16: Sugar and Sugar Products and Honey
A17: المشروبات غير الكحولية | B17: 132.4 | C17: 82.19 | D17: 68.31 | E17: 56.8 | F17: 50.38 | G17: 63.64 | H17: Beverages (Non-alcoholic)
A18: أطعمة أخرى | B18: 124.13 | C18: 83.33 | D18: 59.51 | E18: 46.86 | F18: 39.2 | G18: 55.36 | H18: Other Foods
... A35: الإنفاق على سلع و خدمات أخرى غير الطعام | B35: 296.33 | C35: 181.39 | D35: 155.15 | E35: 118.93 | F35: 100.9 | G35: 137.72 | H35: Other Non – Food Expenditure
A36: هـ - الإنتاج الذاتي من غير الطعام - الإيجار المقدر للمسكن المملوك | B36: 3903.96 | C36: 2268.73 | D36: 1699.56 | E36: 1458.06 | F36: 1080.32 | G36: 1599.19 | H36: E- Own Produced Non- Food ( Imputed Rent )
A37: و - الاستهلاك الكلي من غير الطعام د + هـ | B37: 12176.85 | C37: 8479.15 | D37: 6426 | E37: 5643.73 | F37: 4294.84 | G37: 6085.11 | H37: F – Total Non-Food Consumption (D + E )
A38: ز - مجموع الاستهلاك الكلي ج + و | B38: 14181.82 | C38: 9972.16 | D38: 7647.94 | E38: 6641.99 | F38: 5177.06 | G38: 7212.38 | H38: G - Total Consumption (C + F)
A39: ــ الإنتاج الذاتي من الطعام , ب | B39: 5.53 | C39: 5.13 | D39: 2.67 | E39: 5.6 | F39: 4.04 | G39: 4.25 | H39: - Own Produced Food (B)
A40: ــ الإنتاج الذاتي من غير الطعام ، هــ | B40: 3903.96 | C40: 2268.73 | D40: 1699.56 | E40: 1458.06 | F40: 1080.32 | G40: 1599.19 | H40: - Own Produced Non-Food Products in Kind (E)
A41: ح التحويلات النقدية المدفوعة داخل البلاد + | B41: 365.86 | C41: 235.14 | D41: 174.37 | E41: 142.64 | F41: 117.88 | G41: 163.3 | H41: H Cash Transfer (In Qatar) +
A42: ط نفقات غير استهلاكية + | B42: 382.97 | C42: 455 | D42: 384.69 | E42: 354.79 | F42: 362.75 | G42: 380.43 | H42: I Non-Consumption Expenditure +
A43: الإنفاق النقدي الكلي ز – ب – هـ +ح + ط | B43: 11021.15 | C43: 8388.45 | D43: 6504.76 | E43: 5675.75 | F43: 4573.33 | G43: 6152.67 | H43: Total Cash Expenditure (G - B - E + H + I)
A44: HH = الاسرة | H44: HH = Household
A45: *نتائج مسج دخل وإنفاق الأسرة 2017-2018 | H45: * Household Survey 2017-2018

Sheet 119
A1: *متوسط إنفاق واستهلاك الفرد غير القطري الشهري بالريال حسب مجموعات السلع والخدمات وحجم الأسرة 2017 - 2018
A2: * AVERAGE MONTHLY NON QATARI HOUSEHOLD EXPENDITURE & CONSUMPTION (IN Q.R) BY GROUPS OF COMMODITIES, SERVICES & HOUSEHOLD SIZE
A3: 2017 - 2018
A4: جدول (119) | H4: Table (119)
A5: مجموعات السلع والخدمات | B5: حجم الأسرة Household Size | G5: المجموع Total | H5: مجموعات السلع والخدمات
B6: 3 - 1 | C6: 6 - 4 | D6: 9 - 7 | E6: 12 - 10 | F6: + 13
A7: متوسط حجم الأسرة | B7: 2.22 | C7: 4.73 | D7: 7.44 | E7: 10.75 | F7: 15.56 | G7: 4.01 | H7: Average HH Size
A8: أ - الإنفاق النقدي على مجموعات الطعام | B8: 930.12 | C8: 634.06 | D8: 485 | E8: 407.5 | F8: 363.57 | G8: 668.86 | H8: A – Food Cash Expenditure | J8: 1199
A9: الحبوب و منتجاتها | B9: 72.83 | C9: 54.08 | D9: 42.82 | E9: 37.51 | F9: 35.74 | G9: 55.93 | H9: Cereals & Products
A10: اللحوم و الدواجن | B10: 87.67 | C10: 78.31 | D10: 65.3 | E10: 64.3 | F10: 69.46 | G10: 77.99 | H10: Meat & Poultry
A11: الأسماك و الأغذية البحرية | B11: 37.11 | C11: 24.6 | D11: 15.6 | E11: 13.28 | F11: 13.25 | G11: 25.62 | H11: Fish and Seafood
A12: الألبان و منتجاتها و البيض | B12: 80.07 | C12: 65.64 | D12: 54.26 | E12: 51.15 | F12: 42.06 | G12: 66.43 | H12: Dairy Products and Eggs
