Workbook
Name eddfg: '[1]1'!#REF!
Name eddfg: '[1]1'!#REF!
Name eddfg: '[1]1'!#REF!
Name eddfg: '[1]1'!#REF!
Name eddfg: '[1]1'!#REF!
Name eddfg: '[2]1'!#REF!
Name eddfg: '[1]1'!#REF!
Name eddfg: '[1]1'!#REF!
Name hghghfghghfghghghfghg: '[1]1'!#REF!
Name hghghfghghfghghghfghg: '[1]1'!#REF!
Name hghghfghghfghghghfghg: '[1]1'!#REF!
Name hghghfghghfghghghfghg: '[1]1'!#REF!
Name hghghfghghfghghghfghg: '[1]1'!#REF!
Name hghghfghghfghghghfghg: '[1]1'!#REF!
Name hghghfghghfghghghfghg: '[1]1'!#REF!
Name hghghfghghfghghghfghg: '[1]1'!#REF!
Name hujgukgukgugugugoutgug: '[1]1'!#REF!
Name hujgukgukgugugugoutgug: '[1]1'!#REF!
Name hujgukgukgugugugoutgug: '[1]1'!#REF!
Name hujgukgukgugugugoutgug: '[1]1'!#REF!
Name hujgukgukgugugugoutgug: '[1]1'!#REF!
Name hujgukgukgugugugoutgug: '[1]1'!#REF!
Name hujgukgukgugugugoutgug: '[1]1'!#REF!
Name OLE_LINK7: '180'!$J$37
Name sheet00: '[1]1'!#REF!
Name sheet00: '[1]1'!#REF!
Name sheet00: '[1]1'!#REF!
Name sheet00: '[1]1'!#REF!
Name sheet00: '[1]1'!#REF!
Name sheet00: '[1]1'!#REF!
Name sheet00: '[1]1'!#REF!
Name sheet00: '[1]1'!#REF!
Name sheet00: '[2]1'!#REF!
Name sheet00: '[1]1'!#REF!
Name sheet00: '[1]1'!#REF!
Name sheet000: '[1]1'!#REF!
Name sheet000: '[1]1'!#REF!
Name sheet000: '[1]1'!#REF!
Name sheet000: '[1]1'!#REF!
Name sheet000: '[1]1'!#REF!
Name sheet000: '[1]1'!#REF!
Name sheet000: '[1]1'!#REF!
Name sheet000: '[1]1'!#REF!
Name sheet000: '[2]1'!#REF!
Name sheet000: '[1]1'!#REF!
Name sheet000: '[1]1'!#REF!
Name sheet1: '[1]1'!#REF!
Name sheet1: '[1]1'!#REF!
Name sheet1: '[1]1'!#REF!
Name sheet1: '[1]1'!#REF!
Name sheet1: '[1]1'!#REF!
Name sheet1: '[1]1'!#REF!
Name sheet1: '[1]1'!#REF!
Name sheet1: '[1]1'!#REF!
Name sheet1: '[2]1'!#REF!
Name sheet1: '[1]1'!#REF!
Name sheet1.: '[1]1'!#REF!
Name sheet1.: '[1]1'!#REF!
Name sheet1.: '[1]1'!#REF!
Name sheet1.: '[1]1'!#REF!

Sheet Cover

Sheet التقديم
A5: الإعلام والثقافة والسياحة | C5: MEDIA, CULTURE AND TOURISM
A7: تلعب وسائل الإعلام والثقافة دوراً أساسياً في الارتقاء بالمستوى الحضاري للمجتمع ، من خلال تعزيز ارتباط الفرد بمجتمعه، والإسهام في تشكيل اتجاهات الرأي العام وبلورتها ، كما تسهم المؤسسات الثقافية ، مثل المسارح والمكتبات في الحفاظ على التراث الشعبي والحضاري. | C7: Media and culture play a fundamental role in raising the level of civilization in society, by strengthening the individual’s connection to his community, and contributing to shaping and crystallizing public opinion trends. Cultural institutions, such as theaters and libraries, also contribute to preserving popular and cultural heritage.
A8: هذا وتحتل السياحة مكانة مهمة في الاقتصاد الحديث إذ تعتبر صناعة متكاملة لها مكوناتها، مثل الموقع الجغرافي ، والأماكن الأثرية والشواطئ، وغيرها، إضافة إلى عوامل إنتاجها كالفنادق. | C8: Tourism occupies an important place in the modern economy as it is considered an integrated industry with its components, such as geographical location, archaeological sites, beaches, and others, in addition to its production factors such as hotels.
A9: ويضم الفصل مجموعة من الجداول الأساسية التي تعكس النشاط الإعلامي والإذاعة والصحافة والمكتبات والكتب المستعارة ,وزوار الأماكن السياحية والفعاليات الثقافية .. إلخ . كذلك عدد المساجد وأنواعها بدولة قطر . | C9: The chapter includes a set of basic tables that reflect media activity, radio, the press, libraries, borrowed books, visitors to tourist sites, cultural events, etc., as well as the number and types of mosques in the State of Qatar..
A10: المصادر: | C10: Sources:
A11: * وزارة الثقافة. | C11: * Ministry of Culture.
A12: * وزارة البلدية. | C12: * Ministry of Municipality .
A13: * وزارة البيئة والتغيير المناخي . | C13: * Ministry of Climate Change and Environment .
A14: *مركز زوار ميناء حمد . | C14: * Hamad Port Visitor Center.
A15: * وزارة الأوقاف والشؤون الإسلامية. | C15: * Ministry of Endowments and Islamic Affairs
A16: * قطر للسياحة | C16: * Qatar Tourism.
A17: * متاحف قطر. | C17: * Qatar Museums.
... A27: * شركة الريان للإعلام والتسويق. | C27: * Al Rayyan for Media & Marketing Co.

Sheet 150
A1: دور السينما والأفلام المعروضة
A2: MOVIE HOUSES AND FILMS PRESENTED
A3: 2020 - 2024
A4: جدول رقم (150) | G4: Table No. (150)
A5: السنة البيان | B5: 2020 | C5: 2021 | D5: 2022 | E5: 2023 | G5: Year Item | P5: 167 | S5: 156
F6: 2024 | P6: 38210 | S6: 38994
P7: 3539394 | S7: 3001913
A8: عدد دور السينما | B8: 175 | C8: 161 | D8: 163 | E8: 167 | F8: 156 | G8: Number of movie houses | P8: 5507 | S8: 5854
A9: عدد المقاعد | B9: 26301 | C9: 20615 | D9: 44006 | E9: 38210 | F9: 38994 | G9: Number of seats | P9: 571 | S9: 518
A10: الرواد (بالألف) (1) | B10: 580 | C10: 1910 | D10: 3035 | E10: 3539 | F10: 3002 | G10: Audiences (000)(1) | P10: 4926 | S10: 5363
A11: الافلام المعروضة | B11: =SUM(B12:B13) -> 1615 | C11: =SUM(C12:C13) -> 4048 | D11: =SUM(D12:D13) -> 4421 | E11: =SUM(E12:E13) -> 5497 | F11: =F12+F13 -> 5881 | G11: Films presented
A12: عربية | B12: 159 | C12: 369 | D12: 413 | E12: 571 | F12: 518 | G12: Arabic
A13: أجنبية | B13: 1456 | C13: 3679 | D13: 4008 | E13: 4926 | F13: 5363 | G13: Foreign
A14: (1) تم تحديث عدد الرواد (بالألف) لعام 2021 من المصدر | D14: (1)The number of Audiences (000) was updated from the source
B20: =B5 -> 2020 | C20: =C5 -> 2021 | D20: =D5 -> 2022 | E20: =E5 -> 2023 | F20: 2024
A21: أفلام عربية Arabic Films | B21: =B12 -> 159 | C21: =C12 -> 369 | D21: =D12 -> 413 | E21: =E12 -> 571 | F21: 518
A22: أفلام أجنبية Foreign Films | B22: =B13 -> 1456 | C22: =C13 -> 3679 | D22: =D13 -> 4008 | E22: =E13 -> 4926 | F22: 5363

Sheet 151
A1: الصحف والمجلات الصادرة في دولة قطر 2007-2011
A2: NEWSPAPERS AND MAGAZINES ISSUED IN THE STATE OF QATAR
A3: 2020 - 2024
A4: جدول رقم (151) | I4: Table No. (151)
A5: السنة الصحف والمجلات | C5: 2020 | D5: 2021 | E5: 2022 | F5: 2023 | G5: 2024 | H5: Year Newspapers & Magazines
A6: الصحــــــف | B6: يومية | C6: 8 | D6: 8 | E6: 9 | F6: 10 | G6: 10 | H6: Daily | I6: Newspapers
B7: أسبوعية* | C7: 0 | D7: 0 | E7: 0 | F7: 0 | G7: 0 | H7: Weekly*
B8: المجموع | C8: =C6+C7 -> 8 | D8: =D6+D7 -> 8 | E8: =E6+E7 -> 9 | F8: =F6+F7 -> 10 | G8: =SUM(G6:G7) -> 10 | H8: Total
A9: المجـــــــلات | B9: أسبوعية* | C9: 0 | D9: 0 | E9: 0 | F9: 0 | G9: 0 | H9: Weekly* | I9: Magazines
B10: شهرية | C10: 5 | D10: 3 | E10: 4 | F10: 5 | G10: 5 | H10: Monthly
B11: المجموع | C11: =C9+C10 -> 5 | D11: =D9+D10 -> 3 | E11: =E9+E10 -> 4 | F11: =F9+F10 -> 5 | G11: =G9+G10 -> 5 | H11: Total
A12: * تم اعتماد طريقة النشر الإلكتروني. | E12: *The online publishing method has been approved.
E18: .

Sheet 152
A1: العاملون بالصحف والمجلات حسب الجنسية والنوع
A2: EMPLOYEES IN JOURNAL AND MAGAZINES BY NATIONALITY & GENDER
A3: 2020 - 2024
A4: جدول رقم (152) | K4: Table No. (152)
A5: الجنسية والنوع السنة | B5: قطريون | E5: غير قطريين | H5: المجموع | K5: Nationality & Gender Years
B6: Qataris | E6: Non-Qataris | H6: Total
B7: ذكور Males | C7: إناث Females | D7: المجموع Total | E7: ذكور Males | F7: إناث Females | G7: المجموع Total | H7: ذكور Males | I7: إناث Females | J7: المجموع Total
A9: 2020 | B9: 28 | C9: 4 | D9: =SUM(B9:C9) -> 32 | E9: 575 | F9: 48 | G9: =SUM(E9:F9) -> 623 | H9: =B9+E9 -> 603 | I9: =C9+F9 -> 52 | J9: =SUM(H9:I9) -> 655 | K9: 2020
A10: 2021 | B10: 23 | C10: 0 | D10: =SUM(B10:C10) -> 23 | E10: 299 | F10: 38 | G10: =SUM(E10:F10) -> 337 | H10: =B10+E10 -> 322 | I10: =C10+F10 -> 38 | J10: =SUM(H10:I10) -> 360 | K10: 2021
A11: 2022 | B11: 29 | C11: 2 | D11: =SUM(B11:C11) -> 31 | E11: 263 | F11: 27 | G11: =SUM(E11:F11) -> 290 | H11: =B11+E11 -> 292 | I11: =C11+F11 -> 29 | J11: =SUM(H11:I11) -> 321 | K11: 2022
A12: 2023 | B12: 24 | C12: 2 | D12: =SUM(B12:C12) -> 26 | E12: 257 | F12: 29 | G12: =SUM(E12:F12) -> 286 | H12: =B12+E12 -> 281 | I12: =C12+F12 -> 31 | J12: =SUM(H12:I12) -> 312 | K12: 2023
A13: 2024 | B13: 26 | C13: 2 | D13: =SUM(B13:C13) -> 28 | E13: 247 | F13: 30 | G13: =SUM(E13:F13) -> 277 | H13: =B13+E13 -> 273 | I13: =C13+F13 -> 32 | J13: =SUM(H13:I13) -> 305 | K13: 2024

Sheet 153
A1: العاملون بالصحف والمجلات حسب الجنسية والنوع والمهنة
A2: EMPLOYEES IN JOURNAL AND MAGAZINES BY NATIONALITY, GENDER AND OCCUPATION
A3: 2024
A4: جدول رقم (153) | K4: Table No. (153)
A5: الجنسية والنوع المهنة | B5: قطريون | E5: غير قطريين | H5: المجموع | K5: Nationality & Gender Occupation
B6: Qataris | E6: Non-Qataris | H6: Total
B7: ذكور Males | C7: إناث Females | D7: المجموع Total | E7: ذكور Males | F7: إناث Females | G7: المجموع Total | H7: ذكور Males | I7: إناث Females | J7: المجموع Total
A9: رئيس مجلس الادارة | B9: =[3]الشرق!B10+[3]الراية!B10+[3]العرب!B10+'[3]الوطن وقطر تربيون'!B10+[3]gulftime!B10+[3]البنسويلا!B10 -> 3 | C9: =[3]الشرق!C10+[3]الراية!C10+[3]العرب!C10+'[3]الوطن وقطر تربيون'!C10+[3]gulftime!C10+[3]البنسويلا!C10 -> 0 | D9: =SUM(B9:C9) -> 3 | E9: =[3]الشرق!E10+[3]الراية!E10+[3]العرب!E10+'[3]الوطن وقطر تربيون'!E10+[3]gulftime!E10+[3]البنسويلا!E10 -> 0 | F9: =[3]الشرق!F10+[3]الراية!F10+[3]العرب!F10+'[3]الوطن وقطر تربيون'!F10+[3]gulftime!F10+[3]البنسويلا!F10 -> 0 | G9: =SUM(E9:F9) -> 0 | H9: =SUM(B9,E9) -> 3 | I9: =SUM(C9,F9) -> 0 | J9: =SUM(H9:I9) -> 3 | K9: Chairman of The board
A10: العضو المنتدب | B10: ='[3]الوطن وقطر تربيون'!B11 -> 1 | C10: ='[3]الوطن وقطر تربيون'!C11 -> 0 | D10: =SUM(B10:C10) -> 1 | E10: ='[3]الوطن وقطر تربيون'!E11 -> 0 | F10: ='[3]الوطن وقطر تربيون'!F11 -> 0 | G10: =E10+F10 -> 0 | H10: =SUM(B10,E10) -> 1 | I10: =SUM(C10,F10) -> 0 | J10: =SUM(H10:I10) -> 1 | K10: Managing Director
A11: عضو مجلس الادارة المدير العام | B11: =[3]الشرق!B11+[3]الراية!B11+[3]العرب!B11+'[3]الوطن وقطر تربيون'!B12+[3]gulftime!B11+[3]البنسويلا!B11 -> 2 | C11: =[3]الشرق!C11+[3]الراية!C11+[3]العرب!C11+'[3]الوطن وقطر تربيون'!C12+[3]gulftime!C11+[3]البنسويلا!C11 -> 0 | D11: =SUM(B11:C11) -> 2 | E11: =[3]الشرق!E11+[3]الراية!E11+[3]العرب!E11+'[3]الوطن وقطر تربيون'!E12+[3]gulftime!E11+[3]البنسويلا!E11 -> 0 | F11: =[3]الشرق!F11+[3]الراية!F11+[3]العرب!F11+'[3]الوطن وقطر تربيون'!F12+[3]gulftime!F11+[3]البنسويلا!F11 -> 0 | G11: =E11+F11 -> 0 | H11: =SUM(B11,E11) -> 2 | I11: =SUM(C11,F11) -> 0 | J11: =SUM(H11:I11) -> 2 | K11: M.O.B. General Manager
A12: الرئيس التنفيذي | B12: ='[3]الوطن وقطر تربيون'!B13 -> 1 | C12: ='[3]الوطن وقطر تربيون'!C13 -> 0 | D12: =SUM(B12:C12) -> 1 | E12: ='[3]الوطن وقطر تربيون'!E13 -> 0 | F12: ='[3]الوطن وقطر تربيون'!F13 -> 0 | G12: =E12+F12 -> 0 | H12: =SUM(B12,E12) -> 1 | I12: =SUM(C12,F12) -> 0 | J12: =SUM(H12:I12) -> 1 | K12: Chief Executive Officer
A13: رئيس التحرير | B13: =[3]الشرق!B13+[3]الراية!B13+[3]العرب!B13+'[3]الوطن وقطر تربيون'!B15+[3]gulftime!B13+[3]البنسويلا!B13 -> 7 | C13: =[3]الشرق!C13+[3]الراية!C13+[3]العرب!C13+'[3]الوطن وقطر تربيون'!C15+[3]gulftime!C13+[3]البنسويلا!C13 -> 0 | D13: =SUM(B13:C13) -> 7 | E13: =[3]الشرق!E13+[3]الراية!E13+[3]العرب!E13+'[3]الوطن وقطر تربيون'!E15+[3]gulftime!E13+[3]البنسويلا!E13 -> 0 | F13: =[3]الشرق!F13+[3]الراية!F13+[3]العرب!F13+'[3]الوطن وقطر تربيون'!F15+[3]gulftime!F13+[3]البنسويلا!F13 -> 0 | G13: =E13+F13 -> 0 | H13: =SUM(B13,E13) -> 7 | I13: =SUM(C13,F13) -> 0 | J13: =SUM(H13:I13) -> 7 | K13: Editor in Chief
A14: نائب رئيس التحرير | B14: =[3]الشرق!B14+[3]الراية!B14+[3]العرب!B14+'[3]الوطن وقطر تربيون'!B16+[3]gulftime!B14+[3]البنسويلا!B14 -> 2 | C14: =[3]الشرق!C14+[3]الراية!C14+[3]العرب!C14+'[3]الوطن وقطر تربيون'!C16+[3]gulftime!C14+[3]البنسويلا!C14 -> 0 | D14: =SUM(B14:C14) -> 2 | E14: =[3]الشرق!E14+[3]الراية!E14+[3]العرب!E14+'[3]الوطن وقطر تربيون'!E16+[3]gulftime!E14+[3]البنسويلا!E14 -> 0 | F14: =[3]الشرق!F14+[3]الراية!F14+[3]العرب!F14+'[3]الوطن وقطر تربيون'!F16+[3]gulftime!F14+[3]البنسويلا!F14 -> 0 | G14: =E14+F14 -> 0 | H14: =SUM(B14,E14) -> 2 | I14: =SUM(C14,F14) -> 0 | J14: =SUM(H14:I14) -> 2 | K14: Vice Chief
A15: مساعد رئيس التحرير | B15: =[3]الشرق!B15+[3]الراية!B15+[3]العرب!B15+'[3]الوطن وقطر تربيون'!B17+[3]gulftime!B15+[3]البنسويلا!B15 -> 1 | C15: =[3]الشرق!C15+[3]الراية!C15+[3]العرب!C15+'[3]الوطن وقطر تربيون'!C17+[3]gulftime!C15+[3]البنسويلا!C15 -> 0 | D15: =SUM(B15:C15) -> 1 | E15: =[3]الشرق!E15+[3]الراية!E15+[3]العرب!E15+'[3]الوطن وقطر تربيون'!E17+[3]gulftime!E15+[3]البنسويلا!E15 -> 0 | F15: =[3]الشرق!F15+[3]الراية!F15+[3]العرب!F15+'[3]الوطن وقطر تربيون'!F17+[3]gulftime!F15+[3]البنسويلا!F15 -> 0 | G15: =E15+F15 -> 0 | H15: =SUM(B15,E15) -> 1 | I15: =SUM(C15,F15) -> 0 | J15: =SUM(H15:I15) -> 1 | K15: Chairman of the Board
A16: مدير التحرير | B16: =[3]الشرق!B16+[3]الراية!B16+[3]العرب!B16+'[3]الوطن وقطر تربيون'!B18+[3]gulftime!B16+[3]البنسويلا!B16 -> 4 | C16: =[3]الشرق!C16+[3]الراية!C16+[3]العرب!C16+'[3]الوطن وقطر تربيون'!C18+[3]gulftime!C16+[3]البنسويلا!C16 -> 0 | D16: =SUM(B16:C16) -> 4 | E16: =[3]الشرق!E16+[3]الراية!E16+[3]العرب!E16+'[3]الوطن وقطر تربيون'!E18+[3]gulftime!E16+[3]البنسويلا!E16 -> 4 | F16: =[3]الشرق!F16+[3]الراية!F16+[3]العرب!F16+'[3]الوطن وقطر تربيون'!F18+[3]gulftime!F16+[3]البنسويلا!F16 -> 0 | G16: =E16+F16 -> 4 | H16: =SUM(B16,E16) -> 8 | I16: =SUM(C16,F16) -> 0 | J16: =SUM(H16:I16) -> 8 | K16: Chairman of Thr board
A17: نائب مدير التحرير | B17: =[3]الشرق!B17+[3]الراية!B17+[3]العرب!B17+'[3]الوطن وقطر تربيون'!B19+[3]gulftime!B17+[3]البنسويلا!B17 -> 0 | C17: =[3]الشرق!C17+[3]الراية!C17+[3]العرب!C17+'[3]الوطن وقطر تربيون'!C19+[3]gulftime!C17+[3]البنسويلا!C17 -> 0 | D17: =SUM(B17:C17) -> 0 | E17: =[3]الشرق!E17+[3]الراية!E17+[3]العرب!E17+'[3]الوطن وقطر تربيون'!E19+[3]gulftime!E17+[3]البنسويلا!E17 -> 1 | F17: =[3]الشرق!F17+[3]الراية!F17+[3]العرب!F17+'[3]الوطن وقطر تربيون'!F19+[3]gulftime!F17+[3]البنسويلا!F17 -> 0 | G17: =E17+F17 -> 1 | H17: =SUM(B17,E17) -> 1 | I17: =SUM(C17,F17) -> 0 | J17: =SUM(H17:I17) -> 1 | K17: Vice Chairman
A18: نائب رئيس قسم | B18: =[3]الشرق!B18 -> 0 | C18: =[3]الشرق!C18 -> 1 | D18: =SUM(B18:C18) -> 1 | E18: =[3]الشرق!E18 -> 2 | F18: =[3]الشرق!F18 -> 0 | G18: =E18+F18 -> 2 | H18: =SUM(B18,E18) -> 2 | I18: =SUM(C18,F18) -> 1 | J18: =SUM(H18:I18) -> 3 | K18: Deputy Head of Department
A19: سكرتير التحرير | B19: =[3]الشرق!B19+[3]الراية!B18+[3]العرب!B18+'[3]الوطن وقطر تربيون'!B20+[3]gulftime!B18+[3]البنسويلا!B18 -> 0 | C19: =[3]الشرق!C19+[3]الراية!C18+[3]العرب!C18+'[3]الوطن وقطر تربيون'!C20+[3]gulftime!C18+[3]البنسويلا!C18 -> 0 | D19: =SUM(B19:C19) -> 0 | E19: =[3]الشرق!E19+[3]الراية!E18+[3]العرب!E18+'[3]الوطن وقطر تربيون'!E20+[3]gulftime!E18+[3]البنسويلا!E18 -> 4 | F19: =[3]الشرق!F19+[3]الراية!F18+[3]العرب!F18+'[3]الوطن وقطر تربيون'!F20+[3]gulftime!F18+[3]البنسويلا!F18 -> 0 | G19: =E19+F19 -> 4 | H19: =SUM(B19,E19) -> 4 | I19: =SUM(C19,F19) -> 0 | J19: =SUM(H19:I19) -> 4 | K19: Secretary editor
A20: محرر | B20: =[3]الشرق!B20+[3]الراية!B19+[3]العرب!B19+'[3]الوطن وقطر تربيون'!B21+[3]gulftime!B19+[3]البنسويلا!B19 -> 1 | C20: =[3]الشرق!C20+[3]الراية!C19+[3]العرب!C19+'[3]الوطن وقطر تربيون'!C21+[3]gulftime!C19+[3]البنسويلا!C19 -> 1 | D20: =SUM(B20:C20) -> 2 | E20: =[3]الشرق!E20+[3]الراية!E19+[3]العرب!E19+'[3]الوطن وقطر تربيون'!E21+[3]gulftime!E19+[3]البنسويلا!E19 -> 84 | F20: =[3]الشرق!F20+[3]الراية!F19+[3]العرب!F19+'[3]الوطن وقطر تربيون'!F21+[3]gulftime!F19+[3]البنسويلا!F19 -> 10 | G20: =E20+F20 -> 94 | H20: =SUM(B20,E20) -> 85 | I20: =SUM(C20,F20) -> 11 | J20: =SUM(H20:I20) -> 96 | K20: Editor Reporter
A21: مراسل | B21: =[3]الشرق!B21+[3]الراية!B20+[3]العرب!B20+'[3]الوطن وقطر تربيون'!B22+[3]gulftime!B20+[3]البنسويلا!B20 -> 0 | C21: =[3]الشرق!C21+[3]الراية!C20+[3]العرب!C20+'[3]الوطن وقطر تربيون'!C22+[3]gulftime!C20+[3]البنسويلا!C20 -> 0 | D21: =SUM(B21:C21) -> 0 | E21: =[3]الشرق!E21+[3]الراية!E20+[3]العرب!E20+'[3]الوطن وقطر تربيون'!E22+[3]gulftime!E20+[3]البنسويلا!E20 -> 16 | F21: =[3]الشرق!F21+[3]الراية!F20+[3]العرب!F20+'[3]الوطن وقطر تربيون'!F22+[3]gulftime!F20+[3]البنسويلا!F20 -> 4 | G21: =E21+F21 -> 20 | H21: =SUM(B21,E21) -> 16 | I21: =SUM(C21,F21) -> 4 | J21: =SUM(H21:I21) -> 20 | K21: Corespondent
A22: مخرج | B22: =[3]الشرق!B22+[3]الراية!B21+[3]العرب!B21+'[3]الوطن وقطر تربيون'!B23+[3]gulftime!B21+[3]البنسويلا!B21 -> 0 | C22: =[3]الشرق!C22+[3]الراية!C21+[3]العرب!C21+'[3]الوطن وقطر تربيون'!C23+[3]gulftime!C21+[3]البنسويلا!C21 -> 0 | D22: =SUM(B22:C22) -> 0 | E22: =[3]الشرق!E22+[3]الراية!E21+[3]العرب!E21+'[3]الوطن وقطر تربيون'!E23+[3]gulftime!E21+[3]البنسويلا!E21 -> 21 | F22: =[3]الشرق!F22+[3]الراية!F21+[3]العرب!F21+'[3]الوطن وقطر تربيون'!F23+[3]gulftime!F21+[3]البنسويلا!F21 -> 0 | G22: =E22+F22 -> 21 | H22: =SUM(B22,E22) -> 21 | I22: =SUM(C22,F22) -> 0 | J22: =SUM(H22:I22) -> 21 | K22: Director
A23: مونتاج | B23: =[3]الشرق!B23+[3]الراية!B22+[3]العرب!B22+'[3]الوطن وقطر تربيون'!B24+[3]gulftime!B22+[3]البنسويلا!B22 -> 0 | C23: =[3]الشرق!C23+[3]الراية!C22+[3]العرب!C22+'[3]الوطن وقطر تربيون'!C24+[3]gulftime!C22+[3]البنسويلا!C22 -> 0 | D23: =SUM(B23:C23) -> 0 | E23: =[3]الشرق!E23+[3]الراية!E22+[3]العرب!E22+'[3]الوطن وقطر تربيون'!E24+[3]gulftime!E22+[3]البنسويلا!E22 -> 4 | F23: =[3]الشرق!F23+[3]الراية!F22+[3]العرب!F22+'[3]الوطن وقطر تربيون'!F24+[3]gulftime!F22+[3]البنسويلا!F22 -> 2 | G23: =E23+F23 -> 6 | H23: =SUM(B23,E23) -> 4 | I23: =SUM(C23,F23) -> 2 | J23: =SUM(H23:I23) -> 6 | K23: Productor
A24: مصحح | B24: =[3]الشرق!B24+[3]الراية!B23+[3]العرب!B23+'[3]الوطن وقطر تربيون'!B25+[3]gulftime!B23+[3]البنسويلا!B23 -> 0 | C24: =[3]الشرق!C24+[3]الراية!C23+[3]العرب!C23+'[3]الوطن وقطر تربيون'!C25+[3]gulftime!C23+[3]البنسويلا!C23 -> 0 | D24: =SUM(B24:C24) -> 0 | E24: =[3]الشرق!E24+[3]الراية!E23+[3]العرب!E23+'[3]الوطن وقطر تربيون'!E25+[3]gulftime!E23+[3]البنسويلا!E23 -> 15 | F24: =[3]الشرق!F24+[3]الراية!F23+[3]العرب!F23+'[3]الوطن وقطر تربيون'!F25+[3]gulftime!F23+[3]البنسويلا!F23 -> 0 | G24: =E24+F24 -> 15 | H24: =SUM(B24,E24) -> 15 | I24: =SUM(C24,F24) -> 0 | J24: =SUM(H24:I24) -> 15 | K24: Corrector
A25: مترجم | B25: =[3]الشرق!B25+[3]الراية!B24+[3]العرب!B24+'[3]الوطن وقطر تربيون'!B26+[3]gulftime!B24+[3]البنسويلا!B24 -> 0 | C25: =[3]الشرق!C25+[3]الراية!C24+[3]العرب!C24+'[3]الوطن وقطر تربيون'!C26+[3]gulftime!C24+[3]البنسويلا!C24 -> 0 | D25: =SUM(B25:C25) -> 0 | E25: =[3]الشرق!E25+[3]الراية!E24+[3]العرب!E24+'[3]الوطن وقطر تربيون'!E26+[3]gulftime!E24+[3]البنسويلا!E24 -> 5 | F25: =[3]الشرق!F25+[3]الراية!F24+[3]العرب!F24+'[3]الوطن وقطر تربيون'!F26+[3]gulftime!F24+[3]البنسويلا!F24 -> 0 | G25: =E25+F25 -> 5 | H25: =SUM(B25,E25) -> 5 | I25: =SUM(C25,F25) -> 0 | J25: =SUM(H25:I25) -> 5 | K25: Translator
A26: مصور صحفي | B26: =[3]الشرق!B26+[3]الراية!B25+[3]العرب!B25+'[3]الوطن وقطر تربيون'!B27+[3]gulftime!B25+[3]البنسويلا!B25 -> 1 | C26: =[3]الشرق!C26+[3]الراية!C25+[3]العرب!C25+'[3]الوطن وقطر تربيون'!C27+[3]gulftime!C25+[3]البنسويلا!C25 -> 0 | D26: =SUM(B26:C26) -> 1 | E26: =[3]الشرق!E26+[3]الراية!E25+[3]العرب!E25+'[3]الوطن وقطر تربيون'!E27+[3]gulftime!E25+[3]البنسويلا!E25 -> 14 | F26: =[3]الشرق!F26+[3]الراية!F25+[3]العرب!F25+'[3]الوطن وقطر تربيون'!F27+[3]gulftime!F25+[3]البنسويلا!F25 -> 0 | G26: =E26+F26 -> 14 | H26: =SUM(B26,E26) -> 15 | I26: =SUM(C26,F26) -> 0 | J26: =SUM(H26:I26) -> 15 | K26: Photographer
A27: تسويق | B27: =[3]الشرق!B27+[3]الراية!B26+[3]العرب!B26+'[3]الوطن وقطر تربيون'!B28+[3]gulftime!B26+[3]البنسويلا!B26 -> 0 | C27: =[3]الشرق!C27+[3]الراية!C26+[3]العرب!C26+'[3]الوطن وقطر تربيون'!C28+[3]gulftime!C26+[3]البنسويلا!C26 -> 0 | D27: =SUM(B27:C27) -> 0 | E27: =[3]الشرق!E27+[3]الراية!E26+[3]العرب!E26+'[3]الوطن وقطر تربيون'!E28+[3]gulftime!E26+[3]البنسويلا!E26 -> 7 | F27: =[3]الشرق!F27+[3]الراية!F26+[3]العرب!F26+'[3]الوطن وقطر تربيون'!F28+[3]gulftime!F26+[3]البنسويلا!F26 -> 1 | G27: =E27+F27 -> 8 | H27: =SUM(B27,E27) -> 7 | I27: =SUM(C27,F27) -> 1 | J27: =SUM(H27:I27) -> 8 | K27: Marketing
A28: مصمم جرافيك | B28: =[3]الشرق!B28+[3]الراية!B27+[3]العرب!B27+'[3]الوطن وقطر تربيون'!B29+[3]gulftime!B27+[3]البنسويلا!B27 -> 0 | C28: =[3]الشرق!C28+[3]الراية!C27+[3]العرب!C27+'[3]الوطن وقطر تربيون'!C29+[3]gulftime!C27+[3]البنسويلا!C27 -> 0 | D28: =SUM(B28:C28) -> 0 | E28: =[3]الشرق!E28+[3]الراية!E27+[3]العرب!E27+'[3]الوطن وقطر تربيون'!E29+[3]gulftime!E27+[3]البنسويلا!E27 -> 6 | F28: =[3]الشرق!F28+[3]الراية!F27+[3]العرب!F27+'[3]الوطن وقطر تربيون'!F29+[3]gulftime!F27+[3]البنسويلا!F27 -> 0 | G28: =E28+F28 -> 6 | H28: =SUM(B28,E28) -> 6 | I28: =SUM(C28,F28) -> 0 | J28: =SUM(H28:I28) -> 6 | K28: Graphic Designers
A29: خطاط ورسام | B29: =[3]الشرق!B29+[3]الراية!B28+[3]العرب!B28+'[3]الوطن وقطر تربيون'!B30+[3]gulftime!B28+[3]البنسويلا!B28 -> 3 | C29: =[3]الشرق!C29+[3]الراية!C28+[3]العرب!C28+'[3]الوطن وقطر تربيون'!C30+[3]gulftime!C28+[3]البنسويلا!C28 -> 0 | D29: =SUM(B29:C29) -> 3 | E29: =[3]الشرق!E29+[3]الراية!E28+[3]العرب!E28+'[3]الوطن وقطر تربيون'!E30+[3]gulftime!E28+[3]البنسويلا!E28 -> 2 | F29: =[3]الشرق!F29+[3]الراية!F28+[3]العرب!F28+'[3]الوطن وقطر تربيون'!F30+[3]gulftime!F28+[3]البنسويلا!F28 -> 0 | G29: =E29+F29 -> 2 | H29: =SUM(B29,E29) -> 5 | I29: =SUM(C29,F29) -> 0 | J29: =SUM(H29:I29) -> 5 | K29: Draftsman
A30: فني آخر | B30: =[3]الشرق!B30+[3]الراية!B29+[3]العرب!B29+'[3]الوطن وقطر تربيون'!B31+[3]gulftime!B29+[3]البنسويلا!B29 -> 0 | C30: =[3]الشرق!C30+[3]الراية!C29+[3]العرب!C29+'[3]الوطن وقطر تربيون'!C31+[3]gulftime!C29+[3]البنسويلا!C29 -> 0 | D30: =SUM(B30:C30) -> 0 | E30: =[3]الشرق!E30+[3]الراية!E29+[3]العرب!E29+'[3]الوطن وقطر تربيون'!E31+[3]gulftime!E29+[3]البنسويلا!E29 -> 8 | F30: =[3]الشرق!F30+[3]الراية!F29+[3]العرب!F29+'[3]الوطن وقطر تربيون'!F31+[3]gulftime!F29+[3]البنسويلا!F29 -> 2 | G30: =E30+F30 -> 10 | H30: =SUM(B30,E30) -> 8 | I30: =SUM(C30,F30) -> 2 | J30: =SUM(H30:I30) -> 10 | K30: Other Technician
A31: محاسب | B31: =[3]الشرق!B31+[3]الراية!B30+[3]العرب!B30+'[3]الوطن وقطر تربيون'!B32+[3]gulftime!B30+[3]البنسويلا!B30 -> 0 | C31: =[3]الشرق!C31+[3]الراية!C30+[3]العرب!C30+'[3]الوطن وقطر تربيون'!C32+[3]gulftime!C30+[3]البنسويلا!C30 -> 0 | D31: =SUM(B31:C31) -> 0 | E31: =[3]الشرق!E31+[3]الراية!E30+[3]العرب!E30+'[3]الوطن وقطر تربيون'!E32+[3]gulftime!E30+[3]البنسويلا!E30 -> 9 | F31: =[3]الشرق!F31+[3]الراية!F30+[3]العرب!F30+'[3]الوطن وقطر تربيون'!F32+[3]gulftime!F30+[3]البنسويلا!F30 -> 0 | G31: =E31+F31 -> 9 | H31: =SUM(B31,E31) -> 9 | I31: =SUM(C31,F31) -> 0 | J31: =SUM(H31:I31) -> 9 | K31: Account
A32: كاتب ارشيف | B32: =[3]الشرق!B33+[3]الراية!B32+[3]العرب!B32+'[3]الوطن وقطر تربيون'!B34+[3]gulftime!B32+[3]البنسويلا!B32 -> 0 | C32: =[3]الشرق!C33+[3]الراية!C32+[3]العرب!C32+'[3]الوطن وقطر تربيون'!C34+[3]gulftime!C32+[3]البنسويلا!C32 -> 0 | D32: =SUM(B32:C32) -> 0 | E32: =[3]الشرق!E33+[3]الراية!E32+[3]العرب!E32+'[3]الوطن وقطر تربيون'!E34+[3]gulftime!E32+[3]البنسويلا!E32 -> 6 | F32: =[3]الشرق!F33+[3]الراية!F32+[3]العرب!F32+'[3]الوطن وقطر تربيون'!F34+[3]gulftime!F32+[3]البنسويلا!F32 -> 2 | G32: =E32+F32 -> 8 | H32: =SUM(B32,E32) -> 6 | I32: =SUM(C32,F32) -> 2 | J32: =SUM(H32:I32) -> 8 | K32: Archive Clerk
A33: سكرتارية | B33: =[3]الشرق!B34+[3]الراية!B33+[3]العرب!B33+'[3]الوطن وقطر تربيون'!B35+[3]gulftime!B33+[3]البنسويلا!B33 -> 0 | C33: =[3]الشرق!C34+[3]الراية!C33+[3]العرب!C33+'[3]الوطن وقطر تربيون'!C35+[3]gulftime!C33+[3]البنسويلا!C33 -> 0 | D33: =SUM(B33:C33) -> 0 | E33: =[3]الشرق!E34+[3]الراية!E33+[3]العرب!E33+'[3]الوطن وقطر تربيون'!E35+[3]gulftime!E33+[3]البنسويلا!E33 -> 5 | F33: =[3]الشرق!F34+[3]الراية!F33+[3]العرب!F33+'[3]الوطن وقطر تربيون'!F35+[3]gulftime!F33+[3]البنسويلا!F33 -> 4 | G33: =E33+F33 -> 9 | H33: =SUM(B33,E33) -> 5 | I33: =SUM(C33,F33) -> 4 | J33: =SUM(H33:I33) -> 9 | K33: Secretary
A34: اداريون آخرون | B34: =[3]الشرق!B35+[3]الراية!B34+[3]العرب!B34+'[3]الوطن وقطر تربيون'!B36+[3]gulftime!B34+[3]البنسويلا!B34 -> 0 | C34: =[3]الشرق!C35+[3]الراية!C34+[3]العرب!C34+'[3]الوطن وقطر تربيون'!C36+[3]gulftime!C34+[3]البنسويلا!C34 -> 0 | D34: =SUM(B34:C34) -> 0 | E34: =[3]الشرق!E35+[3]الراية!E34+[3]العرب!E34+'[3]الوطن وقطر تربيون'!E36+[3]gulftime!E34+[3]البنسويلا!E34 -> 8 | F34: =[3]الشرق!F35+[3]الراية!F34+[3]العرب!F34+'[3]الوطن وقطر تربيون'!F36+[3]gulftime!F34+[3]البنسويلا!F34 -> 0 | G34: =E34+F34 -> 8 | H34: =SUM(B34,E34) -> 8 | I34: =SUM(C34,F34) -> 0 | J34: =SUM(H34:I34) -> 8 | K34: Other Administrators
A35: مندوبين | B35: =[3]الشرق!B36+[3]الراية!B35+[3]العرب!B35+'[3]الوطن وقطر تربيون'!B37+[3]gulftime!B35+[3]البنسويلا!B35 -> 0 | C35: =[3]الشرق!C36+[3]الراية!C35+[3]العرب!C35+'[3]الوطن وقطر تربيون'!C37+[3]gulftime!C35+[3]البنسويلا!C35 -> 0 | D35: =SUM(B35:C35) -> 0 | E35: =[3]الشرق!E36+[3]الراية!E35+[3]العرب!E35+'[3]الوطن وقطر تربيون'!E37+[3]gulftime!E35+[3]البنسويلا!E35 -> 6 | F35: =[3]الشرق!F36+[3]الراية!F35+[3]العرب!F35+'[3]الوطن وقطر تربيون'!F37+[3]gulftime!F35+[3]البنسويلا!F35 -> 5 | G35: =E35+F35 -> 11 | H35: =SUM(B35,E35) -> 6 | I35: =SUM(C35,F35) -> 5 | J35: =SUM(H35:I35) -> 11 | K35: Representative
A36: عمال وفراشين | B36: =[3]الشرق!B37+[3]الراية!B36+[3]العرب!B36+'[3]الوطن وقطر تربيون'!B38+[3]gulftime!B36+[3]البنسويلا!B36 -> 0 | C36: =[3]الشرق!C37+[3]الراية!C36+[3]العرب!C36+'[3]الوطن وقطر تربيون'!C38+[3]gulftime!C36+[3]البنسويلا!C36 -> 0 | D36: =SUM(B36:C36) -> 0 | E36: =[3]الشرق!E37+[3]الراية!E36+[3]العرب!E36+'[3]الوطن وقطر تربيون'!E38+[3]gulftime!E36+[3]البنسويلا!E36 -> 11 | F36: =[3]الشرق!F37+[3]الراية!F36+[3]العرب!F36+'[3]الوطن وقطر تربيون'!F38+[3]gulftime!F36+[3]البنسويلا!F36 -> 0 | G36: =E36+F36 -> 11 | H36: =SUM(B36,E36) -> 11 | I36: =SUM(C36,F36) -> 0 | J36: =SUM(H36:I36) -> 11 | K36: Workers, Office Boys
A37: سائقين | B37: =[3]الشرق!B38+[3]الراية!B37+[3]العرب!B37+'[3]الوطن وقطر تربيون'!B39+[3]gulftime!B37+[3]البنسويلا!B37 -> 0 | C37: =[3]الشرق!C38+[3]الراية!C37+[3]العرب!C37+'[3]الوطن وقطر تربيون'!C39+[3]gulftime!C37+[3]البنسويلا!C37 -> 0 | D37: =B37+C37 -> 0 | E37: =[3]الشرق!E38+[3]الراية!E37+[3]العرب!E37+'[3]الوطن وقطر تربيون'!E39+[3]gulftime!E37+[3]البنسويلا!E37 -> 9 | F37: =[3]الشرق!F38+[3]الراية!F37+[3]العرب!F37+'[3]الوطن وقطر تربيون'!F39+[3]gulftime!F37+[3]البنسويلا!F37 -> 0 | G37: =SUM(E37:F37) -> 9 | H37: =SUM(B37,E37) -> 9 | I37: =SUM(C37,F37) -> 0 | J37: =SUM(H37:I37) -> 9 | K37: Drivers
A38: المجموع | B38: =SUM(B9:B37) -> 26 | C38: =SUM(C9:C37) -> 2 | D38: =SUM(D9:D37) -> 28 | E38: =SUM(E9:E37) -> 247 | F38: =SUM(F9:F37) -> 30 | G38: =SUM(G9:G37) -> 277 | H38: =SUM(H9:H37) -> 273 | I38: =SUM(I9:I37) -> 32 | J38: =SUM(J9:J37) -> 305 | K38: Total

Sheet 154
A1: أنواع وعدد الحيوانات في حديقة الحيوان بمنتزه الخور
A2: TYPE & NUMBER OF ANIMALS AT THE ZOO IN AL-KHOR PARK
A3: 2020 - 2024
A5: جدول رقم (154) | G5: Table No. (154)
A6: البيان | D6: (1)2022 | G6: Item
B7: 2020 | C7: 2021 | E7: 2023 | F7: 2024
A9: أنواع الحيوانات والطيور | B9: 44 | C9: 52 | D9: 56 | E9: 57 | F9: 58 | G9: Type of Animals and Birds
A10: الثدييات | B10: 25 | C10: 27 | D10: 29 | E10: 30 | F10: 29 | G10: Mammals
A11: الطيور | B11: 18 | C11: 23 | D11: 23 | E11: 22 | F11: 24 | G11: Birds
A12: الزواحف | B12: 1 | C12: 2 | D12: 4 | E12: 5 | F12: 5 | G12: Reptiles
A13: عدد الحيوانات والطيور | B13: 401 | C13: 494 | D13: 445 | E13: 450 | F13: 461 | G13: No. of Animals and Birds
A14: الثدييات | B14: 177 | C14: 240 | D14: 162 | E14: 170 | F14: 173 | G14: Mammals
A15: الطيور | B15: 221 | C15: 244 | D15: 278 | E15: 273 | F15: 281 | G15: Birds
A16: الزواحف | B16: 3 | C16: 10 | D16: 5 | E16: 7 | F16: 7 | G16: Reptiles

Sheet 155
A1: زوار حديقة الحيوان بمنتزه الخور حسب الشهر
A2: VISITORS TO THE ZOO IN AL-KHOR PARK BY MONTH
A3: 2020 - 2024
A5: جدول رقم (155) | G5: Table No. (155)
A6: السنة الشهر | B6: (1)2020 | C6: 2021 | D6: (2)2022 | E6: 2023 | F6: 2024 | G6: Year Month
E7: المجموع Total | F7: المجموع Total
A8: يناير | B8: 1333 | C8: 91849 | D8: 0 | E8: 26182 | F8: 41287 | G8: January
A9: فبراير | B9: 57918 | C9: 13265 | D9: 0 | E9: 26342 | F9: 26835 | G9: February
A10: مارس | B10: 14521 | C10: 11444 | D10: 0 | E10: 26356 | F10: 12949 | G10: March
A11: أبريل | B11: 0 | C11: 2309 | D11: 0 | E11: 39234 | F11: 36053 | G11: April
A12: مايو | B12: 0 | C12: 2309 | D12: 0 | E12: 22721 | F12: 18548 | G12: May
A13: يونيو | B13: 0 | C13: 2630 | D13: 0 | E13: 14410 | F13: 8659 | G13: June
A14: يوليو | B14: 0 | C14: 5052 | D14: 0 | E14: 9481 | F14: 4245 | G14: July
A15: أغسطس | B15: 0 | C15: 3066 | D15: 0 | E15: 4398 | F15: 4073 | G15: August
A16: سبتمبر | B16: 0 | C16: 4913 | D16: 0 | E16: 5668 | F16: 6000 | G16: September
A17: أكتوبر | B17: 0 | C17: 16944 | D17: 0 | E17: 10987 | F17: 23008 | G17: October
A18: نوفمبر | B18: 0 | C18: 26561 | D18: 15479 | E18: 26543 | F18: 32830 | G18: November
A19: ديسمبر | B19: 79375 | C19: 52145 | D19: 69460 | E19: 63321 | F19: 45773 | G19: December
A20: المجموع | B20: =SUM(B8:B19) -> 153147 | C20: =SUM(C8:C19) -> 232487 | D20: =SUM(D8:D19) -> 84939 | E20: =SUM(E8:E19) -> 275643 | F20: =SUM(F8:F19) -> 260260 | G20: Total
A21: (1) تم إغلاق الحديقة في عام 2020 بسبب الإجراءات الاحترازية لجائحة (كوفيد-19). | D21: (1) The park has been closed in 2020 due to (Covid-19) precautionary measures.
A22: (2) تم اغلاق الحديقة للصيانة، تم الافتتاح 19-11-2022. | D22: (2) The park was closed for maintenance, Opened on 19-11-2022.

Sheet 156
A1: زوار حديقة بيت الباندا حسب الأشهر
A2: VISITORS OF PANDA HOUSE PARK BY MONTHS
A3: 2023-2024
A4: جدول رقم (156) | D4: Table No. (156)
A5: الأشهر | B5: 2023 | C5: 2024 | D5: Months
A6: يناير | B6: 16224 | C6: 7840 | D6: January
A7: فبراير | B7: 15445 | C7: 5676 | D7: February
A8: مارس | B8: 9927 | C8: 2370 | D8: March
A9: أبريل | B9: 14308 | C9: 5242 | D9: April
A10: مايو | B10: 8427 | C10: 3191 | D10: May
A11: يونيو | B11: 6708 | C11: 3170 | D11: June
A12: يوليو | B12: 5699 | C12: 2275 | D12: July
A13: أغسطس | B13: 3381 | C13: 3480 | D13: August
A14: سبتمبر | B14: 2692 | C14: 3619 | D14: September
A15: أكتوبر | B15: 4068 | C15: 5145 | D15: October
A16: نوفمبر | B16: 5857 | C16: 7702 | D16: November
A17: ديسمبر | B17: 10532 | C17: 10624 | D17: December
A18: المجموع | B18: =SUM(B6:B17) -> 103268 | C18: =SUM(C6:C17) -> 60334 | D18: Total
A22: *سبب الانخفاض لان العام السابق كان الافتتاح فكان الاقبال للزيارات اكبر | C22: *The reason for the decrease is that the previous year was the opening, so the number of visitors was higher.

Sheet 157
A1: زوار ميناء حمد الحوض المائي للأحياء البحرية (أكواريوم) والسينما والمتحف حسب فئات العمر والشهر
A2: VISITORS TO HAMAD PORT VISITOR CENTER AQUARIUM, CINEMA AND MUSEUM BY AGE GROUPS AND MONTH
A3: 2024
A5: جدول رقم (157) | G5: Table No. (157)
A6: الشهر | B6: فئات العمر Age groups | E6: طلاب المدارس School Students | F6: المجموع Total | G6: Month
B7: أقل من 5 سنوات Less than 5 years | C7: من 5 إلى 12 سنة From 5 to 12 years | D7: بالغين فوق ال12 سنة Adults over 12 year
A8: يناير | B8: 1231 | C8: 3380 | D8: 7097 | E8: 1188 | F8: =SUM(B8:E8) -> 12896 | G8: January
A9: فبراير | B9: 1034 | C9: 1709 | D9: 5042 | E9: 730 | F9: =SUM(B9:E9) -> 8515 | G9: February
A10: مارس | B10: 407 | C10: 597 | D10: 2298 | E10: 693 | F10: =SUM(B10:E10) -> 3995 | G10: March
A11: ابريل | B11: 978 | C11: 1825 | D11: 4916 | E11: 546 | F11: =SUM(B11:E11) -> 8265 | G11: April
A12: مايو(1) | B12: 611 | C12: 1426 | D12: 3803 | E12: 680 | F12: =SUM(B12:E12) -> 6520 | G12: May(1)
A13: يونيو | B13: 1034 | C13: 1814 | D13: 5194 | E13: 472 | F13: =SUM(B13:E13) -> 8514 | G13: June
A14: يوليو | B14: 1043 | C14: 2126 | D14: 5178 | E14: 482 | F14: =SUM(B14:E14) -> 8829 | G14: July
A15: اغسطس | B15: 1004 | C15: 2164 | D15: 5216 | E15: 427 | F15: =SUM(B15:E15) -> 8811 | G15: August
A16: سبتمبر | B16: 608 | C16: 1304 | D16: 3374 | E16: 15 | F16: =SUM(B16:E16) -> 5301 | G16: September
A17: اكتوبر | B17: 630 | C17: 1500 | D17: 3695 | E17: 888 | F17: =SUM(B17:E17) -> 6713 | G17: October
A18: نوفمبر | B18: 676 | C18: 1542 | D18: 3965 | E18: 1237 | F18: =SUM(B18:E18) -> 7420 | G18: November
A19: ديسمبر | B19: 728 | C19: 1864 | D19: 4516 | E19: 544 | F19: =SUM(B19:E19) -> 7652 | G19: December
A20: المجموع | B20: =SUM(B8:B19) -> 9984 | C20: =SUM(C8:C19) -> 21251 | D20: =SUM(D8:D19) -> 54294 | E20: =SUM(E8:E19) -> 7902 | F20: =SUM(F8:F19) -> 93431 | G20: Total

Sheet 158
A1: المكتبات العامة والكتب والدوريات المتوفرة
A2: AVAILABLE PUBLIC LIBRARIES, BOOKS AND PERIODICALS
A3: 2020 - 2024
A4: جدول رقم (158) | Q4: Table No. (158)
A5: الكتب والدوريات اسم المكتبة | B5: 2020 | E5: 2021 | H5: 2022 | K5: 2023 | N5: 2024 | Q5: Books & Periodicals Name of Library
B6: الكتب العربية | C6: الكتب الأجنبية | D6: الدوريات | E6: الكتب العربية | F6: الكتب الأجنبية | G6: الدوريات | H6: الكتب العربية | I6: الكتب الأجنبية | J6: الدوريات | K6: الكتب العربية | L6: الكتب الأجنبية | M6: الدوريات | N6: الكتب العربية | O6: الكتب الأجنبية | P6: الدوريات
B7: Arabic Books | C7: Foreign Books | D7: Periodi-cals | E7: Arabic Books | F7: Foreign Books | G7: Periodi-cals | H7: Arabic Books | I7: Foreign Books | J7: Periodi-cals | K7: Arabic Books | L7: Foreign Books | M7: Periodi-cals | N7: Arabic Books | O7: Foreign Books | P7: Periodi-cals
A8: مكتبة قطر الوطنية | B8: 282661 | C8: 651557 | D8: 190 | E8: 277033 | F8: 654620 | G8: 576 | H8: 164535 | I8: 648795 | J8: 867 | K8: 286354 | L8: 646953 | M8: 2057 | N8: 305729 | O8: 672357 | P8: 22260 | Q8: Qatar National Library
A9: دار الكتب القطرية | B9: 290971 | C9: 39850 | D9: 1390 | E9: 291482 | F9: 39766 | G9: 1390 | H9: 291598 | I9: 39882 | J9: 1390 | K9: 292375 | L9: 39882 | M9: 1390 | N9: 292834 | O9: 39950 | P9: 1390 | Q9: Dar Al-Kutub Al-Qatariyya
A10: مكتبة الخور | B10: 46098 | C10: 4251 | D10: 0 | E10: 46358 | F10: 4673 | G10: 0 | H10: 46413 | I10: 4723 | J10: 0 | K10: 46801 | L10: 4723 | M10: 0 | N10: 47876 | O10: 4757 | P10: 0 | Q10: Al-Khor Library
A11: مكتبة الشمال | B11: 41433 | C11: 2817 | D11: 0 | E11: 41673 | F11: 2824 | G11: 0 | H11: 41711 | I11: 2844 | J11: 0 | K11: 41786 | L11: 2884 | M11: 0 | N11: 41786 | O11: 2878 | P11: 0 | Q11: Al-Shamal Library
A12: مكتبة الخنساء | B12: 64322 | C12: 5802 | D12: 0 | E12: 64642 | F12: 5246 | G12: 0 | H12: 64713 | I12: 8246 | J12: 0 | K12: 65129 | L12: 5264 | M12: 0 | N12: 65408 | O12: 5298 | P12: 0 | Q12: Al-Khanssa Library
A13: مكتبة الوكرة | B13: 50231 | C13: 1728 | D13: 0 | E13: 50385 | F13: 2728 | G13: 0 | H13: 50410 | I13: 2824 | J13: 0 | K13: 50581 | L13: 2824 | M13: 0 | N13: 50604 | O13: 2858 | P13: 0 | Q13: Al-Wakrah Library
A14: مكتبه الشيخ علي آل ثاني | B14: 84000 | C14: 5620 | D14: 0 | E14: 93211 | F14: 5800 | G14: 0 | H14: 101000 | I14: 5910 | J14: 0 | K14: 102051 | L14: 8150 | M14: 0 | N14: 133580 | O14: 9650 | P14: 0 | Q14: Sheikh Ali Al-Thani Library
A15: المجموع | B15: =SUM(B8:B14) -> 859716 | C15: =SUM(C8:C14) -> 711625 | D15: =SUM(D8:D14) -> 1580 | E15: =SUM(E8:E14) -> 864784 | F15: =SUM(F8:F14) -> 715657 | G15: =SUM(G8:G14) -> 1966 | H15: =SUM(H8:H14) -> 760380 | I15: =SUM(I8:I14) -> 713224 | ... P15: =SUM(P8:P14) -> 23650 | Q15: Total

Sheet 159
A1: المكتبات العامة حسب عدد المستعيرين والكتب المستعارة وعدد العاملين
A2: PUBLIC LIBRARIES BY NUMBER OF BORROWERS, BOOKS BORROWED AND NUMBER OF EMPLOYEES
A3: 2020 - 2024
A4: جدول رقم (159) | Q4: Table No. (159)
A5: اسم المكتبة | B5: (1)2020 | E5: (1)2021 | H5: 2022 | K5: 2023 | N5: 2024 | Q5: Name of Library
B6: عدد المستعيرين | C6: الكتب المستعارة | D6: عدد العاملين | E6: عدد المستعيرين | F6: الكتب المستعارة | G6: عدد العاملين | H6: عدد المستعيرين | I6: الكتب المستعارة | J6: عدد العاملين | K6: عدد المستعيرين | L6: الكتب المستعارة | M6: عدد العاملين | N6: عدد المستعيرين | O6: الكتب المستعارة | P6: عدد العاملين
B7: No. of Borrowers | C7: Books Borrowed | D7: No. of Employees | E7: No. of Borrowers | F7: Books Borrowed | G7: No. of Employees | H7: No. of Borrowers | I7: Books Borrowed | J7: No. of Employees | K7: No. of Borrowers | L7: Books Borrowed | M7: No. of Employees | N7: No. of Borrowers | O7: Books Borrowed | P7: No. of Employees
A8: مكتبة قطر الوطنية | B8: 29281 | C8: 203435 | D8: 172 | E8: 19004 | F8: 136477 | G8: 172 | H8: 30018 | I8: 507098 | J8: 170 | K8: 36662 | L8: 468653 | M8: 184 | N8: 39174 | O8: 403615 | P8: 169 | Q8: Qatar National Library
A9: دار الكتب القطرية(2) | B9: 90 | C9: 103 | D9: 73 | E9: 0 | F9: 0 | G9: 77 | H9: 0 | I9: 0 | J9: 0 | K9: 11 | L9: 45 | M9: 63 | N9: 20 | O9: 53 | P9: 63 | Q9: Dar Al-Kutub Al-Qatariyya(2)
A10: مكتبة الخور | B10: 77 | C10: 125 | D10: 13 | E10: 44 | F10: 59 | G10: 11 | H10: 31 | I10: 47 | J10: 10 | K10: 78 | L10: 113 | M10: 12 | N10: 98 | O10: 149 | P10: 10 | Q10: Al-Khor Library
A11: مكتبة الشمال | B11: 40 | C11: 50 | D11: 11 | E11: 32 | F11: 48 | G11: 13 | H11: 40 | I11: 85 | J11: 14 | K11: 2 | L11: 2 | M11: 13 | N11: 16 | O11: 43 | P11: 13 | Q11: Al-Shamal Library
A12: مكتبة الخنساء | B12: 115 | C12: 138 | D12: 18 | E12: 64 | F12: 78 | G12: 17 | H12: 366 | I12: 633 | J12: 16 | K12: 350 | L12: 830 | M12: 14 | N12: 259 | O12: 43 | P12: 16 | Q12: Al-Khanssa Library
A13: مكتبة الوكرة | B13: 47 | C13: 89 | D13: 16 | E13: 60 | F13: 73 | G13: 16 | H13: 252 | I13: 335 | J13: 14 | K13: 146 | L13: 245 | M13: 14 | N13: 87 | O13: 169 | P13: 14 | Q13: Al-Wakrah Library
A14: مكتبة الشيخ علي آل ثاني(3) | B14: 200 | C14: 1250 | D14: 8 | E14: 576 | F14: 1640 | G14: 9 | H14: 630 | I14: 1763 | J14: 8 | K14: 372 | L14: 880 | M14: 10 | N14: 513 | O14: 1150 | P14: 10 | Q14: Sheikh Ali Al-Thani Library (3)
A15: المجموع | B15: =SUM(B8:B14) -> 29850 | C15: =SUM(C8:C14) -> 205190 | D15: =SUM(D8:D14) -> 311 | E15: =SUM(E8:E14) -> 19780 | F15: =SUM(F8:F14) -> 138375 | G15: =SUM(G8:G14) -> 315 | H15: =SUM(H8:H14) -> 31337 | I15: =SUM(I8:I14) -> 509961 | ... P15: =SUM(P8:P14) -> 295 | Q15: Total
A16: (1) يرجع الانخفاض في بيانات عام 2020 و 2021 إلى جائحة (كوفيد-19). | G16: (1) The decline (2020 - 2021) is attributed to COVID-19 pandemic.
A17: (2) اغلاق مبنى دار الكتب القطرية للقيام بأعمال الصيانة عام 2022. | K17: (2) Dar Al Kutub Al Qatariya has been closed for maintenance in 2022.

Sheet 160
A1: التوزيع الشهري لساعات بث البرنامج العام من إذاعة قطر حسب نوع البرامج والشهر
A2: MONTHLY DISTRIBUTION OF THE GENERAL PROGRAM BROADCASTING HOURS ON QATAR RADIO BY TYPE OF PROGRAMS AND MONTH
A3: 2024
A4: جدول رقم (160) | I4: Table No. (160)
A5: نوع البرامج الشهر | B5: الدينية Religious | C5: الإعلامية Media | D5: الترفيهية Recreational | E5: الفئات Categories | F5: الثقافية Cultural | G5: الإعلانات Advertising | H5: المجموع Total | I5: Type of Programs Month
B6: ساعة Hours | C6: ساعة Hours | D6: ساعة Hours | E6: ساعة Hours | F6: ساعة Hours | G6: ساعة Hours | H6: ساعة Hours
A7: يناير | B7: 104 | C7: 66 | D7: 315 | E7: 104 | F7: 138 | G7: 17 | H7: =SUM(B7:G7) -> 744 | I7: January
A8: فبراير | B8: 129 | C8: 60 | D8: 282 | E8: 75 | F8: 134 | G8: 16 | H8: =SUM(B8:G8) -> 696 | I8: February
A9: مارس | B9: 327 | C9: 54 | D9: 184 | E9: 53 | F9: 106 | G9: 20 | H9: =SUM(B9:G9) -> 744 | I9: March
A10: أبريل | B10: 210 | C10: 64 | D10: 214 | E10: 76 | F10: 137 | G10: 19 | H10: =SUM(B10:G10) -> 720 | I10: April
A11: مايو | B11: 103 | C11: 61 | D11: 202 | E11: 228 | F11: 131 | G11: 19 | H11: =SUM(B11:G11) -> 744 | I11: May
A12: يونيو | B12: 102 | C12: 62 | D12: 201 | E12: 156 | F12: 182 | G12: 17 | H12: =SUM(B12:G12) -> 720 | I12: June
A13: يوليو | B13: 101 | C13: 64 | D13: 319 | E13: 54 | F13: 188 | G13: 18 | H13: =SUM(B13:G13) -> 744 | I13: July
A14: أغسطس | B14: 91 | C14: 71 | D14: 319 | E14: 54 | F14: 191 | G14: 18 | H14: =SUM(B14:G14) -> 744 | I14: August
A15: سبتمبر | B15: 82 | C15: 92 | D15: 299 | E15: 124 | F15: 106 | G15: 17 | H15: =SUM(B15:G15) -> 720 | I15: September
A16: أكتوبر | B16: 81 | C16: 94 | D16: 312 | E16: 129 | F16: 110 | G16: 18 | H16: =SUM(B16:G16) -> 744 | I16: October
A17: نوفمبر | B17: 82 | C17: 92 | D17: 299 | E17: 124 | F17: 106 | G17: 17 | H17: =SUM(B17:G17) -> 720 | I17: November
A18: ديسمبر | B18: 80 | C18: 95 | D18: 313 | E18: 129 | F18: 109 | G18: 18 | H18: =SUM(B18:G18) -> 744 | I18: December
A19: المجموع | B19: =SUM(B7:B18) -> 1492 | C19: =SUM(C7:C18) -> 875 | D19: =SUM(D7:D18) -> 3259 | E19: =SUM(E7:E18) -> 1306 | F19: =SUM(F7:F18) -> 1638 | G19: =SUM(G7:G18) -> 214 | H19: =SUM(H7:H18) -> 8784 | I19: Total

Sheet 161
A1: التوزيع الشهري لساعات بث البرنامج العام من تلفزيون قطر حسب نوع البرامج والشهر
A2: MONTHLY DISTRIBUTION Of THE GENERAL PROGRAM BROADCAST HOURS ON QATAR TV BY TYPE OF PROGRAMS AND MONTH
A3: 2024
A4: جدول رقم (161) | O4: Table No. (161)
A5: الشهر نوع البرامج | B5: يناير | C5: فبراير | D5: مارس | E5: أبريل | F5: مايو | G5: يونيو | H5: يوليو | I5: أغسطس | J5: سبتمبر | K5: أكتوبر | L5: نوفمبر | M5: ديسمبر | N5: المجموع | O5: Month Type of Programs
B6: January | C6: February | D6: March | E6: April | F6: May | G6: June | H6: July | I6: August | J6: September | K6: October | L6: November | M6: December | N6: Total
B7: ساعة Hours | C7: ساعة Hours | D7: ساعة Hours | E7: ساعة Hours | F7: ساعة Hours | G7: ساعة Hours | H7: ساعة Hours | I7: ساعة Hours | J7: ساعة Hours | K7: ساعة Hours | L7: ساعة Hours | M7: ساعة Hours | N7: ساعة Hours
A8: الدينية | B8: 21 | C8: 20 | D8: 106 | E8: 51 | F8: 29 | G8: 103 | H8: 39 | I8: 42 | J8: 39 | K8: 30 | L8: 37 | M8: 24 | N8: =SUM(B8:M8) -> 541 | O8: Religious
A9: الإعلامية | B9: 45 | C9: 48 | D9: 69 | E9: 59 | F9: 0 | G9: 53 | H9: 54 | I9: 64 | J9: 64 | K9: 65 | L9: 58 | M9: 51 | N9: =SUM(B9:M9) -> 630 | O9: Media
A10: الترفيهية | B10: 8 | C10: 16 | D10: 0 | E10: 11 | F10: 20 | G10: 51 | H10: 28 | I10: 33 | J10: 20 | K10: 20 | L10: 22 | M10: 9 | N10: =SUM(B10:M10) -> 238 | O10: Recreational
A11: الأطفال | B11: 3 | C11: 0 | D11: 11 | E11: 5 | F11: 1 | G11: 17 | H11: 3 | I11: 2 | J11: 7 | K11: 8 | L11: 8 | M11: 8 | N11: =SUM(B11:M11) -> 73 | O11: children
A12: كرتون | B12: 11 | C12: 15 | D12: 10 | E12: 17 | F12: 62 | G12: 15 | H12: 51 | I12: 11 | J12: 0 | K12: 0 | L12: 0 | M12: 0 | N12: =SUM(B12:M12) -> 192 | O12: Cartoon
A13: الثقافية | B13: 2 | C13: 2 | D13: 17 | E13: 0 | F13: 0 | G13: 1 | H13: 0 | I13: 0 | J13: 8 | K13: 7 | L13: 9 | M13: 4 | N13: =SUM(B13:M13) -> 50 | O13: Cultural
A14: التعليمية | B14: 0 | C14: 0 | D14: 0 | E14: 0 | F14: 0 | G14: 0 | H14: 0 | I14: 0 | J14: 0 | K14: 0 | L14: 0 | M14: 0 | N14: =SUM(B14:M14) -> 0 | O14: Educational
A15: المجتمعية | B15: 127 | C15: 104 | D15: 41 | E15: 112 | F15: 111 | G15: 114 | H15: 104 | I15: 94 | J15: 143 | K15: 146 | L15: 138 | M15: 224 | N15: =SUM(B15:M15) -> 1458 | O15: Community
A16: الفعاليات والمناسبات الخاصة | B16: 16 | C16: 26 | D16: 1 | E16: 3 | F16: 0 | G16: 1 | H16: 0 | I16: 0 | J16: 24 | K16: 17 | L16: 39 | M16: 98 | N16: =SUM(B16:M16) -> 225 | O16: Special Events & Occasions
A17: الدرامية | B17: 50 | C17: 84 | D17: 107 | E17: 113 | F17: 128 | G17: 115 | H17: 176 | I17: 213 | J17: 69 | K17: 102 | L17: 114 | M17: 68 | N17: =SUM(B17:M17) -> 1339 | O17: Dramas
A18: الإخبارية | B18: 65 | C18: 49 | D18: 47 | E18: 55 | F18: 22 | G18: 42 | H18: 41 | I18: 40 | J18: 48 | K18: 49 | L18: 46 | M18: 48 | N18: =SUM(B18:M18) -> 552 | O18: News
A19: الرياضية | B19: 31 | C19: 104 | D19: 0 | E19: 9 | F19: 26 | G19: 1 | H19: 2 | I19: 3 | J19: 17 | K19: 25 | L19: 23 | M19: 28 | N19: =SUM(B19:M19) -> 269 | O19: Sport
... A25: الفنية | B25: 0 | C25: 1 | D25: 4 | E25: 4 | F25: 0 | G25: 6 | H25: 9 | I25: 12 | J25: 9 | K25: 13 | L25: 17 | M25: 15 | N25: =SUM(B25:M25) -> 90 | O25: Artistic
A26: المجموع | B26: =SUM(B8:B25) -> 716 | C26: =SUM(C8:C25) -> 656 | D26: =SUM(D8:D25) -> 520 | E26: =SUM(E8:E25) -> 639 | F26: =SUM(F8:F25) -> 535 | G26: =SUM(G8:G25) -> 703 | H26: =SUM(H8:H25) -> 722 | I26: =SUM(I8:I25) -> 733 | ... N26: =SUM(N8:N25) -> 8077 | O26: Total

Sheet 162
A1: التوزيع الشهري لساعات البث للبرنامج العام من إذاعات الأجنبية (اوريكس الفرنسية) حسب نوع البرامج والشهر
A2: MONTHLY DISTRIBUTION OF BROADCAST HOURS OF THE GENERAL PROGRAM OF Foreign radio stations (French Oryx) BY TYPE OF PROGRAMMS AND MONTH
A3: 2024
A4: جدول رقم (162) | J4: Table No. (162)
A5: نوع البرامج الشهر | B5: إذاعات الأجنبية (اوريكس الفرنسية) Foreign radio stations (French Oryx) | J5: Type of Programs Month
B6: الدينية Religious | C6: التراثية Cultural | D6: الاجتماعية Social | E6: التعليمية Educational | F6: الترفيهية Recreational | G6: الرياضية Sport | H6: الإعلانات Advertising | I6: المجموع Total
B9: ساعة Hours | C9: ساعة Hours | D9: ساعة Hours | E9: ساعة Hours | F9: ساعة Hours | G9: ساعة Hours | H9: ساعة Hours | I9: ساعة Hours
A10: يناير | B10: 4 | C10: 0 | D10: 131 | E10: 115 | F10: 116 | G10: 18 | H10: 0 | I10: =SUM(B10:H10) -> 384 | J10: January
A11: فبراير | B11: 3 | C11: 1 | D11: 127 | E11: 105 | F11: 100 | G11: 10 | H11: 0 | I11: =SUM(B11:H11) -> 346 | J11: February
A12: مارس | B12: 4 | C12: 0 | D12: 129 | E12: 105 | F12: 114 | G12: 3 | H12: 0 | I12: =SUM(B12:H12) -> 355 | J12: March
A13: ابريل | B13: 4 | C13: 0 | D13: 130 | E13: 110 | F13: 112 | G13: 4 | H13: 0 | I13: =SUM(B13:H13) -> 360 | J13: April
A14: مايو | B14: 4 | C14: 1 | D14: 132 | E14: 110 | F14: 115 | G14: 4 | H14: 0 | I14: =SUM(B14:H14) -> 366 | J14: May
A15: يونيو | B15: 4 | C15: 0 | D15: 129 | E15: 105 | F15: 111 | G15: 3 | H15: 0 | I15: =SUM(B15:H15) -> 352 | J15: June
A16: يوليو | B16: 4 | C16: 0 | D16: 131 | E16: 115 | F16: 116 | G16: 1 | H16: 0 | I16: =SUM(B16:H16) -> 367 | J16: July
A17: أغسطس | B17: 4 | C17: 0 | D17: 131 | E17: 105 | F17: 114 | G17: 1 | H17: 0 | I17: =SUM(B17:H17) -> 355 | J17: August
A18: سبتمبر | B18: 4 | C18: 0 | D18: 130 | E18: 110 | F18: 112 | G18: 4 | H18: 0 | I18: =SUM(B18:H18) -> 360 | J18: September
A19: أكتوبر | B19: 4 | C19: 1 | D19: 131 | E19: 115 | F19: 116 | G19: 4 | H19: 0 | I19: =SUM(B19:H19) -> 371 | J19: October
A20: نوفمبر | B20: 4 | C20: 0 | D20: 129 | E20: 110 | F20: 110 | G20: 3 | H20: 0 | I20: =SUM(B20:H20) -> 356 | J20: November
A21: ديسمبر | B21: 4 | C21: 1 | D21: 131 | E21: 115 | F21: 116 | G21: 4 | H21: 0 | I21: =SUM(B21:H21) -> 371 | J21: December
A22: المجموع | B22: =SUM(B10:B21) -> 47 | C22: =SUM(C10:C21) -> 4 | D22: =SUM(D10:D21) -> 1561 | E22: =SUM(E10:E21) -> 1320 | F22: =SUM(F10:F21) -> 1352 | G22: =SUM(G10:G21) -> 59 | H22: =SUM(H10:H21) -> 0 | I22: =SUM(I10:I21) -> 4343 | J22: Total

Sheet 163
A1: التوزيع الشهري لساعات البث المباشر للبرنامج العام من الإذاعات الأجنبية (QBS الإنجليزية) حسب نوع البرامج والشهر
A2: MONTHLY DISTRIBUTION OF LIVE BROADCAST HOURS OF THE GENERAL PROGRAM OF Foreign radio stations (QBS English) BY TYPE OF PROGRAMS AND MONTH
A3: 2024
A4: جدول رقم (163) | M4: Table No. (163)
A5: نوع البرامج الشهر | B5: إذاعات الأجنبية (QBS الإنجليزية) Foreign radio stations(QBS English) | M5: Type of Programs Month
B6: الدينية Religious | C6: الاقتصادية Economic | D6: الاجتماعية Social | E6: التراثية Cultural | F6: الوثائقية Documentary | G6: التعليمية Educational | H6: الدرامية | I6: الترفيهية Recreational | J6: الرياضية Sport | K6: الإعلانات Advertising | L6: المجموع Total
H7: Dramas
B9: ساعة Hours | C9: ساعة Hours | D9: ساعة Hours | E9: ساعة Hours | F9: ساعة Hours | G9: ساعة Hours | H9: ساعة Hours | I9: ساعة Hours | J9: ساعة Hours | K9: ساعة Hours | L9: ساعة Hours
A10: يناير | B10: 4 | C10: 3 | D10: 6 | E10: 3 | F10: 2 | G10: 5 | H10: 0 | I10: 150 | J10: 20 | K10: 2 | L10: =SUM(B10:K10) -> 195 | M10: January
A11: فبراير | B11: 4 | C11: 3 | D11: 6 | E11: 3 | F11: 2 | G11: 5 | H11: 0 | I11: 150 | J11: 20 | K11: 3 | L11: =SUM(B11:K11) -> 196 | M11: February
A12: مارس | B12: 21 | C12: 3 | D12: 9 | E12: 1 | F12: 2 | G12: 5 | H12: 0 | I12: 169 | J12: 20 | K12: 1 | L12: =SUM(B12:K12) -> 231 | M12: March
A13: أبريل | B13: 15 | C13: 3 | D13: 7 | E13: 1 | F13: 2 | G13: 4 | H13: 0 | I13: 161 | J13: 20 | K13: 2 | L13: =SUM(B13:K13) -> 215 | M13: April
A14: مايو | B14: 4 | C14: 3 | D14: 5 | E14: 0 | F14: 2 | G14: 3 | H14: 0 | I14: 150 | J14: 20 | K14: 1 | L14: =SUM(B14:K14) -> 188 | M14: May
A15: يونيو | B15: 4 | C15: 3 | D15: 5 | E15: 0 | F15: 3 | G15: 3 | H15: 0 | I15: 166 | J15: 20 | K15: 2 | L15: =SUM(B15:K15) -> 206 | M15: June
A16: يوليو | B16: 4 | C16: 3 | D16: 5 | E16: 0 | F16: 3 | G16: 3 | H16: 0 | I16: 166 | J16: 20 | K16: 2 | L16: =SUM(B16:K16) -> 206 | M16: July
A17: أغسطس | B17: 4 | C17: 3 | D17: 5 | E17: 0 | F17: 3 | G17: 3 | H17: 0 | I17: 166 | J17: 20 | K17: 2 | L17: =SUM(B17:K17) -> 206 | M17: August
A18: سبتمبر | B18: 4 | C18: 3 | D18: 5 | E18: 0 | F18: 2 | G18: 4 | H18: 0 | I18: 150 | J18: 20 | K18: 3 | L18: =SUM(B18:K18) -> 191 | M18: September
A19: أكتوبر | B19: 4 | C19: 3 | D19: 5 | E19: 0 | F19: 2 | G19: 3 | H19: 0 | I19: 150 | J19: 20 | K19: 2 | L19: =SUM(B19:K19) -> 189 | M19: October
A20: نوفمبر | B20: 4 | C20: 3 | D20: 5 | E20: 0 | F20: 2 | G20: 3 | H20: 0 | I20: 150 | J20: 20 | K20: 2 | L20: =SUM(B20:K20) -> 189 | M20: November
A21: ديسمبر | B21: 4 | C21: 3 | D21: 5 | E21: 1 | F21: 2 | G21: 3 | H21: 3 | I21: 150 | J21: 20 | K21: 2 | L21: =SUM(B21:K21) -> 193 | M21: December
A22: المجموع | B22: =SUM(B10:B21) -> 76 | C22: =SUM(C10:C21) -> 36 | D22: =SUM(D10:D21) -> 68 | E22: =SUM(E10:E21) -> 9 | F22: =SUM(F10:F21) -> 27 | G22: =SUM(G10:G21) -> 44 | H22: =SUM(H10:H21) -> 3 | I22: =SUM(I10:I21) -> 1878 | ... L22: =SUM(L10:L21) -> 2405 | M22: Total

Sheet 164
A1: التوزيع الشهري لساعات البث المباشر للبرنامج العام من إذاعة هولا باللغة الاسبانية حسب نوع البرامج والشهر
A2: MONTHLY DISTRIBUTION OF LIVE BROADCAST HOURS OF THE GENERAL PROGRAM OF HOLA RADIO IN SPANISH BY TYPE OF PROGRAMS AND MONTH
A3: 2024
A4: جدول رقم (164) | L4: Table No. (164)
A5: نوع البرامج الشهر | B5: إذاعة هولا باللغة الاسبانية Hola Radio in Spanish | L5: Type of Programs Month
B6: الدينية Religious | C6: الاقتصادية Economic | D6: الاجتماعية Social | E6: التراثية Cultural | F6: الوثائقية Documentary | G6: التعليمية Educational | H6: الترفيهية Recreational | I6: الرياضية Sport | J6: الإعلانات Advertising | K6: المجموع Total
B9: ساعة Hours | C9: ساعة Hours | D9: ساعة Hours | E9: ساعة Hours | F9: ساعة Hours | G9: ساعة Hours | H9: ساعة Hours | I9: ساعة Hours | J9: ساعة Hours | K9: ساعة Hours
A10: يناير | B10: 6 | C10: 4 | D10: 190 | E10: 40 | F10: 0 | G10: 18 | H10: 64 | I10: 23 | J10: 9 | K10: =SUM(B10:J10) -> 354 | L10: January
A11: فبراير | B11: 6 | C11: 0 | D11: 168 | E11: 36 | F11: 0 | G11: 12 | H11: 56 | I11: 0 | J11: 2.3 | K11: =SUM(B11:J11) -> 280.3 | L11: February
A12: مارس | B12: 17 | C12: 0 | D12: 174 | E12: 40 | F12: 0 | G12: 18 | H12: 54 | I12: 13 | J12: 0.16 | K12: =SUM(B12:J12) -> 316.16 | L12: March
A13: أبريل | B13: 8 | C13: 0.3 | D13: 159 | E13: 41 | F13: 0 | G13: 18 | H13: 54 | I13: 6 | J13: 0 | K13: =SUM(B13:J13) -> 286.3 | L13: April
A14: مايو | B14: 6 | C14: 0.3 | D14: 204 | E14: 36 | F14: 14 | G14: 14 | H14: 61 | I14: 9 | J14: 0 | K14: =SUM(B14:J14) -> 344.3 | L14: May
A15: يونيو | B15: 6 | C15: 1 | D15: 164 | E15: 23 | F15: 13 | G15: 10 | H15: 56 | I15: 9 | J15: 0 | K15: =SUM(B15:J15) -> 282 | L15: June
A16: يوليو | B16: 6 | C16: 0 | D16: 141 | E16: 11 | F16: 14 | G16: 9 | H16: 53 | I16: 9 | J16: 0 | K16: =SUM(B16:J16) -> 243 | L16: July
A17: أغسطس | B17: 6 | C17: 0 | D17: 141 | E17: 11 | F17: 14 | G17: 9 | H17: 53 | I17: 9 | J17: 0 | K17: =SUM(B17:J17) -> 243 | L17: August
A18: سبتمبر | B18: 10 | C18: 4 | D18: 179 | E18: 35 | F18: 10 | G18: 10 | H18: 45 | I18: 5 | J18: 0 | K18: =SUM(B18:J18) -> 298 | L18: September
A19: أكتوبر | B19: 10 | C19: 3 | D19: 165 | E19: 33 | F19: 10 | G19: 13 | H19: 41 | I19: 16 | J19: 0.1 | K19: =SUM(B19:J19) -> 291.1 | L19: October
A20: نوفمبر | B20: 11 | C20: 2 | D20: 174 | E20: 35 | F20: 9 | G20: 13 | H20: 38 | I20: 17 | J20: 2 | K20: =SUM(B20:J20) -> 301 | L20: November
A21: ديسمبر | B21: 11 | C21: 1 | D21: 122 | E21: 43 | F21: 9 | G21: 18 | H21: 36 | I21: 10 | J21: 2 | K21: =SUM(B21:J21) -> 252 | L21: December
A22: المجموع | B22: =SUM(B10:B21) -> 103 | C22: =SUM(C10:C21) -> 15.6 | D22: =SUM(D10:D21) -> 1981 | E22: =SUM(E10:E21) -> 384 | F22: =SUM(F10:F21) -> 93 | G22: =SUM(G10:G21) -> 162 | H22: =SUM(H10:H21) -> 611 | I22: =SUM(I10:I21) -> 126 | ... K22: =SUM(K10:K21) -> 3491.16 | L22: Total

Sheet 165
A1: التوزيع الشهري لساعات البث المباشر للبرنامج العام من الإذاعات الأجنبية (أوردو) حسب نوع البرامج والشهر
A2: MONTHLY DISTRIBUTION OF LIVE BROADCAST HOURS OF THE GENERAL PROGRAM OF FOREIGN RADIO STATIONS (URDU) BY TYPE OF PROGRAMS AND MONTH
A3: 2024
A4: جدول رقم (165) | O4: Table No. (165)
A5: نوع البرامج الشهر | B5: الدينية Religious | C5: الاقتصادية Economic | D5: الاجتماعية Social | E5: التراثية Cultural | F5: الوثائقية Documentary | G5: التعليمية Educational | H5: الدرامية Dramas | I5: الترفيهية Recreational | J5: الرياضية Sport | K5: الإعلانات Advertising | M5: المجموع Total | O5: Type of Programs Month
B6: ساعة Hours | C6: ساعة Hours | D6: ساعة Hours | E6: ساعة Hours | F6: ساعة Hours | G6: ساعة Hours | H6: ساعة Hours | I6: ساعة Hours | J6: ساعة Hours | K6: دقيقة Mins. | L6: ساعة Hours | M6: دقيقة Mins. | N6: ساعة Hours
A7: يناير | B7: 10 | C7: 5 | D7: 60 | E7: 0 | F7: 4 | G7: 8 | H7: 4 | I7: 16 | J7: 8 | K7: 0 | L7: 0 | M7: =MOD(SUM(K7),60) -> 0 | N7: =B7+C7+D7+E7+F7+G7+H7+I7+J7+L7 -> 115 | O7: January
A8: فبراير | B8: 10 | C8: 5 | D8: 60 | E8: 0 | F8: 4 | G8: 8 | H8: 4 | I8: 16 | J8: 8 | K8: 0 | L8: 0 | M8: =MOD(SUM(K8),60) -> 0 | N8: =B8+C8+D8+E8+F8+G8+H8+I8+J8+L8 -> 115 | O8: February
A9: مارس | B9: 18 | C9: 5 | D9: 60 | E9: 0 | F9: 4 | G9: 8 | H9: 4 | I9: 8 | J9: 8 | K9: 0 | L9: 0 | M9: =MOD(SUM(K9),60) -> 0 | N9: =B9+C9+D9+E9+F9+G9+H9+I9+J9+L9 -> 115 | O9: March
A10: أبريل | B10: 11 | C10: 5 | D10: 60 | E10: 0 | F10: 4 | G10: 8 | H10: 4 | I10: 16 | J10: 8 | K10: 0 | L10: 0 | M10: =MOD(SUM(K10),60) -> 0 | N10: =B10+C10+D10+E10+F10+G10+H10+I10+J10+L10 -> 116 | O10: April
A11: مايو | B11: 11 | C11: 5 | D11: 60 | E11: 0 | F11: 4 | G11: 8 | H11: 4 | I11: 16 | J11: 8 | K11: 8 | L11: 0 | M11: =MOD(SUM(K11),60) -> 8 | N11: =B11+C11+D11+E11+F11+G11+H11+I11+J11+L11 -> 116 | O11: May
A12: يونيو | B12: 11 | C12: 5 | D12: 60 | E12: 0 | F12: 4 | G12: 8 | H12: 4 | I12: 16 | J12: 8 | K12: 21 | L12: 0 | M12: =MOD(SUM(K12),60) -> 21 | N12: =B12+C12+D12+E12+F12+G12+H12+I12+J12+L12 -> 116 | O12: June
A13: يوليو | B13: 10 | C13: 5 | D13: 60 | E13: 0 | F13: 4 | G13: 8 | H13: 4 | I13: 24 | J13: 5 | K13: 3 | L13: 0 | M13: =MOD(SUM(K13),60) -> 3 | N13: =B13+C13+D13+E13+F13+G13+H13+I13+J13+L13 -> 120 | O13: July
A14: أغسطس | B14: 10 | C14: 5 | D14: 60 | E14: 0 | F14: 4 | G14: 8 | H14: 4 | I14: 24 | J14: 5 | K14: 19 | L14: 0 | M14: =MOD(SUM(K14),60) -> 19 | N14: =B14+C14+D14+E14+F14+G14+H14+I14+J14+L14 -> 120 | O14: August
A15: سبتمبر | B15: 10 | C15: 5 | D15: 60 | E15: 1 | F15: 4 | G15: 8 | H15: 4 | I15: 16 | J15: 7 | K15: 0 | L15: 0 | M15: =MOD(SUM(K15),60) -> 0 | N15: =B15+C15+D15+E15+F15+G15+H15+I15+J15+L15 -> 115 | O15: September
A16: أكتوبر | B16: 10 | C16: 5 | D16: 60 | E16: 1 | F16: 4 | G16: 8 | H16: 4 | I16: 16 | J16: 7 | K16: 1 | L16: 3 | M16: =MOD(SUM(K16),60) -> 1 | N16: =B16+C16+D16+E16+F16+G16+H16+I16+J16+L16 -> 118 | O16: October
A17: نوفمبر | B17: 10 | C17: 5 | D17: 60 | E17: 1 | F17: 4 | G17: 8 | H17: 4 | I17: 16 | J17: 7 | K17: 1 | L17: 4 | M17: =MOD(SUM(K17),60) -> 1 | N17: =B17+C17+D17+E17+F17+G17+H17+I17+J17+L17 -> 119 | O17: November
A18: ديسمبر | B18: 10 | C18: 5 | D18: 60 | E18: 1 | F18: 4 | G18: 8 | H18: 4 | I18: 16 | J18: 7 | K18: 3 | L18: 4 | M18: =MOD(SUM(K18),60) -> 3 | N18: =B18+C18+D18+E18+F18+G18+H18+I18+J18+L18 -> 119 | O18: December
A19: المجموع | B19: =SUM(B7:B18) -> 131 | C19: =SUM(C7:C18) -> 60 | D19: =SUM(D7:D18) -> 720 | E19: =SUM(E7:E18) -> 4 | F19: =SUM(F7:F18) -> 48 | G19: =SUM(G7:G18) -> 96 | H19: =SUM(H7:H18) -> 48 | I19: =SUM(I7:I18) -> 200 | J19: =SUM(J7:J18) -> 86 | K19: =MOD(SUM(K7:K18),60) -> 56 | L19: =SUM(L7:L18)+QUOTIENT(SUM(K7:K18),60) -> 11 | M19: =MOD(SUM(M7:M18),60) -> 56 | N19: =SUM(N7:N18)+QUOTIENT(SUM(M7:M18),60) -> 1404 | O19: Total

Sheet 166
A1: التوزيع الشهري لساعات البث للبرنامج العام من إذاعتي القرآن الكريم حسب نوع البرامج والشهر
A2: MONTHLY DISTRIBUTION OF LIVE BROADCAST HOURS OF THE GENERAL PROGRAM OF HOLY QURAN RADIO BY TYPE OF PROGRAMS AND MONTH
A3: 2024
A4: جدول رقم (166) | J4: Table No. (166)
A5: نوع البرامج الشهر | B5: إذاعة القرآن الكريم 103.4 Holy Quran Radio103.4 | I5: إذاعة القرآن الكريم 106 Holy Quran Radio106 | J5: Type of Programs Month
B6: الدينية Religious | C6: الترفيهية Recreational | D6: الاجتماعية Social | E6: الوثائقية Documentary | F6: التعليمية Educational | G6: الإعلانات Advertising | H6: المجموع Total | I6: الدينية Religious
B7: ساعة Hours | C7: ساعة Hours | D7: ساعة Hours | E7: ساعة Hours | F7: ساعة Hours | G7: ساعة Hours | H7: ساعة Hours | I7: ساعات
A8: يناير | B8: 704 | C8: 0 | D8: 16 | E8: 0 | F8: 23 | G8: 3 | H8: =SUM(B8+C8+D8+E8+F8+G8) -> 746 | I8: 744 | J8: January
A9: فبراير | B9: 657 | C9: 0 | D9: 15 | E9: 0 | F9: 23 | G9: 3 | H9: =SUM(B9+C9+D9+E9+F9+G9) -> 698 | I9: 696 | J9: February
A10: مارس | B10: 704 | C10: 0 | D10: 30 | E10: 0 | F10: 22 | G10: 3 | H10: =SUM(B10+C10+D10+E10+F10+G10) -> 759 | I10: 744 | J10: March
A11: أبريل | B11: 681 | C11: 0 | D11: 15 | E11: 0 | F11: 22 | G11: 3 | H11: =SUM(B11+C11+D11+E11+F11+G11) -> 721 | I11: 720 | J11: April
A12: مايو | B12: 404 | C12: 0 | D12: 16 | E12: 0 | F12: 23 | G12: 3 | H12: =SUM(B12+C12+D12+E12+F12+G12) -> 446 | I12: 744 | J12: May
A13: يونيو | B13: 681 | C13: 0 | D13: 15 | E13: 0 | F13: 22 | G13: 3 | H13: =SUM(B13+C13+D13+E13+F13+G13) -> 721 | I13: 720 | J13: June
A14: يوليو | B14: 704 | C14: 0 | D14: 16 | E14: 0 | F14: 23 | G14: 3 | H14: =SUM(B14+C14+D14+E14+F14+G14) -> 746 | I14: 744 | J14: July
A15: أغسطس | B15: 704 | C15: 0 | D15: 16 | E15: 0 | F15: 23 | G15: 3 | H15: =SUM(B15+C15+D15+E15+F15+G15) -> 746 | I15: 744 | J15: August
A16: سبتمبر | B16: 681 | C16: 0 | D16: 15 | E16: 0 | F16: 22 | G16: 3 | H16: =SUM(B16+C16+D16+E16+F16+G16) -> 721 | I16: 720 | J16: September
A17: أكتوبر | B17: 704 | C17: 0 | D17: 16 | E17: 0 | F17: 23 | G17: 3 | H17: =SUM(B17+C17+D17+E17+F17+G17) -> 746 | I17: 744 | J17: October
A18: نوفمبر | B18: 681 | C18: 0 | D18: 15 | E18: 0 | F18: 22 | G18: 3 | H18: =SUM(B18+C18+D18+E18+F18+G18) -> 721 | I18: 720 | J18: November
A19: ديسمبر | B19: 704 | C19: 0 | D19: 16 | E19: 0 | F19: 23 | G19: 3 | H19: =SUM(B19+C19+D19+E19+F19+G19) -> 746 | I19: 744 | J19: December
A20: المجموع | B20: =SUM(B8:B19) -> 8009 | C20: =SUM(C8:C19) -> 0 | D20: =SUM(D8:D19) -> 201 | E20: =SUM(E8:E19) -> 0 | F20: =SUM(F8:F19) -> 271 | G20: =SUM(G8:G19) -> 36 | H20: =SUM(H8:H19) -> 8517 | I20: =SUM(I8:I19) -> 8784 | J20: Total

Sheet 167
A1: التوزيع الشهري لساعات بث البرنامج العام من إذاعة صوت الخليج حسب نوع البرامج والشهر
A2: MONTHLY DISTRIBUTION OF THE GENERAL PROGRAM BROADCASTING HOURS ON SOUT ALKHALEEJ BY TYPE OF PROGRAM AND MONTH
A3: 2024
A4: جدول رقم (167) | P4: Table No. (167)
A5: نوع البرامج الشهر | B5: الدينية Religious | D5: الترفيهية Recreational | F5: الاجتماعية Social | H5: الثقافية Cultural | J5: الرياضية Sport | L5: الإعلانات Advertising | N5: المجموع Total | P5: Type of Programs Month
B6: دقيقة Mins. | C6: ساعة Hours | D6: دقيقة Mins. | E6: ساعة Hours | F6: دقيقة Mins. | G6: ساعة Hours | H6: دقيقة Mins. | I6: ساعة Hours | J6: دقيقة Mins. | K6: ساعة Hours | L6: دقيقة Mins. | M6: ساعة Hours | N6: دقيقة Mins. | O6: ساعة Hours
A7: يناير | B7: 40 | C7: 22 | D7: 40 | E7: 718 | F7: 0 | G7: 0 | H7: 0 | I7: 2 | J7: 0 | K7: 0 | L7: 40 | M7: 0 | N7: =MOD(B7+D7+F7+H7+J7+L7,60) -> 0 | O7: =SUM(C7+E7+G7+I7+K7+M7)+QUOTIENT(B7+D7+F7+H7+J7+L7,60) -> 744 | P7: January
A8: فبراير | B8: 40 | C8: 22 | D8: 50 | E8: 670 | F8: 0 | G8: 0 | H8: 0 | I8: 2 | J8: 0 | K8: 0 | L8: 30 | M8: 0 | N8: =MOD(B8+D8+F8+H8+J8+L8,60) -> 0 | O8: =SUM(C8+E8+G8+I8+K8+M8)+QUOTIENT(B8+D8+F8+H8+J8+L8,60) -> 696 | P8: February
A9: مارس | B9: 5 | C9: 387 | D9: 0 | E9: 326 | F9: 0 | G9: 0 | H9: 0 | I9: 30 | J9: 0 | K9: 0 | L9: 55 | M9: 0 | N9: =MOD(B9+D9+F9+H9+J9+L9,60) -> 0 | O9: =SUM(C9+E9+G9+I9+K9+M9)+QUOTIENT(B9+D9+F9+H9+J9+L9,60) -> 744 | P9: March
A10: أبريل | B10: 30 | C10: 188 | D10: 30 | E10: 528 | F10: 0 | G10: 0 | H10: 30 | I10: 2 | J10: 0 | K10: 0 | L10: 30 | M10: 0 | N10: =MOD(B10+D10+F10+H10+J10+L10,60) -> 0 | O10: =SUM(C10+E10+G10+I10+K10+M10)+QUOTIENT(B10+D10+F10+H10+J10+L10,60) -> 720 | P10: April
A11: مايو | B11: 40 | C11: 22 | D11: 40 | E11: 718 | F11: 0 | G11: 0 | H11: 0 | I11: 2 | J11: 0 | K11: 0 | L11: 40 | M11: 0 | N11: =MOD(B11+D11+F11+H11+J11+L11,60) -> 0 | O11: =SUM(C11+E11+G11+I11+K11+M11)+QUOTIENT(B11+D11+F11+H11+J11+L11,60) -> 744 | P11: May
A12: يونيو | B12: 40 | C12: 33 | D12: 5 | E12: 683 | F12: 0 | G12: 0 | H12: 30 | I12: 2 | J12: 0 | K12: 0 | L12: 45 | M12: 0 | N12: =MOD(B12+D12+F12+H12+J12+L12,60) -> 0 | O12: =SUM(C12+E12+G12+I12+K12+M12)+QUOTIENT(B12+D12+F12+H12+J12+L12,60) -> 720 | P12: June
A13: يوليو | B13: 40 | C13: 22 | D13: 50 | E13: 718 | F13: 0 | G13: 0 | H13: 0 | I13: 2 | J13: 0 | K13: 0 | L13: 30 | M13: 0 | N13: =MOD(B13+D13+F13+H13+J13+L13,60) -> 0 | O13: =SUM(C13+E13+G13+I13+K13+M13)+QUOTIENT(B13+D13+F13+H13+J13+L13,60) -> 744 | P13: July
A14: أغسطس | B14: 40 | C14: 22 | D14: 55 | E14: 718 | F14: 0 | G14: 0 | H14: 0 | I14: 2 | J14: 0 | K14: 0 | L14: 25 | M14: 0 | N14: =MOD(B14+D14+F14+H14+J14+L14,60) -> 0 | O14: =SUM(C14+E14+G14+I14+K14+M14)+QUOTIENT(B14+D14+F14+H14+J14+L14,60) -> 744 | P14: August
