Workbook
Name eddfg: '[1]1'!#REF!
Name eddfg: '[1]1'!#REF!
Name eddfg: '[1]1'!#REF!
Name eddfg: '[1]1'!#REF!
Name eddfg: '[1]1'!#REF!
Name eddfg: '[2]1'!#REF!
Name eddfg: '[1]1'!#REF!
Name eddfg: '[1]1'!#REF!
Name hghghfghghfghghghfghg: '[1]1'!#REF!
Name hghghfghghfghghghfghg: '[1]1'!#REF!
Name hghghfghghfghghghfghg: '[1]1'!#REF!
Name hghghfghghfghghghfghg: '[1]1'!#REF!
Name hghghfghghfghghghfghg: '[1]1'!#REF!
Name hghghfghghfghghghfghg: '[1]1'!#REF!
Name hghghfghghfghghghfghg: '[1]1'!#REF!
Name hghghfghghfghghghfghg: '[1]1'!#REF!
Name hujgukgukgugugugoutgug: '[1]1'!#REF!
Name hujgukgukgugugugoutgug: '[1]1'!#REF!
Name hujgukgukgugugugoutgug: '[1]1'!#REF!
Name hujgukgukgugugugoutgug: '[1]1'!#REF!
Name hujgukgukgugugugoutgug: '[1]1'!#REF!
Name hujgukgukgugugugoutgug: '[1]1'!#REF!
Name hujgukgukgugugugoutgug: '[1]1'!#REF!
Name OLE_LINK7: '180'!$J$37
Name sheet00: '[1]1'!#REF!
Name sheet00: '[1]1'!#REF!
Name sheet00: '[1]1'!#REF!
Name sheet00: '[1]1'!#REF!
Name sheet00: '[1]1'!#REF!
Name sheet00: '[1]1'!#REF!
Name sheet00: '[1]1'!#REF!
Name sheet00: '[1]1'!#REF!
Name sheet00: '[2]1'!#REF!
Name sheet00: '[1]1'!#REF!
Name sheet00: '[1]1'!#REF!
Name sheet000: '[1]1'!#REF!
Name sheet000: '[1]1'!#REF!
Name sheet000: '[1]1'!#REF!
Name sheet000: '[1]1'!#REF!
Name sheet000: '[1]1'!#REF!
Name sheet000: '[1]1'!#REF!
Name sheet000: '[1]1'!#REF!
Name sheet000: '[1]1'!#REF!
Name sheet000: '[2]1'!#REF!
Name sheet000: '[1]1'!#REF!
Name sheet000: '[1]1'!#REF!
Name sheet1: '[1]1'!#REF!
Name sheet1: '[1]1'!#REF!
Name sheet1: '[1]1'!#REF!
Name sheet1: '[1]1'!#REF!
Name sheet1: '[1]1'!#REF!
Name sheet1: '[1]1'!#REF!
Name sheet1: '[1]1'!#REF!
Name sheet1: '[1]1'!#REF!
Name sheet1: '[2]1'!#REF!
Name sheet1: '[1]1'!#REF!
Name sheet1.: '[1]1'!#REF!
Name sheet1.: '[1]1'!#REF!
Name sheet1.: '[1]1'!#REF!
Name sheet1.: '[1]1'!#REF!

Sheet Cover

Sheet التقديم
A5: الإعلام والثقافة والسياحة | C5: MEDIA, CULTURE AND TOURISM
A7: تلعب وسائل الإعلام والثقافة دوراً أساسياً في الارتقاء بالمستوى الحضاري للمجتمع ، من خلال تعزيز ارتباط الفرد بمجتمعه، والإسهام في تشكيل اتجاهات الرأي العام وبلورتها ، كما تسهم المؤسسات الثقافية ، مثل المسارح والمكتبات في الحفاظ على التراث الشعبي والحضاري. | C7: Media and culture play a fundamental role in raising the level of civilization in society, by strengthening the individual’s connection to his community, and contributing to shaping and crystallizing public opinion trends. Cultural institutions, such as theaters and libraries, also contribute to preserving popular and cultural heritage.
A8: هذا وتحتل السياحة مكانة مهمة في الاقتصاد الحديث إذ تعتبر صناعة متكاملة لها مكوناتها، مثل الموقع الجغرافي ، والأماكن الأثرية والشواطئ، وغيرها، إضافة إلى عوامل إنتاجها كالفنادق. | C8: Tourism occupies an important place in the modern economy as it is considered an integrated industry with its components, such as geographical location, archaeological sites, beaches, and others, in addition to its production factors such as hotels.
A9: ويضم الفصل مجموعة من الجداول الأساسية التي تعكس النشاط الإعلامي والإذاعة والصحافة والمكتبات والكتب المستعارة ,وزوار الأماكن السياحية والفعاليات الثقافية .. إلخ . كذلك عدد المساجد وأنواعها بدولة قطر . | C9: The chapter includes a set of basic tables that reflect media activity, radio, the press, libraries, borrowed books, visitors to tourist sites, cultural events, etc., as well as the number and types of mosques in the State of Qatar..
A10: المصادر: | C10: Sources:
A11: * وزارة الثقافة. | C11: * Ministry of Culture.
A12: * وزارة البلدية. | C12: * Ministry of Municipality .
A13: * وزارة البيئة والتغيير المناخي . | C13: * Ministry of Climate Change and Environment .
A14: *مركز زوار ميناء حمد . | C14: * Hamad Port Visitor Center.
A15: * وزارة الأوقاف والشؤون الإسلامية. | C15: * Ministry of Endowments and Islamic Affairs
A16: * قطر للسياحة | C16: * Qatar Tourism.
A17: * متاحف قطر. | C17: * Qatar Museums.
... A27: * شركة الريان للإعلام والتسويق. | C27: * Al Rayyan for Media & Marketing Co.

Sheet 150
A1: دور السينما والأفلام المعروضة
A2: MOVIE HOUSES AND FILMS PRESENTED
A3: 2020 - 2024
A4: جدول رقم (150) | G4: Table No. (150)
A5: السنة البيان | B5: 2020 | C5: 2021 | D5: 2022 | E5: 2023 | G5: Year Item | P5: 167 | S5: 156
F6: 2024 | P6: 38210 | S6: 38994
P7: 3539394 | S7: 3001913
A8: عدد دور السينما | B8: 175 | C8: 161 | D8: 163 | E8: 167 | F8: 156 | G8: Number of movie houses | P8: 5507 | S8: 5854
A9: عدد المقاعد | B9: 26301 | C9: 20615 | D9: 44006 | E9: 38210 | F9: 38994 | G9: Number of seats | P9: 571 | S9: 518
A10: الرواد (بالألف) (1) | B10: 580 | C10: 1910 | D10: 3035 | E10: 3539 | F10: 3002 | G10: Audiences (000)(1) | P10: 4926 | S10: 5363
A11: الافلام المعروضة | B11: =SUM(B12:B13) -> 1615 | C11: =SUM(C12:C13) -> 4048 | D11: =SUM(D12:D13) -> 4421 | E11: =SUM(E12:E13) -> 5497 | F11: =F12+F13 -> 5881 | G11: Films presented
A12: عربية | B12: 159 | C12: 369 | D12: 413 | E12: 571 | F12: 518 | G12: Arabic
A13: أجنبية | B13: 1456 | C13: 3679 | D13: 4008 | E13: 4926 | F13: 5363 | G13: Foreign
A14: (1) تم تحديث عدد الرواد (بالألف) لعام 2021 من المصدر | D14: (1)The number of Audiences (000) was updated from the source
B20: =B5 -> 2020 | C20: =C5 -> 2021 | D20: =D5 -> 2022 | E20: =E5 -> 2023 | F20: 2024
A21: أفلام عربية Arabic Films | B21: =B12 -> 159 | C21: =C12 -> 369 | D21: =D12 -> 413 | E21: =E12 -> 571 | F21: 518
A22: أفلام أجنبية Foreign Films | B22: =B13 -> 1456 | C22: =C13 -> 3679 | D22: =D13 -> 4008 | E22: =E13 -> 4926 | F22: 5363

Sheet 151
A1: الصحف والمجلات الصادرة في دولة قطر 2007-2011
A2: NEWSPAPERS AND MAGAZINES ISSUED IN THE STATE OF QATAR
A3: 2020 - 2024
A4: جدول رقم (151) | I4: Table No. (151)
A5: السنة الصحف والمجلات | C5: 2020 | D5: 2021 | E5: 2022 | F5: 2023 | G5: 2024 | H5: Year Newspapers & Magazines
A6: الصحــــــف | B6: يومية | C6: 8 | D6: 8 | E6: 9 | F6: 10 | G6: 10 | H6: Daily | I6: Newspapers
B7: أسبوعية* | C7: 0 | D7: 0 | E7: 0 | F7: 0 | G7: 0 | H7: Weekly*
B8: المجموع | C8: =C6+C7 -> 8 | D8: =D6+D7 -> 8 | E8: =E6+E7 -> 9 | F8: =F6+F7 -> 10 | G8: =SUM(G6:G7) -> 10 | H8: Total
A9: المجـــــــلات | B9: أسبوعية* | C9: 0 | D9: 0 | E9: 0 | F9: 0 | G9: 0 | H9: Weekly* | I9: Magazines
B10: شهرية | C10: 5 | D10: 3 | E10: 4 | F10: 5 | G10: 5 | H10: Monthly
B11: المجموع | C11: =C9+C10 -> 5 | D11: =D9+D10 -> 3 | E11: =E9+E10 -> 4 | F11: =F9+F10 -> 5 | G11: =G9+G10 -> 5 | H11: Total
A12: * تم اعتماد طريقة النشر الإلكتروني. | E12: *The online publishing method has been approved.
E18: .

Sheet 152
A1: العاملون بالصحف والمجلات حسب الجنسية والنوع
A2: EMPLOYEES IN JOURNAL AND MAGAZINES BY NATIONALITY & GENDER
A3: 2020 - 2024
A4: جدول رقم (152) | K4: Table No. (152)
A5: الجنسية والنوع السنة | B5: قطريون | E5: غير قطريين | H5: المجموع | K5: Nationality & Gender Years
B6: Qataris | E6: Non-Qataris | H6: Total
B7: ذكور Males | C7: إناث Females | D7: المجموع Total | E7: ذكور Males | F7: إناث Females | G7: المجموع Total | H7: ذكور Males | I7: إناث Females | J7: المجموع Total
A9: 2020 | B9: 28 | C9: 4 | D9: =SUM(B9:C9) -> 32 | E9: 575 | F9: 48 | G9: =SUM(E9:F9) -> 623 | H9: =B9+E9 -> 603 | I9: =C9+F9 -> 52 | J9: =SUM(H9:I9) -> 655 | K9: 2020
A10: 2021 | B10: 23 | C10: 0 | D10: =SUM(B10:C10) -> 23 | E10: 299 | F10: 38 | G10: =SUM(E10:F10) -> 337 | H10: =B10+E10 -> 322 | I10: =C10+F10 -> 38 | J10: =SUM(H10:I10) -> 360 | K10: 2021
A11: 2022 | B11: 29 | C11: 2 | D11: =SUM(B11:C11) -> 31 | E11: 263 | F11: 27 | G11: =SUM(E11:F11) -> 290 | H11: =B11+E11 -> 292 | I11: =C11+F11 -> 29 | J11: =SUM(H11:I11) -> 321 | K11: 2022
A12: 2023 | B12: 24 | C12: 2 | D12: =SUM(B12:C12) -> 26 | E12: 257 | F12: 29 | G12: =SUM(E12:F12) -> 286 | H12: =B12+E12 -> 281 | I12: =C12+F12 -> 31 | J12: =SUM(H12:I12) -> 312 | K12: 2023
A13: 2024 | B13: 26 | C13: 2 | D13: =SUM(B13:C13) -> 28 | E13: 247 | F13: 30 | G13: =SUM(E13:F13) -> 277 | H13: =B13+E13 -> 273 | I13: =C13+F13 -> 32 | J13: =SUM(H13:I13) -> 305 | K13: 2024

Sheet 153
A1: العاملون بالصحف والمجلات حسب الجنسية والنوع والمهنة
A2: EMPLOYEES IN JOURNAL AND MAGAZINES BY NATIONALITY, GENDER AND OCCUPATION
A3: 2024
A4: جدول رقم (153) | K4: Table No. (153)
A5: الجنسية والنوع المهنة | B5: قطريون | E5: غير قطريين | H5: المجموع | K5: Nationality & Gender Occupation
B6: Qataris | E6: Non-Qataris | H6: Total
B7: ذكور Males | C7: إناث Females | D7: المجموع Total | E7: ذكور Males | F7: إناث Females | G7: المجموع Total | H7: ذكور Males | I7: إناث Females | J7: المجموع Total
A9: رئيس مجلس الادارة | B9: =[3]الشرق!B10+[3]الراية!B10+[3]العرب!B10+'[3]الوطن وقطر تربيون'!B10+[3]gulftime!B10+[3]البنسويلا!B10 -> 3 | C9: =[3]الشرق!C10+[3]الراية!C10+[3]العرب!C10+'[3]الوطن وقطر تربيون'!C10+[3]gulftime!C10+[3]البنسويلا!C10 -> 0 | D9: =SUM(B9:C9) -> 3 | E9: =[3]الشرق!E10+[3]الراية!E10+[3]العرب!E10+'[3]الوطن وقطر تربيون'!E10+[3]gulftime!E10+[3]البنسويلا!E10 -> 0 | F9: =[3]الشرق!F10+[3]الراية!F10+[3]العرب!F10+'[3]الوطن وقطر تربيون'!F10+[3]gulftime!F10+[3]البنسويلا!F10 -> 0 | G9: =SUM(E9:F9) -> 0 | H9: =SUM(B9,E9) -> 3 | I9: =SUM(C9,F9) -> 0 | J9: =SUM(H9:I9) -> 3 | K9: Chairman of The board
A10: العضو المنتدب | B10: ='[3]الوطن وقطر تربيون'!B11 -> 1 | C10: ='[3]الوطن وقطر تربيون'!C11 -> 0 | D10: =SUM(B10:C10) -> 1 | E10: ='[3]الوطن وقطر تربيون'!E11 -> 0 | F10: ='[3]الوطن وقطر تربيون'!F11 -> 0 | G10: =E10+F10 -> 0 | H10: =SUM(B10,E10) -> 1 | I10: =SUM(C10,F10) -> 0 | J10: =SUM(H10:I10) -> 1 | K10: Managing Director
A11: عضو مجلس الادارة المدير العام | B11: =[3]الشرق!B11+[3]الراية!B11+[3]العرب!B11+'[3]الوطن وقطر تربيون'!B12+[3]gulftime!B11+[3]البنسويلا!B11 -> 2 | C11: =[3]الشرق!C11+[3]الراية!C11+[3]العرب!C11+'[3]الوطن وقطر تربيون'!C12+[3]gulftime!C11+[3]البنسويلا!C11 -> 0 | D11: =SUM(B11:C11) -> 2 | E11: =[3]الشرق!E11+[3]الراية!E11+[3]العرب!E11+'[3]الوطن وقطر تربيون'!E12+[3]gulftime!E11+[3]البنسويلا!E11 -> 0 | F11: =[3]الشرق!F11+[3]الراية!F11+[3]العرب!F11+'[3]الوطن وقطر تربيون'!F12+[3]gulftime!F11+[3]البنسويلا!F11 -> 0 | G11: =E11+F11 -> 0 | H11: =SUM(B11,E11) -> 2 | I11: =SUM(C11,F11) -> 0 | J11: =SUM(H11:I11) -> 2 | K11: M.O.B. General Manager
A12: الرئيس التنفيذي | B12: ='[3]الوطن وقطر تربيون'!B13 -> 1 | C12: ='[3]الوطن وقطر تربيون'!C13 -> 0 | D12: =SUM(B12:C12) -> 1 | E12: ='[3]الوطن وقطر تربيون'!E13 -> 0 | F12: ='[3]الوطن وقطر تربيون'!F13 -> 0 | G12: =E12+F12 -> 0 | H12: =SUM(B12,E12) -> 1 | I12: =SUM(C12,F12) -> 0 | J12: =SUM(H12:I12) -> 1 | K12: Chief Executive Officer
A13: رئيس التحرير | B13: =[3]الشرق!B13+[3]الراية!B13+[3]العرب!B13+'[3]الوطن وقطر تربيون'!B15+[3]gulftime!B13+[3]البنسويلا!B13 -> 7 | C13: =[3]الشرق!C13+[3]الراية!C13+[3]العرب!C13+'[3]الوطن وقطر تربيون'!C15+[3]gulftime!C13+[3]البنسويلا!C13 -> 0 | D13: =SUM(B13:C13) -> 7 | E13: =[3]الشرق!E13+[3]الراية!E13+[3]العرب!E13+'[3]الوطن وقطر تربيون'!E15+[3]gulftime!E13+[3]البنسويلا!E13 -> 0 | F13: =[3]الشرق!F13+[3]الراية!F13+[3]العرب!F13+'[3]الوطن وقطر تربيون'!F15+[3]gulftime!F13+[3]البنسويلا!F13 -> 0 | G13: =E13+F13 -> 0 | H13: =SUM(B13,E13) -> 7 | I13: =SUM(C13,F13) -> 0 | J13: =SUM(H13:I13) -> 7 | K13: Editor in Chief
A14: نائب رئيس التحرير | B14: =[3]الشرق!B14+[3]الراية!B14+[3]العرب!B14+'[3]الوطن وقطر تربيون'!B16+[3]gulftime!B14+[3]البنسويلا!B14 -> 2 | C14: =[3]الشرق!C14+[3]الراية!C14+[3]العرب!C14+'[3]الوطن وقطر تربيون'!C16+[3]gulftime!C14+[3]البنسويلا!C14 -> 0 | D14: =SUM(B14:C14) -> 2 | E14: =[3]الشرق!E14+[3]الراية!E14+[3]العرب!E14+'[3]الوطن وقطر تربيون'!E16+[3]gulftime!E14+[3]البنسويلا!E14 -> 0 | F14: =[3]الشرق!F14+[3]الراية!F14+[3]العرب!F14+'[3]الوطن وقطر تربيون'!F16+[3]gulftime!F14+[3]البنسويلا!F14 -> 0 | G14: =E14+F14 -> 0 | H14: =SUM(B14,E14) -> 2 | I14: =SUM(C14,F14) -> 0 | J14: =SUM(H14:I14) -> 2 | K14: Vice Chief
A15: مساعد رئيس التحرير | B15: =[3]الشرق!B15+[3]الراية!B15+[3]العرب!B15+'[3]الوطن وقطر تربيون'!B17+[3]gulftime!B15+[3]البنسويلا!B15 -> 1 | C15: =[3]الشرق!C15+[3]الراية!C15+[3]العرب!C15+'[3]الوطن وقطر تربيون'!C17+[3]gulftime!C15+[3]البنسويلا!C15 -> 0 | D15: =SUM(B15:C15) -> 1 | E15: =[3]الشرق!E15+[3]الراية!E15+[3]العرب!E15+'[3]الوطن وقطر تربيون'!E17+[3]gulftime!E15+[3]البنسويلا!E15 -> 0 | F15: =[3]الشرق!F15+[3]الراية!F15+[3]العرب!F15+'[3]الوطن وقطر تربيون'!F17+[3]gulftime!F15+[3]البنسويلا!F15 -> 0 | G15: =E15+F15 -> 0 | H15: =SUM(B15,E15) -> 1 | I15: =SUM(C15,F15) -> 0 | J15: =SUM(H15:I15) -> 1 | K15: Chairman of the Board
A16: مدير التحرير | B16: =[3]الشرق!B16+[3]الراية!B16+[3]العرب!B16+'[3]الوطن وقطر تربيون'!B18+[3]gulftime!B16+[3]البنسويلا!B16 -> 4 | C16: =[3]الشرق!C16+[3]الراية!C16+[3]العرب!C16+'[3]الوطن وقطر تربيون'!C18+[3]gulftime!C16+[3]البنسويلا!C16 -> 0 | D16: =SUM(B16:C16) -> 4 | E16: =[3]الشرق!E16+[3]الراية!E16+[3]العرب!E16+'[3]الوطن وقطر تربيون'!E18+[3]gulftime!E16+[3]البنسويلا!E16 -> 4 | F16: =[3]الشرق!F16+[3]الراية!F16+[3]العرب!F16+'[3]الوطن وقطر تربيون'!F18+[3]gulftime!F16+[3]البنسويلا!F16 -> 0 | G16: =E16+F16 -> 4 | H16: =SUM(B16,E16) -> 8 | I16: =SUM(C16,F16) -> 0 | J16: =SUM(H16:I16) -> 8 | K16: Chairman of Thr board
A17: نائب مدير التحرير | B17: =[3]الشرق!B17+[3]الراية!B17+[3]العرب!B17+'[3]الوطن وقطر تربيون'!B19+[3]gulftime!B17+[3]البنسويلا!B17 -> 0 | C17: =[3]الشرق!C17+[3]الراية!C17+[3]العرب!C17+'[3]الوطن وقطر تربيون'!C19+[3]gulftime!C17+[3]البنسويلا!C17 -> 0 | D17: =SUM(B17:C17) -> 0 | E17: =[3]الشرق!E17+[3]الراية!E17+[3]العرب!E17+'[3]الوطن وقطر تربيون'!E19+[3]gulftime!E17+[3]البنسويلا!E17 -> 1 | F17: =[3]الشرق!F17+[3]الراية!F17+[3]العرب!F17+'[3]الوطن وقطر تربيون'!F19+[3]gulftime!F17+[3]البنسويلا!F17 -> 0 | G17: =E17+F17 -> 1 | H17: =SUM(B17,E17) -> 1 | I17: =SUM(C17,F17) -> 0 | J17: =SUM(H17:I17) -> 1 | K17: Vice Chairman
A18: نائب رئيس قسم | B18: =[3]الشرق!B18 -> 0 | C18: =[3]الشرق!C18 -> 1 | D18: =SUM(B18:C18) -> 1 | E18: =[3]الشرق!E18 -> 2 | F18: =[3]الشرق!F18 -> 0 | G18: =E18+F18 -> 2 | H18: =SUM(B18,E18) -> 2 | I18: =SUM(C18,F18) -> 1 | J18: =SUM(H18:I18) -> 3 | K18: Deputy Head of Department
A19: سكرتير التحرير | B19: =[3]الشرق!B19+[3]الراية!B18+[3]العرب!B18+'[3]الوطن وقطر تربيون'!B20+[3]gulftime!B18+[3]البنسويلا!B18 -> 0 | C19: =[3]الشرق!C19+[3]الراية!C18+[3]العرب!C18+'[3]الوطن وقطر تربيون'!C20+[3]gulftime!C18+[3]البنسويلا!C18 -> 0 | D19: =SUM(B19:C19) -> 0 | E19: =[3]الشرق!E19+[3]الراية!E18+[3]العرب!E18+'[3]الوطن وقطر تربيون'!E20+[3]gulftime!E18+[3]البنسويلا!E18 -> 4 | F19: =[3]الشرق!F19+[3]الراية!F18+[3]العرب!F18+'[3]الوطن وقطر تربيون'!F20+[3]gulftime!F18+[3]البنسويلا!F18 -> 0 | G19: =E19+F19 -> 4 | H19: =SUM(B19,E19) -> 4 | I19: =SUM(C19,F19) -> 0 | J19: =SUM(H19:I19) -> 4 | K19: Secretary editor
A20: محرر | B20: =[3]الشرق!B20+[3]الراية!B19+[3]العرب!B19+'[3]الوطن وقطر تربيون'!B21+[3]gulftime!B19+[3]البنسويلا!B19 -> 1 | C20: =[3]الشرق!C20+[3]الراية!C19+[3]العرب!C19+'[3]الوطن وقطر تربيون'!C21+[3]gulftime!C19+[3]البنسويلا!C19 -> 1 | D20: =SUM(B20:C20) -> 2 | E20: =[3]الشرق!E20+[3]الراية!E19+[3]العرب!E19+'[3]الوطن وقطر تربيون'!E21+[3]gulftime!E19+[3]البنسويلا!E19 -> 84 | F20: =[3]الشرق!F20+[3]الراية!F19+[3]العرب!F19+'[3]الوطن وقطر تربيون'!F21+[3]gulftime!F19+[3]البنسويلا!F19 -> 10 | G20: =E20+F20 -> 94 | H20: =SUM(B20,E20) -> 85 | I20: =SUM(C20,F20) -> 11 | J20: =SUM(H20:I20) -> 96 | K20: Editor Reporter
A21: مراسل | B21: =[3]الشرق!B21+[3]الراية!B20+[3]العرب!B20+'[3]الوطن وقطر تربيون'!B22+[3]gulftime!B20+[3]البنسويلا!B20 -> 0 | C21: =[3]الشرق!C21+[3]الراية!C20+[3]العرب!C20+'[3]الوطن وقطر تربيون'!C22+[3]gulftime!C20+[3]البنسويلا!C20 -> 0 | D21: =SUM(B21:C21) -> 0 | E21: =[3]الشرق!E21+[3]الراية!E20+[3]العرب!E20+'[3]الوطن وقطر تربيون'!E22+[3]gulftime!E20+[3]البنسويلا!E20 -> 16 | F21: =[3]الشرق!F21+[3]الراية!F20+[3]العرب!F20+'[3]الوطن وقطر تربيون'!F22+[3]gulftime!F20+[3]البنسويلا!F20 -> 4 | G21: =E21+F21 -> 20 | H21: =SUM(B21,E21) -> 16 | I21: =SUM(C21,F21) -> 4 | J21: =SUM(H21:I21) -> 20 | K21: Corespondent
A22: مخرج | B22: =[3]الشرق!B22+[3]الراية!B21+[3]العرب!B21+'[3]الوطن وقطر تربيون'!B23+[3]gulftime!B21+[3]البنسويلا!B21 -> 0 | C22: =[3]الشرق!C22+[3]الراية!C21+[3]العرب!C21+'[3]الوطن وقطر تربيون'!C23+[3]gulftime!C21+[3]البنسويلا!C21 -> 0 | D22: =SUM(B22:C22) -> 0 | E22: =[3]الشرق!E22+[3]الراية!E21+[3]العرب!E21+'[3]الوطن وقطر تربيون'!E23+[3]gulftime!E21+[3]البنسويلا!E21 -> 21 | F22: =[3]الشرق!F22+[3]الراية!F21+[3]العرب!F21+'[3]الوطن وقطر تربيون'!F23+[3]gulftime!F21+[3]البنسويلا!F21 -> 0 | G22: =E22+F22 -> 21 | H22: =SUM(B22,E22) -> 21 | I22: =SUM(C22,F22) -> 0 | J22: =SUM(H22:I22) -> 21 | K22: Director
A23: مونتاج | B23: =[3]الشرق!B23+[3]الراية!B22+[3]العرب!B22+'[3]الوطن وقطر تربيون'!B24+[3]gulftime!B22+[3]البنسويلا!B22 -> 0 | C23: =[3]الشرق!C23+[3]الراية!C22+[3]العرب!C22+'[3]الوطن وقطر تربيون'!C24+[3]gulftime!C22+[3]البنسويلا!C22 -> 0 | D23: =SUM(B23:C23) -> 0 | E23: =[3]الشرق!E23+[3]الراية!E22+[3]العرب!E22+'[3]الوطن وقطر تربيون'!E24+[3]gulftime!E22+[3]البنسويلا!E22 -> 4 | F23: =[3]الشرق!F23+[3]الراية!F22+[3]العرب!F22+'[3]الوطن وقطر تربيون'!F24+[3]gulftime!F22+[3]البنسويلا!F22 -> 2 | G23: =E23+F23 -> 6 | H23: =SUM(B23,E23) -> 4 | I23: =SUM(C23,F23) -> 2 | J23: =SUM(H23:I23) -> 6 | K23: Productor
A24: مصحح | B24: =[3]الشرق!B24+[3]الراية!B23+[3]العرب!B23+'[3]الوطن وقطر تربيون'!B25+[3]gulftime!B23+[3]البنسويلا!B23 -> 0 | C24: =[3]الشرق!C24+[3]الراية!C23+[3]العرب!C23+'[3]الوطن وقطر تربيون'!C25+[3]gulftime!C23+[3]البنسويلا!C23 -> 0 | D24: =SUM(B24:C24) -> 0 | E24: =[3]الشرق!E24+[3]الراية!E23+[3]العرب!E23+'[3]الوطن وقطر تربيون'!E25+[3]gulftime!E23+[3]البنسويلا!E23 -> 15 | F24: =[3]الشرق!F24+[3]الراية!F23+[3]العرب!F23+'[3]الوطن وقطر تربيون'!F25+[3]gulftime!F23+[3]البنسويلا!F23 -> 0 | G24: =E24+F24 -> 15 | H24: =SUM(B24,E24) -> 15 | I24: =SUM(C24,F24) -> 0 | J24: =SUM(H24:I24) -> 15 | K24: Corrector
A25: مترجم | B25: =[3]الشرق!B25+[3]الراية!B24+[3]العرب!B24+'[3]الوطن وقطر تربيون'!B26+[3]gulftime!B24+[3]البنسويلا!B24 -> 0 | C25: =[3]الشرق!C25+[3]الراية!C24+[3]العرب!C24+'[3]الوطن وقطر تربيون'!C26+[3]gulftime!C24+[3]البنسويلا!C24 -> 0 | D25: =SUM(B25:C25) -> 0 | E25: =[3]الشرق!E25+[3]الراية!E24+[3]العرب!E24+'[3]الوطن وقطر تربيون'!E26+[3]gulftime!E24+[3]البنسويلا!E24 -> 5 | F25: =[3]الشرق!F25+[3]الراية!F24+[3]العرب!F24+'[3]الوطن وقطر تربيون'!F26+[3]gulftime!F24+[3]البنسويلا!F24 -> 0 | G25: =E25+F25 -> 5 | H25: =SUM(B25,E25) -> 5 | I25: =SUM(C25,F25) -> 0 | J25: =SUM(H25:I25) -> 5 | K25: Translator
A26: مصور صحفي | B26: =[3]الشرق!B26+[3]الراية!B25+[3]العرب!B25+'[3]الوطن وقطر تربيون'!B27+[3]gulftime!B25+[3]البنسويلا!B25 -> 1 | C26: =[3]الشرق!C26+[3]الراية!C25+[3]العرب!C25+'[3]الوطن وقطر تربيون'!C27+[3]gulftime!C25+[3]البنسويلا!C25 -> 0 | D26: =SUM(B26:C26) -> 1 | E26: =[3]الشرق!E26+[3]الراية!E25+[3]العرب!E25+'[3]الوطن وقطر تربيون'!E27+[3]gulftime!E25+[3]البنسويلا!E25 -> 14 | F26: =[3]الشرق!F26+[3]الراية!F25+[3]العرب!F25+'[3]الوطن وقطر تربيون'!F27+[3]gulftime!F25+[3]البنسويلا!F25 -> 0 | G26: =E26+F26 -> 14 | H26: =SUM(B26,E26) -> 15 | I26: =SUM(C26,F26) -> 0 | J26: =SUM(H26:I26) -> 15 | K26: Photographer
A27: تسويق | B27: =[3]الشرق!B27+[3]الراية!B26+[3]العرب!B26+'[3]الوطن وقطر تربيون'!B28+[3]gulftime!B26+[3]البنسويلا!B26 -> 0 | C27: =[3]الشرق!C27+[3]الراية!C26+[3]العرب!C26+'[3]الوطن وقطر تربيون'!C28+[3]gulftime!C26+[3]البنسويلا!C26 -> 0 | D27: =SUM(B27:C27) -> 0 | E27: =[3]الشرق!E27+[3]الراية!E26+[3]العرب!E26+'[3]الوطن وقطر تربيون'!E28+[3]gulftime!E26+[3]البنسويلا!E26 -> 7 | F27: =[3]الشرق!F27+[3]الراية!F26+[3]العرب!F26+'[3]الوطن وقطر تربيون'!F28+[3]gulftime!F26+[3]البنسويلا!F26 -> 1 | G27: =E27+F27 -> 8 | H27: =SUM(B27,E27) -> 7 | I27: =SUM(C27,F27) -> 1 | J27: =SUM(H27:I27) -> 8 | K27: Marketing
A28: مصمم جرافيك | B28: =[3]الشرق!B28+[3]الراية!B27+[3]العرب!B27+'[3]الوطن وقطر تربيون'!B29+[3]gulftime!B27+[3]البنسويلا!B27 -> 0 | C28: =[3]الشرق!C28+[3]الراية!C27+[3]العرب!C27+'[3]الوطن وقطر تربيون'!C29+[3]gulftime!C27+[3]البنسويلا!C27 -> 0 | D28: =SUM(B28:C28) -> 0 | E28: =[3]الشرق!E28+[3]الراية!E27+[3]العرب!E27+'[3]الوطن وقطر تربيون'!E29+[3]gulftime!E27+[3]البنسويلا!E27 -> 6 | F28: =[3]الشرق!F28+[3]الراية!F27+[3]العرب!F27+'[3]الوطن وقطر تربيون'!F29+[3]gulftime!F27+[3]البنسويلا!F27 -> 0 | G28: =E28+F28 -> 6 | H28: =SUM(B28,E28) -> 6 | I28: =SUM(C28,F28) -> 0 | J28: =SUM(H28:I28) -> 6 | K28: Graphic Designers
A29: خطاط ورسام | B29: =[3]الشرق!B29+[3]الراية!B28+[3]العرب!B28+'[3]الوطن وقطر تربيون'!B30+[3]gulftime!B28+[3]البنسويلا!B28 -> 3 | C29: =[3]الشرق!C29+[3]الراية!C28+[3]العرب!C28+'[3]الوطن وقطر تربيون'!C30+[3]gulftime!C28+[3]البنسويلا!C28 -> 0 | D29: =SUM(B29:C29) -> 3 | E29: =[3]الشرق!E29+[3]الراية!E28+[3]العرب!E28+'[3]الوطن وقطر تربيون'!E30+[3]gulftime!E28+[3]البنسويلا!E28 -> 2 | F29: =[3]الشرق!F29+[3]الراية!F28+[3]العرب!F28+'[3]الوطن وقطر تربيون'!F30+[3]gulftime!F28+[3]البنسويلا!F28 -> 0 | G29: =E29+F29 -> 2 | H29: =SUM(B29,E29) -> 5 | I29: =SUM(C29,F29) -> 0 | J29: =SUM(H29:I29) -> 5 | K29: Draftsman
A30: فني آخر | B30: =[3]الشرق!B30+[3]الراية!B29+[3]العرب!B29+'[3]الوطن وقطر تربيون'!B31+[3]gulftime!B29+[3]البنسويلا!B29 -> 0 | C30: =[3]الشرق!C30+[3]الراية!C29+[3]العرب!C29+'[3]الوطن وقطر تربيون'!C31+[3]gulftime!C29+[3]البنسويلا!C29 -> 0 | D30: =SUM(B30:C30) -> 0 | E30: =[3]الشرق!E30+[3]الراية!E29+[3]العرب!E29+'[3]الوطن وقطر تربيون'!E31+[3]gulftime!E29+[3]البنسويلا!E29 -> 8 | F30: =[3]الشرق!F30+[3]الراية!F29+[3]العرب!F29+'[3]الوطن وقطر تربيون'!F31+[3]gulftime!F29+[3]البنسويلا!F29 -> 2 | G30: =E30+F30 -> 10 | H30: =SUM(B30,E30) -> 8 | I30: =SUM(C30,F30) -> 2 | J30: =SUM(H30:I30) -> 10 | K30: Other Technician
A31: محاسب | B31: =[3]الشرق!B31+[3]الراية!B30+[3]العرب!B30+'[3]الوطن وقطر تربيون'!B32+[3]gulftime!B30+[3]البنسويلا!B30 -> 0 | C31: =[3]الشرق!C31+[3]الراية!C30+[3]العرب!C30+'[3]الوطن وقطر تربيون'!C32+[3]gulftime!C30+[3]البنسويلا!C30 -> 0 | D31: =SUM(B31:C31) -> 0 | E31: =[3]الشرق!E31+[3]الراية!E30+[3]العرب!E30+'[3]الوطن وقطر تربيون'!E32+[3]gulftime!E30+[3]البنسويلا!E30 -> 9 | F31: =[3]الشرق!F31+[3]الراية!F30+[3]العرب!F30+'[3]الوطن وقطر تربيون'!F32+[3]gulftime!F30+[3]البنسويلا!F30 -> 0 | G31: =E31+F31 -> 9 | H31: =SUM(B31,E31) -> 9 | I31: =SUM(C31,F31) -> 0 | J31: =SUM(H31:I31) -> 9 | K31: Account
A32: كاتب ارشيف | B32: =[3]الشرق!B33+[3]الراية!B32+[3]العرب!B32+'[3]الوطن وقطر تربيون'!B34+[3]gulftime!B32+[3]البنسويلا!B32 -> 0 | C32: =[3]الشرق!C33+[3]الراية!C32+[3]العرب!C32+'[3]الوطن وقطر تربيون'!C34+[3]gulftime!C32+[3]البنسويلا!C32 -> 0 | D32: =SUM(B32:C32) -> 0 | E32: =[3]الشرق!E33+[3]الراية!E32+[3]العرب!E32+'[3]الوطن وقطر تربيون'!E34+[3]gulftime!E32+[3]البنسويلا!E32 -> 6 | F32: =[3]الشرق!F33+[3]الراية!F32+[3]العرب!F32+'[3]الوطن وقطر تربيون'!F34+[3]gulftime!F32+[3]البنسويلا!F32 -> 2 | G32: =E32+F32 -> 8 | H32: =SUM(B32,E32) -> 6 | I32: =SUM(C32,F32) -> 2 | J32: =SUM(H32:I32) -> 8 | K32: Archive Clerk
A33: سكرتارية | B33: =[3]الشرق!B34+[3]الراية!B33+[3]العرب!B33+'[3]الوطن وقطر تربيون'!B35+[3]gulftime!B33+[3]البنسويلا!B33 -> 0 | C33: =[3]الشرق!C34+[3]الراية!C33+[3]العرب!C33+'[3]الوطن وقطر تربيون'!C35+[3]gulftime!C33+[3]البنسويلا!C33 -> 0 | D33: =SUM(B33:C33) -> 0 | E33: =[3]الشرق!E34+[3]الراية!E33+[3]العرب!E33+'[3]الوطن وقطر تربيون'!E35+[3]gulftime!E33+[3]البنسويلا!E33 -> 5 | F33: =[3]الشرق!F34+[3]الراية!F33+[3]العرب!F33+'[3]الوطن وقطر تربيون'!F35+[3]gulftime!F33+[3]البنسويلا!F33 -> 4 | G33: =E33+F33 -> 9 | H33: =SUM(B33,E33) -> 5 | I33: =SUM(C33,F33) -> 4 | J33: =SUM(H33:I33) -> 9 | K33: Secretary
A34: اداريون آخرون | B34: =[3]الشرق!B35+[3]الراية!B34+[3]العرب!B34+'[3]الوطن وقطر تربيون'!B36+[3]gulftime!B34+[3]البنسويلا!B34 -> 0 | C34: =[3]الشرق!C35+[3]الراية!C34+[3]العرب!C34+'[3]الوطن وقطر تربيون'!C36+[3]gulftime!C34+[3]البنسويلا!C34 -> 0 | D34: =SUM(B34:C34) -> 0 | E34: =[3]الشرق!E35+[3]الراية!E34+[3]العرب!E34+'[3]الوطن وقطر تربيون'!E36+[3]gulftime!E34+[3]البنسويلا!E34 -> 8 | F34: =[3]الشرق!F35+[3]الراية!F34+[3]العرب!F34+'[3]الوطن وقطر تربيون'!F36+[3]gulftime!F34+[3]البنسويلا!F34 -> 0 | G34: =E34+F34 -> 8 | H34: =SUM(B34,E34) -> 8 | I34: =SUM(C34,F34) -> 0 | J34: =SUM(H34:I34) -> 8 | K34: Other Administrators
A35: مندوبين | B35: =[3]الشرق!B36+[3]الراية!B35+[3]العرب!B35+'[3]الوطن وقطر تربيون'!B37+[3]gulftime!B35+[3]البنسويلا!B35 -> 0 | C35: =[3]الشرق!C36+[3]الراية!C35+[3]العرب!C35+'[3]الوطن وقطر تربيون'!C37+[3]gulftime!C35+[3]البنسويلا!C35 -> 0 | D35: =SUM(B35:C35) -> 0 | E35: =[3]الشرق!E36+[3]الراية!E35+[3]العرب!E35+'[3]الوطن وقطر تربيون'!E37+[3]gulftime!E35+[3]البنسويلا!E35 -> 6 | F35: =[3]الشرق!F36+[3]الراية!F35+[3]العرب!F35+'[3]الوطن وقطر تربيون'!F37+[3]gulftime!F35+[3]البنسويلا!F35 -> 5 | G35: =E35+F35 -> 11 | H35: =SUM(B35,E35) -> 6 | I35: =SUM(C35,F35) -> 5 | J35: =SUM(H35:I35) -> 11 | K35: Representative
A36: عمال وفراشين | B36: =[3]الشرق!B37+[3]الراية!B36+[3]العرب!B36+'[3]الوطن وقطر تربيون'!B38+[3]gulftime!B36+[3]البنسويلا!B36 -> 0 | C36: =[3]الشرق!C37+[3]الراية!C36+[3]العرب!C36+'[3]الوطن وقطر تربيون'!C38+[3]gulftime!C36+[3]البنسويلا!C36 -> 0 | D36: =SUM(B36:C36) -> 0 | E36: =[3]الشرق!E37+[3]الراية!E36+[3]العرب!E36+'[3]الوطن وقطر تربيون'!E38+[3]gulftime!E36+[3]البنسويلا!E36 -> 11 | F36: =[3]الشرق!F37+[3]الراية!F36+[3]العرب!F36+'[3]الوطن وقطر تربيون'!F38+[3]gulftime!F36+[3]البنسويلا!F36 -> 0 | G36: =E36+F36 -> 11 | H36: =SUM(B36,E36) -> 11 | I36: =SUM(C36,F36) -> 0 | J36: =SUM(H36:I36) -> 11 | K36: Workers, Office Boys
A37: سائقين | B37: =[3]الشرق!B38+[3]الراية!B37+[3]العرب!B37+'[3]الوطن وقطر تربيون'!B39+[3]gulftime!B37+[3]البنسويلا!B37 -> 0 | C37: =[3]الشرق!C38+[3]الراية!C37+[3]العرب!C37+'[3]الوطن وقطر تربيون'!C39+[3]gulftime!C37+[3]البنسويلا!C37 -> 0 | D37: =B37+C37 -> 0 | E37: =[3]الشرق!E38+[3]الراية!E37+[3]العرب!E37+'[3]الوطن وقطر تربيون'!E39+[3]gulftime!E37+[3]البنسويلا!E37 -> 9 | F37: =[3]الشرق!F38+[3]الراية!F37+[3]العرب!F37+'[3]الوطن وقطر تربيون'!F39+[3]gulftime!F37+[3]البنسويلا!F37 -> 0 | G37: =SUM(E37:F37) -> 9 | H37: =SUM(B37,E37) -> 9 | I37: =SUM(C37,F37) -> 0 | J37: =SUM(H37:I37) -> 9 | K37: Drivers
A38: المجموع | B38: =SUM(B9:B37) -> 26 | C38: =SUM(C9:C37) -> 2 | D38: =SUM(D9:D37) -> 28 | E38: =SUM(E9:E37) -> 247 | F38: =SUM(F9:F37) -> 30 | G38: =SUM(G9:G37) -> 277 | H38: =SUM(H9:H37) -> 273 | I38: =SUM(I9:I37) -> 32 | J38: =SUM(J9:J37) -> 305 | K38: Total

Sheet 154
A1: أنواع وعدد الحيوانات في حديقة الحيوان بمنتزه الخور
A2: TYPE & NUMBER OF ANIMALS AT THE ZOO IN AL-KHOR PARK
A3: 2020 - 2024
A5: جدول رقم (154) | G5: Table No. (154)
A6: البيان | D6: (1)2022 | G6: Item
B7: 2020 | C7: 2021 | E7: 2023 | F7: 2024
A9: أنواع الحيوانات والطيور | B9: 44 | C9: 52 | D9: 56 | E9: 57 | F9: 58 | G9: Type of Animals and Birds
A10: الثدييات | B10: 25 | C10: 27 | D10: 29 | E10: 30 | F10: 29 | G10: Mammals
A11: الطيور | B11: 18 | C11: 23 | D11: 23 | E11: 22 | F11: 24 | G11: Birds
A12: الزواحف | B12: 1 | C12: 2 | D12: 4 | E12: 5 | F12: 5 | G12: Reptiles
A13: عدد الحيوانات والطيور | B13: 401 | C13: 494 | D13: 445 | E13: 450 | F13: 461 | G13: No. of Animals and Birds
A14: الثدييات | B14: 177 | C14: 240 | D14: 162 | E14: 170 | F14: 173 | G14: Mammals
A15: الطيور | B15: 221 | C15: 244 | D15: 278 | E15: 273 | F15: 281 | G15: Birds
A16: الزواحف | B16: 3 | C16: 10 | D16: 5 | E16: 7 | F16: 7 | G16: Reptiles

Sheet 155
A1: زوار حديقة الحيوان بمنتزه الخور حسب الشهر
A2: VISITORS TO THE ZOO IN AL-KHOR PARK BY MONTH
A3: 2020 - 2024
A5: جدول رقم (155) | G5: Table No. (155)
A6: السنة الشهر | B6: (1)2020 | C6: 2021 | D6: (2)2022 | E6: 2023 | F6: 2024 | G6: Year Month
E7: المجموع Total | F7: المجموع Total
A8: يناير | B8: 1333 | C8: 91849 | D8: 0 | E8: 26182 | F8: 41287 | G8: January
A9: فبراير | B9: 57918 | C9: 13265 | D9: 0 | E9: 26342 | F9: 26835 | G9: February
A10: مارس | B10: 14521 | C10: 11444 | D10: 0 | E10: 26356 | F10: 12949 | G10: March
A11: أبريل | B11: 0 | C11: 2309 | D11: 0 | E11: 39234 | F11: 36053 | G11: April
A12: مايو | B12: 0 | C12: 2309 | D12: 0 | E12: 22721 | F12: 18548 | G12: May
A13: يونيو | B13: 0 | C13: 2630 | D13: 0 | E13: 14410 | F13: 8659 | G13: June
A14: يوليو | B14: 0 | C14: 5052 | D14: 0 | E14: 9481 | F14: 4245 | G14: July
A15: أغسطس | B15: 0 | C15: 3066 | D15: 0 | E15: 4398 | F15: 4073 | G15: August
A16: سبتمبر | B16: 0 | C16: 4913 | D16: 0 | E16: 5668 | F16: 6000 | G16: September
A17: أكتوبر | B17: 0 | C17: 16944 | D17: 0 | E17: 10987 | F17: 23008 | G17: October
A18: نوفمبر | B18: 0 | C18: 26561 | D18: 15479 | E18: 26543 | F18: 32830 | G18: November
A19: ديسمبر | B19: 79375 | C19: 52145 | D19: 69460 | E19: 63321 | F19: 45773 | G19: December
A20: المجموع | B20: =SUM(B8:B19) -> 153147 | C20: =SUM(C8:C19) -> 232487 | D20: =SUM(D8:D19) -> 84939 | E20: =SUM(E8:E19) -> 275643 | F20: =SUM(F8:F19) -> 260260 | G20: Total
A21: (1) تم إغلاق الحديقة في عام 2020 بسبب الإجراءات الاحترازية لجائحة (كوفيد-19). | D21: (1) The park has been closed in 2020 due to (Covid-19) precautionary measures.
A22: (2) تم اغلاق الحديقة للصيانة، تم الافتتاح 19-11-2022. | D22: (2) The park was closed for maintenance, Opened on 19-11-2022.

Sheet 156
A1: زوار حديقة بيت الباندا حسب الأشهر
A2: VISITORS OF PANDA HOUSE PARK BY MONTHS
A3: 2023-2024
A4: جدول رقم (156) | D4: Table No. (156)
A5: الأشهر | B5: 2023 | C5: 2024 | D5: Months
A6: يناير | B6: 16224 | C6: 7840 | D6: January
A7: فبراير | B7: 15445 | C7: 5676 | D7: February
A8: مارس | B8: 9927 | C8: 2370 | D8: March
A9: أبريل | B9: 14308 | C9: 5242 | D9: April
A10: مايو | B10: 8427 | C10: 3191 | D10: May
A11: يونيو | B11: 6708 | C11: 3170 | D11: June
A12: يوليو | B12: 5699 | C12: 2275 | D12: July
A13: أغسطس | B13: 3381 | C13: 3480 | D13: August
A14: سبتمبر | B14: 2692 | C14: 3619 | D14: September
A15: أكتوبر | B15: 4068 | C15: 5145 | D15: October
A16: نوفمبر | B16: 5857 | C16: 7702 | D16: November
A17: ديسمبر | B17: 10532 | C17: 10624 | D17: December
A18: المجموع | B18: =SUM(B6:B17) -> 103268 | C18: =SUM(C6:C17) -> 60334 | D18: Total
A22: *سبب الانخفاض لان العام السابق كان الافتتاح فكان الاقبال للزيارات اكبر | C22: *The reason for the decrease is that the previous year was the opening, so the number of visitors was higher.

Sheet 157
A1: زوار ميناء حمد الحوض المائي للأحياء البحرية (أكواريوم) والسينما والمتحف حسب فئات العمر والشهر
A2: VISITORS TO HAMAD PORT VISITOR CENTER AQUARIUM, CINEMA AND MUSEUM BY AGE GROUPS AND MONTH
A3: 2024
A5: جدول رقم (157) | G5: Table No. (157)
A6: الشهر | B6: فئات العمر Age groups | E6: طلاب المدارس School Students | F6: المجموع Total | G6: Month
B7: أقل من 5 سنوات Less than 5 years | C7: من 5 إلى 12 سنة From 5 to 12 years | D7: بالغين فوق ال12 سنة Adults over 12 year
A8: يناير | B8: 1231 | C8: 3380 | D8: 7097 | E8: 1188 | F8: =SUM(B8:E8) -> 12896 | G8: January
A9: فبراير | B9: 1034 | C9: 1709 | D9: 5042 | E9: 730 | F9: =SUM(B9:E9) -> 8515 | G9: February
A10: مارس | B10: 407 | C10: 597 | D10: 2298 | E10: 693 | F10: =SUM(B10:E10) -> 3995 | G10: March
A11: ابريل | B11: 978 | C11: 1825 | D11: 4916 | E11: 546 | F11: =SUM(B11:E11) -> 8265 | G11: April
A12: مايو(1) | B12: 611 | C12: 1426 | D12: 3803 | E12: 680 | F12: =SUM(B12:E12) -> 6520 | G12: May(1)
A13: يونيو | B13: 1034 | C13: 1814 | D13: 5194 | E13: 472 | F13: =SUM(B13:E13) -> 8514 | G13: June
A14: يوليو | B14: 1043 | C14: 2126 | D14: 5178 | E14: 482 | F14: =SUM(B14:E14) -> 8829 | G14: July
A15: اغسطس | B15: 1004 | C15: 2164 | D15: 5216 | E15: 427 | F15: =SUM(B15:E15) -> 8811 | G15: August
A16: سبتمبر | B16: 608 | C16: 1304 | D16: 3374 | E16: 15 | F16: =SUM(B16:E16) -> 5301 | G16: September
A17: اكتوبر | B17: 630 | C17: 1500 | D17: 3695 | E17: 888 | F17: =SUM(B17:E17) -> 6713 | G17: October
A18: نوفمبر | B18: 676 | C18: 1542 | D18: 3965 | E18: 1237 | F18: =SUM(B18:E18) -> 7420 | G18: November
A19: ديسمبر | B19: 728 | C19: 1864 | D19: 4516 | E19: 544 | F19: =SUM(B19:E19) -> 7652 | G19: December
A20: المجموع | B20: =SUM(B8:B19) -> 9984 | C20: =SUM(C8:C19) -> 21251 | D20: =SUM(D8:D19) -> 54294 | E20: =SUM(E8:E19) -> 7902 | F20: =SUM(F8:F19) -> 93431 | G20: Total

Sheet 158
A1: المكتبات العامة والكتب والدوريات المتوفرة
A2: AVAILABLE PUBLIC LIBRARIES, BOOKS AND PERIODICALS
A3: 2020 - 2024
A4: جدول رقم (158) | Q4: Table No. (158)
A5: الكتب والدوريات اسم المكتبة | B5: 2020 | E5: 2021 | H5: 2022 | K5: 2023 | N5: 2024 | Q5: Books & Periodicals Name of Library
B6: الكتب العربية | C6: الكتب الأجنبية | D6: الدوريات | E6: الكتب العربية | F6: الكتب الأجنبية | G6: الدوريات | H6: الكتب العربية | I6: الكتب الأجنبية | J6: الدوريات | K6: الكتب العربية | L6: الكتب الأجنبية | M6: الدوريات | N6: الكتب العربية | O6: الكتب الأجنبية | P6: الدوريات
B7: Arabic Books | C7: Foreign Books | D7: Periodi-cals | E7: Arabic Books | F7: Foreign Books | G7: Periodi-cals | H7: Arabic Books | I7: Foreign Books | J7: Periodi-cals | K7: Arabic Books | L7: Foreign Books | M7: Periodi-cals | N7: Arabic Books | O7: Foreign Books | P7: Periodi-cals
A8: مكتبة قطر الوطنية | B8: 282661 | C8: 651557 | D8: 190 | E8: 277033 | F8: 654620 | G8: 576 | H8: 164535 | I8: 648795 | J8: 867 | K8: 286354 | L8: 646953 | M8: 2057 | N8: 305729 | O8: 672357 | P8: 22260 | Q8: Qatar National Library
A9: دار الكتب القطرية | B9: 290971 | C9: 39850 | D9: 1390 | E9: 291482 | F9: 39766 | G9: 1390 | H9: 291598 | I9: 39882 | J9: 1390 | K9: 292375 | L9: 39882 | M9: 1390 | N9: 292834 | O9: 39950 | P9: 1390 | Q9: Dar Al-Kutub Al-Qatariyya
A10: مكتبة الخور | B10: 46098 | C10: 4251 | D10: 0 | E10: 46358 | F10: 4673 | G10: 0 | H10: 46413 | I10: 4723 | J10: 0 | K10: 46801 | L10: 4723 | M10: 0 | N10: 47876 | O10: 4757 | P10: 0 | Q10: Al-Khor Library
A11: مكتبة الشمال | B11: 41433 | C11: 2817 | D11: 0 | E11: 41673 | F11: 2824 | G11: 0 | H11: 41711 | I11: 2844 | J11: 0 | K11: 41786 | L11: 2884 | M11: 0 | N11: 41786 | O11: 2878 | P11: 0 | Q11: Al-Shamal Library
A12: مكتبة الخنساء | B12: 64322 | C12: 5802 | D12: 0 | E12: 64642 | F12: 5246 | G12: 0 | H12: 64713 | I12: 8246 | J12: 0 | K12: 65129 | L12: 5264 | M12: 0 | N12: 65408 | O12: 5298 | P12: 0 | Q12: Al-Khanssa Library
A13: مكتبة الوكرة | B13: 50231 | C13: 1728 | D13: 0 | E13: 50385 | F13: 2728 | G13: 0 | H13: 50410 | I13: 2824 | J13: 0 | K13: 50581 | L13: 2824 | M13: 0 | N13: 50604 | O13: 2858 | P13: 0 | Q13: Al-Wakrah Library
A14: مكتبه الشيخ علي آل ثاني | B14: 84000 | C14: 5620 | D14: 0 | E14: 93211 | F14: 5800 | G14: 0 | H14: 101000 | I14: 5910 | J14: 0 | K14: 102051 | L14: 8150 | M14: 0 | N14: 133580 | O14: 9650 | P14: 0 | Q14: Sheikh Ali Al-Thani Library
A15: المجموع | B15: =SUM(B8:B14) -> 859716 | C15: =SUM(C8:C14) -> 711625 | D15: =SUM(D8:D14) -> 1580 | E15: =SUM(E8:E14) -> 864784 | F15: =SUM(F8:F14) -> 715657 | G15: =SUM(G8:G14) -> 1966 | H15: =SUM(H8:H14) -> 760380 | I15: =SUM(I8:I14) -> 713224 | ... P15: =SUM(P8:P14) -> 23650 | Q15: Total

Sheet 159
A1: المكتبات العامة حسب عدد المستعيرين والكتب المستعارة وعدد العاملين
A2: PUBLIC LIBRARIES BY NUMBER OF BORROWERS, BOOKS BORROWED AND NUMBER OF EMPLOYEES
A3: 2020 - 2024
A4: جدول رقم (159) | Q4: Table No. (159)
A5: اسم المكتبة | B5: (1)2020 | E5: (1)2021 | H5: 2022 | K5: 2023 | N5: 2024 | Q5: Name of Library
B6: عدد المستعيرين | C6: الكتب المستعارة | D6: عدد العاملين | E6: عدد المستعيرين | F6: الكتب المستعارة | G6: عدد العاملين | H6: عدد المستعيرين | I6: الكتب المستعارة | J6: عدد العاملين | K6: عدد المستعيرين | L6: الكتب المستعارة | M6: عدد العاملين | N6: عدد المستعيرين | O6: الكتب المستعارة | P6: عدد العاملين
B7: No. of Borrowers | C7: Books Borrowed | D7: No. of Employees | E7: No. of Borrowers | F7: Books Borrowed | G7: No. of Employees | H7: No. of Borrowers | I7: Books Borrowed | J7: No. of Employees | K7: No. of Borrowers | L7: Books Borrowed | M7: No. of Employees | N7: No. of Borrowers | O7: Books Borrowed | P7: No. of Employees
A8: مكتبة قطر الوطنية | B8: 29281 | C8: 203435 | D8: 172 | E8: 19004 | F8: 136477 | G8: 172 | H8: 30018 | I8: 507098 | J8: 170 | K8: 36662 | L8: 468653 | M8: 184 | N8: 39174 | O8: 403615 | P8: 169 | Q8: Qatar National Library
A9: دار الكتب القطرية(2) | B9: 90 | C9: 103 | D9: 73 | E9: 0 | F9: 0 | G9: 77 | H9: 0 | I9: 0 | J9: 0 | K9: 11 | L9: 45 | M9: 63 | N9: 20 | O9: 53 | P9: 63 | Q9: Dar Al-Kutub Al-Qatariyya(2)
A10: مكتبة الخور | B10: 77 | C10: 125 | D10: 13 | E10: 44 | F10: 59 | G10: 11 | H10: 31 | I10: 47 | J10: 10 | K10: 78 | L10: 113 | M10: 12 | N10: 98 | O10: 149 | P10: 10 | Q10: Al-Khor Library
A11: مكتبة الشمال | B11: 40 | C11: 50 | D11: 11 | E11: 32 | F11: 48 | G11: 13 | H11: 40 | I11: 85 | J11: 14 | K11: 2 | L11: 2 | M11: 13 | N11: 16 | O11: 43 | P11: 13 | Q11: Al-Shamal Library
A12: مكتبة الخنساء | B12: 115 | C12: 138 | D12: 18 | E12: 64 | F12: 78 | G12: 17 | H12: 366 | I12: 633 | J12: 16 | K12: 350 | L12: 830 | M12: 14 | N12: 259 | O12: 43 | P12: 16 | Q12: Al-Khanssa Library
A13: مكتبة الوكرة | B13: 47 | C13: 89 | D13: 16 | E13: 60 | F13: 73 | G13: 16 | H13: 252 | I13: 335 | J13: 14 | K13: 146 | L13: 245 | M13: 14 | N13: 87 | O13: 169 | P13: 14 | Q13: Al-Wakrah Library
A14: مكتبة الشيخ علي آل ثاني(3) | B14: 200 | C14: 1250 | D14: 8 | E14: 576 | F14: 1640 | G14: 9 | H14: 630 | I14: 1763 | J14: 8 | K14: 372 | L14: 880 | M14: 10 | N14: 513 | O14: 1150 | P14: 10 | Q14: Sheikh Ali Al-Thani Library (3)
A15: المجموع | B15: =SUM(B8:B14) -> 29850 | C15: =SUM(C8:C14) -> 205190 | D15: =SUM(D8:D14) -> 311 | E15: =SUM(E8:E14) -> 19780 | F15: =SUM(F8:F14) -> 138375 | G15: =SUM(G8:G14) -> 315 | H15: =SUM(H8:H14) -> 31337 | I15: =SUM(I8:I14) -> 509961 | ... P15: =SUM(P8:P14) -> 295 | Q15: Total
A16: (1) يرجع الانخفاض في بيانات عام 2020 و 2021 إلى جائحة (كوفيد-19). | G16: (1) The decline (2020 - 2021) is attributed to COVID-19 pandemic.
A17: (2) اغلاق مبنى دار الكتب القطرية للقيام بأعمال الصيانة عام 2022. | K17: (2) Dar Al Kutub Al Qatariya has been closed for maintenance in 2022.

Sheet 160
A1: التوزيع الشهري لساعات بث البرنامج العام من إذاعة قطر حسب نوع البرامج والشهر
A2: MONTHLY DISTRIBUTION OF THE GENERAL PROGRAM BROADCASTING HOURS ON QATAR RADIO BY TYPE OF PROGRAMS AND MONTH
A3: 2024
A4: جدول رقم (160) | I4: Table No. (160)
A5: نوع البرامج الشهر | B5: الدينية Religious | C5: الإعلامية Media | D5: الترفيهية Recreational | E5: الفئات Categories | F5: الثقافية Cultural | G5: الإعلانات Advertising | H5: المجموع Total | I5: Type of Programs Month
B6: ساعة Hours | C6: ساعة Hours | D6: ساعة Hours | E6: ساعة Hours | F6: ساعة Hours | G6: ساعة Hours | H6: ساعة Hours
A7: يناير | B7: 104 | C7: 66 | D7: 315 | E7: 104 | F7: 138 | G7: 17 | H7: =SUM(B7:G7) -> 744 | I7: January
A8: فبراير | B8: 129 | C8: 60 | D8: 282 | E8: 75 | F8: 134 | G8: 16 | H8: =SUM(B8:G8) -> 696 | I8: February
A9: مارس | B9: 327 | C9: 54 | D9: 184 | E9: 53 | F9: 106 | G9: 20 | H9: =SUM(B9:G9) -> 744 | I9: March
A10: أبريل | B10: 210 | C10: 64 | D10: 214 | E10: 76 | F10: 137 | G10: 19 | H10: =SUM(B10:G10) -> 720 | I10: April
A11: مايو | B11: 103 | C11: 61 | D11: 202 | E11: 228 | F11: 131 | G11: 19 | H11: =SUM(B11:G11) -> 744 | I11: May
A12: يونيو | B12: 102 | C12: 62 | D12: 201 | E12: 156 | F12: 182 | G12: 17 | H12: =SUM(B12:G12) -> 720 | I12: June
A13: يوليو | B13: 101 | C13: 64 | D13: 319 | E13: 54 | F13: 188 | G13: 18 | H13: =SUM(B13:G13) -> 744 | I13: July
A14: أغسطس | B14: 91 | C14: 71 | D14: 319 | E14: 54 | F14: 191 | G14: 18 | H14: =SUM(B14:G14) -> 744 | I14: August
A15: سبتمبر | B15: 82 | C15: 92 | D15: 299 | E15: 124 | F15: 106 | G15: 17 | H15: =SUM(B15:G15) -> 720 | I15: September
A16: أكتوبر | B16: 81 | C16: 94 | D16: 312 | E16: 129 | F16: 110 | G16: 18 | H16: =SUM(B16:G16) -> 744 | I16: October
A17: نوفمبر | B17: 82 | C17: 92 | D17: 299 | E17: 124 | F17: 106 | G17: 17 | H17: =SUM(B17:G17) -> 720 | I17: November
A18: ديسمبر | B18: 80 | C18: 95 | D18: 313 | E18: 129 | F18: 109 | G18: 18 | H18: =SUM(B18:G18) -> 744 | I18: December
A19: المجموع | B19: =SUM(B7:B18) -> 1492 | C19: =SUM(C7:C18) -> 875 | D19: =SUM(D7:D18) -> 3259 | E19: =SUM(E7:E18) -> 1306 | F19: =SUM(F7:F18) -> 1638 | G19: =SUM(G7:G18) -> 214 | H19: =SUM(H7:H18) -> 8784 | I19: Total

Sheet 161
A1: التوزيع الشهري لساعات بث البرنامج العام من تلفزيون قطر حسب نوع البرامج والشهر
A2: MONTHLY DISTRIBUTION Of THE GENERAL PROGRAM BROADCAST HOURS ON QATAR TV BY TYPE OF PROGRAMS AND MONTH
A3: 2024
A4: جدول رقم (161) | O4: Table No. (161)
A5: الشهر نوع البرامج | B5: يناير | C5: فبراير | D5: مارس | E5: أبريل | F5: مايو | G5: يونيو | H5: يوليو | I5: أغسطس | J5: سبتمبر | K5: أكتوبر | L5: نوفمبر | M5: ديسمبر | N5: المجموع | O5: Month Type of Programs
B6: January | C6: February | D6: March | E6: April | F6: May | G6: June | H6: July | I6: August | J6: September | K6: October | L6: November | M6: December | N6: Total
B7: ساعة Hours | C7: ساعة Hours | D7: ساعة Hours | E7: ساعة Hours | F7: ساعة Hours | G7: ساعة Hours | H7: ساعة Hours | I7: ساعة Hours | J7: ساعة Hours | K7: ساعة Hours | L7: ساعة Hours | M7: ساعة Hours | N7: ساعة Hours
A8: الدينية | B8: 21 | C8: 20 | D8: 106 | E8: 51 | F8: 29 | G8: 103 | H8: 39 | I8: 42 | J8: 39 | K8: 30 | L8: 37 | M8: 24 | N8: =SUM(B8:M8) -> 541 | O8: Religious
A9: الإعلامية | B9: 45 | C9: 48 | D9: 69 | E9: 59 | F9: 0 | G9: 53 | H9: 54 | I9: 64 | J9: 64 | K9: 65 | L9: 58 | M9: 51 | N9: =SUM(B9:M9) -> 630 | O9: Media
A10: الترفيهية | B10: 8 | C10: 16 | D10: 0 | E10: 11 | F10: 20 | G10: 51 | H10: 28 | I10: 33 | J10: 20 | K10: 20 | L10: 22 | M10: 9 | N10: =SUM(B10:M10) -> 238 | O10: Recreational
A11: الأطفال | B11: 3 | C11: 0 | D11: 11 | E11: 5 | F11: 1 | G11: 17 | H11: 3 | I11: 2 | J11: 7 | K11: 8 | L11: 8 | M11: 8 | N11: =SUM(B11:M11) -> 73 | O11: children
A12: كرتون | B12: 11 | C12: 15 | D12: 10 | E12: 17 | F12: 62 | G12: 15 | H12: 51 | I12: 11 | J12: 0 | K12: 0 | L12: 0 | M12: 0 | N12: =SUM(B12:M12) -> 192 | O12: Cartoon
A13: الثقافية | B13: 2 | C13: 2 | D13: 17 | E13: 0 | F13: 0 | G13: 1 | H13: 0 | I13: 0 | J13: 8 | K13: 7 | L13: 9 | M13: 4 | N13: =SUM(B13:M13) -> 50 | O13: Cultural
A14: التعليمية | B14: 0 | C14: 0 | D14: 0 | E14: 0 | F14: 0 | G14: 0 | H14: 0 | I14: 0 | J14: 0 | K14: 0 | L14: 0 | M14: 0 | N14: =SUM(B14:M14) -> 0 | O14: Educational
A15: المجتمعية | B15: 127 | C15: 104 | D15: 41 | E15: 112 | F15: 111 | G15: 114 | H15: 104 | I15: 94 | J15: 143 | K15: 146 | L15: 138 | M15: 224 | N15: =SUM(B15:M15) -> 1458 | O15: Community
A16: الفعاليات والمناسبات الخاصة | B16: 16 | C16: 26 | D16: 1 | E16: 3 | F16: 0 | G16: 1 | H16: 0 | I16: 0 | J16: 24 | K16: 17 | L16: 39 | M16: 98 | N16: =SUM(B16:M16) -> 225 | O16: Special Events & Occasions
A17: الدرامية | B17: 50 | C17: 84 | D17: 107 | E17: 113 | F17: 128 | G17: 115 | H17: 176 | I17: 213 | J17: 69 | K17: 102 | L17: 114 | M17: 68 | N17: =SUM(B17:M17) -> 1339 | O17: Dramas
A18: الإخبارية | B18: 65 | C18: 49 | D18: 47 | E18: 55 | F18: 22 | G18: 42 | H18: 41 | I18: 40 | J18: 48 | K18: 49 | L18: 46 | M18: 48 | N18: =SUM(B18:M18) -> 552 | O18: News
A19: الرياضية | B19: 31 | C19: 104 | D19: 0 | E19: 9 | F19: 26 | G19: 1 | H19: 2 | I19: 3 | J19: 17 | K19: 25 | L19: 23 | M19: 28 | N19: =SUM(B19:M19) -> 269 | O19: Sport
... A25: الفنية | B25: 0 | C25: 1 | D25: 4 | E25: 4 | F25: 0 | G25: 6 | H25: 9 | I25: 12 | J25: 9 | K25: 13 | L25: 17 | M25: 15 | N25: =SUM(B25:M25) -> 90 | O25: Artistic
A26: المجموع | B26: =SUM(B8:B25) -> 716 | C26: =SUM(C8:C25) -> 656 | D26: =SUM(D8:D25) -> 520 | E26: =SUM(E8:E25) -> 639 | F26: =SUM(F8:F25) -> 535 | G26: =SUM(G8:G25) -> 703 | H26: =SUM(H8:H25) -> 722 | I26: =SUM(I8:I25) -> 733 | ... N26: =SUM(N8:N25) -> 8077 | O26: Total

Sheet 162
A1: التوزيع الشهري لساعات البث للبرنامج العام من إذاعات الأجنبية (اوريكس الفرنسية) حسب نوع البرامج والشهر
A2: MONTHLY DISTRIBUTION OF BROADCAST HOURS OF THE GENERAL PROGRAM OF Foreign radio stations (French Oryx) BY TYPE OF PROGRAMMS AND MONTH
A3: 2024
A4: جدول رقم (162) | J4: Table No. (162)
A5: نوع البرامج الشهر | B5: إذاعات الأجنبية (اوريكس الفرنسية) Foreign radio stations (French Oryx) | J5: Type of Programs Month
B6: الدينية Religious | C6: التراثية Cultural | D6: الاجتماعية Social | E6: التعليمية Educational | F6: الترفيهية Recreational | G6: الرياضية Sport | H6: الإعلانات Advertising | I6: المجموع Total
B9: ساعة Hours | C9: ساعة Hours | D9: ساعة Hours | E9: ساعة Hours | F9: ساعة Hours | G9: ساعة Hours | H9: ساعة Hours | I9: ساعة Hours
A10: يناير | B10: 4 | C10: 0 | D10: 131 | E10: 115 | F10: 116 | G10: 18 | H10: 0 | I10: =SUM(B10:H10) -> 384 | J10: January
A11: فبراير | B11: 3 | C11: 1 | D11: 127 | E11: 105 | F11: 100 | G11: 10 | H11: 0 | I11: =SUM(B11:H11) -> 346 | J11: February
A12: مارس | B12: 4 | C12: 0 | D12: 129 | E12: 105 | F12: 114 | G12: 3 | H12: 0 | I12: =SUM(B12:H12) -> 355 | J12: March
A13: ابريل | B13: 4 | C13: 0 | D13: 130 | E13: 110 | F13: 112 | G13: 4 | H13: 0 | I13: =SUM(B13:H13) -> 360 | J13: April
A14: مايو | B14: 4 | C14: 1 | D14: 132 | E14: 110 | F14: 115 | G14: 4 | H14: 0 | I14: =SUM(B14:H14) -> 366 | J14: May
A15: يونيو | B15: 4 | C15: 0 | D15: 129 | E15: 105 | F15: 111 | G15: 3 | H15: 0 | I15: =SUM(B15:H15) -> 352 | J15: June
A16: يوليو | B16: 4 | C16: 0 | D16: 131 | E16: 115 | F16: 116 | G16: 1 | H16: 0 | I16: =SUM(B16:H16) -> 367 | J16: July
A17: أغسطس | B17: 4 | C17: 0 | D17: 131 | E17: 105 | F17: 114 | G17: 1 | H17: 0 | I17: =SUM(B17:H17) -> 355 | J17: August
A18: سبتمبر | B18: 4 | C18: 0 | D18: 130 | E18: 110 | F18: 112 | G18: 4 | H18: 0 | I18: =SUM(B18:H18) -> 360 | J18: September
A19: أكتوبر | B19: 4 | C19: 1 | D19: 131 | E19: 115 | F19: 116 | G19: 4 | H19: 0 | I19: =SUM(B19:H19) -> 371 | J19: October
A20: نوفمبر | B20: 4 | C20: 0 | D20: 129 | E20: 110 | F20: 110 | G20: 3 | H20: 0 | I20: =SUM(B20:H20) -> 356 | J20: November
A21: ديسمبر | B21: 4 | C21: 1 | D21: 131 | E21: 115 | F21: 116 | G21: 4 | H21: 0 | I21: =SUM(B21:H21) -> 371 | J21: December
A22: المجموع | B22: =SUM(B10:B21) -> 47 | C22: =SUM(C10:C21) -> 4 | D22: =SUM(D10:D21) -> 1561 | E22: =SUM(E10:E21) -> 1320 | F22: =SUM(F10:F21) -> 1352 | G22: =SUM(G10:G21) -> 59 | H22: =SUM(H10:H21) -> 0 | I22: =SUM(I10:I21) -> 4343 | J22: Total

Sheet 163
A1: التوزيع الشهري لساعات البث المباشر للبرنامج العام من الإذاعات الأجنبية (QBS الإنجليزية) حسب نوع البرامج والشهر
A2: MONTHLY DISTRIBUTION OF LIVE BROADCAST HOURS OF THE GENERAL PROGRAM OF Foreign radio stations (QBS English) BY TYPE OF PROGRAMS AND MONTH
A3: 2024
A4: جدول رقم (163) | M4: Table No. (163)
A5: نوع البرامج الشهر | B5: إذاعات الأجنبية (QBS الإنجليزية) Foreign radio stations(QBS English) | M5: Type of Programs Month
B6: الدينية Religious | C6: الاقتصادية Economic | D6: الاجتماعية Social | E6: التراثية Cultural | F6: الوثائقية Documentary | G6: التعليمية Educational | H6: الدرامية | I6: الترفيهية Recreational | J6: الرياضية Sport | K6: الإعلانات Advertising | L6: المجموع Total
H7: Dramas
B9: ساعة Hours | C9: ساعة Hours | D9: ساعة Hours | E9: ساعة Hours | F9: ساعة Hours | G9: ساعة Hours | H9: ساعة Hours | I9: ساعة Hours | J9: ساعة Hours | K9: ساعة Hours | L9: ساعة Hours
A10: يناير | B10: 4 | C10: 3 | D10: 6 | E10: 3 | F10: 2 | G10: 5 | H10: 0 | I10: 150 | J10: 20 | K10: 2 | L10: =SUM(B10:K10) -> 195 | M10: January
A11: فبراير | B11: 4 | C11: 3 | D11: 6 | E11: 3 | F11: 2 | G11: 5 | H11: 0 | I11: 150 | J11: 20 | K11: 3 | L11: =SUM(B11:K11) -> 196 | M11: February
A12: مارس | B12: 21 | C12: 3 | D12: 9 | E12: 1 | F12: 2 | G12: 5 | H12: 0 | I12: 169 | J12: 20 | K12: 1 | L12: =SUM(B12:K12) -> 231 | M12: March
A13: أبريل | B13: 15 | C13: 3 | D13: 7 | E13: 1 | F13: 2 | G13: 4 | H13: 0 | I13: 161 | J13: 20 | K13: 2 | L13: =SUM(B13:K13) -> 215 | M13: April
A14: مايو | B14: 4 | C14: 3 | D14: 5 | E14: 0 | F14: 2 | G14: 3 | H14: 0 | I14: 150 | J14: 20 | K14: 1 | L14: =SUM(B14:K14) -> 188 | M14: May
A15: يونيو | B15: 4 | C15: 3 | D15: 5 | E15: 0 | F15: 3 | G15: 3 | H15: 0 | I15: 166 | J15: 20 | K15: 2 | L15: =SUM(B15:K15) -> 206 | M15: June
A16: يوليو | B16: 4 | C16: 3 | D16: 5 | E16: 0 | F16: 3 | G16: 3 | H16: 0 | I16: 166 | J16: 20 | K16: 2 | L16: =SUM(B16:K16) -> 206 | M16: July
A17: أغسطس | B17: 4 | C17: 3 | D17: 5 | E17: 0 | F17: 3 | G17: 3 | H17: 0 | I17: 166 | J17: 20 | K17: 2 | L17: =SUM(B17:K17) -> 206 | M17: August
A18: سبتمبر | B18: 4 | C18: 3 | D18: 5 | E18: 0 | F18: 2 | G18: 4 | H18: 0 | I18: 150 | J18: 20 | K18: 3 | L18: =SUM(B18:K18) -> 191 | M18: September
A19: أكتوبر | B19: 4 | C19: 3 | D19: 5 | E19: 0 | F19: 2 | G19: 3 | H19: 0 | I19: 150 | J19: 20 | K19: 2 | L19: =SUM(B19:K19) -> 189 | M19: October
A20: نوفمبر | B20: 4 | C20: 3 | D20: 5 | E20: 0 | F20: 2 | G20: 3 | H20: 0 | I20: 150 | J20: 20 | K20: 2 | L20: =SUM(B20:K20) -> 189 | M20: November
A21: ديسمبر | B21: 4 | C21: 3 | D21: 5 | E21: 1 | F21: 2 | G21: 3 | H21: 3 | I21: 150 | J21: 20 | K21: 2 | L21: =SUM(B21:K21) -> 193 | M21: December
A22: المجموع | B22: =SUM(B10:B21) -> 76 | C22: =SUM(C10:C21) -> 36 | D22: =SUM(D10:D21) -> 68 | E22: =SUM(E10:E21) -> 9 | F22: =SUM(F10:F21) -> 27 | G22: =SUM(G10:G21) -> 44 | H22: =SUM(H10:H21) -> 3 | I22: =SUM(I10:I21) -> 1878 | ... L22: =SUM(L10:L21) -> 2405 | M22: Total

Sheet 164
A1: التوزيع الشهري لساعات البث المباشر للبرنامج العام من إذاعة هولا باللغة الاسبانية حسب نوع البرامج والشهر
A2: MONTHLY DISTRIBUTION OF LIVE BROADCAST HOURS OF THE GENERAL PROGRAM OF HOLA RADIO IN SPANISH BY TYPE OF PROGRAMS AND MONTH
A3: 2024
A4: جدول رقم (164) | L4: Table No. (164)
A5: نوع البرامج الشهر | B5: إذاعة هولا باللغة الاسبانية Hola Radio in Spanish | L5: Type of Programs Month
B6: الدينية Religious | C6: الاقتصادية Economic | D6: الاجتماعية Social | E6: التراثية Cultural | F6: الوثائقية Documentary | G6: التعليمية Educational | H6: الترفيهية Recreational | I6: الرياضية Sport | J6: الإعلانات Advertising | K6: المجموع Total
B9: ساعة Hours | C9: ساعة Hours | D9: ساعة Hours | E9: ساعة Hours | F9: ساعة Hours | G9: ساعة Hours | H9: ساعة Hours | I9: ساعة Hours | J9: ساعة Hours | K9: ساعة Hours
A10: يناير | B10: 6 | C10: 4 | D10: 190 | E10: 40 | F10: 0 | G10: 18 | H10: 64 | I10: 23 | J10: 9 | K10: =SUM(B10:J10) -> 354 | L10: January
A11: فبراير | B11: 6 | C11: 0 | D11: 168 | E11: 36 | F11: 0 | G11: 12 | H11: 56 | I11: 0 | J11: 2.3 | K11: =SUM(B11:J11) -> 280.3 | L11: February
A12: مارس | B12: 17 | C12: 0 | D12: 174 | E12: 40 | F12: 0 | G12: 18 | H12: 54 | I12: 13 | J12: 0.16 | K12: =SUM(B12:J12) -> 316.16 | L12: March
A13: أبريل | B13: 8 | C13: 0.3 | D13: 159 | E13: 41 | F13: 0 | G13: 18 | H13: 54 | I13: 6 | J13: 0 | K13: =SUM(B13:J13) -> 286.3 | L13: April
A14: مايو | B14: 6 | C14: 0.3 | D14: 204 | E14: 36 | F14: 14 | G14: 14 | H14: 61 | I14: 9 | J14: 0 | K14: =SUM(B14:J14) -> 344.3 | L14: May
A15: يونيو | B15: 6 | C15: 1 | D15: 164 | E15: 23 | F15: 13 | G15: 10 | H15: 56 | I15: 9 | J15: 0 | K15: =SUM(B15:J15) -> 282 | L15: June
A16: يوليو | B16: 6 | C16: 0 | D16: 141 | E16: 11 | F16: 14 | G16: 9 | H16: 53 | I16: 9 | J16: 0 | K16: =SUM(B16:J16) -> 243 | L16: July
A17: أغسطس | B17: 6 | C17: 0 | D17: 141 | E17: 11 | F17: 14 | G17: 9 | H17: 53 | I17: 9 | J17: 0 | K17: =SUM(B17:J17) -> 243 | L17: August
A18: سبتمبر | B18: 10 | C18: 4 | D18: 179 | E18: 35 | F18: 10 | G18: 10 | H18: 45 | I18: 5 | J18: 0 | K18: =SUM(B18:J18) -> 298 | L18: September
A19: أكتوبر | B19: 10 | C19: 3 | D19: 165 | E19: 33 | F19: 10 | G19: 13 | H19: 41 | I19: 16 | J19: 0.1 | K19: =SUM(B19:J19) -> 291.1 | L19: October
A20: نوفمبر | B20: 11 | C20: 2 | D20: 174 | E20: 35 | F20: 9 | G20: 13 | H20: 38 | I20: 17 | J20: 2 | K20: =SUM(B20:J20) -> 301 | L20: November
A21: ديسمبر | B21: 11 | C21: 1 | D21: 122 | E21: 43 | F21: 9 | G21: 18 | H21: 36 | I21: 10 | J21: 2 | K21: =SUM(B21:J21) -> 252 | L21: December
A22: المجموع | B22: =SUM(B10:B21) -> 103 | C22: =SUM(C10:C21) -> 15.6 | D22: =SUM(D10:D21) -> 1981 | E22: =SUM(E10:E21) -> 384 | F22: =SUM(F10:F21) -> 93 | G22: =SUM(G10:G21) -> 162 | H22: =SUM(H10:H21) -> 611 | I22: =SUM(I10:I21) -> 126 | ... K22: =SUM(K10:K21) -> 3491.16 | L22: Total

Sheet 165
A1: التوزيع الشهري لساعات البث المباشر للبرنامج العام من الإذاعات الأجنبية (أوردو) حسب نوع البرامج والشهر
A2: MONTHLY DISTRIBUTION OF LIVE BROADCAST HOURS OF THE GENERAL PROGRAM OF FOREIGN RADIO STATIONS (URDU) BY TYPE OF PROGRAMS AND MONTH
A3: 2024
A4: جدول رقم (165) | O4: Table No. (165)
A5: نوع البرامج الشهر | B5: الدينية Religious | C5: الاقتصادية Economic | D5: الاجتماعية Social | E5: التراثية Cultural | F5: الوثائقية Documentary | G5: التعليمية Educational | H5: الدرامية Dramas | I5: الترفيهية Recreational | J5: الرياضية Sport | K5: الإعلانات Advertising | M5: المجموع Total | O5: Type of Programs Month
B6: ساعة Hours | C6: ساعة Hours | D6: ساعة Hours | E6: ساعة Hours | F6: ساعة Hours | G6: ساعة Hours | H6: ساعة Hours | I6: ساعة Hours | J6: ساعة Hours | K6: دقيقة Mins. | L6: ساعة Hours | M6: دقيقة Mins. | N6: ساعة Hours
A7: يناير | B7: 10 | C7: 5 | D7: 60 | E7: 0 | F7: 4 | G7: 8 | H7: 4 | I7: 16 | J7: 8 | K7: 0 | L7: 0 | M7: =MOD(SUM(K7),60) -> 0 | N7: =B7+C7+D7+E7+F7+G7+H7+I7+J7+L7 -> 115 | O7: January
A8: فبراير | B8: 10 | C8: 5 | D8: 60 | E8: 0 | F8: 4 | G8: 8 | H8: 4 | I8: 16 | J8: 8 | K8: 0 | L8: 0 | M8: =MOD(SUM(K8),60) -> 0 | N8: =B8+C8+D8+E8+F8+G8+H8+I8+J8+L8 -> 115 | O8: February
A9: مارس | B9: 18 | C9: 5 | D9: 60 | E9: 0 | F9: 4 | G9: 8 | H9: 4 | I9: 8 | J9: 8 | K9: 0 | L9: 0 | M9: =MOD(SUM(K9),60) -> 0 | N9: =B9+C9+D9+E9+F9+G9+H9+I9+J9+L9 -> 115 | O9: March
A10: أبريل | B10: 11 | C10: 5 | D10: 60 | E10: 0 | F10: 4 | G10: 8 | H10: 4 | I10: 16 | J10: 8 | K10: 0 | L10: 0 | M10: =MOD(SUM(K10),60) -> 0 | N10: =B10+C10+D10+E10+F10+G10+H10+I10+J10+L10 -> 116 | O10: April
A11: مايو | B11: 11 | C11: 5 | D11: 60 | E11: 0 | F11: 4 | G11: 8 | H11: 4 | I11: 16 | J11: 8 | K11: 8 | L11: 0 | M11: =MOD(SUM(K11),60) -> 8 | N11: =B11+C11+D11+E11+F11+G11+H11+I11+J11+L11 -> 116 | O11: May
A12: يونيو | B12: 11 | C12: 5 | D12: 60 | E12: 0 | F12: 4 | G12: 8 | H12: 4 | I12: 16 | J12: 8 | K12: 21 | L12: 0 | M12: =MOD(SUM(K12),60) -> 21 | N12: =B12+C12+D12+E12+F12+G12+H12+I12+J12+L12 -> 116 | O12: June
A13: يوليو | B13: 10 | C13: 5 | D13: 60 | E13: 0 | F13: 4 | G13: 8 | H13: 4 | I13: 24 | J13: 5 | K13: 3 | L13: 0 | M13: =MOD(SUM(K13),60) -> 3 | N13: =B13+C13+D13+E13+F13+G13+H13+I13+J13+L13 -> 120 | O13: July
A14: أغسطس | B14: 10 | C14: 5 | D14: 60 | E14: 0 | F14: 4 | G14: 8 | H14: 4 | I14: 24 | J14: 5 | K14: 19 | L14: 0 | M14: =MOD(SUM(K14),60) -> 19 | N14: =B14+C14+D14+E14+F14+G14+H14+I14+J14+L14 -> 120 | O14: August
A15: سبتمبر | B15: 10 | C15: 5 | D15: 60 | E15: 1 | F15: 4 | G15: 8 | H15: 4 | I15: 16 | J15: 7 | K15: 0 | L15: 0 | M15: =MOD(SUM(K15),60) -> 0 | N15: =B15+C15+D15+E15+F15+G15+H15+I15+J15+L15 -> 115 | O15: September
A16: أكتوبر | B16: 10 | C16: 5 | D16: 60 | E16: 1 | F16: 4 | G16: 8 | H16: 4 | I16: 16 | J16: 7 | K16: 1 | L16: 3 | M16: =MOD(SUM(K16),60) -> 1 | N16: =B16+C16+D16+E16+F16+G16+H16+I16+J16+L16 -> 118 | O16: October
A17: نوفمبر | B17: 10 | C17: 5 | D17: 60 | E17: 1 | F17: 4 | G17: 8 | H17: 4 | I17: 16 | J17: 7 | K17: 1 | L17: 4 | M17: =MOD(SUM(K17),60) -> 1 | N17: =B17+C17+D17+E17+F17+G17+H17+I17+J17+L17 -> 119 | O17: November
A18: ديسمبر | B18: 10 | C18: 5 | D18: 60 | E18: 1 | F18: 4 | G18: 8 | H18: 4 | I18: 16 | J18: 7 | K18: 3 | L18: 4 | M18: =MOD(SUM(K18),60) -> 3 | N18: =B18+C18+D18+E18+F18+G18+H18+I18+J18+L18 -> 119 | O18: December
A19: المجموع | B19: =SUM(B7:B18) -> 131 | C19: =SUM(C7:C18) -> 60 | D19: =SUM(D7:D18) -> 720 | E19: =SUM(E7:E18) -> 4 | F19: =SUM(F7:F18) -> 48 | G19: =SUM(G7:G18) -> 96 | H19: =SUM(H7:H18) -> 48 | I19: =SUM(I7:I18) -> 200 | J19: =SUM(J7:J18) -> 86 | K19: =MOD(SUM(K7:K18),60) -> 56 | L19: =SUM(L7:L18)+QUOTIENT(SUM(K7:K18),60) -> 11 | M19: =MOD(SUM(M7:M18),60) -> 56 | N19: =SUM(N7:N18)+QUOTIENT(SUM(M7:M18),60) -> 1404 | O19: Total

Sheet 166
A1: التوزيع الشهري لساعات البث للبرنامج العام من إذاعتي القرآن الكريم حسب نوع البرامج والشهر
A2: MONTHLY DISTRIBUTION OF LIVE BROADCAST HOURS OF THE GENERAL PROGRAM OF HOLY QURAN RADIO BY TYPE OF PROGRAMS AND MONTH
A3: 2024
A4: جدول رقم (166) | J4: Table No. (166)
A5: نوع البرامج الشهر | B5: إذاعة القرآن الكريم 103.4 Holy Quran Radio103.4 | I5: إذاعة القرآن الكريم 106 Holy Quran Radio106 | J5: Type of Programs Month
B6: الدينية Religious | C6: الترفيهية Recreational | D6: الاجتماعية Social | E6: الوثائقية Documentary | F6: التعليمية Educational | G6: الإعلانات Advertising | H6: المجموع Total | I6: الدينية Religious
B7: ساعة Hours | C7: ساعة Hours | D7: ساعة Hours | E7: ساعة Hours | F7: ساعة Hours | G7: ساعة Hours | H7: ساعة Hours | I7: ساعات
A8: يناير | B8: 704 | C8: 0 | D8: 16 | E8: 0 | F8: 23 | G8: 3 | H8: =SUM(B8+C8+D8+E8+F8+G8) -> 746 | I8: 744 | J8: January
A9: فبراير | B9: 657 | C9: 0 | D9: 15 | E9: 0 | F9: 23 | G9: 3 | H9: =SUM(B9+C9+D9+E9+F9+G9) -> 698 | I9: 696 | J9: February
A10: مارس | B10: 704 | C10: 0 | D10: 30 | E10: 0 | F10: 22 | G10: 3 | H10: =SUM(B10+C10+D10+E10+F10+G10) -> 759 | I10: 744 | J10: March
A11: أبريل | B11: 681 | C11: 0 | D11: 15 | E11: 0 | F11: 22 | G11: 3 | H11: =SUM(B11+C11+D11+E11+F11+G11) -> 721 | I11: 720 | J11: April
A12: مايو | B12: 404 | C12: 0 | D12: 16 | E12: 0 | F12: 23 | G12: 3 | H12: =SUM(B12+C12+D12+E12+F12+G12) -> 446 | I12: 744 | J12: May
A13: يونيو | B13: 681 | C13: 0 | D13: 15 | E13: 0 | F13: 22 | G13: 3 | H13: =SUM(B13+C13+D13+E13+F13+G13) -> 721 | I13: 720 | J13: June
A14: يوليو | B14: 704 | C14: 0 | D14: 16 | E14: 0 | F14: 23 | G14: 3 | H14: =SUM(B14+C14+D14+E14+F14+G14) -> 746 | I14: 744 | J14: July
A15: أغسطس | B15: 704 | C15: 0 | D15: 16 | E15: 0 | F15: 23 | G15: 3 | H15: =SUM(B15+C15+D15+E15+F15+G15) -> 746 | I15: 744 | J15: August
A16: سبتمبر | B16: 681 | C16: 0 | D16: 15 | E16: 0 | F16: 22 | G16: 3 | H16: =SUM(B16+C16+D16+E16+F16+G16) -> 721 | I16: 720 | J16: September
A17: أكتوبر | B17: 704 | C17: 0 | D17: 16 | E17: 0 | F17: 23 | G17: 3 | H17: =SUM(B17+C17+D17+E17+F17+G17) -> 746 | I17: 744 | J17: October
A18: نوفمبر | B18: 681 | C18: 0 | D18: 15 | E18: 0 | F18: 22 | G18: 3 | H18: =SUM(B18+C18+D18+E18+F18+G18) -> 721 | I18: 720 | J18: November
A19: ديسمبر | B19: 704 | C19: 0 | D19: 16 | E19: 0 | F19: 23 | G19: 3 | H19: =SUM(B19+C19+D19+E19+F19+G19) -> 746 | I19: 744 | J19: December
A20: المجموع | B20: =SUM(B8:B19) -> 8009 | C20: =SUM(C8:C19) -> 0 | D20: =SUM(D8:D19) -> 201 | E20: =SUM(E8:E19) -> 0 | F20: =SUM(F8:F19) -> 271 | G20: =SUM(G8:G19) -> 36 | H20: =SUM(H8:H19) -> 8517 | I20: =SUM(I8:I19) -> 8784 | J20: Total

Sheet 167
A1: التوزيع الشهري لساعات بث البرنامج العام من إذاعة صوت الخليج حسب نوع البرامج والشهر
A2: MONTHLY DISTRIBUTION OF THE GENERAL PROGRAM BROADCASTING HOURS ON SOUT ALKHALEEJ BY TYPE OF PROGRAM AND MONTH
A3: 2024
A4: جدول رقم (167) | P4: Table No. (167)
A5: نوع البرامج الشهر | B5: الدينية Religious | D5: الترفيهية Recreational | F5: الاجتماعية Social | H5: الثقافية Cultural | J5: الرياضية Sport | L5: الإعلانات Advertising | N5: المجموع Total | P5: Type of Programs Month
B6: دقيقة Mins. | C6: ساعة Hours | D6: دقيقة Mins. | E6: ساعة Hours | F6: دقيقة Mins. | G6: ساعة Hours | H6: دقيقة Mins. | I6: ساعة Hours | J6: دقيقة Mins. | K6: ساعة Hours | L6: دقيقة Mins. | M6: ساعة Hours | N6: دقيقة Mins. | O6: ساعة Hours
A7: يناير | B7: 40 | C7: 22 | D7: 40 | E7: 718 | F7: 0 | G7: 0 | H7: 0 | I7: 2 | J7: 0 | K7: 0 | L7: 40 | M7: 0 | N7: =MOD(B7+D7+F7+H7+J7+L7,60) -> 0 | O7: =SUM(C7+E7+G7+I7+K7+M7)+QUOTIENT(B7+D7+F7+H7+J7+L7,60) -> 744 | P7: January
A8: فبراير | B8: 40 | C8: 22 | D8: 50 | E8: 670 | F8: 0 | G8: 0 | H8: 0 | I8: 2 | J8: 0 | K8: 0 | L8: 30 | M8: 0 | N8: =MOD(B8+D8+F8+H8+J8+L8,60) -> 0 | O8: =SUM(C8+E8+G8+I8+K8+M8)+QUOTIENT(B8+D8+F8+H8+J8+L8,60) -> 696 | P8: February
A9: مارس | B9: 5 | C9: 387 | D9: 0 | E9: 326 | F9: 0 | G9: 0 | H9: 0 | I9: 30 | J9: 0 | K9: 0 | L9: 55 | M9: 0 | N9: =MOD(B9+D9+F9+H9+J9+L9,60) -> 0 | O9: =SUM(C9+E9+G9+I9+K9+M9)+QUOTIENT(B9+D9+F9+H9+J9+L9,60) -> 744 | P9: March
A10: أبريل | B10: 30 | C10: 188 | D10: 30 | E10: 528 | F10: 0 | G10: 0 | H10: 30 | I10: 2 | J10: 0 | K10: 0 | L10: 30 | M10: 0 | N10: =MOD(B10+D10+F10+H10+J10+L10,60) -> 0 | O10: =SUM(C10+E10+G10+I10+K10+M10)+QUOTIENT(B10+D10+F10+H10+J10+L10,60) -> 720 | P10: April
A11: مايو | B11: 40 | C11: 22 | D11: 40 | E11: 718 | F11: 0 | G11: 0 | H11: 0 | I11: 2 | J11: 0 | K11: 0 | L11: 40 | M11: 0 | N11: =MOD(B11+D11+F11+H11+J11+L11,60) -> 0 | O11: =SUM(C11+E11+G11+I11+K11+M11)+QUOTIENT(B11+D11+F11+H11+J11+L11,60) -> 744 | P11: May
A12: يونيو | B12: 40 | C12: 33 | D12: 5 | E12: 683 | F12: 0 | G12: 0 | H12: 30 | I12: 2 | J12: 0 | K12: 0 | L12: 45 | M12: 0 | N12: =MOD(B12+D12+F12+H12+J12+L12,60) -> 0 | O12: =SUM(C12+E12+G12+I12+K12+M12)+QUOTIENT(B12+D12+F12+H12+J12+L12,60) -> 720 | P12: June
A13: يوليو | B13: 40 | C13: 22 | D13: 50 | E13: 718 | F13: 0 | G13: 0 | H13: 0 | I13: 2 | J13: 0 | K13: 0 | L13: 30 | M13: 0 | N13: =MOD(B13+D13+F13+H13+J13+L13,60) -> 0 | O13: =SUM(C13+E13+G13+I13+K13+M13)+QUOTIENT(B13+D13+F13+H13+J13+L13,60) -> 744 | P13: July
A14: أغسطس | B14: 40 | C14: 22 | D14: 55 | E14: 718 | F14: 0 | G14: 0 | H14: 0 | I14: 2 | J14: 0 | K14: 0 | L14: 25 | M14: 0 | N14: =MOD(B14+D14+F14+H14+J14+L14,60) -> 0 | O14: =SUM(C14+E14+G14+I14+K14+M14)+QUOTIENT(B14+D14+F14+H14+J14+L14,60) -> 744 | P14: August
A15: سبتمبر | B15: 40 | C15: 22 | D15: 35 | E15: 689 | F15: 0 | G15: 0 | H15: 0 | I15: 7 | J15: 0 | K15: 0 | L15: 45 | M15: 0 | N15: =MOD(B15+D15+F15+H15+J15+L15,60) -> 0 | O15: =SUM(C15+E15+G15+I15+K15+M15)+QUOTIENT(B15+D15+F15+H15+J15+L15,60) -> 720 | P15: September
A16: أكتوبر | B16: 40 | C16: 22 | D16: 50 | E16: 718 | F16: 0 | G16: 0 | H16: 0 | I16: 2 | J16: 0 | K16: 0 | L16: 30 | M16: 0 | N16: =MOD(B16+D16+F16+H16+J16+L16,60) -> 0 | O16: =SUM(C16+E16+G16+I16+K16+M16)+QUOTIENT(B16+D16+F16+H16+J16+L16,60) -> 744 | P16: October
A17: نوفمبر | B17: 40 | C17: 22 | D17: 30 | E17: 694 | F17: 0 | G17: 0 | H17: 30 | I17: 2 | J17: 0 | K17: 0 | L17: 20 | M17: 0 | N17: =MOD(B17+D17+F17+H17+J17+L17,60) -> 0 | O17: =SUM(C17+E17+G17+I17+K17+M17)+QUOTIENT(B17+D17+F17+H17+J17+L17,60) -> 720 | P17: November
A18: ديسمبر | B18: 40 | C18: 22 | D18: 30 | E18: 718 | F18: 0 | G18: 0 | H18: 0 | I18: 2 | J18: 0 | K18: 0 | L18: 50 | M18: 0 | N18: =MOD(B18+D18+F18+H18+J18+L18,60) -> 0 | O18: =SUM(C18+E18+G18+I18+K18+M18)+QUOTIENT(B18+D18+F18+H18+J18+L18,60) -> 744 | P18: December
A19: المجموع | B19: =MOD(SUM(B7:B18),60) -> 15 | C19: =SUM(C7:C18)+QUOTIENT(SUM(B7:B18),60) -> 813 | D19: =MOD(SUM(D7:D18),60) -> 55 | E19: =SUM(E7:E18)+QUOTIENT(SUM(D7:D18),60) -> 7904 | F19: =MOD(SUM(F7:F18),60) -> 0 | G19: =SUM(G7:G18)+QUOTIENT(SUM(F7:F18),60) -> 0 | H19: =MOD(SUM(H7:H18),60) -> 30 | I19: =SUM(I7:I18)+QUOTIENT(SUM(H7:H18),60) -> 58 | J19: =MOD(SUM(J7:J18),60) -> 0 | K19: =SUM(K7:K18)+QUOTIENT(SUM(J7:J18),60) -> 0 | L19: =MOD(SUM(L7:L18),60) -> 20 | M19: =SUM(M7:M18)+QUOTIENT(SUM(L7:L18),60) -> 7 | N19: =MOD(SUM(N7:N18),60) -> 0 | O19: =SUM(O7:O18)+QUOTIENT(SUM(N7:N18),60) -> 8784 | P19: Total

Sheet 168
A1: التوزيع الشهري لساعات البث المباشر للبرنامج العام من قنوات الكأس الرياضية حسب نوع البرامج والشهر
A2: MONTHLY DISTRIBUTION OF LIVE BROADCAST HOURS OF THE GENERAL PROGRAM OF AL KASS SPORT CHANNELS BY TYPE OF PROGRAM AND MONTH
A3: 2024
A4: جدول رقم (168) | J4: Table No. (168)
A5: نوع البرامج الشهر | B5: برامج رياضية Sports Programs | D5: مباريات Games | F5: الإعلانات Advertising | H5: المجموع Total | J5: Type of Programs Month
B7: دقيقة | C7: ساعة | D7: دقيقة | E7: ساعة | F7: دقيقة | G7: ساعة | H7: دقيقة | I7: ساعة
B8: Min. | C8: Hour | D8: Min. | E8: Hour | F8: Min. | G8: Hour | H8: Min. | I8: Hour
A9: يناير | B9: 15 | C9: 750 | D9: 30 | E9: 222 | F9: 18 | G9: 3 | H9: =MOD((B9+D9+F9),60) -> 3 | I9: =(C9+E9+G9+QUOTIENT(B9+D9+F9,60)) -> 976 | J9: January
A10: فبراير | B10: 5 | C10: 696 | D10: 10 | E10: 355 | F10: 47 | G10: 1 | H10: =MOD((B10+D10+F10),60) -> 2 | I10: =C10+E10+G10+QUOTIENT((B10+D10+F10),60) -> 1053 | J10: February
A11: مارس | B11: 10 | C11: 420 | D11: 0 | E11: 580 | F11: 20 | G11: 6 | H11: =MOD((B11+D11+F11),60) -> 30 | I11: =C11+E11+G11+QUOTIENT((B11+D11+F11),60) -> 1006 | J11: March
A12: أبريل | B12: 0 | C12: 325 | D12: 10 | E12: 598 | F12: 47 | G12: 8 | H12: 40 | I12: =C12+E12+G12+QUOTIENT((B12+D12+F12),60) -> 931 | J12: April
A13: مايو | B13: 0 | C13: 204 | D13: 5 | E13: 325 | F13: 51 | G13: 0 | H13: =MOD((B13+D13+F13),60) -> 56 | I13: =C13+E13+G13+QUOTIENT((B13+D13+F13),60) -> 529 | J13: May
A14: يونيو | B14: 0 | C14: 120 | D14: 0 | E14: 95 | F14: 17 | G14: 0 | H14: =MOD((B14+D14+F14),60) -> 17 | I14: =C14+E14+G14+QUOTIENT((B14+D14+F14),60) -> 215 | J14: June
A15: يوليو | B15: 0 | C15: 522 | D15: 0 | E15: 15 | F15: 15 | G15: 0 | H15: =MOD((B15+D15+F15),60) -> 15 | I15: =C15+E15+G15+QUOTIENT((B15+D15+F15),60) -> 537 | J15: July
A16: أغسطس | B16: 30 | C16: 98 | D16: 0 | E16: 135 | F16: 26 | G16: 0 | H16: =MOD((B16+D16+F16),60) -> 56 | I16: =C16+E16+G16+QUOTIENT((B16+D16+F16),60) -> 233 | J16: August
A17: سبتمبر | B17: 30 | C17: 285 | D17: 0 | E17: 395 | F17: 26 | G17: 0 | H17: =MOD((B17+D17+F17),60) -> 56 | I17: =C17+E17+G17+QUOTIENT((B17+D17+F17),60) -> 680 | J17: September
A18: أكتوبر | B18: 0 | C18: 311 | D18: 0 | E18: 430 | F18: 52 | G18: 0 | H18: =MOD((B18+D18+F18),60) -> 52 | I18: =C18+E18+G18+QUOTIENT((B18+D18+F18),60) -> 741 | J18: October
A19: نوفمبر | B19: 30 | C19: 299 | D19: 0 | E19: 502 | F19: 30 | G19: 2 | H19: =MOD((B19+D19+F19),60) -> 0 | I19: =C19+E19+G19+QUOTIENT((B19+D19+F19),60) -> 804 | J19: November
A20: ديسمبر | B20: 45 | C20: 480 | D20: 0 | E20: 725 | F20: 15 | G20: 3 | H20: =MOD((B20+D20+F20),60) -> 0 | I20: =C20+E20+G20+QUOTIENT((B20+D20+F20),60) -> 1209 | J20: December
A21: المجموع | B21: =MOD(SUM(B9:B20),60) -> 45 | C21: =SUM(C9:C20)+QUOTIENT(SUM(B9:B20),60) -> 4512 | D21: =MOD(SUM(D9:D20),60) -> 55 | E21: =SUM(E9:E20)+QUOTIENT(SUM(D9:D20),60) -> 4377 | F21: =MOD(SUM(F9:F20),60) -> 4 | G21: =SUM(G9:G20)+QUOTIENT(SUM(F9:F20),60) -> 29 | H21: =MOD(SUM(H9:H20),60) -> 27 | I21: =SUM(I9:I20)+QUOTIENT(SUM(H9:H20),60) -> 8919 | J21: Total

Sheet 169
A1: التوزيع الشهري لساعات البث للبرنامج العام من قناة الريان الفضائية وإذاعة صوت الريان حسب نوع البرامج والشهر
A2: MONTHLY DISTRIBUTION OF BROADCAST HOURS OF THE GENERAL PROGRAM OF AL-RAYYAN SATELLITE CHANNEL AND AL-RAYYAN RADIO BY TYPE OF PROGRAMS AND MONTH
A3: 2024
A4: جدول رقم (169) | P4: Table No. (169)
A5: نوع البرامج الشهر | B5: قناة الريان الفضائية AL-RAYYAN SATELLITE CHANNEL | L5: *إذاعة صوت الريان AL-RAYYAN RADIO* | P5: Type of Programs Month
B6: الدينية Religious | C6: الاقتصادية Economic | D6: الاجتماعية Social | E6: التراثية Cultural | F6: الوثائقية Documentary | G6: التعليمية Educational | H6: الدرامية Dramas | I6: الترفيهية Recreational | J6: الإعلانات Advertising | K6: المجموع Total | L6: الدينية Religious | N6: الترفيهية Recreational
B7: ساعة | C7: ساعة | D7: ساعة | E7: ساعة | F7: ساعة | G7: ساعة | H7: ساعة | I7: ساعة | J7: ساعة | K7: ساعة | L7: دقيقة | M7: ساعة | N7: دقيقة | O7: ساعة
B8: Hour | C8: Hour | D8: Hour | E8: Hour | F8: Hour | G8: Hour | H8: Hour | I8: Hour | J8: Hour | K8: Hour | L8: Min. | M8: Hour | N8: Min. | O8: Hour
A9: يناير | B9: 37 | C9: 0 | D9: 97 | E9: 175 | F9: 59 | G9: 30 | H9: 119 | I9: 112 | J9: 1 | K9: =SUM(B9:J9) -> 630 | L9: 0 | M9: 0 | N9: 6 | O9: 680 | P9: January
A10: فبراير | B10: 36 | C10: 0 | D10: 55 | E10: 129 | F10: 46 | G10: 30 | H10: 133 | I10: 168 | J10: 2 | K10: =SUM(B10:J10) -> 599 | L10: 0 | M10: 0 | N10: 20 | O10: 617 | P10: February
A11: مارس | B11: 227 | C11: 0 | D11: 155 | E11: 158 | F11: 26 | G11: 25 | H11: 89 | I11: 58 | J11: 6 | K11: =SUM(B11:J11) -> 744 | L11: 20 | M11: 430 | N11: 0 | O11: 0 | P11: March
A12: أبريل | B12: 121 | C12: 0 | D12: 143 | E12: 41 | F12: 31 | G12: 48 | H12: 116 | I12: 134 | J12: 2 | K12: =SUM(B12:J12) -> 636 | L12: 0 | M12: 0 | N12: 11 | O12: 533 | P12: April
A13: مايو | B13: 55 | C13: 0 | D13: 160 | E13: 32 | F13: 56 | G13: 52 | H13: 174 | I13: 79 | J13: 0 | K13: =SUM(B13:J13) -> 608 | L13: 0 | M13: 0 | N13: 30 | O13: 658 | P13: May
A14: يونيو | B14: 82 | C14: 0 | D14: 180 | E14: 15 | F14: 55 | G14: 35 | H14: 168 | I14: 71 | J14: 1 | K14: =SUM(B14:J14) -> 607 | L14: 0 | M14: 0 | N14: 28 | O14: 679 | P14: June
A15: يوليو | B15: 62 | C15: 0 | D15: 177 | E15: 20 | F15: 50 | G15: 49 | H15: 186 | I15: 75 | J15: 1 | K15: =SUM(B15:J15) -> 620 | L15: 0 | M15: 0 | N15: 0 | O15: 0 | P15: July
A16: أغسطس | B16: 71 | C16: 0 | D16: 175 | E16: 18 | F16: 72 | G16: 26 | H16: 186 | I16: 74 | J16: 0 | K16: =SUM(B16:J16) -> 622 | L16: 0 | M16: 0 | N16: 5 | O16: 660 | P16: August
A17: سبتمبر | B17: 60 | C17: 0 | D17: 171 | E17: 68 | F17: 52 | G17: 38 | H17: 176 | I17: 58 | J17: 0 | K17: =SUM(B17:J17) -> 623 | L17: 0 | M17: 0 | N17: 0 | O17: 0 | P17: September
A18: أكتوبر | B18: 47 | C18: 6 | D18: 170 | E18: 121 | F18: 66 | G18: 24 | H18: 181 | I18: 42 | J18: 0 | K18: =SUM(B18:J18) -> 657 | L18: 0 | M18: 0 | N18: 5 | O18: 660 | P18: October
A19: نوفمبر | B19: 49 | C19: 14 | D19: 145 | E19: 142 | F19: 50 | G19: 13 | H19: 195 | I19: 32 | J19: 0 | K19: =SUM(B19:J19) -> 640 | L19: 0 | M19: 0 | N19: 30 | O19: 682 | P19: November
A20: ديسمبر | B20: 34 | C20: 12 | D20: 188 | E20: 139 | F20: 69 | G20: 18 | H20: 130 | I20: 70 | J20: 6 | K20: =SUM(B20:J20) -> 666 | L20: 0 | M20: 0 | N20: 28 | O20: 679 | P20: December
A21: المجموع | B21: =SUM(B9:B20) -> 881 | C21: =SUM(C9:C20) -> 32 | D21: =SUM(D9:D20) -> 1816 | E21: =SUM(E9:E20) -> 1058 | F21: =SUM(F9:F20) -> 632 | G21: =SUM(G9:G20) -> 388 | H21: =SUM(H9:H20) -> 1853 | I21: =SUM(I9:I20) -> 973 | ... K21: =SUM(K9:K20) -> 7652 | L21: =MOD(SUM(L9:L20),60) -> 20 | M21: =SUM(M9:M20)+QUOTIENT(SUM(L9:L20),60) -> 430 | N21: =MOD(SUM(N9:N20),60) -> 43 | O21: =SUM(O9:O20)+QUOTIENT(SUM(N9:N20),60) -> 5850 | P21: Total
A22: * تم اعتماد بيانات عام 2021 الخاصة بإذاعة صوت الريان ، حيث أن بيانات وبرامج الإذاعة لا تتغير. | G22: * 2021 data for Al-Rayyan Radio has been approved, as the data and programs of the radio do not change.

Sheet 170
A1: فعاليات مسرح قطر الوطني حسب القطاع
A2: EVENTS AT QATAR NATIONAL THEATRE BY SECTORS
A3: 2020 - 2024
A4: جدول رقم (170) | F4: Table No. (170)
A5: القطاع السنة | B5: القطاع الحكومي | C5: القطاع الخاص | D5: مشاركات خارجية | E5: المجموع | F5: Sector Year
B6: Government Sector | C6: Private Sector | D6: External Participations | E6: Total
A7: 2020(1) | B7: 65 | C7: 4 | D7: 1 | E7: =SUM(B7:D7) -> 70 | F7: 2020(1)
A8: 2021 | B8: 29 | C8: 0 | D8: 0 | E8: =SUM(B8:D8) -> 29 | F8: 2021
A9: 2022(2) | B9: 0 | C9: 0 | D9: 0 | E9: =SUM(B9:D9) -> 0 | F9: 2022(2)
A10: 2023(2) | B10: 0 | C10: 0 | D10: 0 | E10: =SUM(B10:D10) -> 0 | F10: 2023(2)
A11: 2024(2) | B11: 0 | C11: 0 | D11: 0 | E11: =SUM(B11:D11) -> 0 | F11: 2024(2)
A12: (1) يعود الإرتفاع في بيانات عام 2020 إلى أن معظم العروض تم تقديمها أونلاين. | D12: (1) The increase in 2020 data is due to most shows have been made online.
A13: (2) لم تتوفر بيانات مسرح قطر الوطني وذلك لإجراءات الصيانة. | D13: (2) Qatar National Theatre data is not available due to maintenance procedures.

Sheet 171
A1: فعاليات مسرح قطر الوطني حسب نوع الفعالية
A2: EVENTS AT QATAR NATIONAL THEATRE BY TYPE OF EVENTS
A3: 2020 - 2024
A4: جدول رقم (171) | K4: Table No. (171)
A5: الفعاليات السنة | B5: أسبوع ثقافي | C5: مهرجان | D5: مسرحية | E5: عروض غنائية | F5: أمسيات شعرية | G5: فنون التراث | H5: فنون تشكيلية | I5: أخرى | J5: المجموع | K5: Events Year
B6: Cultural Week | C6: Festival | D6: Play | E6: Offers Singing | F6: Poetry Evenings | G6: Heritage Arts | H6: Fine Arts | I6: Other | J6: Total
A7: 2020(1) | B7: 0 | C7: 0 | D7: 58 | E7: 2 | F7: 0 | G7: 0 | H7: 0 | I7: 10 | J7: =SUM(B7:I7) -> 70 | K7: 2020(1)
A8: 2021 | B8: 0 | C8: 1 | D8: 9 | E8: 1 | F8: 0 | G8: 0 | H8: 0 | I8: 18 | J8: =SUM(B8:I8) -> 29 | K8: 2021
A9: 2022(2) | B9: 0 | C9: 0 | D9: 0 | E9: 0 | F9: 0 | G9: 0 | H9: 0 | I9: 0 | J9: =SUM(B9:I9) -> 0 | K9: 2022(2)
A10: 2023(2) | B10: 0 | C10: 0 | D10: 0 | E10: 0 | F10: 0 | G10: 0 | H10: 0 | I10: 0 | J10: =SUM(B10:I10) -> 0 | K10: 2023(2)
A11: 2024(2) | B11: 0 | C11: 0 | D11: 0 | E11: 0 | F11: 0 | G11: 0 | H11: 0 | I11: 0 | J11: =SUM(B11:I11) -> 0 | K11: 2024(2)
A12: (1) يعود الإرتفاع في بيانات العروض المسرحية لعام 2020 إلى أن معظم العروض تم تقديمها أونلاين، إضافة إلى ارتفاع معدل الإقبال على عروض فضاء الدمى من الجهات الخارجية. | G12: (1)The increase in Play data in 2020 is due to most shows have been made online, in addition to the high turnout for foreign Puppet Space shows.
A13: (2) لم تتوفر بيانات مسرح قطر الوطني وذلك لإجراءات الصيانة. | F13: (2) Qatar National Theatre data is not available due to maintenance procedures.

Sheet 172
A1: زوار المتاحف حسب الشهر والمتحف
A2: VISITORS OF MUSEUMS BY MONTH AND MUSEUM
A3: 2024
A4: جدول رقم (172) | O4: Table No. (172)
A5: الشهر المتحف | B5: يناير | C5: فبراير | D5: مارس | E5: أبريل | F5: مايو | G5: يونيو | H5: يوليو | I5: أغسطس | J5: سبتمبر | K5: أكتوبر | L5: نوفمبر | M5: ديسمبر | N5: المجموع | O5: Month Museum
B6: Jan. | C6: Feb. | D6: Mar. | E6: Apr. | F6: May | G6: Jun. | H6: Jul. | I6: Aug. | J6: Sept. | K6: Oct. | L6: Nov. | M6: Dec. | N6: Total
A7: متحف الفن الاسلامي | B7: 35623 | C7: 36257 | D7: 19122 | E7: 24643 | F7: 23958 | G7: 15292 | H7: 15558 | I7: 17709 | J7: 18285 | K7: 26706 | L7: 34209 | M7: 47100 | N7: =SUM(B7:M7) -> 314462 | O7: Museum of Islamic Art
A8: متحف الفن العربي | B8: 1208 | C8: 1936 | D8: 1487 | E8: 1206 | F8: 2033 | G8: 1121 | H8: 1295 | I8: 1192 | J8: 1324 | K8: 2176 | L8: 3507 | M8: 2509 | N8: =SUM(B8:M8) -> 20994 | O8: Museum of Arab Art
A9: متحف قطر الوطني | B9: 49130 | C9: 48998 | D9: 25319 | E9: 35684 | F9: 40839 | G9: 31703 | H9: 32972 | I9: 34497 | J9: 32625 | K9: 44075 | L9: 50850 | M9: 60691 | N9: =SUM(B9:M9) -> 487383 | O9: National Museum of Qatar
A10: قلعة الزبارة | B10: 5860 | C10: 7079 | D10: 2713 | E10: 3832 | F10: 2087 | G10: 1041 | H10: 763 | I10: 968 | J10: 889 | K10: 3240 | L10: 4959 | M10: 6624 | N10: =SUM(B10:M10) -> 40055 | O10: Al Zubarah
A11: متاحف مشيرب(1) | B11: 12171 | C11: 10381 | D11: 6252 | E11: 5193 | F11: 3864 | G11: 3912 | H11: 3559 | I11: 4667 | J11: 5399 | K11: 11971 | L11: 14704 | M11: 11336 | N11: =SUM(B11:M11) -> 93409 | O11: Msheireb Museum(1)
A12: مطافيء مقر الفنانين | B12: 1451 | C12: 6119 | D12: 6189 | E12: 6820 | F12: 7734 | G12: 2371 | H12: 1845 | I12: 1723 | J12: 4064 | K12: 4501 | L12: 5329 | M12: 3956 | N12: =SUM(B12:M12) -> 52102 | O12: Fire Station
A13: برج برزان | B13: 353 | C13: 362 | D13: 217 | E13: 253 | F13: 201 | G13: 186 | H13: 59 | I13: 81 | J13: 174 | K13: 300 | L13: 588 | M13: 281 | N13: =SUM(B13:M13) -> 3055 | O13: Barzan Tower
A14: متحف قطر الأولمبي والرياضي (3-2-1) | B14: 4056 | C14: 8972 | D14: 3601 | E14: 4619 | F14: 10636 | G14: 9164 | H14: 11475 | I14: 10850 | J14: 7820 | K14: 8974 | L14: 10096 | M14: 10232 | N14: =SUM(B14:M14) -> 100495 | O14: 3-2-1 QOSM
A15: مركز قطر للابتكار وريادة الأعمال في التصميم والأزياء والتكنولوجيا ( M7)* | B15: 1224 | C15: 4343 | D15: 2687 | E15: 1734 | F15: 1814 | G15: 1229 | H15: 1060 | I15: 799 | J15: 2117 | K15: 3042 | L15: 5002 | M15: 3068 | N15: =SUM(B15:M15) -> 28119 | O15: M7*
A16: حدائق دَدُ* | B16: 2431 | C16: 3456 | D16: 1211 | E16: 0 | F16: 0 | G16: 23 | H16: 201 | I16: 317 | J16: 293 | K16: 203 | L16: 262 | M16: 458 | N16: =SUM(B16:M16) -> 8855 | O16: DADU Gardens *
A17: المجموع | B17: =SUM(B7:B16) -> 113507 | C17: =SUM(C7:C16) -> 127903 | D17: =SUM(D7:D16) -> 68798 | E17: =SUM(E7:E16) -> 83984 | F17: =SUM(F7:F16) -> 93166 | G17: =SUM(G7:G16) -> 66042 | H17: =SUM(H7:H16) -> 68787 | I17: =SUM(I7:I16) -> 72803 | ... N17: =SUM(N7:N16) -> 1148929 | O17: Total
A18: *ملاحظة: متحف دَدُ ومركز M7 يُصنفان ضمن نطاق المتاحف، وأن الأنشطة والمعارض المقامة فيهما تُعد صالات عرض/معارض تُقام داخل المتاحف، ويتم إدراج تذاكرها ضمن نظام الحجز الإلكتروني الموحد الخاص بزوار هيئة متاحف قطر. | G18: *Note: The DUD Museum and M7 Centre are classified as museums, and the activities and exhibitions held within them are considered museum galleries/exhibitions, and their tickets are included in the unified electronic booking system for visitors of Qatar Museums Authority.
A19: (1) يتضمن بيانات بيت بن جلمود وبيت الشركة وبيت محمد بن جاسم وبيت الرضواني. | G19: (1) It includes the data of Bin Jelmood House, The Company House, Mohammed Bin Jassim House and Radwani House.
M26: =SUM(N7:N11,N14) -> 1056798

Sheet 173
A1: زوار المعارض خلال العام والمعرض
A2: VISITORS TO EXHIBITIONS DURING THE YEAR AND THE EXHIBITION
A3: 2024
A4: جدول رقم (173) | C4: Table No. (173)
A5: المعارض | B5: عدد الزوار No. of visitors | C5: Exhibitions
A7: وأزهرت الصحراء: الفن المعاصر من قطر | B7: 6039 | C7: Watering the Desert: Contemporary Art From Qatar
A8: دان فلافين/دونالد جَد: الدوحة (الرواق) | B8: 2766 | C8: Dan Flavin/Donald Judd: Doha (Al Riwaq)
A9: التصميم العربي الآن | B9: 10937 | C9: Arab Design Now
A10: ألوان المدينة | B10: 3646 | C10: Colors of the City
A11: نسج القصائد | B11: 3408 | C11: Weaving Poems
A12: 100/100 - أفضل مائة ملصق عربي | B12: 12166 | C12: 100/100 - Hundred Best Arabic Posters
A13: حرف أوزبكستان: تاريخ بين الخيوط | B13: 2782 | C13: Crafting Uzbekistan: Tradition in Threads
A14: وحدة وتنوّع | B14: 5944 | C14: Cultural Kinship
A15: غرز لانهائية: مزيج متناغم بين الأصالة والحداثة | B15: 5944 | C15: Infinite Stitches: Weaving a Dance between Tradintion & Trend
A16: فروم: من مشيرب إلى ميلانو | B16: 1771 | C16: FROMM - Msheireb to Milan
A17: غرفة أذربيجان | B17: 1298 | C17: Room of Azerbaijan
A18: جلسة سوا | B18: 5944 | C18: Jalset Sawa
... A39: منظر: الفن والعمارة في باكستان من الأربعينيات إلى اليوم | B39: 22231 | C39: Manzar: Art and Architecture from Pakistan 1940s to Today
A40: المجموع | B40: =SUM(B7:B39) -> 192039 | C40: Total

Sheet 174
A1: المساجد والأئمة والخطباء ودور تحفيظ القرآن حسب البلدية
A2: 2024
A3: MOSQUES, IMAM & KHATEEB AND ROLE OF KORANIC BY MUNICIPALITY
A4: 2024
A5: جدول رقم (174) | Q5: Table No. (174)
A6: البلدية | B6: نوع المسجد Type of Mosque | H6: عدد الأئمة والمؤذنين No. of Imam and Moathen | I6: عدد الخطباء No. of Khateeb | J6: عدد الخطباء Khateeb | K6: دور تحفيظ القرآن The role of koranic | N6: دور تحفيظ القرآن (أهلية) The role of koranic (Private) | Q6: Municipality
B7: مسجد فروض(1) | C7: مسجد جامع(2) | D7: مبنى مؤقت | E7: مصلى عيد(3) | F7: مسجد خاص | G7: المجموع
B8: Forood Mosque(1) | C8: Gumma Mosque(2) | D8: Temporary Building | E8: Eid Mosque(3) | F8: Private Mosque | G8: Total
K9: ذكور Males | L9: إناث Females | M9: المجموع Total | N9: ذكور Males | O9: إناث Females | P9: المجموع Total
A11: الدوحة | B11: 112 | C11: 349 | D11: 22 | E11: 13 | F11: 59 | G11: =SUM(B11:F11) -> 555 | H11: 847 | I11: 329 | K11: 40 | L11: 6 | M11: =K11+L11 -> 46 | N11: 0 | O11: 5 | P11: =N11+O11 -> 5 | Q11: Doha
A12: الريان | B12: 116 | C12: 491 | D12: 92 | E12: 28 | F12: 94 | G12: =SUM(B12:F12) -> 821 | H12: 1292 | I12: 509 | K12: 63 | L12: 12 | M12: =K12+L12 -> 75 | N12: 1 | O12: 15 | P12: =N12+O12 -> 16 | Q12: Al-Rayyan
A13: الوكرة | B13: 34 | C13: 130 | D13: 35 | E13: 3 | F13: 48 | G13: =SUM(B13:F13) -> 250 | H13: 302 | I13: 122 | K13: 12 | L13: 3 | M13: =K13+L13 -> 15 | N13: 0 | O13: 3 | P13: =N13+O13 -> 3 | Q13: Al-Wakrah
A14: ام صلال | B14: 20 | C14: 91 | D14: 14 | E14: 3 | F14: 12 | G14: =SUM(B14:F14) -> 140 | H14: 218 | I14: 86 | K14: 11 | L14: 2 | M14: =K14+L14 -> 13 | N14: 0 | O14: 4 | P14: =N14+O14 -> 4 | Q14: Umm Salal
A15: الخور | B15: 38 | C15: 108 | D15: 13 | E15: 5 | F15: 27 | G15: =SUM(B15:F15) -> 191 | H15: 193 | I15: 99 | K15: 5 | L15: 1 | M15: =K15+L15 -> 6 | N15: 0 | O15: 2 | P15: =N15+O15 -> 2 | Q15: Al-Khor
A16: الشمال | B16: 20 | C16: 32 | D16: 7 | E16: 6 | F16: 3 | G16: =SUM(B16:F16) -> 68 | H16: 62 | I16: 27 | K16: 4 | L16: 1 | M16: =K16+L16 -> 5 | N16: 0 | O16: 0 | P16: =N16+O16 -> 0 | Q16: Al-Shamal
A17: الظعاين | B17: 24 | C17: 96 | D17: 26 | E17: 10 | F17: 13 | G17: =SUM(B17:F17) -> 169 | H17: 242 | I17: 88 | K17: 9 | L17: 7 | M17: =K17+L17 -> 16 | N17: 0 | O17: 1 | P17: =N17+O17 -> 1 | Q17: Al-Daayen
A18: الشحانية | B18: 38 | C18: 107 | D18: 18 | E18: 5 | F18: 27 | G18: =SUM(B18:F18) -> 195 | H18: 119 | I18: 98 | K18: 4 | L18: 1 | M18: =K18+L18 -> 5 | N18: 0 | O18: 0 | P18: =N18+O18 -> 0 | Q18: Al-Shahanniya
A19: المجموع | B19: =SUM(B11:B18) -> 402 | C19: =SUM(C11:C18) -> 1404 | D19: =SUM(D11:D18) -> 227 | E19: =SUM(E11:E18) -> 73 | F19: =SUM(F11:F18) -> 283 | G19: =SUM(G11:G18) -> 2389 | H19: =SUM(H11:H18) -> 3275 | I19: =SUM(I11:I18) -> 1358 | ... P19: =SUM(P11:P18) -> 31 | Q19: Total
A20: (1) هو الذي تؤدى فيه جميع الصلوات ما عدا الجمعة. | L20: (1) Mosques Where all Prayers are Performed except Gumma.
A21: (2) هو الذي تؤدى فيه جميع الصلوات والجمعة. | L21: (2) Mosques Where Prayers, Including Gumma Performed.
A22: (3) هو الذي تؤدى فيه صلاة العيدين. | K22: (3) Praying ground Where The Two Eid's Prayers are Performed.

Sheet 175
A1: الزيارات والفعاليات الثقافية والتجارية حسب الشهر للمؤسسة العامة للحي الثقافي (كتارا)
A2: 2020 - 2024
A3: CULTURAL AND COMMERCIAL VISITS AND EVENTS BY MONTH IN THE CULTURAL VILLAGE FOUNDATION (KATARA)
A4: 2020 - 2024
A5: جدول رقم (175) | Q5: Table No. (175)
A6: السنة | B6: نوع الزيارات | C6: يناير | D6: فبراير | E6: مارس | F6: ابريل | G6: مايو | H6: يونيو | I6: يوليو | J6: أغسطس | K6: سبتمبر | L6: أكتوبر | M6: نوفمبر | N6: ديسمبر | O6: المجموع | P6: Type of visits | Q6: Year
C7: Jan. | D7: Feb. | E7: Mar. | F7: Apr. | G7: May | H7: Jun. | I7: Jul. | J7: Aug. | K7: Sep. | L7: Oct. | M7: Nov. | N7: Dec. | O7: Total
A8: 2020 | B8: الــزيارات الثقافية | C8: 1175675 | D8: 1263313 | E8: 732374 | F8: 132256 | G8: 175712 | H8: 379940 | I8: 606483 | J8: 696694 | K8: 888452 | L8: 1092309 | M8: 499245 | N8: 1182094 | O8: =SUM(C8:N8) -> 8824547 | P8: Cultural Visits | Q8: 2020
B9: زيارة الفعاليات الثقافية | C9: =C8*0.55 -> 646621.25 | D9: =D8*0.55 -> 694822.15 | E9: =E8*0.55 -> 402805.7 | F9: =F8*0.55 -> 72740.8 | G9: =G8*0.55 -> 96641.6 | H9: =H8*0.55 -> 208967 | I9: =I8*0.55 -> 333565.65 | J9: =J8*0.55 -> 383181.7 | ... N9: =N8*0.55 -> 650151.7 | O9: =SUM(C9:N9) -> 4853500.9 | P9: Visit cultural events
B10: الــزيارات التجارية | C10: 109333 | D10: 97499 | E10: 74994 | F10: 1579 | G10: 355 | H10: 415 | I10: 4121 | J10: 83022 | K10: 111010 | L10: 192343 | M10: 115989 | N10: 222564 | O10: =SUM(C10:N10) -> 1013224 | P10: Business Visits
A11: 2021 | B11: الــزيارات الثقافية | C11: 993564 | D11: 910665 | E11: 875013 | F11: 773433 | G11: 870987 | H11: 840285 | I11: 820977 | J11: 819972 | K11: 1011528 | L11: 1023627 | M11: 1167522 | N11: 1458390 | O11: =SUM(C11:N11) -> 11565963 | P11: Cultural Visits | Q11: 2021
B12: زيارة الفعاليات الثقافية | C12: =C11*0.55 -> 546460.2 | D12: =D11*0.55 -> 500865.75 | E12: =E11*0.55 -> 481257.15 | F12: =F11*0.55 -> 425388.15 | G12: =G11*0.55 -> 479042.85 | H12: =H11*0.55 -> 462156.75 | I12: =I11*0.55 -> 451537.35 | J12: =J11*0.55 -> 450984.6 | ... N12: =N11*0.55 -> 802114.5 | O12: =SUM(C12:N12) -> 6361279.7 | P12: Visit cultural events
B13: الــزيارات التجارية | C13: 176135 | D13: 163442 | E13: 119955 | F13: 67307 | G13: 73583 | H13: 80517 | I13: 77568 | J13: 82120 | K13: 110194 | L13: 130803 | M13: 123891 | N13: 159810 | O13: =SUM(C13:N13) -> 1365325 | P13: Business Visits
A14: 2022 | B14: الــزيارات الثقافية | C14: 728662 | D14: 722927 | E14: 795134 | F14: 662081 | G14: 768718 | H14: 716361 | I14: 826678 | J14: 989834 | K14: 1200586 | L14: 1365141 | M14: 1769044 | N14: 3637417 | O14: =SUM(C14:N14) -> 14182583 | P14: Cultural Visits | Q14: 2022
B15: زيارة الفعاليات الثقافية | C15: =C14*0.55 -> 400764.1 | D15: =D14*0.55 -> 397609.85 | E15: =E14*0.55 -> 437323.7 | F15: =F14*0.55 -> 364144.55 | G15: =G14*0.55 -> 422794.9 | H15: =H14*0.55 -> 393998.55 | I15: =I14*0.55 -> 454672.9 | J15: =J14*0.55 -> 544408.7 | ... N15: =N14*0.55 -> 2000579.4 | O15: =SUM(C15:N15) -> 7800420.7 | P15: Visit cultural events
B16: الــزيارات التجارية | C16: 154110 | D16: 147518 | E16: 171198 | F16: 104120 | G16: 161477 | H16: 133077 | I16: 110750 | J16: 109165 | K16: 138672 | L16: 150627 | M16: 215025 | N16: 272901 | O16: =SUM(C16:N16) -> 1868640 | P16: Business Visits
A17: 2023 | B17: الــزيارات الثقافية | C17: 1608618 | D17: 1790025 | E17: 1890981 | F17: 1662057 | G17: 1473129 | H17: 1379865 | I17: 1200245 | J17: 1265721 | K17: 1870000 | L17: 1465000 | M17: 1805000 | N17: 2265721 | O17: =SUM(C17:N17) -> 19676362 | P17: Cultural Visits | Q17: 2023
B18: زيارة الفعاليات الثقافية | C18: =C17*0.55 -> 884739.9 | D18: =D17*0.55 -> 984513.75 | E18: =E17*0.55 -> 1040039.6 | F18: =F17*0.55 -> 914131.35 | G18: =G17*0.55 -> 810220.95 | H18: =H17*0.55 -> 758925.75 | I18: =I17*0.55 -> 660134.75 | J18: =J17*0.55 -> 696146.55 | ... N18: =N17*0.55 -> 1246146.6 | O18: =SUM(C18:N18) -> 10821999 | P18: Visit cultural events
B19: الــزيارات التجارية | C19: 70724 | D19: 56208 | E19: 74101 | F19: 40393 | G19: 42102 | H19: 32206 | I19: 26798 | J19: 28986 | K19: 33164 | L19: 41320 | M19: 67782 | N19: 76679 | O19: =SUM(C19:N19) -> 590463 | P19: Business Visits
A20: 2024 | B20: الــزيارات الثقافية | C20: 2192088 | D20: 1790444 | E20: 1490545 | F20: 2294011 | G20: 2164688 | H20: 1150655 | I20: 859819 | J20: 978577 | K20: 1137485 | L20: 1092180 | M20: 1513726 | N20: 2079346 | O20: =SUM(C20:N20) -> 18743564 | P20: Cultural Visits | Q20: 2024
B21: زيارة الفعاليات الثقافية | C21: =C20*0.55 -> 1205648.4 | D21: =D20*0.55 -> 984744.2 | E21: =E20*0.55 -> 819799.75 | F21: =F20*0.55 -> 1261706.1 | G21: =G20*0.55 -> 1190578.4 | H21: =H20*0.55 -> 632860.25 | I21: =I20*0.55 -> 472900.45 | J21: =J20*0.55 -> 538217.35 | ... N21: =N20*0.55 -> 1143640.3 | O21: =SUM(C21:N21) -> 10308960 | P21: Visit cultural events
B22: الــزيارات التجارية | C22: 182592 | D22: 167607 | E22: 90806 | F22: 102292 | G22: 92422 | H22: 34532 | I22: 48978 | J22: 51394 | K22: 82319 | L22: 93970 | M22: 127771 | N22: 131953 | O22: =SUM(C22:N22) -> 1206636 | P22: Business Visits
A23: (1) الزيارات الثقافية هي إجمالي عدد الزيارات للحي الثقافي من جميع مداخل كتارا ويسمى بالمرور الثقافي العام (سواء المشاركة بالقطاع الثقافي للفعاليات أو زيارة القطاع التجاري للمطاعم ومنافذ البيع أو مزاولة الرياضة والترفيه أو التنزه بالشاطئ الخ، وما في حكمها). | J23: (1) Cultural visits are the total number of visits to the Cultural Village Foundation from all Katara entrances and this is called general cultural traffic (whether cultural sector participation in events, commercial sector visits to restaurants and outlets, practicing sports and entertainment, beach picnicking, etc.).
A24: (2) زيارة الفعاليات الثقافية هي عدد الزيارات والمشاركات في الفعاليات الثقافية المقامة بالحي الثقافي، ونظرا لعدم امكانية قياس عدد الزوار والزيارات لأن معظم الفعاليات في الأماكن المفتوحة فقد تم احتساب نسبة تقديرية تمثل 55% من إجمالي الزيارات الثقافية (أو مؤشر المرور الثقافي العام). | J24: (2) Cultural events visit is the number of visits and participations in cultural events held in Katara. Since it is not possible to measure the number of visitors and visits because most events are held in open spaces, then an estimated ratio have been calculated at 55% of the total cultural visits (or the general cultural traffic index).
A25: (3) الزيارات التجارية هي عدد الزيارات للحي الثقافي للقطاع التجاري فقط وتشمل المطاعم ومنافذ البيع ومصدرها نقاط البيع أو ما يسمى. | J25: (3) Commercial visits are the number of visits to the Cultural Village Foundation for the commercial sector only and this includes restaurants, outlets; the source of which is the Points of Sale.
D52: Cultural Visits
D54: Business Visits

Sheet 176
A1: الممارسون للحرف الشعبية في مركز الإنماء الاجتماعي حسب الجنسية والنوع
A2: 2024
A3: Practitioners of The Character Popular in The Social Development Center by Nationality & Gender
A4: 2024
A5: جدول رقم (176) | K5: Table No. (176)
A6: الجنسية والنوع الحرفة | B6: قطريون | E6: غير قطريين | H6: المجموع | K6: Nationality & Gender Crafts
B7: Qataris | E7: Non-Qataris | H7: Total
B8: ذكور Males | C8: إناث Females | D8: المجموع Total | E8: ذكور Males | F8: إناث Females | G8: المجموع Total | H8: ذكور Males | I8: إناث Females | J8: المجموع Total
A10: انتاج الأطعمة الشعبية | B10: 21 | C10: 76 | D10: =SUM(B10:C10) -> 97 | E10: 40 | F10: 62 | G10: =SUM(E10:F10) -> 102 | H10: =B10+E10 -> 61 | I10: =C10+F10 -> 138 | J10: =SUM(H10:I10) -> 199 | K10: Traditional Food Making
A11: صناعة السفن الخشبية (القلاف) | B11: 5 | C11: 0 | D11: =SUM(B11:C11) -> 5 | E11: 101 | F11: 0 | G11: =SUM(E11:F11) -> 101 | H11: =B11+E11 -> 106 | I11: =C11+F11 -> 0 | J11: =SUM(H11:I11) -> 106 | K11: Wooden Ship Building (Qilaf)
A12: التعدين (الصفار) | B12: 0 | C12: 0 | D12: =SUM(B12:C12) -> 0 | E12: 20 | F12: 1 | G12: =SUM(E12:F12) -> 21 | H12: =B12+E12 -> 20 | I12: =C12+F12 -> 1 | J12: =SUM(H12:I12) -> 21 | K12: Metal Bleaching
A13: الغوص وتوابعه | B13: 0 | C13: 0 | D13: =SUM(B13:C13) -> 0 | E13: 3 | F13: 0 | G13: =SUM(E13:F13) -> 3 | H13: =B13+E13 -> 3 | I13: =C13+F13 -> 0 | J13: =SUM(H13:I13) -> 3 | K13: Divining
A14: الصيد وتوابعه | B14: 100 | C14: 0 | D14: =SUM(B14:C14) -> 100 | E14: 1003 | F14: 0 | G14: =SUM(E14:F14) -> 1003 | H14: =B14+E14 -> 1103 | I14: =C14+F14 -> 0 | J14: =SUM(H14:I14) -> 1103 | K14: Fishing
A15: صناعة الصناديق المبيتة | B15: 6 | C15: 0 | D15: =SUM(B15:C15) -> 6 | E15: 5 | F15: 50 | G15: =SUM(E15:F15) -> 55 | H15: =B15+E15 -> 11 | I15: =C15+F15 -> 50 | J15: =SUM(H15:I15) -> 61 | K15: Traditional Wooden Box
A16: التلي | B16: 0 | C16: 6 | D16: =SUM(B16:C16) -> 6 | E16: 11 | F16: 15 | G16: =SUM(E16:F16) -> 26 | H16: =B16+E16 -> 11 | I16: =C16+F16 -> 21 | J16: =SUM(H16:I16) -> 32 | K16: Tele
A17: السعف | B17: 0 | C17: 15 | D17: =SUM(B17:C17) -> 15 | E17: 10 | F17: 6 | G17: =SUM(E17:F17) -> 16 | H17: =B17+E17 -> 10 | I17: =C17+F17 -> 21 | J17: =SUM(H17:I17) -> 31 | K17: Palm Leaves Crafting
A18: صناعة البطاطيل | B18: 0 | C18: 6 | D18: =SUM(B18:C18) -> 6 | E18: 5 | F18: 6 | G18: =SUM(E18:F18) -> 11 | H18: =B18+E18 -> 5 | I18: =C18+F18 -> 12 | J18: =SUM(H18:I18) -> 17 | K18: Traditional Face Masks (Batateel)
A19: صناعة النقابات | B19: 0 | C19: 6 | D19: =SUM(B19:C19) -> 6 | E19: 0 | F19: 10 | G19: =SUM(E19:F19) -> 10 | H19: =B19+E19 -> 0 | I19: =C19+F19 -> 16 | J19: =SUM(H19:I19) -> 16 | K19: Veil Making (Neqab)
A20: صناعة البشوت | B20: 11 | C20: 0 | D20: =SUM(B20:C20) -> 11 | E20: 50 | F20: 0 | G20: =SUM(E20:F20) -> 50 | H20: =B20+E20 -> 61 | I20: =C20+F20 -> 0 | J20: =SUM(H20:I20) -> 61 | K20: Bishut Making (Men's Cloaks)
A21: صناعة السجاد | B21: 0 | C21: 0 | D21: =SUM(B21:C21) -> 0 | E21: 0 | F21: 0 | G21: =SUM(E21:F21) -> 0 | H21: =B21+E21 -> 0 | I21: =C21+F21 -> 0 | J21: =SUM(H21:I21) -> 0 | K21: Carpet Weaving
... A32: الضيافة القطرية | B32: 50 | C32: 54 | D32: =SUM(B32:C32) -> 104 | E32: 100 | F32: 40 | G32: =SUM(E32:F32) -> 140 | H32: =B32+E32 -> 150 | I32: =C32+F32 -> 94 | J32: =SUM(H32:I32) -> 244 | K32: Qatari Hospitality
A33: المجموع | B33: =SUM(B10:B32) -> 239 | C33: =SUM(C10:C32) -> 397 | D33: =SUM(D10:D32) -> 636 | E33: =SUM(E10:E32) -> 1622 | F33: =SUM(F10:F32) -> 545 | G33: =SUM(G10:G32) -> 2167 | H33: =SUM(H10:H32) -> 1861 | I33: =SUM(I10:I32) -> 942 | J33: =SUM(J10:J32) -> 2803 | K33: Total

Sheet 177
A1: الفعاليات الثقافية في المؤسسة العامة للحي الثقافي (كتارا) حسب نوع الفعالية
A2: CULTURAL EVENTS AT THE CULTURAL VILLAGE FOUNDATION (KATARA) BY TYPE OF EVENT
A3: 2020 - 2024
A4: جدول رقم (177) | G4: Table No. (177)
A5: السنة نوع الفعالية | B5: *2020 | C5: 2021 | D5: 2022 | E5: 2023 | F5: 2024 | G5: Year Type of event
A7: حفلات موسيقية | B7: 13 | C7: 14 | D7: 27 | E7: 10 | F7: 31 | G7: Live Music Arts
A8: فنون بصرية وتشكيلية | B8: 14 | C8: 22 | D8: 283 | E8: 58 | F8: 89 | G8: Visual Arts
A9: دراما ومسرح | B9: 5 | C9: 17 | D9: 24 | E9: 20 | F9: 9 | G9: Drama & Theater
A10: رياضة وترفيه | B10: 4 | C10: 10 | D10: 10 | E10: 14 | F10: 7 | G10: Sports & Recreation
A11: مهرجانات | B11: 9 | C11: 17 | D11: 66 | E11: 8 | F11: 18 | G11: Festivals
A12: فعاليات متنوعة | B12: 21 | C12: 9 | D12: 33 | E12: 25 | F12: 11 | G12: Various Events
A13: معارض وصالات الفنون | B13: 17 | C13: 30 | D13: 60 | E13: 58 | F13: 53 | G13: Exhibitions & Art Galleries
A14: ندوات ومحاضرات ومؤتمرات | B14: 17 | C14: 11 | D14: 32 | E14: 76 | F14: 86 | G14: Seminars, Lectures and Conferences
A15: تطوير المواهب | B15: 42 | C15: 74 | D15: 91 | E15: 103 | F15: 93 | G15: Talent Development
A16: المجموع | B16: =SUM(B7:B15) -> 142 | C16: =SUM(C7:C15) -> 204 | D16: =SUM(D7:D15) -> 626 | E16: =SUM(E7:E15) -> 372 | F16: =SUM(F7:F15) -> 397 | G16: Total
A17: * الانخفاض يعود لجائحة (كوفيد-19). | G17: * The decline is due to the (Covid-19) pandemic.

Sheet 178
A1: الفعاليات الثقافية في المؤسسة العامة للحي الثقافي (كتارا) حسب الشهر
A2: CULTURAL EVENTS AT THE CULTURAL VILLAGE FOUNDATION (KATARA) BY MONTH
A3: 2024 - 2020
A4: جدول رقم (178) | G4: Table No. (178)
A5: السنة الشهر | B5: *2020 | C5: 2021 | D5: 2022 | E5: 2023 | F5: 2024 | G5: Year Month
A7: يناير | B7: 48 | C7: 28 | D7: 9 | E7: 35 | F7: 63 | G7: January
A8: فبراير | B8: 35 | C8: 16 | D8: 19 | E8: 33 | F8: 47 | G8: February
A9: مارس | B9: 3 | C9: 9 | D9: 75 | E9: 44 | F9: 32 | G9: March
A10: ابريل | B10: 2 | C10: 4 | D10: 41 | E10: 13 | F10: 26 | G10: April
A11: مايو | B11: 4 | C11: 3 | D11: 33 | E11: 38 | F11: 24 | G11: May
A12: يونيو | B12: 6 | C12: 2 | D12: 51 | E12: 36 | F12: 25 | G12: June
A13: يوليو | B13: 6 | C13: 3 | D13: 39 | E13: 18 | F13: 24 | G13: July
A14: اغسطس | B14: 1 | C14: 5 | D14: 48 | E14: 23 | F14: 13 | G14: August
A15: سبتمبر | B15: 6 | C15: 17 | D15: 48 | E15: 39 | F15: 29 | G15: September
A16: اكتوبر | B16: 12 | C16: 41 | D16: 41 | E16: 19 | F16: 38 | G16: October
A17: نوفمبر | B17: 12 | C17: 52 | D17: 116 | E17: 41 | F17: 30 | G17: November
A18: ديسمبر | B18: 7 | C18: 24 | D18: 106 | E18: 33 | F18: 46 | G18: December
A19: المجموع | B19: =SUM(B7:B18) -> 142 | C19: =SUM(C7:C18) -> 204 | D19: =SUM(D7:D18) -> 626 | E19: =SUM(E7:E18) -> 372 | F19: =SUM(F7:F18) -> 397 | G19: Total
A20: * الانخفاض يعود لجائحة (كوفيد-19). | G20: * The decline is due to the (Covid-19) pandemic.

Sheet 179
A1: الفعاليات الثقافية في المؤسسة العامة للحي الثقافي (كتارا) حسب الشهر ونوع الفعالية
A2: CULTURAL EVENTS AT THE CULTURAL VILLAGE FOUNDATION (KATARA) BY MONTH AND TYPE OF EVENT
A3: 2024
A4: جدول رقم (179) | O4: Table No. (179)
A5: الشهر نوع الفعالية | B5: يناير | C5: فبراير | D5: مارس | E5: أبريل | F5: مايو | G5: يونيو | H5: يوليو | I5: أغسطس | J5: سبتمبر | K5: أكتوبر | L5: نوفمبر | M5: ديسمبر | N5: المجموع | O5: Month Type of event
B6: Jan. | C6: Feb. | D6: Mar. | E6: Apr. | F6: May | G6: Jun. | H6: Jul. | I6: Aug. | J6: Sept. | K6: Oct. | L6: Nov. | M6: Dec. | N6: Total
A7: حفلات موسيقية | B7: 14 | C7: 2 | D7: 0 | E7: 0 | F7: 6 | G7: 0 | H7: 0 | I7: 0 | J7: 1 | K7: 5 | L7: 1 | M7: 2 | N7: =SUM(B7:M7) -> 31 | O7: Concerts
A8: فنون بصرية وتشكيلية | B8: 17 | C8: 10 | D8: 9 | E8: 10 | F8: 5 | G8: 4 | H8: 4 | I8: 3 | J8: 3 | K8: 8 | L8: 6 | M8: 10 | N8: =SUM(B8:M8) -> 89 | O8: Fine & Visual Arts
A9: دراما ومسرح | B9: 0 | C9: 0 | D9: 0 | E9: 1 | F9: 0 | G9: 1 | H9: 0 | I9: 0 | J9: 1 | K9: 3 | L9: 0 | M9: 3 | N9: =SUM(B9:M9) -> 9 | O9: Drama & Theater
A10: رياضة وترفيه | B10: 1 | C10: 3 | D10: 2 | E10: 0 | F10: 0 | G10: 1 | H10: 0 | I10: 0 | J10: 0 | K10: 0 | L10: 0 | M10: 0 | N10: =SUM(B10:M10) -> 7 | O10: Sports & Entertainment
A11: مهرجانات | B11: 1 | C11: 4 | D11: 1 | E11: 2 | F11: 0 | G11: 1 | H11: 1 | I11: 0 | J11: 0 | K11: 1 | L11: 5 | M11: 2 | N11: =SUM(B11:M11) -> 18 | O11: Festivals
A12: فعاليات متنوعة | B12: 4 | C12: 0 | D12: 0 | E12: 0 | F12: 0 | G12: 4 | H12: 0 | I12: 0 | J12: 0 | K12: 1 | L12: 0 | M12: 2 | N12: =SUM(B12:M12) -> 11 | O12: Various Events
A13: معارض وصالات الفنون | B13: 10 | C13: 16 | D13: 4 | E13: 7 | F13: 1 | G13: 0 | H13: 3 | I13: 1 | J13: 3 | K13: 2 | L13: 1 | M13: 5 | N13: =SUM(B13:M13) -> 53 | O13: Exhibitions & Art Galleries
A14: ندوات ومحاضرات ومؤتمرات | B14: 6 | C14: 9 | D14: 14 | E14: 5 | F14: 10 | G14: 7 | H14: 1 | I14: 1 | J14: 1 | K14: 9 | L14: 8 | M14: 15 | N14: =SUM(B14:M14) -> 86 | O14: Seminars, Lectures & Conferences
A15: تطوير المواهب | B15: 10 | C15: 3 | D15: 2 | E15: 1 | F15: 2 | G15: 7 | H15: 15 | I15: 8 | J15: 20 | K15: 9 | L15: 9 | M15: 7 | N15: =SUM(B15:M15) -> 93 | O15: Talent Development
A16: المجموع | B16: =SUM(B7:B15) -> 63 | C16: =SUM(C7:C15) -> 47 | D16: =SUM(D7:D15) -> 32 | E16: =SUM(E7:E15) -> 26 | F16: =SUM(F7:F15) -> 24 | G16: =SUM(G7:G15) -> 25 | H16: =SUM(H7:H15) -> 24 | I16: =SUM(I7:I15) -> 13 | ... N16: =SUM(N7:N15) -> 397 | O16: Total

Sheet 180
A1: مرافق المؤسسة العامة للحي الثقافي (كتارا)
A2: FACILITIES OF THE CULTURAL VILLAGE FOUNDATION (KATARA)
A3: 2020- 2024
A4: جدول رقم (180) | G4: Table No. (180)
A5: السنة المرافق | B5: 2020 | C5: 2021 | D5: 2022 | E5: 2023 | F5: 2024 | G5: Year Facilities
A6: منشآت ثقافية: | G6: Cultural Facilities:
A7: المدرج الروماني (المسرح المكشوف) بسعة 4,000 شخص | B7: 1 | C7: 1 | D7: 1 | E7: 1 | F7: 1 | G7: Amphitheatre (Open Theater)
A8: المسارح (دراما واوبرا) | B8: 2 | C8: 2 | D8: 2 | E8: 2 | F8: 2 | G8: Theaters (Drama & Opera)
A9: صالات عرض مجهزة | B9: 10 | C9: 11 | D9: 14 | E9: 14 | F9: 14 | G9: Gallery
A10: قاعات مجهزة | B10: 7 | C10: 7 | D10: 8 | E10: 8 | F10: 8 | G10: Halls
A11: قاعة أفراح ومناسبات | B11: 1 | C11: 1 | D11: 1 | E11: 1 | F11: 1 | G11: Wedding and Events Hall
A12: مول تجاري (مول الأطفال ومول شارع 21) | B12: 1 | C12: 1 | D12: 2 | E12: 3 | F12: 3 | G12: Commercial Plaza (21Street) & Children Mall
A13: مجمع كتارا بلازا الجنوبي | B13: 1 | C13: 1 | D13: 1 | E13: 1 | F13: 1 | G13: Katara South Plaza Complex
A14: متحف الصقور | B14: 1 | C14: 1 | D14: 1 | E14: 1 | F14: 1 | G14: Falconry Museum
A15: عيادة بيطرية | B15: 1 | C15: 1 | D15: 1 | E15: 1 | F15: 1 | G15: Veterinary Clinic
A16: أكاديمية قطر للموسيقى (تعليم الموسيقى للأجيال) | B16: 1 | C16: 1 | D16: 1 | E16: 1 | F16: 1 | G16: Qatar Music Academy (Music Education)
A17: إذاعة راديو (صوت الخليج ومزاجي اف ام) | B17: 2 | C17: 2 | D17: 2 | E17: 2 | F17: 2 | G17: Broacasting & Radio Station (Sout Al-Khaleej & Mazagi FM)
A18: شركة ستوديو كتارا (انتاج وتسجيل الموسيقى) | B18: 1 | C18: 1 | D18: 1 | E18: 1 | F18: 1 | G18: Katara Studio (Music Recording & Production)
... A24: جسر المشاة يربط بين كتارا والنادي الدبلوماسي | B24: 1 | C24: 1 | D24: 1 | E24: 1 | F24: 1 | G24: Pedestrian Bridge Connectivity between Katara and Diplomatic Club
A25: منشآت رياضية وترفيه: | G25: Sport & Recreation Facilities:
A26: حدائق وتلال كتارا (منطقة الجنوب والشمال) | B26: 2 | C26: 2 | D26: 2 | E26: 2 | F26: 2 | G26: Katara Gardens and Hills "N & S Precinct"
A27: نادي شاطئ كتارا (صالة رياضية متكاملة) | B27: 1 | C27: 1 | D27: 1 | E27: 1 | F27: 1 | G27: Katara Beach Club (GYM)
A28: ملاعب باديل | B28: 0 | C28: 0 | D28: 1 | E28: 1 | F28: 1 | G28: Padel Courts
A29: صالات بولينج | B29: 0 | C29: 0 | D29: 0 | E29: 0 | F29: 0 | G29: Bowling Alley
A30: مرافق شاطئ كتارا | B30: 1 | C30: 1 | D30: 1 | E30: 1 | F30: 1 | G30: Katara Beach Facility
A31: أنشطة الرياضات المائية | B31: 1 | C31: 1 | D31: 1 | E31: 1 | F31: 1 | G31: Beach & Water Sports
A32: شاطئ كتارا | B32: 1 | C32: 1 | D32: 1 | E32: 1 | F32: 1 | G32: Katara Beach
A33: مراكز ثقافية ومنافذ بيع وشركات عاملة: | G33: Cultural Centres, Commercial Outlets, & Companies:
A34: مراكز ثقافية | B34: 38 | C34: 39 | D34: 46 | E34: 46 | F34: 46 | G34: Creative Cultural Centers
A35: مطاعم | B35: 31 | C35: 39 | D35: 40 | E35: 51 | F35: 47 | G35: Restaurants & Outlets
A36: اكشاك تجارية منوعة | B36: 17 | C36: 17 | D36: 17 | E36: 20 | F36: 20 | G36: Kiosks
A37: محلات تجارية ومنافذ بيع | B37: 24 | C37: 49 | D37: 22 | E37: 22 | F37: 22 | G37: Shops
A38: شركات عاملة رئيسية | B38: 56 | C38: 38 | D38: 37 | E38: 58 | F38: 63 | G38: Key Operation Companies (Outsource)
A39: منشآت خدمية: | G39: Service Facilities:
A40: مساجد كتارا (المسجد العام والمسجد الذهبي) | B40: 2 | C40: 2 | D40: 2 | E40: 2 | F40: 2 | G40: Katara Mosque (Big Masjid & Golden Masjid)
A41: مواقف سيارات | B41: 5400 | C41: 5400 | D41: 5400 | E41: 4100 | F41: 4100 | G41: Car Parking
A42: محطة مترو قطر (شبكة القطار السريع: شمالية وجنوبية) | B42: 2 | C42: 2 | D42: 2 | E42: 2 | F42: 2 | G42: Qatar Rail Station Connectivity (North & South)
A43: محطة خدمات سيارات الأجرة | B43: 1 | C43: 1 | D43: 1 | E43: 1 | F43: 1 | G43: Taxi Station Connectivity
A44: محطة باص الدوحة السياحي | B44: 1 | C44: 1 | D44: 1 | E44: 1 | F44: 1 | G44: Doha Bus (Tourism Station)
A45: مخازن مبردة مخصصة للمطاعم (شمالية وجنوبية) | B45: 2 | C45: 2 | D45: 2 | E45: 6 | F45: 6 | G45: Storage Facilities & Warehouses (North & South)
A46: محطة تزويد الكهرباء (طاقة +مواقف سيارات اضافية) | B46: 1 | C46: 1 | D46: 1 | E46: 1 | F46: 1 | G46: Electricty Station Supply (Energy & Additional Parking Slots)
A47: المداخل الرئيسية للمؤسسة | B47: 5 | C47: 5 | D47: 5 | E47: 5 | F47: 5 | G47: Katara Traffic Entry & Exist
A48: سيارات الجولف للتنقل الداخلي (خدمة زوار الحي الثقافي) | B48: 40 | C48: 40 | D48: 40 | E48: 45 | F48: 45 | G48: Shuttle Club Cars (For Visitors)
A49: سيارات جولف لخدمة ذوي الاحتياجات | B49: 4 | C49: 4 | D49: 4 | E49: 4 | F49: 4 | G49: Disabled Shuttle Club Cars
A50: سيارات جولف (اسعاف) | B50: 2 | C50: 2 | D50: 2 | E50: 1 | F50: 1 | G50: Ambulance Club Cars
A51: دورات مياه (عمومي) | B51: 45 | C51: 45 | D51: 52 | E51: 28 | F51: 28 | G51: Toilets-Public
... A58: مركز معلومات كتارا (خدمات الاستعلام والمعلومات) | B58: 1 | C58: 1 | D58: 1 | E58: 1 | F58: 1 | G58: Katara Info Centre (Information Services)

Sheet 181
A1: الأفلام القصيرة والروائية التي شاركت قطر في إنتاجها في مؤسسة الدوحة للأفلام حسب نوع الفيلم وطريقة الإنتاج ونوع التمويل ولغة الإنتاج
A2: SHORT AND FEATURE FILMS THAT QATAR PARTICIPATED IN PRODUCTION AT THE DOHA FILM INSTITUTE BY TYPE OF FILM, PRODUCTION METHOD, TYPE OF FUNDING AND LANGUAGE OF PRODUCTION
A3: 2020 - 2024
A4: جدول رقم (181) | V4: Table No. (181)
A5: البيان | B5: الأفلام القيرة Short Films | G5: الأفلام الروائية Feature Films | L5: مسلسلات تلفزيونية TV Series | Q5: مسلسلات على الإنترنت Web Series | V5: Item
B6: 2020 | C6: 2021 | D6: 2022 | E6: 2023 | F6: 2024 | G6: 2020 | H6: 2021 | I6: 2022 | J6: 2023 | K6: 2024 | L6: 2020 | M6: 2021 | N6: 2022 | O6: 2023 | P6: 2024 | Q6: 2020 | R6: 2021 | S6: 2022 | T6: 2023 | U6: 2024
A7: نوع الفيلم: | V7: Type of Film:
A8: قصصي | B8: 15 | C8: 13 | D8: 21 | E8: 8 | F8: 16 | G8: 24 | H8: 24 | I8: 27 | J8: 35 | K8: 36 | L8: 3 | M8: 4 | N8: 4 | O8: 4 | P8: 9 | Q8: 1 | R8: 1 | S8: 0 | T8: 0 | U8: 2 | V8: Narrative
A9: وثائقي | B9: 3 | C9: 9 | D9: 1 | E9: 2 | F9: 3 | G9: 26 | H9: 25 | I9: 21 | J9: 20 | K9: 21 | L9: 0 | M9: 0 | N9: 0 | O9: 0 | P9: 0 | Q9: 3 | R9: 0 | S9: 1 | T9: 1 | U9: 0 | V9: Documentary
A10: الأفلام التجريبية | B10: 5 | C10: 3 | D10: 2 | E10: 9 | F10: 0 | G10: 1 | H10: 3 | I10: 1 | J10: 1 | K10: 4 | L10: 0 | M10: 0 | N10: 0 | O10: 0 | P10: 0 | Q10: 0 | R10: 0 | S10: 0 | T10: 0 | U10: 0 | V10: Experimental Or Essay
A11: رسوم متحركة (ثنائي وثلاثي الأبعاد) | B11: 3 | C11: 3 | D11: 7 | E11: 2 | F11: 1 | G11: 0 | H11: 0 | I11: 0 | J11: 0 | K11: 0 | L11: 0 | M11: 0 | N11: 0 | O11: 0 | P11: 0 | Q11: 1 | R11: 0 | S11: 1 | T11: 0 | U11: 0 | V11: Animation [2d & 3d]
A12: المجموع | B12: =SUM(B8:B11) -> 26 | C12: =SUM(C8:C11) -> 28 | D12: =SUM(D8:D11) -> 31 | E12: =SUM(E8:E11) -> 21 | F12: =SUM(F8:F11) -> 20 | G12: =SUM(G8:G11) -> 51 | H12: =SUM(H8:H11) -> 52 | I12: =SUM(I8:I11) -> 49 | ... T12: =SUM(T8:T11) -> 1 | U12: =SUM(U7:U11) -> 2 | V12: Total
A13: طريقة الإنتاج: | V13: Production Method:
A14: جودة عالية HD | B14: 23 | C14: 27 | D14: 24 | E14: 19 | F14: 19 | G14: 51 | H14: 52 | I14: 49 | J14: 56 | K14: 61 | L14: 3 | M14: 4 | N14: 4 | O14: 4 | P14: 9 | Q14: 4 | R14: 1 | S14: 3 | T14: 1 | U14: 2 | V14: High Definition
A15: رقمي بالرسوم المتحركة | B15: 3 | C15: 1 | D15: 7 | E15: 2 | F15: 1 | G15: 0 | H15: 0 | I15: 0 | J15: 0 | K15: 0 | L15: 0 | M15: 0 | N15: 0 | O15: 0 | P15: 0 | Q15: 1 | R15: 0 | S15: 1 | T15: 0 | U15: 0 | V15: Digital Animation
A16: المجموع | B16: =SUM(B14:B15) -> 26 | C16: =SUM(C14:C15) -> 28 | D16: =SUM(D14:D15) -> 31 | E16: =SUM(E14:E15) -> 21 | F16: =SUM(F14:F15) -> 20 | G16: =SUM(G14:G15) -> 51 | H16: =SUM(H14:H15) -> 52 | I16: =SUM(I14:I15) -> 49 | ... U16: =SUM(U14:U15) -> 2 | V16: Total
A17: نوع التمويل: | V17: Type Of Funding:
A18: التمويل المشترك | B18: 0 | C18: 0 | D18: 0 | E18: 0 | G18: 1 | H18: 5 | I18: 1 | J18: 4 | K18: 2 | L18: 0 | M18: 0 | N18: 0 | O18: 0 | P18: 0 | Q18: 0 | R18: 0 | S18: 0 | T18: 0 | U18: 0 | V18: Co-Finance
A19: منح | B19: 20 | C19: 19 | D19: 26 | E19: 15 | F19: 16 | G19: 50 | H19: 47 | I19: 48 | J19: 52 | K19: 59 | L19: 3 | M19: 4 | N19: 4 | O19: 4 | P19: 9 | Q19: 5 | R19: 1 | S19: 4 | T19: 3 | U19: 2 | V19: Grants
A20: صندوق الفيلم القطري | B20: 6 | C20: 4 | D20: 1 | E20: 6 | F20: 4 | G20: 0 | H20: 0 | I20: 0 | J20: 0 | L20: 0 | M20: 0 | N20: 0 | O20: 0 | P20: 0 | Q20: 0 | R20: 0 | S20: 0 | T20: 0 | U20: 0 | V20: Qatari Film Fund
A21: أخرى | B21: 0 | C21: 5 | D21: 4 | E21: 0 | G21: 0 | H21: 0 | I21: 0 | J21: 0 | L21: 0 | M21: 0 | N21: 0 | O21: 0 | P21: 0 | Q21: 0 | R21: 0 | S21: 0 | T21: 0 | U21: 0 | V21: Other
A22: المجموع | B22: =SUM(B18:B21) -> 26 | C22: =SUM(C18:C21) -> 28 | D22: =SUM(D18:D21) -> 31 | E22: =SUM(E18:E21) -> 21 | F22: =SUM(F18:F21) -> 20 | G22: =SUM(G18:G21) -> 51 | H22: =SUM(H18:H21) -> 52 | I22: =SUM(I18:I21) -> 49 | ... U22: =SUM(U18:U21) -> 2 | V22: Total
A23: لغة الإنتاج: | V23: Production Language:
A24: عربي | B24: 12 | C24: 25 | D24: 25 | E24: 20 | F24: 20 | G24: 15 | H24: 40 | I24: 26 | J24: 38 | K24: 47 | L24: 2 | M24: 4 | N24: 2 | O24: 4 | P24: 9 | Q24: 2 | R24: 1 | S24: 3 | T24: 3 | U24: 1 | V24: Arabic
A25: إنجليزي | B25: 4 | C25: 3 | D25: 3 | E25: 1 | F25: 0 | G25: 3 | H25: 6 | I25: 1 | J25: 10 | K25: 7 | L25: 0 | M25: 0 | N25: 1 | O25: 0 | P25: 0 | Q25: 1 | R25: 0 | S25: 0 | T25: 0 | U25: 0 | V25: English
A26: فرنسي | B26: 0 | C26: 0 | D26: 1 | E26: 0 | F26: 0 | G26: 0 | H26: 1 | I26: 1 | J26: 8 | K26: 3 | L26: 0 | M26: 0 | N26: 0 | O26: 0 | P26: 0 | Q26: 0 | R26: 0 | S26: 0 | T26: 0 | U26: 1 | V26: French
A27: إسباني | B27: 0 | C27: 0 | D27: 0 | E27: 0 | F27: 0 | G27: 2 | H27: 2 | I27: 3 | J27: 0 | K27: 3 | L27: 0 | M27: 0 | N27: 0 | O27: 0 | P27: 0 | Q27: 0 | R27: 0 | S27: 0 | T27: 0 | U27: 0 | V27: Spanish
A28: أكثرمن لغة | B28: 7 | C28: 0 | D28: 2 | E28: 0 | F28: 0 | G28: 24 | H28: 3 | I28: 12 | J28: 0 | K28: 1 | L28: 1 | M28: 0 | N28: 1 | O28: 0 | P28: 0 | Q28: 2 | R28: 0 | S28: 1 | T28: 0 | U28: 0 | V28: More Than One Language
A29: أخرى | B29: 3 | C29: 0 | D29: 0 | E29: 0 | F29: 0 | G29: 7 | H29: 0 | I29: 6 | J29: 0 | L29: 0 | M29: 0 | N29: 0 | O29: 0 | P29: 0 | Q29: 0 | R29: 0 | S29: 0 | T29: 0 | U29: 0 | V29: Other
A30: المجموع | B30: =SUM(B24:B29) -> 26 | C30: =SUM(C24:C29) -> 28 | D30: =SUM(D24:D29) -> 31 | E30: =SUM(E24:E29) -> 21 | F30: =SUM(F24:F29) -> 20 | G30: =SUM(G24:G29) -> 51 | H30: =SUM(H24:H29) -> 52 | I30: =SUM(I24:I29) -> 49 | ... U30: =SUM(U24:U29) -> 2 | V30: Total

Sheet 182
A1: الفنادق والشقق الفندقية حسب البلدية
A2: 2024
A3: HOTELS AND HOTEL APARTMENTS BY MUNICIPALITY
A4: 2024
A5: جدول (182) | D5: TABLE (182)
A6: البلدية | B6: الفنادق | C6: الشقق الفندقية | D6: Municipality
B7: Hotels | C7: Hotel Apartments
B8: 2024 | C8: 2024
A9: الدوحة | B9: 131 | C9: 35 | D9: Doha
A10: الريان | B10: 7 | C10: 0 | D10: Al-Rayyan
A11: الوكرة | B11: 4 | C11: 1 | D11: Al-Wakrah
A12: ام صلال | B12: 0 | C12: 0 | D12: Umm Salal
A13: الخور والذخيرة | B13: 1 | C13: 1 | D13: Al-Khor & Al-Thakhira
A14: الشمال | B14: 2 | C14: 0 | D14: Al-Shamal
A15: الظعاين | B15: 10 | C15: 2 | D15: Al-Daayen
A16: الشحانية | B16: 2 | C16: 0 | D16: Al-Shahanniya
A17: المجموع | B17: =SUM(B9:B16) -> 157 | C17: =SUM(C9:C16) -> 39 | D17: Total

Sheet 183
A1: الفنادق والشقق الفندقية والغرف والأسرة والنزلاء وليالي الإقامة حسب درجة الفندق
A2: HOTELS, HOTEL APARTMENTS, ROOMS, BEDS, GUESTS AND OVERNIGHT STAYS BY HOTEL CLASS
A3: 2024
A4: جدول رقم (183) | K4: Table No. (183)
A5: الدرجة البيان والسنة | C5: خمس نجوم | D5: أربع نجوم | E5: ثلاث نجوم | F5: نجمتان ونجمة واحدة | G5: المجموع | H5: عدد منشآت الشقق الفندقية | I5: المجموع العام | J5: Class Item & Year
C6: Five Star (*****) | D6: Four Star (****) | E6: Three Star (***) | F6: Two & One Star (**) & (*) | G6: Total | H6: No. of Hotel Apartment Properties | I6: Grand Total
A7: عدد الفنادق | C7: 81 | D7: 44 | E7: 22 | F7: 10 | G7: =SUM(C7:F7) -> 157 | H7: 39 | I7: =H7+G7 -> 196 | J7: No. of Hotels
A8: عدد الغرف | C8: 19753 | D8: 8095 | E8: 2274 | F8: 586 | G8: =SUM(C8:F8) -> 30708 | H8: 13755 | I8: =G8+H8 -> 44463 | J8: No. of Rooms
A9: عدد الأسرة | C9: 29485 | D9: 10814 | E9: 3410 | F9: 650 | G9: =SUM(C9:F9) -> 44359 | H9: 20064 | I9: =H9+G9 -> 64423 | J9: No. of Beds
A10: عدد النزلاء | C10: 4531665.9 | D10: 1565889 | E10: 715609 | F10: 133480 | G10: =SUM(C10:F10) -> 6946643.9 | H10: 1691186.5 | I10: =H10+G10 -> 8637830.4 | J10: No. of Guests
A11: عدد ليالي المبيت | C11: 8055329.1 | D11: 2663425.9 | E11: 1336360 | F11: 224000 | G11: =SUM(C11:F11) -> 12279115 | H11: 3996404 | I11: =H11+G11 -> 16275519 | J11: No. of Overnight Stays
A15: نسبة التغير
A18: الدرجة البيان والسنة | C18: خمس نجوم | D18: أربع نجوم | E18: ثلاث نجوم | F18: نجمتان ونجمة واحدة | G18: المجموع | H18: عدد منشآت الشقق الفندقية | I18: المجموع العام | J18: Class Item & Year
C19: Five Star (*****) | D19: Four Star (****) | E19: Three Star (***) | F19: Two & One Star (**) & (*) | G19: Total | H19: No. of Hotel Apartment Properties | I19: Grand Total
A20: عدد الفنادق | B20: 2022 | J20: 2022 | K20: No. of Hotels
B21: 2023 | C21: =C7/#REF!%-100 -> #REF! | D21: =D7/#REF!%-100 -> #REF! | E21: =E7/#REF!%-100 -> #REF! | F21: =F7/#REF!%-100 -> #REF! | G21: =G7/#REF!%-100 -> #REF! | H21: =H7/#REF!%-100 -> #REF! | I21: =I7/#REF!%-100 -> #REF! | J21: 2023
A22: عدد الغرف | B22: 2022 | J22: 2022 | K22: No. of Rooms
B23: 2023 | C23: =C8/#REF!%-100 -> #REF! | D23: =D8/#REF!%-100 -> #REF! | E23: =E8/#REF!%-100 -> #REF! | F23: =F8/#REF!%-100 -> #REF! | G23: =G8/#REF!%-100 -> #REF! | H23: =H8/#REF!%-100 -> #REF! | I23: =I8/#REF!%-100 -> #REF! | J23: 2023
A24: عدد الأسرة | B24: 2022 | J24: 2022 | K24: No. of Beds
B25: 2023 | C25: =C9/#REF!%-100 -> #REF! | D25: =D9/#REF!%-100 -> #REF! | E25: =E9/#REF!%-100 -> #REF! | F25: =F9/#REF!%-100 -> #REF! | G25: =G9/#REF!%-100 -> #REF! | H25: =H9/#REF!%-100 -> #REF! | I25: =I9/#REF!%-100 -> #REF! | J25: 2023
A26: عدد النزلاء | B26: 2022 | J26: 2022 | K26: No. of Guests
B27: 2023 | C27: =C10/#REF!%-100 -> #REF! | D27: =D10/#REF!%-100 -> #REF! | E27: =E10/#REF!%-100 -> #REF! | F27: =F10/#REF!%-100 -> #REF! | G27: =G10/#REF!%-100 -> #REF! | H27: =H10/#REF!%-100 -> #REF! | I27: =I10/#REF!%-100 -> #REF! | J27: 2023
A28: عدد ليالي الإقامة | B28: 2022 | J28: 2022 | K28: No. of Overnight Stays
B29: 2023 | C29: =C11/#REF!%-100 -> #REF! | D29: =D11/#REF!%-100 -> #REF! | E29: =E11/#REF!%-100 -> #REF! | F29: =F11/#REF!%-100 -> #REF! | G29: =G11/#REF!%-100 -> #REF! | H29: =H11/#REF!%-100 -> #REF! | I29: =I11/#REF!%-100 -> #REF! | J29: 2023

Sheet 184
A1: نزلاء الفنادق والشقق الفندقية حسب ليالي الإقامة والشهر
A2: 2024
A3: HOTEL AND HOTEL APARTMENTS GUESTS BY OVERNIGHT STAYS AND MONTH
A4: 2024
A5: جدول رقم (184) | H5: Table No. (184)
A6: البيان الشهر | B6: 2024 | H6: Item Month
B7: الفنادق | D7: الشقق الفندقية | F7: المجموع
B8: Hotels | D8: Hotel Apartments | F8: Total
B9: نزلاء Guests | C9: ليالي Nights | D9: نزلاء Guests | E9: ليالي Nights | F9: نزلاء Guests | G9: ليالي Nights
A11: يناير | B11: 652149.2 | C11: 1198161.7 | D11: 158769 | E11: 380527 | F11: =B11+D11 -> 810918.2 | G11: =C11+E11 -> 1578688.7 | H11: January | I11: =B11-#REF! -> #REF! | J11: =D11-#REF! -> #REF! | K11: =B11/$B$23% -> 9.3879751 | L11: =C11/$C$23% -> 9.7577205
A12: فبراير | B12: 617962.1 | C12: 1127616.8 | D12: 160340 | E12: 368934 | F12: =B12+D12 -> 778302.1 | G12: =C12+E12 -> 1496550.8 | H12: February | I12: =B12-#REF! -> #REF! | J12: =D12-#REF! -> #REF! | K12: =B12/$B$23% -> 8.8958367 | L12: =C12/$C$23% -> 9.1832088
A13: مارس | B13: 445458.1 | C13: 807631.62 | D13: 131533 | E13: 298558 | F13: =B13+D13 -> 576991.1 | G13: =C13+E13 -> 1106189.6 | H13: March | I13: =B13-#REF! -> #REF! | J13: =D13-#REF! -> #REF! | K13: =B13/$B$23% -> 6.4125656 | L13: =C13/$C$23% -> 6.5772787
A14: أبريل | B14: 519361.1 | C14: 918746.17 | D14: 125660 | E14: 294155 | F14: =B14+D14 -> 645021.1 | G14: =C14+E14 -> 1212901.2 | H14: April | I14: =B14-#REF! -> #REF! | J14: =D14-#REF! -> #REF! | K14: =B14/$B$23% -> 7.4764319 | L14: =C14/$C$23% -> 7.4821855
A15: مايو | B15: 544614.1 | C15: 940028.1 | D15: 133900.5 | E15: 314093 | F15: =B15+D15 -> 678514.6 | G15: =C15+E15 -> 1254121.1 | H15: May | I15: =B15-#REF! -> #REF! | J15: =D15-#REF! -> #REF! | K15: =B15/$B$23% -> 7.83996 | L15: =C15/$C$23% -> 7.6555037
A16: يونيو | B16: 517456.1 | C16: 877430.37 | D16: 121369 | E16: 292823 | F16: =B16+D16 -> 638825.1 | G16: =C16+E16 -> 1170253.4 | H16: June | I16: =B16-#REF! -> #REF! | J16: =D16-#REF! -> #REF! | K16: =B16/$B$23% -> 7.4490086 | L16: =C16/$C$23% -> 7.1457134
A17: يوليو | B17: 527125.1 | C17: 909244.72 | D17: 126671.8 | E17: 302343 | F17: =B17+D17 -> 653796.9 | G17: =C17+E17 -> 1211587.7 | H17: July | I17: =B17-#REF! -> #REF! | J17: =D17-#REF! -> #REF! | K17: =B17/$B$23% -> 7.5881981 | L17: =C17/$C$23% -> 7.4048066
A18: أغسطس | B18: 544579.1 | C18: 930988.65 | D18: 130476.2 | E18: 312122 | F18: =B18+D18 -> 675055.3 | G18: =C18+E18 -> 1243110.6 | H18: August | I18: =B18-#REF! -> #REF! | J18: =D18-#REF! -> #REF! | K18: =B18/$B$23% -> 7.8394561 | L18: =C18/$C$23% -> 7.5818872
A19: سبتمبر | B19: 522044 | C19: 914071.99 | D19: 126020.9 | E19: 305647 | F19: =B19+D19 -> 648064.9 | G19: =C19+E19 -> 1219719 | H19: September | I19: =B19-#REF! -> #REF! | J19: =D19-#REF! -> #REF! | K19: =B19/$B$23% -> 7.5150534 | L19: =C19/$C$23% -> 7.4441194
A20: أكتوبر | B20: 603042 | C20: 1056183.9 | D20: 134204 | E20: 339134 | F20: =B20+D20 -> 737246 | G20: =C20+E20 -> 1395317.9 | H20: October | I20: =B20-#REF! -> #REF! | J20: =D20-#REF! -> #REF! | K20: =B20/$B$23% -> 8.6810553 | L20: =C20/$C$23% -> 8.6014659
A21: نوفمبر | B21: 711531 | C21: 1273110.2 | D21: 164190 | E21: 377848 | F21: =B21+D21 -> 875721 | G21: =C21+E21 -> 1650958.2 | H21: November | I21: =B21-#REF! -> #REF! | J21: =D21-#REF! -> #REF! | K21: =B21/$B$23% -> 10.242802 | L21: =C21/$C$23% -> 10.368094
A22: ديسمبر | B22: 741322 | C22: 1325900.8 | D22: 178052.1 | E22: 410220 | F22: =B22+D22 -> 919374.1 | G22: =C22+E22 -> 1736120.8 | H22: December | I22: =B22-#REF! -> #REF! | J22: =D22-#REF! -> #REF! | K22: =B22/$B$23% -> 10.671657 | L22: =C22/$C$23% -> 10.798016
A23: المجموع | B23: =SUM(B11:B22) -> 6946643.9 | C23: =SUM(C11:C22) -> 12279115 | D23: =SUM(D11:D22) -> 1691186.5 | E23: =SUM(E11:E22) -> 3996404 | F23: =SUM(F11:F22) -> 8637830.4 | G23: =SUM(G11:G22) -> 16275519 | H23: Total | I23: =B23-#REF! -> #REF! | J23: =D23-#REF! -> #REF! | K23: =SUM(K11:K22) -> 100 | L23: =SUM(L11:L22) -> 100
B27: =(B23-#REF!)/#REF!% -> #REF! | C27: =(C23-#REF!)/#REF!% -> #REF! | D27: =(D23-#REF!)/#REF!% -> #REF! | E27: =(E23-#REF!)/#REF!% -> #REF! | F27: =(F23-#REF!)/#REF!% -> #REF! | G27: =(G23-#REF!)/#REF!% -> #REF!

Sheet 185
A1: نزلاء الفنادق والشقق الفندقية الخليجيون حسب الجنسية وليالي الإقامة
A2: HOTEL AND HOTEL APARTMENTS GULF GUESTS BY NATIONALITY AND OVERNIGHT STAYS
A3: 2024
A4: جدول رقم (185) | R4: Table No. (185)
A5: الجنسية السنة | C5: قطر Qatar | E5: السعودية K.S.A | G5: الإمارات U.A.E | I5: الكويت Kuwait | K5: البحرين Bahrain | M5: عمان Oman | O5: المجموع Total | Q5: Nationality Year
C7: نزلاء | D7: ليالي | E7: نزلاء | F7: ليالي | G7: نزلاء | H7: ليالي | I7: نزلاء | J7: ليالي | K7: نزلاء | L7: ليالي | M7: نزلاء | N7: ليالي | O7: نزلاء | P7: ليالي
C8: Guests | D8: Nights | E8: Guests | F8: Nights | G8: Guests | H8: Nights | I8: Guests | J8: Nights | K8: Guests | L8: Nights | M8: Guests | N8: Nights | O8: Guests | P8: Nights
A9: 2024* | B9: الفنادق | C9: 758687 | D9: 1131998.4 | E9: 761706 | F9: 1286294.7 | G9: 115488 | H9: 211635.92 | I9: 176564 | J9: 331150.49 | K9: 99752.9 | L9: 161359.73 | M9: 80341 | N9: 144203.93 | O9: =SUM(C9,E9,G9,I9,K9,M9) -> 1992538.9 | P9: =SUM(D9,F9,H9,J9,L9,N9) -> 3266643.2 | Q9: Hotels | R9: 2024*
B10: الشقق الفندقية | C10: 173010 | D10: 408744 | E10: 173314 | F10: 350277 | G10: 32111 | H10: 61488 | I10: 30314 | J10: 65097 | K10: 13547 | L10: 29974 | M10: 10782 | N10: 23058 | O10: =SUM(C10,E10,G10,I10,K10,M10) -> 433078 | P10: =SUM(D10,F10,H10,J10,L10,N10) -> 938638 | Q10: Hotel Apartments
B11: المجموع | C11: =C9+C10 -> 931697 | D11: =D9+D10 -> 1540742.4 | E11: =E9+E10 -> 935020 | F11: =F9+F10 -> 1636571.7 | G11: =G9+G10 -> 147599 | H11: =H9+H10 -> 273123.92 | I11: =I9+I10 -> 206878 | J11: =J9+J10 -> 396247.49 | ... N11: =N9+N10 -> 167261.93 | O11: =O10+O9 -> 2425616.9 | P11: =P10+P9 -> 4205281.2 | Q11: Total
A12: * لا يتضمن النزلاء المقيمون. | P12: * Does not include resident guests.
C17: =D9/C9 -> 1.4920493 | E17: =F9/E9 -> 1.6887024 | G17: =H9/G9 -> 1.832536 | I17: =J9/I9 -> 1.8755266 | K17: =L9/K9 -> 1.6175943 | M17: =N9/M9 -> 1.7948984 | O17: =P9/O9 -> 1.6394376
C18: =D10/C10 -> 2.3625455 | E18: =F10/E10 -> 2.0210543 | G18: =H10/G10 -> 1.9148578 | I18: =J10/I10 -> 2.1474236 | K18: =L10/K10 -> 2.2125932 | M18: =N10/M10 -> 2.1385643 | O18: =P10/O10 -> 2.1673648
C19: =D11/C11 -> 1.6536947 | E19: =F11/E11 -> 1.7503067 | G19: =H11/G11 -> 1.8504456 | I19: =J11/I11 -> 1.9153679 | K19: =L11/K11 -> 1.6887369 | M19: =N11/M11 -> 1.8355622 | O19: =P11/O11 -> 1.7336955

Sheet 186
A1: نزلاء الفنادق والشقق الفندقية حسب مجموعات جنسيات الدول وليالي الإقامة
A2: HOTEL AND HOTEL APARTMENTS GUESTS BY NATIONALITY GROUPS AND OVERNIGHT STAYS
A3: 2024
A4: جدول رقم (186) | H4: Table No. (186)
A5: البيان مجموعات جنسيات الدول | B5: الفنادق | D5: الشقق الفندقية | F5: المجموع | H5: Item Nationality Groups
B6: Hotels | D6: Hotel Apartments | F6: Total
B7: نزلاء Guests | C7: ليالي Nights | D7: نزلاء Guests | E7: ليالي Nights | F7: نزلاء Guests | G7: ليالي Nights
A9: قطريون | B9: 758687 | C9: 1131998.4 | D9: 173010.2 | E9: 408743.8 | F9: =B9+D9 -> 931697.2 | G9: =C9+E9 -> 1540742.2 | H9: Qataris
A10: غير قطريين (المُقيمون) | B10: 1430319 | C10: 2453268.2 | D10: 427628.8 | E10: 1357745.2 | F10: =B10+D10 -> 1857947.8 | G10: =C10+E10 -> 3811013.4 | H10: Non-Qataris (Residing)
A11: بقية مُواطني دول مجلس التعاون الخليجي | B11: 1233851.9 | C11: 2134644.8 | D11: 260068 | E11: 529894 | F11: =B11+D11 -> 1493919.9 | G11: =C11+E11 -> 2664538.8 | H11: The Rest of GCC Nationals
A12: عرب آخرون | B12: 649210 | C12: 1200196.3 | D12: 170189 | E12: 348181 | F12: =B12+D12 -> 819399 | G12: =C12+E12 -> 1548377.3 | H12: Other Arabs
A13: آسيويون باستثناء العرب | B13: 1234430 | C13: 2206924.2 | D13: 228074.8 | E13: 485446 | F13: =B13+D13 -> 1462504.8 | G13: =C13+E13 -> 2692370.2 | H13: Asians Except for Arab Nationals
A14: أوروبيون | B14: 968464 | C14: 1918031.7 | D14: 237217 | E14: 486541 | F14: =B14+D14 -> 1205681 | G14: =C14+E14 -> 2404572.7 | H14: Europeans
A15: أمريكيون | B15: 367990 | C15: 685297.76 | D15: 128829.7 | E15: 241104 | F15: =B15+D15 -> 496819.7 | G15: =C15+E15 -> 926401.76 | H15: Americans
A16: أفارقه باستثناء العرب | B16: 230269 | C16: 419345.34 | D16: 46247.6 | E16: 92940 | F16: =B16+D16 -> 276516.6 | G16: =C16+E16 -> 512285.34 | H16: Africans Except for Arab Nationals
A17: استراليون ونيوزلنديون | B17: 73423 | C17: 129408.24 | D17: 19921.4 | E17: 45809 | F17: =B17+D17 -> 93344.4 | G17: =C17+E17 -> 175217.24 | H17: Australian and New Zealanders
A18: المجموع العام | B18: =SUM(B9:B17) -> 6946643.9 | C18: =SUM(C9:C17) -> 12279115 | D18: =SUM(D9:D17) -> 1691186.5 | E18: =SUM(E9:E17) -> 3996404 | F18: =SUM(F9:F17) -> 8637830.4 | G18: =SUM(G9:G17) -> 16275519 | H18: Grand Total
F20: 983975 | G20: 1870193
