Workbook

Sheet Sheet1 

Sheet first
A1: State of Qatar Planning and Statistics Authority Statistics Department | C1: دولـــــــــــة قــطــــــــــر جهاز التخطيط والإحصاء إدارة الإحصاءات
B4: النشرة السنوية لإحصاءات تجارة الجملة والتجزئة THE ANNUAL BULLETIN OF WHOLESALE AND RETAIL TRADE STATISTICS 2019
A6: العدد الثاني والثلاثون 32th Issue

Sheet Preface
A2: Preface
A3: Planning and Statistics Authority is pleased to present the annual bulletin of its series of bulletins within the framework of the Authority ambitious and balanced plan in providing and developing Economic Statistics.XXXXXXXXXXXXXXXXXXXXXXXXX | D3: يسر جهاز التخطيط والإحصاء أن يقدم هذا العدد من النشرة السنوية ضمن سلسلة نشراتها التخصصية المختلفة، وذلك في إطار خطة الجهاز الطموحة والمتوازنة في توفير وتطوير الإحصاءات الإقتصادية.
A4: The Authority as well has the pleasure to express its gratitude to heads of corporations and companies for their cooperation and contribution in accomplishing this bulletin.XXX | D4: كما يسر الجهاز أن يتقدم بالشكر الجزيل لمسؤولي المنشآت من مؤسسات وشركات لتعاونهم ومساهمتهم في إصدار هذه النشرة.
A5: The Authority welcomes any remarks and suggestions that could improve contents of this bulletin. | D5: ويرحب الجهاز بأية ملاحظات وإقتراحات من شأنها تحسين مضمون هذه النشرة.
A6: Allah grants success | D6: والله ولي التوفيق،،،
A7: Dr.Saleh Bin Mohammed Al-Nabit Head of Planning and Statistics Authority | D7: د. صالح بن محمد النابت رئيس جهاز التخطيط والإحصاء

Sheet Index  
A2: فهرس نشرة إحصاءات تجارة الجملة والتجزئة
A3: Bulletin of Wholesale And Retail Trade Statistics Index
A4: Table No. | B4: Particulars | C4: رقم الصفحة Page No. | D4: البيـان | E4: رقم الجدول
B5: Preface | D5: تقديم
B6: Introduction | D6: مقدمة
B7: Data presentation | D7: أسلوب عرض البيانات
B8: Concepts and definitions | D8: أهم المفاهيم والتعاريف
B9: CHAPTER 1 OPERATING ESTABLISHMENTS FRAME | D9: الفصل الأول إطار المنشأت العاملة
A10: 1 | B10: NUMBER OF ESTABLISHMENTS & EMPLOYEES BY SIZE OF ESTABLISHMENT & MAIN ECONOMIC CTIVITY 2019(two digits) | D10: عدد المنشآت والمشتغلين حسب حجم المنشأة و النشاط الإقتصادي الرئيسي (الحد الثاني) 2019 | E10: 1
A11: 2 | B11: NUMBER OF ESTABLISHMENTS & EMPLOYEES BY SIZE OF ESTABLISHMENT & MAIN ECONOMIC ACTIVITY 2019(four digits) | D11: عدد المنشآت والمشتغلين حسب حجم المنشأة و النشاط الإقتصادي الرئيسي (الحد الرابع) 2019 | E11: 2
B12: CHAPTER 2 ESTABLISHMENTS EMPLOYING LESS THAN 10 EMPLOYEES | D12: الفصل الثاني المنشأت التي تستخدم أقل من 10 مشتغلين
A13: 3 | B13: EMPLOYEES BY SEX, NATIONALITY & MAIN ECONOMIC ACTIVITY (two digits) 2019 | D13: المشتغلون حسب الجنسية و الجنس و النشاط الإقتصادي الرئيسي (الحد الثاني) 2019 | E13: 3
A14: 4 | B14: EMPLOYEES BY SEX, NATIONALITY & MAIN ECONOMIC ACTIVITY (four digits)2019 | D14: المشتغلون حسب الجنسية و الجنس و النشاط الإقتصادي الرئيسي (الحد الرابع )2019 | E14: 4
A15: 5 | B15: EMPLOYEES & ESTIMATE COMPENSATION OF EMPLOYEES BY NATIONALITY & MAIN ECONOMIC ACTIVITY (two digits) 2019 | D15: المشتغلون و تقديرات تعويضات العاملين حسب الجنسية و النشاط الإقتصادي الرئيسي (الحد الثاني)2019 | E15: 5
A16: 6 | B16: EMPLOYEES & ESTIMATE COMPENSATION OF EMPLOYEES BY NATIONALITY & MAIN ECONOMIC ACTIVITY( four digits) 2019 | D16: المشتغلون و تقديرات تعويضات العاملين حسب الجنسية و النشاط الإقتصادي الرئيسي (الحد الرابع)2019 | E16: 6
A17: 7 | B17: NUMBER OF EMPLOYEES & ESTIMATES COMPENSATION OF EMPLOYEES BY SEX & OCCUPATION 2019 | D17: عدد المشتغلين وتقديرات تعويضات العاملين حسب الجنس والمهنة 2019 | E17: 7
A18: 8 | B18: ESTIMATES OF VALUE OF INTERMEDIATE GOODS BY MAIN ECONOMIC ACTIVITY (two digits) 2019 | D18: تقديرات قيمة المستلزمات السلعية حسب النشاط الاقتصادي (الحد الثاني ) 2019 | E18: 8
A19: 9 | B19: ESTIMATES OF VALUE OF INTERMEDIATE GOODS BY MAIN ECONOMIC ACTIVITY (four digits) 2019 | D19: تقديرات قيمة المستلزمات السلعية حسب النشاط الاقتصادي (الحد الرابع) 2019 | E19: 9
A20: 10 | B20: ESTIMATES OF VALUE OF INTERMEDIATE SERVICES BY MAIN ECONOMIC ACTIVITY (two digits) 2019 | D20: تقديرات قيمة المستلزمات الخدمية حسب النشاط الإقتصادي (الحد الثاني) 2019 | E20: 10
A21: 11 | B21: ESTIMATES OF VALUE OF INTERMEDIATE SERVICES BY MAIN ECONOMIC ACTIVITY (four digits) 2019 | D21: تقديرات قيمة المستلزمات الخدمية حسب النشاط الإقتصادي (الحد الرابع) 2019 | E21: 11
A22: 12 | B22: PURCHASES,SALE& STOCKS DURING THE YEAR by TYPE OF TRADE 2019 | D22: المشتريات والمبيعات والموجودات خلال السنة حسب نوع التجارة 2019 | E22: 12
A23: 13 | B23: ESTIMATES OF VALUE ADDED BY MAIN ECONOMIC ACTIVITY (two digits) 2019 | D23: تقديرات القيمة المضافة حسب النشاط الاقتصادي الرئيسي (الحد الثاني) 2019 | E23: 13
A24: 14 | B24: ESTIMATES OF VALUE ADDED BY MAIN ECONOMIC ACTIVITY (four digits) 2019 | D24: تقديرات القيمة المضافة حسب النشاط الاقتصادي الرئيسي (الحد الرابع) 2019 | E24: 14
... A26: 16 | B26: MAIN ECONOMIC INDICATORS BY MAIN ECONOMIC ACTIVITY (two digits) 2019 | D26: أهم المؤشرات الإقتصادية حسب النشاط الإقتصادي الرئيسي (الحد الرابع) 2019 | E26: 16
B27: Chapter 3 ESTABLISHMENTS EMPLOYING "10 EMPLOYEES & MORE" | D27: الفصل الثالث المنشأت التي تستخدم 10 مشتغلين فأكثر
A28: 17 | B28: NUMBER OF EMPLOYEES BY SEX, NATIONALITY & MAIN ECONOMIC ACTIVITY (two digits) 2019 | D28: عدد المشتغلين حسب الجنس و الجنسية و النشاط الإقتصادي الرئيسي (الحد الثاني) 2019 | E28: 17
A29: 18 | B29: NUMBER OF EMPLOYEES BY SEX, NATIONALITY & MAIN ECONOMIC ACTIVITY (four digits) 2019 | D29: عدد المشتغلين حسب الجنس و الجنسية و النشاط الإقتصادي الرئيسي (الحد الرابع) 2019 | E29: 18
A30: 19 | B30: NUMBER OF EMPLOYEES & ESTIMATE COMPENSATION OF EMPLOYEES BY NATIONALITY & MAIN ECONOMIC ACTIVITY (two digits) 2019 | D30: عدد المشتغلون و تقديرات تعويضات العاملين حسب الجنسية و النشاط الإقتصادي الرئيسي (الحد الثاني) 2019 | E30: 19
A31: 20 | B31: NUMBER OF EMPLOYEES & ESTIMATE COMPENSATION OF EMPLOYEES BY NATIONALITY & MAIN ECONOMIC ACTIVITY (four digits) 2019 | D31: عدد المشتغلون و تقديرات تعويضات العاملين حسب الجنسية و النشاط الإقتصادي الرئيسي (الحد الرابع) 2019 | E31: 20
A32: 21 | B32: NUMBER OF EMPLOYEES & ESTIMATES COMPENSATION OF EMPLOYEES BY SEX & OCCUPATION 2019 | D32: عدد المشتغلين وتقديرات تعويضات العاملين حسب الجنس والمهنة 2019 | E32: 21
A33: 22 | B33: ESTIMATES OF VALUE OF INTERMEDIATE GOODS BY MAIN ECONOMIC ACTIVITY (two digits) 2019 | D33: تقديرات قيمة المستلزمات السلعية حسب النشاط الاقتصادي (الحد الثاني) 2019 | E33: 22
A34: 23 | B34: ESTIMATES OF VALUE OF INTERMEDIATE GOODS BY MAIN ECONOMIC ACTIVITY (four digits) 2019 | D34: تقديرات قيمة المستلزمات السلعية حسب النشاط الاقتصادي (الحد الرابع) 2019 | E34: 23
A35: 24 | B35: ESTIMATES OF VALUE OF INTERMEDIATE SERVICES BY MAIN ECONOMIC ACTIVITY (two digits) 2019 | D35: تقديرات قيمة المستلزمات الخدمية حسب النشاط الإقتصادي (الحد الثاني) 2019 | E35: 24
A36: 25 | B36: ESTIMATES OF VALUE OF INTERMEDIATE SERVICES BY MAIN ECONOMIC ACTIVITY (four digits) 2019 | D36: تقديرات قيمة المستلزمات الخدمية حسب النشاط الإقتصادي (الحد الرابع) 2019 | E36: 25
A37: 26 | B37: PURCHASES,SALE& STOCKS DURING THE YEAR by TYPE OF TRADE 2019 | D37: المشتريات والمبيعات والموجودات خلال السنة حسب نوع التجارة 2019 | E37: 26
A38: 27 | B38: ESTIMATES OF VALUE ADDED BY MAIN ECONOMIC ACTIVITY (two digits) 2019 | D38: تقديرات القيمة المضافة حسب النشاط الاقتصادي الرئيسي (الحد الثاني) 2019 | E38: 27
A39: 28 | B39: ESTIMATES OF VALUE ADDED BY MAIN ECONOMIC ACTIVITY (four digits) 2019 | D39: تقديرات القيمة المضافة حسب النشاط الاقتصادي الرئيسي (الحد الرابع) 2019 | E39: 28
... A41: 30 | B41: MAIN ECONOMIC INDICATORS BY MAIN ECONOMIC ACTIVITY (four digits) 2019 | D41: أهم المؤشرات الإقتصادية حسب النشاط الإقتصادي الرئيسي (الحد الرابع) 2019 | E41: 30
B42: Chapter 4 ESTIMATES OF HOLESAL AND RETAIL TRADE ACTIVITY (Total of chapters 2 and 3) | D42: الفصل الرابع مجموع نشاط تجارة الجملة والتجزئة (إجمالي الفصل الثاني والثالث)
A43: 31 | B43: NUMBER OF EMPLOYEES BY SEX, NATIONALITY & MAIN ECONOMIC ACTIVITY (two digits) 2019 | D43: عدد المشتغلين حسب الجنس و الجنسية و النشاط الإقتصادي الرئيسي (الحد الثاني) 2019 | E43: 31
...

Sheet Introduction 
A2: Introduction | D2: مقدمــة
A3: 1- The Extent: | D3: 1 - النطـــاق:
A4: This bulletin covers the activities of Whole sale and Retail trade of the National Classification of Economic Activities, derived from the fourth revision of the International Standard Industrial Classification of all Economic Activities (ISIC), which was adopted by the United Nations Statistical Division (UNSD). As of the last issue of the bulletin, a shift to the 4th. revision of the classification has been achieved. National groups of classification are as follows : | D4: تغطي هذه النشرة السنوية نشاط تجارة الجملة والتجزئة من التصنيف الوطني للأنشطة الاقتصادية المنبثق عن التنقيح الرابع للتصنيف الصناعي الدولي الموحد لجميع الانشطة الاقتصادية الصادر من شعبة الاحصاء التابعة للأمم المتحدة حيث جرى الانتقال إلى هذا التنقيح اعتبارا من العدد السابق للنشرة مفصلة على مستوى مجموعات تصنيف وطنية وذلك على النحو التالي :
A5: (45) | B5: wholesale and retail trade and repair of motor vehicles and motorcycles | D5: تجارة الجملة والتجزئة وإصلاح المركبات ذات المحركات والدراجات النارية | E5: (45)
A6: (46) | B6: Wholesale trade, except of motor vehicles and motorcycles | D6: تجارة الجملة ,بإستثناء المركبات ذات المحركات والدراجات النارية | E6: (46)
A7: (47) | B7: Retail trade, except of motor vehicles and motorcycles | D7: تجارةالتجزئة ,بإستثناء المركبات ذات المحركات والدراجات النارية | E7: (47)
A8: The bulletin covers 2015 data Data for maintenance repair of motor vehicles includded in Bulletin of Social and personal services | D8: تغطي النشرة بيانات عام 2016 بيانات صيانة واصلاح المركبات ذات المحركات مضمنة في نشرة الخدمات الاجتماعيه والشخصيه
A9: 2- Questionnaires: | D9: 2 - الاستمارات المستخدمة:
A10: The annual questionnaire of WHOLESALE AND RETAIL TRADE Statistics for all establishments. | D10: الاستمارة السنوية لإحصاءات تجارة الجملة والتجزئة لجميع المنشآت.
A11: 3- Timing: | D11: 3 - فترة الإسناد الزمني:
A12: The data of this bulletin were collected for one year starting first of January and ending by end of December | D12: جمعت بيانات هذه النشرة عن سنة ميلادية تبدأ اعتباراً من أول يناير وتنتهي آخر ديسمبر.
A13: 4- Survey Method: | D13: 4 - أسلوب المسح:
A14: - Comprehensive frame was prepared for operating economic activities based on data of the 2015 establishments’ census. | D14: - تم إعداد إطار متكامل بالمنشآت العاملة في الأنشطة الاقتصادية المختلفة مستنداً على بيانات تعداد منشآت عام 2015 م.
A15: - Field and office reviewing of the frame was made to check the number of employees and the remaining frame data of the economic activity. | D15: - تم التدقيق الميداني والمكتبي للإطار للتأكد من عدد العاملين وباقي بيانات الإطار للنشاط الاقتصادي.
A16: - Data of establishments employing ten employees and more were collected through comprehensive counting, while establishments employing less than ten employees were studied through sample. | D16: ـ تم جمع بيانات المنشآت التي يعمل بها عشرة مشتغلين فأكثر بالحصر الشامل، أما المنشآت التي يعمل بها أقل من عشرة مشتغلين فقد تمت دراستها بالعينة.

Sheet Data 
A3: Data presentation | D3: أسلوب عرض البيانات
A4: Data were presented in four chapters according to the following: | D4: تم عرض البيانات في أربعة فصول على الوجه التالي:-
A5: Chapter 1: | B5: Operating establishments frame. | D5: إطار المنشآت العاملة. | E5: الفصل الأول:
A6: Chapter 2: | B6: Establishments estimates (less than 10 employees). | D6: تقديرات المنشآت (أقل من 10 مشتغلين). | E6: الفصل الثاني:
A7: Chapter 3: | B7: Comprehensive counting estimates (10 employees and more). | D7: تقديرات الحصر الشامل (10 مشتغلين فأكثر). | E7: الفصل الثالث:
A8: Chapter 4: | B8: Estimates of social and personal services activity (total of chapters two and three). | D8: تقديرات نشاط تجارة الجملة والتجزئة (تشمل إجمالي الباب الثاني والثالث). | E8: الفصل الرابع:
A9: Important note: Inequality of totals in some tables due to approximation. | D9: ملاحظة هامة: إن عدم تساوي مجاميع بعض الجداول يعود للتقريب.

Sheet Concepts 
A2: Concepts and Definitions | D2: أهم المفاهيم والتعاريف
A3: 1- 1- Wholesale Trade: | D3: 1ـ تجارة الجملة: | E3: 1ـ تجارة الجملة:
A4: Reselling of new and used goods without making any alteration or after carrying out some minor operations, such as packing and sorting, to retail traders, commercial and industrial establishments, craftsmen, different agencies or other wholesale traders, as well as work for commission in buying goods for the account or selling goods to the aforementioned. | D4: هي إعادة بيع السلع الجديدة والمستعملة دون أجراء عمليات تحويلية عليها أو بعد إدخال بعض العمليات البسيطة مثل التعبئة والفرز وذلك لتجار التجزئة أو للمنشآت التجارية والصناعية وأصحاب الحرف والهيئات المختلفة أو لتجار جملة آخرين وكذلك العمل بالوكالة في شراء السلع لحساب من سبق ذكرهم أو بيع السلع إليهم.
A5: 2- Retail Trade: | D5: 2ـ تجارة التجزئة:
A6: Reselling of new and used goods to the public without making any alteration for personal or household consumption or use through commercial stores and booths. | D6: هي إعادة بيع السلع الجديدة والمستعملة للجمهور دون إجراء عمليات تحويلية عليها وذلك للاستهلاك أو للاستخدام الشخصي أو العائلي وذلك بواسطة المحلات التجارية والأكشاك.
A7: 3- Commercial Margin of Purchases for Sale: | D7: 3ـ الهامش التجاري لمشتريات بغرض البيع:
A8: The difference between actual or accounted price paid in order to buy a commodity for resell and the price that the distributor should pay to compensate the commodity at time of sell or dispose plus change in stock. Matured margins on some goods could be negative, if reduction in price is required. It should be negative for unsold goods due to damage or theft. | D8: الفرق بين السعر الفعلي أو المحتسب المدفوع لشراء سلعة ما لإعادة بيعها والسعر الذي يتعين على الموزع أن يدفعه لتعويض السلعة في الوقت الذي يبيعها أو يتخلص منها فيه مضافاً إليه التغير في المخزون. والهوامش المتحققة على بعض السلع قد تكون سالبة إذا تعين تخفيض أسعارها. ولابد أن تكون سالبة بالنسبة للسلع التي لا تباع لأنها تتلف أو تُسرق.
A9: 4- Output of Wholesale and Retail Trade: | D9: 4ـ الإنتاج في نشاط تجارة الجملة والتجزئة:
A10: Output equals commercial margin plus value of commission collected for goods on consignment. | D10: الإنتاج يساوي الهامش التجاري + قيمة العمولة المحصلة لبضائع الأمانة لحساب الغير.
A11: 5- The Establishment: | D11: 5- المنشأة:
A12: Project or part of project in a fixed location, performing one or more economic activity under one administration and has or could have regular accounts. Holder of project could be natural or artificial person. | D12: مشروع أو جزء من مشروع، له موقع ثابت، يقوم بأداء نوع أو أكثر من الأنشطة الاقتصادية تحت إدارة واحدة ولديها أو يمكن أن يكون لديها حسابات منتظمة، وقد يكون حائز المشروع شخصاً طبيعياً أو اعتباريا.
A13: 6- Legal Entity: | D13: 6- الكيان القانوني:
A14: It is the legal status of capital ownership of establishments aiming profit; it includes individual, joint-liability companies, partnership companies, limited liability companies and joint-stock companies. | D14: هو الوضع القانوني لملكية رأس مال المنشآت التي تهدف إلى الربح وتشمل المنشآت الفردية وشركات التضامن وشركات التوصية البسيطة وشركات التوصية بالأسهم والشركات ذات المسؤولية المحدودة والشركات المساهمة والشركات المساهمة الخاصة وفرع لمنشأة أجنبية و الحكومي .
A15: a- Individual Establishment: | D15: أ ـ المنشأة الفردية:
... A91: Shape of property income matured for shareholders as a result of placing their funds at disposal of companies. | D91: شكل من أشكال دخل الملكية يستحقه حاملو الأسهم نتيجة لوضع أموالهم تحت تصرف الشركات.

Sheet CH1
A1: الفصل الأول (إطار المنشآت العاملة) CHAPTER 1 OPERATING ESTABLISHMENTS FRAME

Sheet 1 
A2: عدد المنشآت و المشتغلين حسب حجم المنشأة و النشاط الإقتصادي الرئيسي
A3: نشاط تجارة الجملة والتجزئة
A4: الحد الثاني
A5: NUMBER OF ESTABLISHMENTS & EMPLOYEES BY SIZE OF ESTABLISHMENT & MAIN ECONOMIC ACTIVITY
A6: WHOLESALE AND RETAILTRADE STATISTICS
A7: Two Digits
A8: Table No. (1) | C8: 2019 | I8: جدول رقم (1)
A9: رمز النشاط Activity Code | B9: Main Economic Activity | C9: المجموع Total | E9: المنشآت 10 مشتغلين فأكثر | G9: المنشآت أقل من 10مشتغلين | I9: النشاط الاقتصادي الرئيسي
C10: Total | E10: Establishments with 10+ Employee | G10: Establishments with <10 Employee
C11: مشتغلون | D11: منشآت | E11: مشتغلون | F11: منشآت | G11: مشتغلون | H11: منشآت
C12: Emp. | D12: Estb. | E12: Emp. | F12: Estb. | G12: Emp. | H12: Estb.
A13: 45 | B13: wholesale and retail trade and repair of motor vehicles and motorcycles | C13: =G13+E13 -> 19094 | D13: =H13+F13 -> 643 | E13: 17121 | F13: 195 | G13: 1973 | H13: 448 | I13: تجارة الجملة والتجزئة ،واصلاح المركبات ذات المحركات والدراجات النارية
A14: 46 | B14: Wholesale trade, except of motor vehicles and motorcycles | C14: =G14+E14 -> 33992 | D14: =H14+F14 -> 1208 | E14: 31041 | F14: 508 | G14: 2951 | H14: 700 | I14: تجارة الجملة ، باستثناء المركبات ذات المحركات والدراجات النارية
A15: 47 | B15: Retail trade, except of motor vehicles and motorcycles | C15: =G15+E15 -> 160868 | D15: =H15+F15 -> 9288 | E15: 133755 | F15: 2140 | G15: 27113 | H15: 7148 | I15: تجارة التجزئة،باستثناء المركبات ذات المحركات والدراجات النارية
A16: Total | C16: =SUM(C13:C15) -> 213954 | D16: =SUM(D13:D15) -> 11139 | E16: =SUM(E13:E15) -> 181917 | F16: =SUM(F13:F15) -> 2843 | G16: =SUM(G13:G15) -> 32037 | H16: =SUM(H13:H15) -> 8296 | I16: المجموع

Sheet 2
B2: عدد المنشآت و المشتغلين حسب حجم المنشأة و النشاط الإقتصادي الرئيسي
B3: نشاط تجارة الجملة والتجزئة
A4: الحد الرابع
B5: NUMBER OF ESTABLISHMENTS & EMPLOYEES BY SIZE OF ESTABLISHMENT & MAIN ECONOMIC ACTIVITY
B6: WHOLESALE AND RETAIL TRADE STATISTICS
A7: four digits
A8: Table No. (2) | C8: 2019 | I8: جدول رقم (2)
A9: رمز النشاط Activity Code | B9: Main Economic Activity | C9: المجموع Total | E9: المنشآت 10 مشتغلين فأكثر | G9: المنشآت أقل من 10مشتغلين | I9: النشاط الاقتصادي الرئيسي
C10: Total | E10: Establishments with 10+ Employee | G10: Establishments with <10 Employee
C11: مشتغلون | D11: منشآت | E11: مشتغلون | F11: منشآت | G11: مشتغلون | H11: منشآت
C12: Emp. | D12: Estb. | E12: Emp. | F12: Estb. | G12: Emp. | H12: Estb.
A13: 4511 | B13: wholesale and retail sale of new vehicles ssuch asambulances and minibus | C13: 10812 | D13: 70 | E13: 10717 | F13: 48 | G13: 95 | H13: 22 | I13: البيع بالجملة والتجزئة للسيارات الخاصة الجديدة وتشمل سيارات الإسعاف والباصات الصغيرة
A14: 4512 | B14: wholesale and retail sale of used vehicles ssuch asambulances and minibus | C14: 1339 | D14: 117 | E14: 895 | F14: 15 | G14: 444 | H14: 102 | I14: البيع بالجملة والتجزئة للسيارات الخاصة المستعملة وتشمل سيارات الإسعاف والباصات الصغيرة
A15: 4519 | B15: Wholesale and retail trade in other types of motor vehicles not listed above | C15: 28 | D15: 2 | E15: 28 | F15: 2 | G15: 0 | H15: 0 | I15: تجارة الجملة والتجزئه في انواع اخرى من المركبات ذات المحركات لم ترد فيما سبق
A16: 4531 | B16: Wholesale and retail sale of motor vehicles new spare parts and accessories | C16: 6634 | D16: 428 | E16: 5268 | F16: 120 | G16: 1366 | H16: 308 | I16: البيع بالجملة والتجزئة لقطع الغيار الجديده للسيارات وتوابعها
A17: 4532 | B17: Wholesale and retail sale of motor vehicles tyres and accessories | C17: 230 | D17: 20 | E17: 169 | F17: 6 | G17: 61 | H17: 14 | I17: البيع بالجملة والتجزئة لاطارات السيارات وتوابعها
A18: 4539 | B18: Wholesale and retail sale of motor vehicle parts and accessories not listed above | C18: 51 | D18: 6 | E18: 44 | F18: 4 | G18: 7 | H18: 2 | I18: البيع بالجملة والتجزئة لاجزاء وتوابع المركبات لم ترد فيما سبق
A19: 4610 | B19: Wholesale on a fee or contract basis | C19: 3165 | D19: 51 | E19: 3069 | F19: 28 | G19: 96 | H19: 23 | I19: البيع بالجملة نظير رسم أو على أساس عقد
A20: 4620 | B20: Wholesale of agricultural raw materials and live animals | C20: 2593 | D20: 157 | E20: 2204 | F20: 30 | G20: 389 | H20: 127 | I20: تجارة المواد الخام الزراعية والحيوانات الحية بالجملة
A21: 4631 | B21: Wholesale of fruit and vegetables | C21: 446 | D21: 28 | E21: 388 | F21: 12 | G21: 58 | H21: 16 | I21: البيع بالجملة للفواكه والخضراوات
A22: 4632 | B22: Wholesale of other food, beverages and tobacco | C22: 5845 | D22: 119 | E22: 5635 | F22: 75 | G22: 210 | H22: 44 | I22: البيع بالجملة للأغذية والمشروبات والتبغ لم ترد فيما سبق
A23: 4641 | B23: Wholesale of textiles, clothing and footwear includes (blankets, linens and bed sheets, clothes and sports shoes, etc. ..) | C23: 1236 | D23: 49 | E23: 1076 | F23: 12 | G23: 160 | H23: 37 | I23: بيع المنسوجات والملبوسات والأحذية بالجملة ويشمل(البطاطين والبياضات والشراشف وملابس الرياضه والاحذية..الخ)
A24: 4647 | B24: Wholesale of pharmaceutical and medical goods،medical equipments and devices ,perfumes,and cosmetics | C24: 1811 | D24: 65 | E24: 1636 | F24: 26 | G24: 175 | H24: 39 | I24: البيع بالجملة للسلع الصيدلانية والطبية والادوات والاجهزة الطبية والعطور ومستحضرات التجميل
... A71: 4789 | B71: Retail sale via stalls and markets of other goods | C71: 227 | D71: 6 | E71: 227 | F71: 6 | G71: 0 | H71: 0 | I71: بيع السلع الأخرى بالتجزئة في الأكشاك والأسواق
A72: Total | C72: =SUM(C13:C71) -> 213954 | D72: =SUM(D13:D71) -> 11139 | E72: =SUM(E13:E71) -> 181917 | F72: =SUM(F13:F71) -> 2843 | G72: =SUM(G13:G71) -> 32037 | H72: =SUM(H13:H71) -> 8296 | I72: المجموع

Sheet CH2
A1: الفصل الثاني المنشآت التي تستخدم أقل من عشرة مشتغلين CHAPTER 2 ESTABLISHMENTS EMPLOYING LESS THAN 10 EMPLOYEES

Sheet 3
B2: المشتغلون حسب الجنسية و الجنس و النشاط الإقتصادي الرئيسي
B3: نشاط تجارة الجملة والتجزئة (أقل من 10 مشتغلين)
A4: الحد الثاني
B5: EMPLOYEES BY SEX, NATIONALITY & MAIN ECONOMIC ACTIVITY
B6: WHOLESALE AND RETAIL TRADE STATISTICS (LESS THAN 10 EMPLOYEES)
A7: Two Digits
A8: Table No. (3) | G8: 2019 | L8: جدول رقم (3)
A9: رمز النشاط Activity Code | B9: Main Economic Activity | C9: المجموع | F9: غير قطريين | I9: قطريون | L9: النشاط الاقتصادى الرئيسي
C10: Total | F10: Non-Qatari | I10: Qataris
C11: المجموع | D11: إناث | E11: ذكور | F11: المجموع | G11: إناث | H11: ذكور | I11: المجموع | J11: إناث | K11: ذكور
C12: Total | D12: Females | E12: Males | F12: Total | G12: Females | H12: Males | I12: Total | J12: Females | K12: Males
A13: 45 | B13: wholesale and retail trade and repair of motor vehicles and motorcycles | C13: =SUM(I13+F13) -> 1973 | D13: =SUM(J13+G13) -> 0 | E13: =SUM(K13+H13) -> 1973 | F13: =SUM(G13:H13) -> 1836 | G13: 0 | H13: 1836 | I13: =SUM(J13:K13) -> 137 | J13: 0 | K13: 137 | L13: تجارة الجملة والتجزئة ،واصلاح المركبات ذات المحركات والدراجات النارية
A14: 46 | B14: Wholesale trade, except of motor vehicles and motorcycles | C14: =SUM(I14+F14) -> 2951 | D14: =SUM(J14+G14) -> 99 | E14: =SUM(K14+H14) -> 2852 | F14: =SUM(G14:H14) -> 2887 | G14: 99 | H14: 2788 | I14: =SUM(J14:K14) -> 64 | J14: 0 | K14: 64 | L14: تجارة الجملة ، باستثناء المركبات ذات المحركات والدراجات النارية
A15: 47 | B15: Retail trade, except of motor vehicles and motorcycles | C15: =SUM(I15+F15) -> 27113 | D15: =SUM(J15+G15) -> 680 | E15: =SUM(K15+H15) -> 26433 | F15: =SUM(G15:H15) -> 26191 | G15: 578 | H15: 25613 | I15: =SUM(J15:K15) -> 922 | J15: 102 | K15: 820 | L15: تجارة التجزئة،باستثناء المركبات ذات المحركات والدراجات النارية
A16: Total | C16: =SUM(C13:C15) -> 32037 | D16: =SUM(D13:D15) -> 779 | E16: =SUM(E13:E15) -> 31258 | F16: =SUM(F13:F15) -> 30914 | G16: =SUM(G13:G15) -> 677 | H16: =SUM(H13:H15) -> 30237 | I16: =SUM(I13:I15) -> 1123 | J16: =SUM(J13:J15) -> 102 | K16: =SUM(K13:K15) -> 1021 | L16: المجموع

Sheet 4
A2: المشتغلون حسب الجنسية و الجنس و النشاط الإقتصادي الرئيسي
A3: نشاط تجارة الجملة والتجزئة (أقل من 10 مشتغلين)
A4: الحد الرابع
A5: EMPLOYEES BY SEX, NATIONALITY & MAIN ECONOMIC ACTIVITY
A6: WHOLESALE AND RETAIL TRADE STATISTICS (LESS THAN 10 EMPLOYEES)
A7: four digits
A8: Table No. (4) | G8: 2019 | L8: جدول رقم (4)
A9: رمز النشاط Activity Code | B9: Main Economic Activity | C9: المجموع | F9: غير قطريين | I9: قطريون | L9: النشاط الاقتصادى الرئيسي
C10: Total | F10: Non-Qatari | I10: Qataris
C11: المجموع | D11: إناث | E11: ذكور | F11: المجموع | G11: إناث | H11: ذكور | I11: المجموع | J11: إناث | K11: ذكور
C12: Total | D12: Females | E12: Males | F12: Total | G12: Females | H12: Males | I12: Total | J12: Females | K12: Males
A13: 4511 | B13: wholesale and retail sale of new vehicles ssuch asambulances and minibus | C13: =SUM(D13:E13) -> 95 | D13: =J13+G13 -> 0 | E13: =K13+H13 -> 95 | F13: =SUM(G13:H13) -> 95 | G13: 0 | H13: 95 | I13: =SUM(J13:K13) -> 0 | J13: 0 | K13: 0 | L13: البيع بالجملة والتجزئة للسيارات الخاصة الجديدة وتشمل سيارات الإسعاف والباصات الصغيرة
A14: 4512 | B14: wholesale and retail sale of used vehicles ssuch asambulances and minibus | C14: =SUM(D14:E14) -> 444 | D14: =J14+G14 -> 0 | E14: =K14+H14 -> 444 | F14: =SUM(G14:H14) -> 355 | G14: 0 | H14: 355 | I14: =SUM(J14:K14) -> 89 | J14: 0 | K14: 89 | L14: البيع بالجملة والتجزئة للسيارات الخاصة المستعملة وتشمل سيارات الإسعاف والباصات الصغيرة
A15: 4531 | B15: Wholesale and retail sale of motor vehicles new spare parts and accessories | C15: =SUM(D15:E15) -> 1366 | D15: =J15+G15 -> 0 | E15: =K15+H15 -> 1366 | F15: =SUM(G15:H15) -> 1322 | G15: 0 | H15: 1322 | I15: =SUM(J15:K15) -> 44 | J15: 0 | K15: 44 | L15: البيع بالجملة والتجزئة لقطع الغيار الجديده للسيارات وتوابعها
A16: 4532 | B16: Wholesale and retail sale of motor vehicles tyres and accessories | C16: =SUM(D16:E16) -> 61 | D16: =J16+G16 -> 0 | E16: =K16+H16 -> 61 | F16: =SUM(G16:H16) -> 57 | G16: 0 | H16: 57 | I16: =SUM(J16:K16) -> 4 | J16: 0 | K16: 4 | L16: البيع بالجملة والتجزئة لاطارات السيارات وتوابعها
A17: 4539 | B17: Wholesale and retail sale of motor vehicle parts and accessories not listed above | C17: =SUM(D17:E17) -> 7 | D17: =J17+G17 -> 0 | E17: =K17+H17 -> 7 | F17: =SUM(G17:H17) -> 7 | G17: 0 | H17: 7 | I17: =SUM(J17:K17) -> 0 | J17: 0 | K17: 0 | L17: البيع بالجملة والتجزئة لاجزاء وتوابع المركبات لم ترد فيما سبق
A18: 4610 | B18: Wholesale on a fee or contract basis | C18: =SUM(D18:E18) -> 96 | D18: =J18+G18 -> 14 | E18: =K18+H18 -> 82 | F18: =SUM(G18:H18) -> 96 | G18: 14 | H18: 82 | I18: =SUM(J18:K18) -> 0 | J18: 0 | K18: 0 | L18: البيع بالجملة نظير رسم أو على أساس عقد
A19: 4620 | B19: Wholesale of agricultural raw materials and live animals | C19: =SUM(D19:E19) -> 389 | D19: =J19+G19 -> 0 | E19: =K19+H19 -> 389 | F19: =SUM(G19:H19) -> 389 | G19: 0 | H19: 389 | I19: =SUM(J19:K19) -> 0 | J19: 0 | K19: 0 | L19: تجارة المواد الخام الزراعية والحيوانات الحية بالجملة
A20: 4631 | B20: Wholesale of fruit and vegetables | C20: =SUM(D20:E20) -> 58 | D20: =J20+G20 -> 0 | E20: =K20+H20 -> 58 | F20: =SUM(G20:H20) -> 58 | G20: 0 | H20: 58 | I20: =SUM(J20:K20) -> 0 | J20: 0 | K20: 0 | L20: البيع بالجملة للفواكه والخضراوات
A21: 4632 | B21: Wholesale of other food, beverages and tobacco | C21: =SUM(D21:E21) -> 210 | D21: =J21+G21 -> 0 | E21: =K21+H21 -> 210 | F21: =SUM(G21:H21) -> 168 | G21: 0 | H21: 168 | I21: =SUM(J21:K21) -> 42 | J21: 0 | K21: 42 | L21: البيع بالجملة للأغذية والمشروبات والتبغ لم ترد فيما سبق
A22: 4641 | B22: Wholesale of textiles, clothing and footwear includes (blankets, linens and bed sheets, clothes and sports shoes, etc. ..) | C22: =SUM(D22:E22) -> 160 | D22: =J22+G22 -> 0 | E22: =K22+H22 -> 160 | F22: =SUM(G22:H22) -> 160 | G22: 0 | H22: 160 | I22: =SUM(J22:K22) -> 0 | J22: 0 | K22: 0 | L22: بيع المنسوجات والملبوسات والأحذية بالجملة ويشمل(البطاطين والبياضات والشراشف وملابس الرياضه والاحذية..الخ)
A23: 4647 | B23: Wholesale of pharmaceutical and medical goods،medical equipments and devices ,perfumes,and cosmetics | C23: =SUM(D23:E23) -> 175 | D23: =J23+G23 -> 17 | E23: =K23+H23 -> 158 | F23: =SUM(G23:H23) -> 175 | G23: 17 | H23: 158 | I23: =SUM(J23:K23) -> 0 | J23: 0 | K23: 0 | L23: البيع بالجملة للسلع الصيدلانية والطبية والادوات والاجهزة الطبية والعطور ومستحضرات التجميل
A24: 4648 | B24: Wholesale of other household goodsInclude (furniture, carpets, electrical appliances and lighting classes, books and stationery, materials and visual cassettes, watches, jewelry, household utensils and accessories 00, etc.) | C24: =SUM(D24:E24) -> 739 | D24: =J24+G24 -> 62 | E24: =K24+H24 -> 677 | F24: =SUM(G24:H24) -> 739 | G24: 62 | H24: 677 | I24: =SUM(J24:K24) -> 0 | J24: 0 | K24: 0 | L24: البيع بالجملة للسلع المنزلية الاخرى التي لم تذكر فيما سبق وتشمل ( الاثاث والسجاد والاجهزه الكهربائية المنزلية وأدوات الاضاءه والكتب وادوات القرطاسيه والمواد البصريه واشرطة الكاسيت والساعات والمجوهرات والاواني المنزليه وملحقاتها00الخ
... A62: 4778 | B62: Retail sale of detergents and cleening materials | C62: =SUM(D62:E62) -> 6 | D62: =J62+G62 -> 0 | E62: =K62+H62 -> 6 | F62: =SUM(G62:H62) -> 6 | G62: 0 | H62: 6 | I62: =SUM(J62:K62) -> 0 | J62: 0 | K62: 0 | L62: البيع بالتجزئة لمواد التنظيف
A63: 4779 | B63: retail sale of non-food products not calssiffied anywhere else ,including (weapons and ammunition … etc) | C63: =SUM(D63:E63) -> 471 | D63: 218 | E63: =K63+H63 -> 253 | F63: =SUM(G63:H63) -> 471 | G63: 218 | H63: 253 | I63: =SUM(J63:K63) -> 0 | J63: 0 | K63: 0 | L63: البيع بالتجزئة للمواد الغير غذائية لم تصنف في مكان آخر وتشمل (الاسلحه ...الخ)
A64: Total | C64: =SUM(C13:C63) -> 32037 | D64: =SUM(D13:D63) -> 779 | E64: =SUM(E13:E63) -> 31258 | F64: =SUM(F13:F63) -> 30914 | G64: =SUM(G13:G63) -> 677 | H64: =SUM(H13:H63) -> 30237 | I64: =SUM(I13:I63) -> 1123 | J64: =SUM(J13:J63) -> 102 | K64: =SUM(K13:K63) -> 1021 | L64: المجموع

Sheet 5
A2: المشتغلون و تقديرات تعويضات العاملين حسب الجنسية و النشاط الإقتصادي الرئيسي
A3: نشاط تجارة الجملة والتجزئة (أقل من 10 مشتغلين)
A4: الحد الثاني
A5: EMPLOYEES & ESTIMATE COMPENSATION OF EMPLOYEES BY NATIONALITY & MAIN ECONOMIC ACTIVITY
A6: SOCIAL & PERSONAL SERVICE STATISTICS (LESS THAN 10 EMPLOYEES)
A7: Two Digits
A8: Table No. (5) Value QR.000 | C8: 2019 | I8: جدول رقم (5) القيمة ألف ريال قطري
A9: رمز النشاط Activity Code | B9: Main Economic Activity | C9: تعويضات العاملين | F9: عدد المشتغلين | I9: النشاط الاقتصادي الرئيسي
C10: Compensations Of Employees | F10: Number of Employees
C11: المجموع | D11: غير قطريين | E11: قطريون | F11: المجموع | G11: غير قطريين | H11: قطريون
C12: Total | D12: Non-Qatari | E12: Qataris | F12: Total | G12: Non-Qatari | H12: Qataris
A13: 45 | B13: wholesale and retail trade and repair of motor vehicles and motorcycles | C13: =SUM(D13:E13) -> 78696 | D13: 78696 | E13: 0 | F13: =SUM(G13:H13) -> 1973 | G13: 1836 | H13: 137 | I13: تجارة الجملة والتجزئة ،واصلاح المركبات ذات المحركات والدراجات النارية
A14: 46 | B14: Wholesale trade, except of motor vehicles and motorcycles | C14: =SUM(D14:E14) -> 237391 | D14: 237322 | E14: 69 | F14: =SUM(G14:H14) -> 2951 | G14: 2887 | H14: 64 | I14: تجارة الجملة ، باستثناء المركبات ذات المحركات والدراجات النارية
A15: 47 | B15: Retail trade, except of motor vehicles and motorcycles | C15: =SUM(D15:E15) -> 961215 | D15: 961215 | E15: 0 | F15: =SUM(G15:H15) -> 27113 | G15: 26191 | H15: 922 | I15: تجارة التجزئة،باستثناء المركبات ذات المحركات والدراجات النارية
A16: Total | C16: =SUM(C13:C15) -> 1277302 | D16: =SUM(D13:D15) -> 1277233 | E16: =SUM(E13:E15) -> 69 | F16: =SUM(F13:F15) -> 32037 | G16: =SUM(G13:G15) -> 30914 | H16: =SUM(H13:H15) -> 1123 | I16: المجموع

Sheet 6
A2: المشتغلون و تقديرات تعويضات العاملين حسب الجنسية و النشاط الإقتصادي الرئيسي
A3: نشاط تجارة الجملة والتجزئة (أقل من 10 مشتغلين)
A4: الحد الرابع
A5: EMPLOYEES & ESTIMATE COMPENSATION OF EMPLOYEES BY NATIONALITY & MAIN ECONOMIC ACTIVITY
A6: WHOLESALE AND RETAIL TRADE STATISTICS (LESS THAN 10 EMPLOYEES)
A7: four digits
A8: Table No. (6) Value QR.000 | C8: 2019 | E8: 2009 | I8: جدول رقم (6) القيمة ألف ريال قطري
A9: رمز النشاط Activity Code | B9: Main Economic Activity | C9: تعويضات العاملين | F9: عدد المشتغلين | I9: النشاط الاقتصادي الرئيسي
C10: Compensations Of Employees | F10: Number of Employees
C11: المجموع | D11: غير قطريين | E11: قطريون | F11: المجموع | G11: غير قطريين | H11: قطريون
C12: Total | D12: Non-Qatari | E12: Qataris | F12: Total | G12: Non-Qatari | H12: Qataris
A13: 4511 | B13: wholesale and retail sale of new vehicles ssuch asambulances and minibus | C13: =SUM(D13:E13) -> 7633 | D13: 7633 | E13: 0 | F13: =SUM(G13:H13) -> 95 | G13: 95 | H13: 0 | I13: البيع بالجملة والتجزئة للسيارات الخاصة الجديدة وتشمل سيارات الإسعاف والباصات الصغيرة
A14: 4512 | B14: wholesale and retail sale of used vehicles ssuch asambulances and minibus | C14: =SUM(D14:E14) -> 8791 | D14: 8791 | E14: 0 | F14: =SUM(G14:H14) -> 444 | G14: 355 | H14: 89 | I14: البيع بالجملة والتجزئة للسيارات الخاصة المستعملة وتشمل سيارات الإسعاف والباصات الصغيرة
A15: 4531 | B15: Wholesale and retail sale of motor vehicles new spare parts and accessories | C15: =SUM(D15:E15) -> 60645 | D15: 60645 | E15: 0 | F15: =SUM(G15:H15) -> 1366 | G15: 1322 | H15: 44 | I15: البيع بالجملة والتجزئة لقطع الغيار الجديده للسيارات وتوابعها
A16: 4532 | B16: Wholesale and retail sale of motor vehicles tyres and accessories | C16: =SUM(D16:E16) -> 1459 | D16: 1459 | E16: 0 | F16: =SUM(G16:H16) -> 61 | G16: 57 | H16: 4 | I16: البيع بالجملة والتجزئة لاطارات السيارات وتوابعها
A17: 4539 | B17: Wholesale and retail sale of motor vehicle parts and accessories not listed above | C17: =SUM(D17:E17) -> 168 | D17: 168 | E17: 0 | F17: =SUM(G17:H17) -> 7 | G17: 7 | H17: 0 | I17: البيع بالجملة والتجزئة لاجزاء وتوابع المركبات لم ترد فيما سبق
A18: 4610 | B18: Wholesale on a fee or contract basis | C18: =SUM(D18:E18) -> 7869 | D18: 7869 | E18: 0 | F18: =SUM(G18:H18) -> 96 | G18: 96 | H18: 0 | I18: البيع بالجملة نظير رسم أو على أساس عقد
A19: 4620 | B19: Wholesale of agricultural raw materials and live animals | C19: =SUM(D19:E19) -> 6208 | D19: 6208 | E19: 0 | F19: =SUM(G19:H19) -> 389 | G19: 389 | H19: 0 | I19: تجارة المواد الخام الزراعية والحيوانات الحية بالجملة
A20: 4631 | B20: Wholesale of fruit and vegetables | C20: =SUM(D20:E20) -> 2244 | D20: 2244 | E20: 0 | F20: =SUM(G20:H20) -> 58 | G20: 58 | H20: 0 | I20: البيع بالجملة للفواكه والخضراوات
A21: 4632 | B21: Wholesale of other food, beverages and tobacco | C21: =SUM(D21:E21) -> 5635 | D21: 5635 | E21: 0 | F21: =SUM(G21:H21) -> 210 | G21: 168 | H21: 42 | I21: البيع بالجملة للأغذية والمشروبات والتبغ لم ترد فيما سبق
A22: 4641 | B22: Wholesale of textiles, clothing and footwear includes (blankets, linens and bed sheets, clothes and sports shoes, etc. ..) | C22: =SUM(D22:E22) -> 3840 | D22: 3840 | E22: 0 | F22: =SUM(G22:H22) -> 160 | G22: 160 | H22: 0 | I22: بيع المنسوجات والملبوسات والأحذية بالجملة ويشمل(البطاطين والبياضات والشراشف وملابس الرياضه والاحذية..الخ)
A23: 4647 | B23: Wholesale of pharmaceutical and medical goods،medical equipments and devices ,perfumes,and cosmetics | C23: =SUM(D23:E23) -> 8434 | D23: 8434 | E23: 0 | F23: =SUM(G23:H23) -> 175 | G23: 175 | H23: 0 | I23: البيع بالجملة للسلع الصيدلانية والطبية والادوات والاجهزة الطبية والعطور ومستحضرات التجميل
A24: 4648 | B24: Wholesale of other household goodsInclude (furniture, carpets, electrical appliances and lighting classes, books and stationery, materials and visual cassettes, watches, jewelry, household utensils and accessories 00, etc.) | C24: =SUM(D24:E24) -> 125210 | D24: 125210 | E24: 0 | F24: =SUM(G24:H24) -> 739 | G24: 739 | H24: 0 | I24: البيع بالجملة للسلع المنزلية الاخرى التي لم تذكر فيما سبق وتشمل ( الاثاث والسجاد والاجهزه الكهربائية المنزلية وأدوات الاضاءه والكتب وادوات القرطاسيه والمواد البصريه واشرطة الكاسيت والساعات والمجوهرات والاواني المنزليه وملحقاتها00الخ
... A63: 4779 | B63: retail sale of non-food products not calssiffied anywhere else ,including (weapons and ammunition … etc) | C63: =SUM(D63:E63) -> 33484 | D63: 33484 | E63: 0 | F63: =SUM(G63:H63) -> 471 | G63: 471 | H63: 0 | I63: البيع بالتجزئة للمواد الغير غذائية لم تصنف في مكان آخر وتشمل (الاسلحه ...الخ)
A64: Total | C64: =SUM(C13:C63) -> 1277300 | D64: =SUM(D13:D63) -> 1277231 | E64: =SUM(E13:E63) -> 69 | F64: =SUM(F13:F63) -> 32037 | G64: =SUM(G13:G63) -> 30914 | H64: =SUM(H13:H63) -> 1123 | I64: المجموع

Sheet 7
A2: عدد المشتغلين وتقديرات تعويضات العاملين حسب الجنس والمهنة
A3: نشاط تجارة الجملة والتجزئة (أقل من 10 مشتغلين)
A4: NUMBER OF EMPLOYEES & ESTIMATES COMPENSATION OF EMPLOYEES BY SEX & OCCUPATION
A5: WHOLESALE AND RETAIL TRADE STATISTICS (LESS THAN 10 EMPLOYEES)
A6: Table No. (7) Value QR.000 | C6: 2019 | I6: جدول رقم (7) القيمة ألف ريال قطري
A7: Occupation | C7: تعويضات العاملين | F7: عدد المشتغلين | I7: المهنة
C8: Compensations Of Employees | F8: Number of Employees
C9: المجموع | D9: المزايا العينية | E9: الاجور والرواتب | F9: المجموع | G9: إناث | H9: ذكور
C10: Total | D10: Payments in-kind | E10: Wages & Salaries | F10: Total | G10: Females | H10: Males
A11: Working proprietors with payment | C11: =SUM(D11:E11) -> 223220 | D11: 579 | E11: 222641 | F11: =SUM(G11:H11) -> 1204 | G11: 31 | H11: 1173 | I11: أصحاب عمل يعملون بالمنشأة بأجر
A12: Working proprietors without payment | C12: =SUM(D12:E12) -> 0 | D12: 0 | E12: 0 | F12: =SUM(G12:H12) -> 1480 | G12: 102 | H12: 1378 | I12: أصحاب عمل يعملون بالمنشأة بدون اجر
A13: Managers | C13: =SUM(D13:E13) -> 205683 | D13: 8546 | E13: 197137 | F13: =SUM(G13:H13) -> 2842 | G13: 6 | H13: 2836 | I13: مديرون
A14: Administrators | C14: =SUM(D14:E14) -> 153546 | D14: 7878 | E14: 145668 | F14: =SUM(G14:H14) -> 2588 | G14: 90 | H14: 2498 | I14: إداريون
A15: Specialist and Technicians (engineers, technicians,accountants, purchases and sales staff...etc) | C15: =SUM(D15:E15) -> 277690 | D15: 42500 | E15: 235190 | F15: =SUM(G15:H15) -> 6663 | G15: 427 | H15: 6236 | I15: أخصائيون وفنيون مهندسون وفنيون ومحاسبون و موظفو مشتريات ومبيعات
A16: Clerks | C16: =SUM(D16:E16) -> 28007 | D16: 27 | E16: 27980 | F16: =SUM(G16:H16) -> 1557 | G16: 0 | H16: 1557 | I16: كتبـــة
A17: Production & Operations Supervisors | C17: =SUM(D17:E17) -> 86497 | D17: 872 | E17: 85625 | F17: =SUM(G17:H17) -> 1912 | G17: 0 | H17: 1912 | I17: مشرفو الانتاج والتشغيل
A18: Production and related workers | C18: =SUM(D18:E18) -> 106971 | D18: 9004 | E18: 97967 | F18: =SUM(G18:H18) -> 4822 | G18: 109 | H18: 4713 | I18: عمال الانتاج والتشغيل
A19: Services workers and others | C19: =SUM(D19:E19) -> 195687 | D19: 14990 | E19: 180697 | F19: =SUM(G19:H19) -> 8969 | G19: 14 | H19: 8955 | I19: عمال خدمات واّخرون
A20: Total | C20: =SUM(C11:C19) -> 1277301 | D20: =SUM(D11:D19) -> 84396 | E20: =SUM(E11:E19) -> 1192905 | F20: =SUM(F11:F19) -> 32037 | G20: =SUM(G11:G19) -> 779 | H20: =SUM(H11:H19) -> 31258 | I20: المجموع

Sheet 8
A2: تقديرات قيمة المستلزمات السلعيه حسب النشاط الإقتصادي
A3: نشاط تجارة الجملة والتجزئة (أقل من 10 مشتغلين)
A4: الحد الثاني
A5: ESTIMATES OF VALUE OF INTERMEDIATE GOODS BY MAIN ECONOMIC ACTIVITY
A6: WHOLESALE AND RETAIL TRADE STATISTICS (LESS THAN 10 EMPLOYEES)
A7: Two Digits
A8: Table No. (8) Value QR.000 | C8: 2019 | K8: جدول رقم (8) القيمة ألف ريال قطري
A9: رمز النشاط Activity Code | B9: Main Economic Activity | C9: المجمــوع | D9: مواد سلعيه أخــرى | E9: أدوات كتابية وقرطاسية ومطبوعات | F9: قطع غيار وعدد وأدوات مستهلكه | G9: مــاء | H9: كهرباء | I9: وقود وزيوت | J9: مواد تعبئه وتغليف وحزم | K9: النشاط الاقتصادي الرئيسي
C10: Total | D10: Other goods | E10: Stationery and Printed matters | F10: Spare Parts and Consumable tools | G10: Water | H10: Electricity | I10: Fuels and Oils | J10: Packing Material
A11: 45 | B11: wholesale and retail trade and repair of motor vehicles and motorcycles | C11: =SUM(D11:J11) -> 23260 | D11: 1558 | E11: 485 | F11: 1305 | G11: 1188 | H11: 13650 | I11: 5022 | J11: 52 | K11: تجارة الجملة والتجزئة ،واصلاح المركبات ذات المحركات والدراجات النارية
A12: 46 | B12: Wholesale trade, except of motor vehicles and motorcycles | C12: =SUM(D12:J12) -> 14174 | D12: 4289 | E12: 1369 | F12: 560 | G12: 458 | H12: 1674 | I12: 5440 | J12: 384 | K12: تجارة الجملة ، باستثناء المركبات ذات المحركات والدراجات النارية
A13: 47 | B13: Retail trade, except of motor vehicles and motorcycles | C13: =SUM(D13:J13) -> 189929 | D13: 6173 | E13: 15466 | F13: 9020 | G13: 21939 | H13: 59589 | I13: 52395 | J13: 25347 | K13: تجارة التجزئة،باستثناء المركبات ذات المحركات والدراجات النارية
A14: Total | C14: =SUM(C11:C13) -> 227363 | D14: =SUM(D11:D13) -> 12020 | E14: =SUM(E11:E13) -> 17320 | F14: =SUM(F11:F13) -> 10885 | G14: =SUM(G11:G13) -> 23585 | H14: =SUM(H11:H13) -> 74913 | I14: =SUM(I11:I13) -> 62857 | J14: =SUM(J11:J13) -> 25783 | K14: المجموع

Sheet 9
A2: تقديرات قيمة المستلزمات السلعية حسب النشاط الاقتصادي
A3: نشاط تجارة الجملة والتجزئة (أقل من 10 مشتغلين)
A4: الحد الرابع
A5: ESTIMATES OF VALUE OF INTERMEDIATE GOODS BY MAIN ECONOMIC ACTIVITY
A6: WHOLESALE AND RETAIL TRADE STATISTICS (LESS THAN 10 EMPLOYEES)
A7: four digits
A8: Table No. (9) Value QR.000 | C8: 2019 | F8: 2009 | K8: جدول رقم (9) القيمة ألف ريال قطري
A9: رمز النشاط Activity Code | B9: Main Economic Activity | C9: المجمــوع | D9: مواد سلعيه أخــرى | E9: أدوات كتابية وقرطاسية ومطبوعات | F9: قطع غيار وعدد وأدوات مستهلكه | G9: مــاء | H9: كهرباء | I9: وقود وزيوت | J9: مواد تعبئه وتغليف وحزم | K9: النشاط الاقتصادي الرئيسي
C10: Total | D10: Other goods | E10: Stationery and Printed matters | F10: Spare Parts and Consumable tools | G10: Water | H10: Electricity | I10: Fuels and Oils | J10: Packing Material
A11: 4511 | B11: wholesale and retail sale of new vehicles ssuch asambulances and minibus | C11: =SUM(D11:J11) -> 132 | D11: 19 | E11: 0 | F11: 0 | G11: 47 | H11: 66 | I11: 0 | J11: 0 | K11: البيع بالجملة والتجزئة للسيارات الخاصة الجديدة وتشمل سيارات الإسعاف والباصات الصغيرة
A12: 4512 | B12: wholesale and retail sale of used vehicles ssuch asambulances and minibus | C12: =SUM(D12:J12) -> 1591 | D12: 1000 | E12: 201 | F12: 0 | G12: 0 | H12: 290 | I12: 100 | J12: 0 | K12: البيع بالجملة والتجزئة للسيارات الخاصة المستعملة وتشمل سيارات الإسعاف والباصات الصغيرة
A13: 4519 | B13: Wholesale and retail trade in other types of motor vehicles not listed above | C13: =SUM(D13:J13) -> 0 | D13: 0 | E13: 0 | F13: 0 | G13: 0 | H13: 0 | I13: 0 | J13: 0 | K13: تجارة الجملة والتجزئه في انواع اخرى من المركبات ذات المحركات لم ترد فيما سبق
A14: 4531 | B14: Wholesale and retail sale of motor vehicles new spare parts and accessories | C14: =SUM(D14:J14) -> 20543 | D14: 528 | E14: 279 | F14: 884 | G14: 1125 | H14: 13146 | I14: 4581 | J14: 0 | K14: البيع بالجملة والتجزئة لقطع الغيار الجديده للسيارات وتوابعها
A15: 4532 | B15: Wholesale and retail sale of motor vehicles tyres and accessories | C15: =SUM(D15:J15) -> 986 | D15: 9 | E15: 5 | F15: 421 | G15: 16 | H15: 142 | I15: 341 | J15: 52 | K15: البيع بالجملة والتجزئة لاطارات السيارات وتوابعها
A16: 4539 | B16: Wholesale and retail sale of motor vehicle parts and accessories not listed above | C16: =SUM(D16:J16) -> 8 | D16: 2 | E16: 0 | F16: 0 | G16: 0 | H16: 6 | I16: 0 | J16: 0 | K16: البيع بالجملة والتجزئة لاجزاء وتوابع المركبات لم ترد فيما سبق
A17: 4610 | B17: Wholesale on a fee or contract basis | C17: =SUM(D17:J17) -> 7 | D17: 7 | E17: 0 | F17: 0 | G17: 0 | H17: 0 | I17: 0 | J17: 0 | K17: البيع بالجملة نظير رسم أو على أساس عقد
A18: 4620 | B18: Wholesale of agricultural raw materials and live animals | C18: =SUM(D18:J18) -> 291 | D18: 0 | E18: 0 | F18: 0 | G18: 97 | H18: 194 | I18: 0 | J18: 0 | K18: تجارة المواد الخام الزراعية والحيوانات الحية بالجملة
A19: 4631 | B19: Wholesale of fruit and vegetables | C19: =SUM(D19:J19) -> 1936 | D19: 325 | E19: 39 | F19: 113 | G19: 8 | H19: 465 | I19: 790 | J19: 196 | K19: البيع بالجملة للفواكه والخضراوات
A20: 4632 | B20: Wholesale of other food, beverages and tobacco | C20: =SUM(D20:J20) -> 1096 | D20: 33 | E20: 59 | F20: 0 | G20: 77 | H20: 52 | I20: 821 | J20: 54 | K20: البيع بالجملة للأغذية والمشروبات والتبغ لم ترد فيما سبق
A21: 4641 | B21: Wholesale of textiles, clothing and footwear includes (blankets, linens and bed sheets, clothes and sports shoes, etc. ..) | C21: =SUM(D21:J21) -> 192 | D21: 0 | E21: 0 | F21: 0 | G21: 0 | H21: 192 | I21: 0 | J21: 0 | K21: بيع المنسوجات والملبوسات والأحذية بالجملة ويشمل(البطاطين والبياضات والشراشف وملابس الرياضه والاحذية..الخ)
A22: 4647 | B22: Wholesale of pharmaceutical and medical goods،medical equipments and devices ,perfumes,and cosmetics | C22: =SUM(D22:J22) -> 702 | D22: 9 | E22: 62 | F22: 21 | G22: 44 | H22: 63 | I22: 490 | J22: 13 | K22: البيع بالجملة للسلع الصيدلانية والطبية والادوات والاجهزة الطبية والعطور ومستحضرات التجميل
... A68: 4779 | B68: retail sale of non-food products not calssiffied anywhere else ,including (weapons and ammunition … etc) | C68: =SUM(D68:J68) -> 6324 | D68: 0 | E68: 521 | F68: 3087 | G68: 111 | H68: 806 | I68: 1621 | J68: 178 | K68: البيع بالتجزئة للمواد الغير غذائية لم تصنف في مكان آخر وتشمل (الاسلحه ...الخ)
A69: Total | C69: =SUM(C11:C68) -> 227359 | D69: =SUM(D11:D68) -> 12019 | E69: =SUM(E11:E68) -> 17320 | F69: =SUM(F11:F68) -> 10884 | G69: =SUM(G11:G68) -> 23582 | H69: =SUM(H11:H68) -> 74911 | I69: =SUM(I11:I68) -> 62860 | J69: =SUM(J11:J68) -> 25783 | K69: المجموع

Sheet 10
A2: تقديرات قيمة المستلزمات الخدمية حسب النشاط الإقتصادي
A3: نشاط تجارة الجملة والتجزئة (أقل من 10 مشتغلين)
D4: الحد الثاني
A5: ESTIMATES OF VALUE OF INTERMEDIATE SERVICES BY MAIN ECONOMIC ACTIVITY
A6: WHOLESALE AND RETAIL TRADE STATISTICS (LESS THAN 10 EMPLOYEES)
A7: Two Digits
A8: Table No. (10) Value QR.000 | C8: 2019 | M8: جدول رقم (10) القيمة ألف ريال قطري
A9: رمز النشاط Activity Code | B9: Main Economic Activity | C9: المجمــوع | D9: اخرى بريد- طباعة- دعاية- هاتف،فاكس | E9: ايجارات مباني غير سكنية | F9: ايجارات وسائل نقـــل | G9: ايجارات اّلات ومعدات | H9: نقل وانتقالات عامــة | I9: تشغيل لدى الغير وخدمات صناعية | J9: صيانة اّلات ومعدات | K9: صيانة وسائل نقـل | L9: صيانة مباني | M9: النشاط الاقتصادي الرئيسي
C10: Total | D10: Other services expenses (mail, publicity & telephone) | E10: Rents of non- residential buildings | F10: Rents of transportati on equipment | G10: Rents of machinery and equipment | H10: Transportation | I10: Work done & industrial services rendered by other | J10: Machinery and equipment maintenance | K10: Transport Equipment Maintenance | L10: Building repairs and maintenance
A11: 45 | B11: wholesale and retail trade and repair of motor vehicles and motorcycles | C11: =SUM(D11:L11) -> 59690 | D11: 10311 | E11: 41780 | F11: 0 | G11: 0 | H11: 1762 | I11: 0 | J11: 3266 | K11: 1451 | L11: 1120 | M11: تجارة الجملة والتجزئة ،واصلاح المركبات ذات المحركات والدراجات النارية
A12: 46 | B12: Wholesale trade, except of motor vehicles and motorcycles | C12: =SUM(D12:L12) -> 68119 | D12: 7674 | E12: 52461 | F12: 167 | G12: 397 | H12: 2374 | I12: 390 | J12: 460 | K12: 2939 | L12: 1257 | M12: تجارة الجملة ، باستثناء المركبات ذات المحركات والدراجات النارية
A13: 47 | B13: Retail trade, except of motor vehicles and motorcycles | C13: =SUM(D13:L13) -> 753891 | D13: 86542 | E13: 625477 | F13: 9310 | G13: 1060 | H13: 3503 | I13: 199 | J13: 2842 | K13: 15813 | L13: 9145 | M13: تجارة التجزئة،باستثناء المركبات ذات المحركات والدراجات النارية
A14: Total | C14: =SUM(C11:C13) -> 881700 | D14: =SUM(D11:D13) -> 104527 | E14: =SUM(E11:E13) -> 719718 | F14: =SUM(F11:F13) -> 9477 | G14: =SUM(G11:G13) -> 1457 | H14: =SUM(H11:H13) -> 7639 | I14: =SUM(I11:I13) -> 589 | J14: =SUM(J11:J13) -> 6568 | ... L14: =SUM(L11:L13) -> 11522 | M14: المجموع

Sheet 11
A2: تقديرات قيمة المستلزمات الخدمية حسب النشاط الإقتصادي
A3: نشاط تجارة الجملة والتجزئة (أقل من 10 مشتغلين)
A4: الحد الرابع
A5: ESTIMATES OF VALUE OF INTERMEDIATE SERVICES BY MAIN ECONOMIC ACTIVITY
A6: WHOLESALE AND RETAIL TRADE STATISTICS (LESS THAN 10 EMPLOYEES)
A7: four digits
A8: Table No. (11) Value QR.000 | C8: 2019 | M8: جدول رقم (11) القيمة ألف ريال قطري
A9: رمز النشاط Activity Code | B9: Main Economic Activity | C9: المجمــوع | D9: اخرى بريد- طباعة- دعاية- هاتف،فاكس | E9: ايجارات مباني غير سكنية | F9: ايجارات وسائل نقـــل | G9: ايجارات اّلات ومعدات | H9: نقل وانتقالات عامــة | I9: تشغيل لدى الغير وخدمات صناعية | J9: صيانة اّلات ومعدات | K9: صيانة وسائل نقـل | L9: صيانة مباني | M9: النشاط الاقتصادي الرئيسي
C10: Total | D10: Other services expenses (mail, publicity & telephone) | E10: Rents of non- residential buildings | F10: Rents of transportati on equipment | G10: Rents of machinery and equipment | H10: Transportation | I10: Work done & industrial services rendered by other | J10: Machinery and equipment maintenance | K10: Transport Equipment Maintenance | L10: Building repairs and maintenance
A11: 4511 | B11: wholesale and retail sale of new vehicles ssuch asambulances and minibus | C11: =SUM(D11:L11) -> 5466 | D11: 219 | E11: 5208 | F11: 0 | G11: 0 | H11: 0 | I11: 0 | J11: 0 | K11: 39 | L11: 0 | M11: البيع بالجملة والتجزئة للسيارات الخاصة الجديدة وتشمل سيارات الإسعاف والباصات الصغيرة
A12: 4512 | B12: wholesale and retail sale of used vehicles ssuch asambulances and minibus | C12: =SUM(D12:L12) -> 21526 | D12: 1793 | E12: 19110 | F12: 0 | G12: 0 | H12: 0 | I12: 0 | J12: 0 | K12: 419 | L12: 204 | M12: البيع بالجملة والتجزئة للسيارات الخاصة المستعملة وتشمل سيارات الإسعاف والباصات الصغيرة
A13: 4519 | B13: Wholesale and retail trade in other types of motor vehicles not listed above | C13: =SUM(D13:L13) -> 0 | D13: 0 | E13: 0 | F13: 0 | G13: 0 | H13: 0 | I13: 0 | J13: 0 | K13: 0 | L13: 0 | M13: تجارة الجملة والتجزئه في انواع اخرى من المركبات ذات المحركات لم ترد فيما سبق
A14: 4531 | B14: Wholesale and retail sale of motor vehicles new spare parts and accessories | C14: =SUM(D14:L14) -> 30157 | D14: 7741 | E14: 15616 | F14: 0 | G14: 0 | H14: 1664 | I14: 0 | J14: 3266 | K14: 972 | L14: 898 | M14: البيع بالجملة والتجزئة لقطع الغيار الجديده للسيارات وتوابعها
A15: 4532 | B15: Wholesale and retail sale of motor vehicles tyres and accessories | C15: =SUM(D15:L15) -> 2278 | D15: 558 | E15: 1594 | F15: 0 | G15: 0 | H15: 97 | I15: 0 | J15: 0 | K15: 20 | L15: 9 | M15: البيع بالجملة والتجزئة لاطارات السيارات وتوابعها
A16: 4539 | B16: Wholesale and retail sale of motor vehicle parts and accessories not listed above | C16: =SUM(D16:L16) -> 261 | D16: 0 | E16: 252 | F16: 0 | G16: 0 | H16: 0 | I16: 0 | J16: 0 | K16: 0 | L16: 9 | M16: البيع بالجملة والتجزئة لاجزاء وتوابع المركبات لم ترد فيما سبق
A17: 4610 | B17: Wholesale on a fee or contract basis | C17: =SUM(D17:L17) -> 45 | D17: 45 | E17: 0 | F17: 0 | G17: 0 | H17: 0 | I17: 0 | J17: 0 | K17: 0 | L17: 0 | M17: البيع بالجملة نظير رسم أو على أساس عقد
A18: 4620 | B18: Wholesale of agricultural raw materials and live animals | C18: =SUM(D18:L18) -> 757 | D18: 0 | E18: 0 | F18: 0 | G18: 0 | H18: 0 | I18: 323 | J18: 194 | K18: 78 | L18: 162 | M18: تجارة المواد الخام الزراعية والحيوانات الحية بالجملة
A19: 4631 | B19: Wholesale of fruit and vegetables | C19: =SUM(D19:L19) -> 3366 | D19: 0 | E19: 196 | F19: 0 | G19: 0 | H19: 2019 | I19: 0 | J19: 0 | K19: 673 | L19: 478 | M19: البيع بالجملة للفواكه والخضراوات
A20: 4632 | B20: Wholesale of other food, beverages and tobacco | C20: =SUM(D20:L20) -> 8852 | D20: 459 | E20: 7566 | F20: 0 | G20: 0 | H20: 230 | I20: 0 | J20: 0 | K20: 538 | L20: 59 | M20: البيع بالجملة للأغذية والمشروبات والتبغ لم ترد فيما سبق
A21: 4641 | B21: Wholesale of textiles, clothing and footwear includes (blankets, linens and bed sheets, clothes and sports shoes, etc. ..) | C21: =SUM(D21:L21) -> 9632 | D21: 32 | E21: 9600 | F21: 0 | G21: 0 | H21: 0 | I21: 0 | J21: 0 | K21: 0 | L21: 0 | M21: بيع المنسوجات والملبوسات والأحذية بالجملة ويشمل(البطاطين والبياضات والشراشف وملابس الرياضه والاحذية..الخ)
A22: 4647 | B22: Wholesale of pharmaceutical and medical goods،medical equipments and devices ,perfumes,and cosmetics | C22: =SUM(D22:L22) -> 2897 | D22: 316 | E22: 2000 | F22: 135 | G22: 0 | H22: 87 | I22: 66 | J22: 0 | K22: 232 | L22: 61 | M22: البيع بالجملة للسلع الصيدلانية والطبية والادوات والاجهزة الطبية والعطور ومستحضرات التجميل
... A68: 4779 | B68: retail sale of non-food products not calssiffied anywhere else ,including (weapons and ammunition … etc) | C68: =SUM(D68:L68) -> 845 | D68: 457 | E68: 0 | F68: 0 | G68: 0 | H68: 22 | I68: 0 | J68: 0 | K68: 160 | L68: 206 | M68: البيع بالتجزئة للمواد الغير غذائية لم تصنف في مكان آخر وتشمل (الاسلحه ...الخ)
A69: Total | C69: =SUM(C11:C68) -> 881701 | D69: =SUM(D11:D68) -> 104527 | E69: =SUM(E11:E68) -> 719719 | F69: =SUM(F11:F68) -> 9478 | G69: =SUM(G11:G68) -> 1457 | H69: =SUM(H11:H68) -> 7641 | I69: =SUM(I11:I68) -> 588 | J69: =SUM(J11:J68) -> 6568 | ... L69: =SUM(L11:L68) -> 11521 | M69: المجموع

Sheet 12
A2: المشتريات والمبيعات والموجودات خلال السنة حسب نوع التجارة
A3: نشاط تجارة الجملة والتجزئة (أقل من 10 مشتغلين)
A4: PURCHASES,SALE& STOCKS DURING THE YEAR TYPE OF TRADE
A5: WHOLESALE &RETAIL TRADE STATISTICS (LESS THAN 10 EMPLOYEES)
A6: Table No. (12) | C6: 2019 | K6: جدول رقم (12)
A7: Main Economic Activity | C7: مبيعات | E7: موجودات بضائع بغرض البيع | G7: المشتريات(بغرض البيع) | J7: النشاط الاقتصادى الرئيسي
C8: Sales | E8: Stock for sale | G8: Goods Purchased for Sale
C9: بالتجزئه | D9: بالجملة | E9: آخر العام | F9: اول العام | G9: المجموع | H9: مستوردة | I9: محلية
C10: Retail | D10: Whole Sale | E10: End of Year | F10: Beginning Of The Year | G10: Total | H10: Imported | I10: Local
A11: Sale of Motor Vechiles | C11: 0 | D11: 1321453 | E11: 59318 | F11: 182750 | G11: 1150968 | H11: 915028 | I11: 235940 | J11: بيع المركبات ذات المحركات
A12: Wholesale on A Commission Basis | C12: 119643 | D12: 0 | E12: 1121 | F12: 728 | G12: 67690 | H12: 1308 | I12: 66382 | J12: (تجارة الجملة بالعمولة ( القومسيون ، السماسرة
A13: Other Wholesale | C13: 244273 | D13: 2199040 | E13: 216381 | F13: 147805 | G13: 1635704 | H13: 1449355 | I13: 186349 | J13: أنواع تجارة الجملة الأخرى
A14: Retail Sale of Food, Beverages and Tobacco in Other Specialized Stores | C14: 1268829 | D14: 56967 | E14: 135718 | F14: 88886 | G14: 779337 | H14: 30052 | I14: 749285 | J14: تجارة التجزئة في الأغذية والمشروبات والتبؤ في المتاجر المتخصصه الاخرى
A15: Maintenance and Repair of Motor Vehicles | C15: 0 | D15: 0 | E15: 0 | F15: 0 | G15: 0 | H15: 0 | I15: 0 | J15: صيانة واصلاح السيارات ذات المركبات
A16: Other Retail Trade of New Goods in Specialized Stores | C16: 4387232 | D16: 425739 | E16: 886695 | F16: 917984 | G16: 3741689 | H16: 360074 | I16: 3381615 | J16: أنواع تجارة التجزئة الاخرى الجديديه في المتاجر المتخصصه
A17: Sale, Maintenance & Repair of Motorcycles & Related Parts & | C17: 300328 | D17: 2834 | E17: 69091 | F17: 78510 | G17: 198262 | H17: 178 | I17: 198084 | J17: بيع وصيانة واصلاح الدراجات النارية وما يتصل بها
A18: Retail Sale of Automotive Fuel | C18: 24786 | D18: 0 | E18: 566 | F18: 47 | G18: 24518 | H18: 0 | I18: 24518 | J18: (بيع وقود السيارات بالتجزئة (محطات البترول
A19: Wholesale of Household Goods | C19: 359148 | D19: 0 | E19: 118921 | F19: 110837 | G19: 200162 | H19: 196712 | I19: 3450 | J19: تجارة الجملة في السلع المنزليـة
A20: Repair of Personal and Household Goods | C20: 10276 | D20: 0 | E20: 0 | F20: 0 | G20: 0 | H20: 0 | I20: 0 | J20: اصلاح السلع الشخصية والمنزلية
A21: Sale of Motor Vehicle Parts and Accessories | C21: 1107 | D21: 0 | E21: 177 | F21: 89 | G21: 620 | H21: 0 | I21: 620 | J21: بيع قطع غيار السيارات
A22: Wholesale of Agricultural Raw Materials, Live Animals, Food, Beverages & Tobacco | C22: 267218 | D22: 352288 | E22: 2895 | F22: 2632 | G22: 533037 | H22: 493541 | I22: 39496 | J22: تجارة الجملة في المواد الخام الزراعية والماشية الحية والأعذية
... A28: Retail Trade Not in Store | C28: 106371 | D28: 8500 | E28: 0 | F28: 0 | G28: 97600 | H28: 0 | I28: 97600 | J28: تجارة التجزئة خارج المتاجر
A29: Total | C29: =SUM(C11:C28) -> 10405729 | D29: =SUM(D11:D28) -> 4768036 | E29: =SUM(E11:E28) -> 2211169 | F29: =SUM(F11:F28) -> 2101447 | G29: =SUM(G11:G28) -> 10465761 | H29: =SUM(H11:H28) -> 5032930 | I29: =SUM(I11:I28) -> 5432831 | J29: المجموع

Sheet 13
A2: تقديرات القيمة المضافة حسب النشاط الاقتصادي الرئيسي
A3: نشاط تجارة الجملة والتجزئة (أقل من 10 مشتغلين)
A4: الحد الثاني
A5: ESTIMATES OF VALUE ADDED BY MAIN ECONOMIC ACTIVITY
A6: WHOLESALE AND RETAIL TRADE STATISTICS (LESS THAN 10 EMPLOYEES)
A7: Two Digits
A8: Table No. (13) Value QR.000 | C8: 2019 | L8: جدول رقم (13) القيمة ألف ريال قطري
A9: رمز النشاط Activity Code | B9: Main Economic Activity | C9: القيمة المضافة الصافية | D9: الإهتلاكات | E9: القيمة المضافة الإجمالية | F9: المستلزمات السلعية والخدمية | I9: قيمة الإنتاج | L9: النشاط الاقتصادى الرئيسي
F10: Intermediate Goods & Services | I10: Production Value
C11: Net Value Added | D11: Depreciations | E11: Gross Value Added | F11: المجموع | G11: خدمات | H11: سلع | I11: المجموع | J11: إيرادات إخرى | K11: منتجات
F12: Total | G12: Services | H12: Goods | I12: Total | J12: Other Revenues | K12: Products
A13: 45 | B13: wholesale and retail trade and repair of motor vehicles and motorcycles | C13: 1249078 | D13: 6453 | E13: 1255531 | F13: =SUM(G13:H13) -> 82949 | G13: 59689 | H13: 23260 | I13: =SUM(J13:K13) -> 1338480 | J13: 1089101 | K13: 249379 | L13: تجارة الجملة والتجزئة ،واصلاح المركبات ذات المحركات والدراجات النارية
A14: 46 | B14: Wholesale trade, except of motor vehicles and motorcycles | C14: 1093946 | D14: 11281 | E14: 1105227 | F14: =SUM(G14:H14) -> 82291 | G14: 68118 | H14: 14173 | I14: =SUM(J14:K14) -> 1187518 | J14: 241533 | K14: 945985 | L14: تجارة الجملة ، باستثناء المركبات ذات المحركات والدراجات النارية
A15: 47 | B15: Retail trade, except of motor vehicles and motorcycles | C15: 3523205 | D15: 50069 | E15: 3573274 | F15: =SUM(G15:H15) -> 943819 | G15: 753891 | H15: 189928 | I15: =SUM(J15:K15) -> 4517093 | J15: 894730 | K15: 3622363 | L15: تجارة التجزئة،باستثناء المركبات ذات المحركات والدراجات النارية
A16: Total | C16: =E16-D16 -> 5866229 | D16: =SUM(D13:D15) -> 67803 | E16: =SUM(E13:E15) -> 5934032 | F16: =SUM(F13:F15) -> 1109059 | G16: =SUM(G13:G15) -> 881698 | H16: =SUM(H13:H15) -> 227361 | I16: =SUM(I13:I15) -> 7043091 | J16: =SUM(J13:J15) -> 2225364 | K16: =SUM(K13:K15) -> 4817727 | L16: المجموع

Sheet 14
A2: تقديرات القيمة المضافة حسب النشاط الاقتصادي الرئيسي
A3: نشاط تجارة الجملة والتجزئة (أقل من 10 مشتغلين)
A4: الحد الرابع
A5: ESTIMATES OF VALUE ADDED BY MAIN ECONOMIC ACTIVITY
A6: WHOLESALE & RETAIL TRADE STATISTICS (LESS THAN 10 EMPLOYEES)
A7: four digits
A8: Table No. (14) Value QR.000 | C8: 2019 | L8: جدول رقم (14) القيمة ألف ريال قطري
A9: رمز النشاط Activity Code | B9: Main Economic Activity | C9: القيمة المضافة الصافية | D9: الإهتلاكات | E9: القيمة المضافة الإجمالية | F9: المستلزمات السلعية والخدمية | I9: قيمة الإنتاج | L9: النشاط الاقتصادى الرئيسي
F10: Intermediate Goods & Services | I10: Production Value
C11: Net Value Added | D11: Depreciations | E11: Gross Value Added | F11: المجموع | G11: خدمات | H11: سلع | I11: المجموع | J11: إيرادات إخرى | K11: منتجات
F12: Total | G12: Services | H12: Goods | I12: Total | J12: Other Revenues | K12: Products
A13: 4511 | B13: wholesale and retail sale of new vehicles ssuch asambulances and minibus | C13: 45320 | D13: 0 | E13: 45320 | F13: 5597 | G13: 5465 | H13: 132 | I13: 50917 | J13: 3917 | K13: 47000 | L13: البيع بالجملة والتجزئة للسيارات الخاصة الجديدة وتشمل سيارات الإسعاف والباصات الصغيرة
A14: 4512 | B14: wholesale and retail sale of used vehicles ssuch asambulances and minibus | C14: 1037889 | D14: 0 | E14: 1037889 | F14: 23117 | G14: 21526 | H14: 1591 | I14: 1061006 | J14: 1060953 | K14: 53 | L14: البيع بالجملة والتجزئة للسيارات الخاصة المستعملة وتشمل سيارات الإسعاف والباصات الصغيرة
A15: 4519 | B15: Wholesale and retail trade in other types of motor vehicles not listed above | C15: 0 | D15: 0 | E15: 0 | F15: 0 | G15: 0 | H15: 0 | I15: 0 | J15: 0 | K15: 0 | L15: تجارة الجملة والتجزئه في انواع اخرى من المركبات ذات المحركات لم ترد فيما سبق
A16: 4531 | B16: Wholesale and retail sale of motor vehicles new spare parts and accessories | C16: 163086 | D16: 6358 | E16: 169444 | F16: 50702 | G16: 30158 | H16: 20544 | I16: 220146 | J16: 22655 | K16: 197491 | L16: البيع بالجملة والتجزئة لقطع الغيار الجديده للسيارات وتوابعها
A17: 4532 | B17: Wholesale and retail sale of motor vehicles tyres and accessories | C17: 2362 | D17: 87 | E17: 2449 | F17: 3264 | G17: 2279 | H17: 985 | I17: 5713 | J17: 1576 | K17: 4137 | L17: البيع بالجملة والتجزئة لاطارات السيارات وتوابعها
A18: 4539 | B18: Wholesale and retail sale of motor vehicle parts and accessories not listed above | C18: 420 | D18: 9 | E18: 429 | F18: 269 | G18: 261 | H18: 8 | I18: 698 | J18: 0 | K18: 698 | L18: البيع بالجملة والتجزئة لاجزاء وتوابع المركبات لم ترد فيما سبق
A19: 4610 | B19: Wholesale on a fee or contract basis | C19: 16268 | D19: 177 | E19: 16445 | F19: 52 | G19: 45 | H19: 7 | I19: 16497 | J19: 1147 | K19: 15350 | L19: البيع بالجملة نظير رسم أو على أساس عقد
A20: 4620 | B20: Wholesale of agricultural raw materials and live animals | C20: 7640 | D20: 365 | E20: 8005 | F20: 1048 | G20: 757 | H20: 291 | I20: 9053 | J20: 0 | K20: 9053 | L20: تجارة المواد الخام الزراعية والحيوانات الحية بالجملة
