Workbook

Sheet المحتويات
A1: المحتـويــــــــات Contents

Sheet Cont
A1: Contents | D1: المحتويات
A2: Tables | B2: رقم الصفحة Page No. | C2: رقم الجدول Table No. | D2: الجداول
A3: Introduction | D3: مقدمة
A4: Preface | D4: تقديم
A5: Definitions | D5: تعاريف
A6: CHAPTER ONE : VITAL INDICATORS | D6: الباب الأول : المؤشرات الحيوية
A7: General Fertility, Total Fertility and Gross Reproduction Rate, and Average Age of Child Bearing by Nationality (2018-2022) | C7: 1 | D7: معدل الخصوبة العام والخصوبة الكلية والإحلال الإجمالى ومتوسط عمر المرأة عند الإنجاب حسب الجنسية (2018-2022)
A8: Crude Birth and Death Rate, Natural Increase Rate, Maternal Mortality Rate and Rate Of Deliveries Under Medical Supervision (2013-2022) | C8: 2 | D8: معدل المواليد والوفيات الخام ومعدل الزيادة الطبيعية ومعدل وفيات الأمهات ونسبة الولادات التي تجري تحت إشراف صحي (2013-2022)
A9: Neonatal Mortality Rate (2013-2022) | C9: 3 | D9: معدل وفيات حديثي الولادة (2013-2022)
A10: Infant Mortality Rate by Nationality and Gender (2013-2022) | C10: 4 | D10: معدل وفيات الأطفال الرضع حسب الجنسية والنوع (2013-2022)
A11: Child Mortality Rate (Less Than 5 Years) by Nationality and Gender (2013-2022) | C11: 5 | D11: معدل وفيات الأطفال (أقل من 5 سنوات) حسب الجنسية والنوع (2013-2022)
A12: Child Mortality Rate by Nationlity and Gender (2013-2022) | C12: 6 | D12: معدل وفيات الأطفال حسب الجنسية والنوع (2013-2022)
A14: CHAPTER TWO : LIVE BIRTHS | D14: الباب الثاني : المواليــــد الأحياء
A15: Registered Vital Events (2013-2022) | C15: 1 | D15: الواقعات الحيوية المسجلة (2013-2022)
A16: Non-Registered Live Births by Nationality and Gender (2012-2021) | C16: 2 | D16: المواليد الأحياء فاقدو القيد حسب الجنسية والنوع (2012-2021)
A17: Registered Live Births by Nationality, Gender and Gender Ratio at birth (2013-2022) | C17: 3 | D17: المواليد الأحياء المسجلون حسب الجنسية والنوع ونسبة النوع عند الميلاد (2013-2022)
A18: Registerd Live Births by Nationality and Gender (2013-2022) | C18: 4 | D18: المواليد الأحياء المسجلون حسب الجنسية والنوع (2013-2022)
A19: Registered Live Births by Nationality, Gender and Municipality (2022) | C19: 5 | D19: المواليد الأحياء المسجلون حسب الجنسية والنوع والبلدية (2022)
A20: Registered Live Births by Month, Gender and Municipality, Qataris (2022) | C20: 6-1 | D20: المواليد الأحياء المسجلون حسب الشهر والنوع والبلدية، قطريون (2022)
A21: Registered Live Births by Month, Gender and Municipality, Non-Qataris (2022) | C21: 6-2 | D21: المواليد الأحياء المسجلون حسب الشهر والنوع والبلدية، غير قطريين (2022)
A22: Registered Live Births by Month, Gender and Municipality, Total (2022) | C22: 6-3 | D22: المواليد الأحياء المسجلون حسب الشهر والنوع والبلدية، المجموع (2022)
A23: Registered Live Births by Nationality, Type of Births and Municipality (2022) | C23: 7 | D23: المواليد الأحياء المسجلون حسب الجنسية ونوع الولادة والبلدية (2022)
A24: Registered Live Births by Nationality, Delivery Attendant, Place of Birth and Municipality (2022) | C24: 8 | D24: المواليد الأحياء المسجلون حسب الجنسية وصفة القائم بالتوليد ومكان الولادة والبلدية (2022)
A25: Registered Live Births by Gender and Nationality (2018-2022) | C25: 9 | D25: المواليد الأحياء المسجلون حسب النوع والجنسية (2018-2022)
A26: Registered Live Births by Nationality, Gender and Mother's Age Group (2022) | C26: 10 | D26: المواليد الأحياء المسجلون حسب الجنسية والنوع وفئة عمر الأم (2022)
... A47: Registered Live Births by Father's Age Group, Nationality and Occupation (2022) | C47: 19 | D47: المواليد الأحياء المسجلون حسب فئة عمر الأب وجنسيته ومهنته (2022)
A48: CHAPTER THREE : FOETAL DEATHS | D48: الباب الثالث : المواليــــد موتى
A49: REGISTERED FOETAL DEATHS BY NATIONALITY AND GENDER (2013-2022) | C49: 1 | D49: واقعات الولادة الميتة المسجلة حسب الجنسية والنوع (2013-2022)
A50: REGISTERED FOETAL DEATHS BY NATIONALITY, GENDER AND MUNICIPALITY (2022) | C50: 2 | D50: واقعات الولادة الميتة المسجلة حسب الجنسية والنوع والبلدية (2022)
A51: REGISTERED FOETAL DEATHS BY NATIONALITY, GENDER AND MONTH (2022) | C51: 3 | D51: واقعات الولادة الميتة المسجلة حسب الجنسية والنوع والشهر (2022)
A52: REGISTERED FOETAL DEATHS BY NATIONALITY, GENDER AND AGE GROUP OF MOTHER, (2022) | C52: 4 | D52: واقعات الولادة الميتة المسجلة حسب الجنسية والنوع وفئة عمر الأم (2022)
A53: REGISTERED FOETAL DEATHS BY NATIONALITY, GENDER AND GESTATIONAL AGE IN WEEKS (2022) | C53: 5 | D53: واقعات الولادة الميتة المسجلة حسب الجنسية والنوع والعمر الرحمى بالاسابيع (2022)
A54: REGISTERED FOETAL DEATHS BY NATIONALITY, GENDER AND EDUCATIONAL STATUS OF MOTHER (2022) | C54: 6 | D54: واقعات الولادة الميتة المسجلة حسب الجنسية والنوع والحالة التعليمية للأم (2022)
A55: REGISTERED FOETAL DEATHS BY GENDER AND NATIONALITY (2022) | C55: 7 | D55: واقعات الولادة الميتة المسجلة حسب النوع والجنسية (2022)
A56: REGISTERED FOETAL DEATHS BY AGE GROUP OF MOTHER AND CHILD ORDER (Qataris) (2022) | C56: 8-1 | D56: واقعات الولادة الميتة المسجلة حسب فئة عمر الام وترتيب المولود، قطريون (2022)
A57: REGISTERED FOETAL DEATHS BY AGE GROUP OF MOTHER AND CHILD ORDER (Non-Qataris) (2022) | C57: 8-2 | D57: واقعات الولادة الميتة المسجلة حسب فئة عمر الام وترتيب المولود، غير قطريين (2022)
A58: REGISTERED FOETAL DEATHS BY AGE GROUP OF MOTHER AND CHILD ORDER (Total) (2022) | C58: 8-3 | D58: واقعات الولادة الميتة المسجلة حسب فئة عمر الام وترتيب المولود، المجموع (2022)
A60: CHAPTER THREE : DEATHS | D60: الباب الثالث: الوفيات
A61: Registered Deaths by Nationality and Gender (2013-2022) | C61: 1 | D61: الوفيات المسجلة حسب الجنسية والنوع (2013-2022)
A62: Registered Deaths by Nationality, Gender and Municipality (2022) | C62: 2 | D62: الوفيات المسجلة حسب الجنسية والنوع والبلدية (2022)
...

Sheet Con-GR
A1: List of Figures | D1: فهرس الرسوم البيانية
A2: Figure | B2: رقم الصفحة Page No. | C2: رقم الشكل Figure No. | D2: الشكل
A4: CHAPTER ONE : VITAL INDICATORS | D4: الباب الأول : المؤشرات الحيوية
A5: Child Mortality Rate (Less Than 5 Years) by Gender (2013-2022) | C5: 1 | D5: معدل وفيات الأطفال (أقل من 5 سنوات) حسب النوع (2013 - 2022)
A7: CHAPTER TWO : LIVE BIRTHS | D7: الباب الثاني : المواليــــد الأحياء
A8: Registerd Vital Events (2013-2022) | C8: 2 | D8: الواقعات الحيوية المسجلة (2013 -2022)
A9: Registerd Live Births by Nationality and Municipility (2022) | C9: 3 | D9: المواليد الأحياء المسجلون حسب الجنسية والبلدية (2022)
A10: Registered Live Births by Gender and Month (2022) | C10: 4 | D10: المواليد الأحياء المسجلون حسب النوع والشهر (2022)
A11: Registered Live Births by Nationality (2022) | C11: 5 | D11: المواليد الأحياء المسجلون حسب الجنسية (2022)
A12: Registered Live Births by Nationality and Mother's Age Group (2022) | C12: 6 | D12: المواليد الأحياء المسجلون حسب الجنسية و فئة عمر الأم (2022)
A13: Registered Live Births by Mother's Nationality and Age Group (2022) | C13: 7 | D13: المواليد الأحياء المسجلون حسب جنسية الأم وفئة عمرها (2022)
A14: Registered Live Births by Mother's Educational Status (2022) | C14: 8 | D14: المواليد الأحياء المسجلون حسب الحالة التعليمية للأم (2022)
A16: CHAPTER THREE : DEATHS | D16: الباب الثالث: الوفيات
A17: Registered Deaths by Gender and Month (2022) | C17: 9 | D17: الوفيات المسجلة حسب النوع والشهر (2022)
A18: Registered Deaths by Nationality and Age Groups (2022) | C18: 10 | D18: الوفيات المسجلة حسب الجنسية والفئات العمرية (2022)
A19: Register Qatari Deaths by Place of Death (2022) | C19: 11 | D19: الوفيات المسجلة للقطريين حسب مكان الوفاة (2022)
A20: Registered Deaths by Nationality (2022) | C20: 12 | D20: الوفيات المسجلة حسب الجنسية (2022)
A22: CHAPTER FOUR : INFANT DEATHS | D22: الباب الرابع: وفيات الأطفال الرضع
A23: Registered Infant Deaths by Nationality (2013-2022) | C23: 13 | D23: وفيات الأطفال الرضع المسجلة حسب الجنسية (2013 - 2022)
A24: Registered Infant Deaths by Gender and Nationality (2022) | C24: 14 | D24: وفيات الاطفال الرضع المسجلة حسب النوع والجنسية (2022)

Sheet chapter1
A1: الباب الأول: المؤشرات الحيوية CHAPTER ONE: VITAL INDICATORS

Sheet 1
A1: معدل الخصوبة العام والخصوبة الكلية والإحلال الإجمالى ومتوسط عمر المرأة عند الإنجاب حسب الجنسية
A2: GENERAL FERTILITY, TOTAL FERTILITY AND GROSS REPRODUCTION RATE, AND AVERAGE AGE OF CHILD BEARING BY NATIONALITY
A3: 2018 - 2022
A4: Table No. (1) | I4: جدول رقم (1)
A5: Year Rate & Nationality | C5: 2022 | D5: 2021 | E5: 2020 | F5: 2019 | G5: 2018 | H5: السنة المعدل والجنسية
A6: General Fertility Rate Per 1000 Women | B6: Qataris | C6: 69.674018 | D6: 77.67 | E6: 72.42 | F6: 76.92 | G6: 81.658372 | H6: قطريات | I6: معدل الخصوبة العام لكل ألف امرأة
B7: Non-Qataris | C7: 46.277349 | D7: 49.52 | E7: 53.2 | F7: 56.26 | G7: 56.637773 | H7: غير قطريات
B8: Total | C8: 50.150933 | D8: 54.49 | E8: 56.27 | F8: 59.72 | G8: 60.85618 | H8: المجموع
A9: Total Fertility Rate Per Woman | B9: Qataris | C9: 2.38 | D9: 2.65 | E9: 2.48 | F9: 2.62 | G9: 2.789448 | H9: قطريات | I9: معدل الخصوبة الكلية لكل امرأة
B10: Non-Qataris | C10: 1.4 | D10: 1.45 | E10: 1.59 | F10: 1.63 | G10: 1.633399 | H10: غير قطريات
B11: Total | C11: 1.51 | D11: 1.6 | E11: 1.67 | F11: 1.73 | G11: 1.7548495 | H11: المجموع
A12: Gross Reproduction Rate | B12: Qataris | C12: 1.17 | D12: 1.28 | E12: 1.23 | F12: 1.287 | G12: 1.3758231 | H12: قطريات | I12: معدل الإحلال الإجمالي
B13: Non-Qataris | C13: 0.69 | D13: 0.7 | E13: 0.77 | F13: 0.79 | G13: 0.80385483 | H13: غير قطريات
B14: Total | C14: 0.74 | D14: 0.78 | E14: 0.82 | F14: 0.84 | G14: 0.86474398 | H14: المجموع
A15: Average Age Of Child Bearing | B15: Qataris | C15: 31.93 | D15: 31.93 | E15: 32.05 | F15: 31.77 | G15: 31.862067 | H15: قطريات | I15: متوسط عمر المرأة عند الإنجاب
B16: Non-Qataris | C16: 29.75 | D16: 30.16 | E16: 29.66 | F16: 29.67 | G16: 29.655262 | H16: غير قطريات
B17: Total | C17: 30.25 | D17: 30.57 | E17: 30.19 | F17: 30.2 | G17: 30.200709 | H17: المجموع

Sheet 2
A1: معدل المواليد والوفيات الخام ومعدل الزيادة الطبيعية ومعدل وفيات الأمهات ونسبة الولادات التي تجري تحت إشراف صحي
A2: CRUDE BIRTH AND DEATH RATE, NATURAL INCREASE RATE, MATERNAL MORTALITY RATE AND RATE OF DELIVERIES UNDER MEDICAL SUPERVISION
A3: 2013 - 2022
A4: Table No. (2) | G4: جدول رقم (2)
A5: Year | B5: نسبة الولادات التي تجري تحت إشراف صحي | C5: نسبة وفيات الأمهات لكل 100000 من المواليد أحياء | D5: الزيادة الطبيعية لكل 1000 من السكان | E5: معدل الوفيات الخام لكل 1000 من السكان | F5: معدل المواليد الخام لكل 1000 من السكان | G5: السنة
B6: Rate Of Deliveries Under Medical Supervision | C6: Maternal Mortality Rate Per 100000 Live Birth | D6: Natural Increase Per 1000 Population | E6: Crude Death Rate Per 1000 Population | F6: Crude Birth Rate Per 1000 Population
A7: 2013 | B7: 100 | C7: 0 | D7: 10.77 | E7: 1.06 | F7: 11.83 | G7: 2013
A8: 2014 | B8: 100 | C8: 3.93 | D8: 10.412963 | E8: 1.1 | F8: 11.48 | G8: 2014
A9: 2015 | B9: 100 | C9: 11.268875 | D9: 9.9700959 | E9: 0.95045102 | F9: 10.920547 | G9: 2015
A10: 2016 | B10: 100 | C10: 0 | D10: 9.35 | E10: 0.9 | F10: 10.24 | G10: 2016
A11: 2017 | B11: 100 | C11: 0 | D11: 9.4 | E11: 0.84 | F11: 10.24 | G11: 2017
A12: 2018 | B12: 100 | C12: 3.56 | D12: 9.31 | E12: 0.86 | F12: 10.17 | G12: 2018
A13: 2019 | B13: 100 | C13: 3.52 | D13: 9.3640973 | E13: 0.78593828 | F13: 10.150036 | G13: 2019
A14: 2020 | B14: 100 | C14: 3.446612 | D14: 9.2469895 | E14: 0.99199662 | F14: 10.238986 | G14: 2020
A15: 2021 | B15: 100 | C15: 7.5990729 | D15: 8.5431645 | E15: 1.0337819 | F15: 9.5769463 | G15: 2021
A16: 2022 | B16: 100 | C16: 7.5999392 | D16: 8.0225329 | E16: 0.95217276 | F16: 8.9747057 | G16: 2022

Sheet 3
A1: معدل وفيات حديثي الولادة
A2: NEONATAL MORTALITY RATE
A3: 2013 - 2022
A4: Table No. (3) | N4: جدول رقم (3)
A5: Year Rate & Nationality | C5: 2022 | D5: 2021 | E5: 2020 | F5: 2019 | G5: 2018 | H5: 2017 | I5: 2016 | J5: 2015 | K5: 2014 | L5: 2013 | M5: السنة المعدل والجنسية
A6: Early Neonatal Mortality Rate (0-7) Days | B6: Qataris | C6: 4.6160302 | D6: 4.2231891 | E6: 3.66 | F6: 2.53 | G6: 3.2038959 | H6: 3.27 | I6: 3.15 | J6: 3.5177098 | K6: 2.0115665 | L6: 2.95 | M6: قطريون | N6: معدل وفيات حديثي الولادة الباكرة (0 - 7) يوم
B7: Non-Qataris | C7: 2.9738613 | D7: 2.2156174 | E7: 2.56 | F7: 2.77 | G7: 2.6645613 | H7: 2.66 | I7: 2.07 | J7: 3.2103602 | K7: 2.2871519 | L7: 3.14 | M7: غير قطريين
B8: Total | C8: 3.4199726 | D8: 2.811657 | E8: 2.83 | F8: 2.71 | G8: 2.8144929 | H8: 2.83 | I8: 2.39 | J8: 3.3055368 | K8: 2.2009983 | L8: 3.08 | M8: المجموع
A9: Late Neonatal Mortality Rate (7-28) Days | B9: Qataris | C9: 0.97915792 | D9: 0.895828 | E9: 0.7 | F9: 0.27 | G9: 1.0252467 | H9: 1.01 | I9: 0.76 | J9: 1.5769044 | K9: 1.2572291 | L9: 1.15 | M9: قطريون | N9: معدل وفيات حديثي الولادة المتأخرة (7 - 28) يوم
B10: Non-Qataris | C10: 1.2521521 | D10: 0.70251283 | E10: 0.5 | F10: 0.86 | G10: 0.98687457 | H10: 1 | I10: 0.74 | J10: 1.1426706 | K10: 1.5438275 | L10: 0.88 | M10: غير قطريين
B11: Total | C11: 1.1779906 | D11: 0.75990729 | E11: 0.55 | F11: 0.7 | G11: 0.99754177 | H11: 1 | I11: 0.75 | J11: 1.2771392 | K11: 1.454231 | L11: 0.97 | M11: المجموع
A12: Neonatal Mortality Rate (0-28) Days | B12: Qataris | C12: 5.5951881 | D12: 5.1190171 | E12: 4.37 | F12: 2.8 | G12: 4.2291426 | H12: 4.28 | I12: 3.91 | J12: 5.0946143 | K12: 3.2687956 | L12: 4.1 | M12: قطريون | N12: معدل وفيات حديثي الولادة (0 - 28) يوم
B13: Non-Qataris | C13: 4.2260135 | D13: 2.9181302 | E13: 3.06 | F13: 3.63 | G13: 3.6514359 | H13: 3.66 | I13: 2.81 | J13: 4.3530308 | K13: 3.8309795 | L13: 4.02 | M13: غير قطريين
B14: Total | C14: 4.5979632 | D14: 3.5715643 | E14: 3.38 | F14: 3.41 | G14: 3.8120346 | H14: 3.83 | I14: 3.13 | J14: 4.582676 | K14: 3.6552293 | L14: 4.05 | M14: المجموع
A15: Post-Neonatal Mortality Rate (28 - 264) Days | B15: Qataris | C15: 2.0981956 | D15: 1.4077297 | E15: 1.13 | F15: 0.93 | G15: 2.8194284 | H15: 1.26 | I15: 2.77 | J15: 3.2751092 | K15: 3.8974101 | L15: 3.33 | M15: قطريون | N15: معدل وفيات الأطفال بعد حديثي الولادة من (28 - 364) يوم
B16: Non-Qataris | C16: 2.0347472 | D16: 1.4590651 | E16: 2.14 | F16: 1.58 | G16: 2.1217803 | H16: 1.7 | I16: 2.91 | J16: 2.6118185 | K16: 2.5158671 | L16: 2.26 | M16: غير قطريين
B17: Total | C17: 2.0519836 | D17: 1.4438239 | E17: 1.9 | F17: 1.41 | G17: 2.315722 | H17: 1.58 | I17: 2.87 | J17: 2.8172188 | K17: 2.9477656 | L17: 2.62 | M17: المجموع

Sheet 4
A1: معدل وفيات الأطفال الرضع حسب الجنسية والنوع
A2: INFANT MORTALITY RATE BY NATIONALITY AND GENDER
A3: 2013 - 2022
A4: Table No. (4) | K4: جدول رقم (4)
A5: Nationality & Gender Year | B5: المجموع Total | E5: غير قطريين Non-Qataris | H5: قطريون Qataris | K5: الجنسية والنوع السنة
B6: المجموع Total | C6: إناث Females | D6: ذكور Males | E6: المجموع Total | F6: إناث Females | G6: ذكور Males | H6: المجموع Total | I6: إناث Females | J6: ذكور Males
A7: 2013 | B7: 6.7 | C7: 5.2 | D7: 8.1 | E7: 5.9 | F7: 4.4 | G7: 7.5 | H7: 7.4 | I7: 5.5 | J7: 9.2 | K7: 2013
A8: 2014 | B8: 6.6 | C8: 6.7 | D8: 6.6 | E8: 6.3 | F8: 6 | G8: 6.5 | H8: 7.3 | I8: 8 | J8: 6.6 | K8: 2014
A9: 2015 | B9: 7.3998948 | C9: 7.300953 | D9: 7.4944893 | E9: 6.9648493 | F9: 6.6785396 | G9: 7.238663 | H9: 8.3697234 | I9: 8.6891758 | J9: 8.0645161 | K9: 2015
A10: 2016 | B10: 6 | C10: 6 | D10: 6 | E10: 5.7 | F10: 5.8 | G10: 5.6 | H10: 6.7 | I10: 6.4 | J10: 7 | K10: 2016
A11: 2017 | B11: 5.4 | C11: 5 | D11: 5.8 | E11: 5.4 | F11: 5.4 | G11: 5.3 | H11: 5.5 | I11: 3.9 | J11: 7.1 | K11: 2017
A12: 2018 | B12: 6.1277566 | C12: 6.4093331 | D12: 5.8520764 | E12: 5.7732162 | F12: 5.8811802 | G12: 5.6673832 | H12: 7.0485711 | I12: 7.7841204 | J12: 6.3307166 | K12: 2018
A13: 2019 | B13: 4.7867098 | C13: 5.0515985 | D13: 4.6 | E13: 5.2 | F13: 5.8 | G13: 4.6472721 | H13: 3.7 | I13: 3 | J13: 4.5 | K13: 2019
A14: 2020 | B14: 5.2733163 | C14: 4.9247221 | D14: 5.6081081 | E14: 5.2016791 | F14: 4.9565136 | G14: 5.4352669 | H14: 5.4945055 | I14: 4.8281738 | J14: 6.1504054 | K14: 2020
A15: 2021 | B15: 5.0153881 | C15: 4.4790193 | D15: 5.5175458 | E15: 4.3771954 | F15: 4.23304 | G15: 4.5130143 | H15: 6.5267469 | I15: 5.0680181 | J15: 7.8720787 | K15: 2021
A16: 2022 | B16: 6.5359477 | C16: 6.5789474 | D16: 6.4198268 | E16: 6.2607607 | F16: 6.0586735 | G16: 6.3531099 | H16: 7.2737446 | I16: 7.9726651 | J16: 6.5988452 | K16: 2022

Sheet 5
A1: معدل وفيات الأطفال (أقل من 5 سنوات) حسب الجنسية والنوع
A2: CHILD MORTALITY RATE (LESS THAN 5 YEARS) BY NATIONALITY AND GENDER
A3: 2013 - 2022
A4: Table No. (5) | K4: جدول رقم (5)
A5: Nationality & Gender Year | B5: المجموع Total | E5: غير قطريين Non-Qataris | H5: قطريون Qataris | K5: الجنسية والنوع السنة
B6: المجموع Total | C6: إناث Females | D6: ذكور Males | E6: المجموع Total | F6: إناث Females | G6: ذكور Males | H6: المجموع Total | I6: إناث Females | J6: ذكور Males
A7: 2013 | B7: 7.8 | C7: 6 | D7: 9.6 | E7: 6.9 | F7: 5 | G7: 9 | H7: 8.7 | I7: 6.6 | J7: 10.7 | K7: 2013
A8: 2014 | B8: 8.1 | C8: 7.7 | D8: 8.4 | E8: 7.9 | F8: 7.2 | G8: 8.7 | H8: 8.3 | I8: 8.8 | J8: 7.8 | K8: 2014
A9: 2015 | B9: 9.0151003 | C9: 8.7611436 | D9: 9.2578986 | E9: 8.5972358 | F9: 7.9029386 | G9: 9.2612306 | H9: 9.9466279 | I9: 10.675273 | J9: 9.2504744 | K9: 2015
A10: 2016 | B10: 7.1 | C10: 7 | D10: 7.2 | E10: 7 | F10: 7 | G10: 7.1 | H10: 7.2 | I10: 6.9 | J10: 7.5 | K10: 2016
A11: 2017 | B11: 6.6652333 | C11: 6.095322 | D11: 7.2083421 | E11: 6.6125639 | F11: 6.4555795 | G11: 6.7627168 | H11: 6.7975831 | I11: 5.1840332 | J11: 8.3210964 | K11: 2017
A12: 2018 | B12: 7.5884428 | C12: 7.4175428 | D12: 7.7557639 | E12: 7.4015593 | F12: 7.2767145 | G12: 7.5239398 | H12: 8.0738178 | I12: 7.7841204 | J12: 8.356546 | K12: 2018
A13: 2019 | B13: 5.9129945 | C13: 6.1 | D13: 5.7 | E13: 6.3 | F13: 7 | G13: 5.6696719 | H13: 4.8 | I13: 3.7837838 | J13: 5.8 | K13: 2019
A14: 2020 | B14: 6.0660371 | C14: 5.4171943 | D14: 6.6891892 | E14: 6.0686257 | F14: 5.5176284 | G14: 6.5936024 | H14: 6.0580445 | I14: 5.112184 | J14: 6.989097 | K14: 2020
A15: 2021 | B15: 6.4212166 | C15: 5.7362879 | D15: 7.0624586 | E15: 5.6741421 | F15: 5.5697895 | G15: 5.7724601 | H15: 8.1904274 | I15: 6.1349693 | J15: 10.086101 | K15: 2021
A16: 2022 | B16: 7.9799362 | C16: 8.5139319 | D16: 7.4649149 | E16: 7.7216048 | F16: 8.0782313 | G16: 7.3778051 | H16: 8.6725416 | I16: 9.6810934 | J16: 7.6986527 | K16: 2022

Sheet 6
A1: معدل وفيات الأطفال حسب الجنسية والنوع
A2: CHILD MORTALITY RATE BY NATIONALITY AND GENDER
A3: 2013 - 2022
A4: Table No. (6) | K4: جدول رقم (6)
A5: Nationality & Gender Year | B5: المجموع Total | E5: غير قطريين Non-Qataris | H5: قطريون Qataris | K5: الجنسية والنوع السنة
B6: المجموع Total | C6: إناث Females | D6: ذكور Males | E6: المجموع Total | F6: إناث Females | G6: ذكور Males | H6: المجموع Total | I6: إناث Females | J6: ذكور Males
A7: 2013 | B7: 1.1 | C7: 0.8 | D7: 1.5 | E7: 1 | F7: 0.6 | G7: 1.5 | H7: 1.3 | I7: 1.1 | J7: 1.5 | K7: 2013
A8: 2014 | B8: 1.6 | C8: 1 | D8: 2.1 | E8: 1.7 | F8: 1.2 | G8: 2.3 | H8: 1.3 | I8: 0.8 | J8: 1.7 | K8: 2014
A9: 2015 | B9: 1.6152055 | C9: 1.4601906 | D9: 1.7634093 | E9: 1.6323865 | F9: 1.2243989 | G9: 2.0225676 | H9: 1.5769044 | I9: 1.9860973 | J9: 1.1859583 | K9: 2015
A10: 2016 | B10: 1.1 | C10: 1 | D10: 1.2 | E10: 1.3 | F10: 1.2 | G10: 1.5 | H10: 0.5 | I10: 0.5 | J10: 0.5 | K10: 2016
A11: 2017 | B11: 1.2542106 | C11: 1.1015642 | D11: 1.3996781 | E11: 1.2523795 | F11: 1.0246952 | G11: 1.4701558 | H11: 1.2588117 | I11: 1.2960083 | J11: 1.2236907 | K11: 2017
A12: 2018 | B12: 1.4606862 | C12: 1.0082097 | D12: 1.9036875 | E12: 1.628343 | F12: 1.3955343 | G12: 1.8565566 | H12: 1.0252467 | I12: 0 | J12: 2.0258293 | K12: 2018
A13: 2019 | B13: 1.1262847 | C13: 1.1 | D13: 1.0992786 | E13: 1.0996366 | F13: 1.1814512 | G13: 1.0223999 | H13: 1.1 | I13: 0.8 | J13: 1.317176 | K13: 2019
A14: 2020 | B14: 0.79272076 | C14: 0.49247221 | D14: 1.0810811 | E14: 0.86694652 | F14: 0.56111475 | G14: 1.1583356 | H14: 0.56353903 | I14: 0.28401022 | J14: 0.83869164 | K14: 2020
A15: 2021 | B15: 1.4058285 | C15: 1.2572686 | D15: 1.5449128 | E15: 1.2969468 | F15: 1.3367495 | G15: 1.2594458 | H15: 1.6636806 | I15: 1.0669512 | J15: 2.2140221 | K15: 2021
A16: 2022 | B16: 1.4819881 | C16: 1.9349845 | D16: 1.0450881 | E16: 1.5130172 | F16: 2.0195578 | G16: 1.0246952 | H16: 1.398797 | I16: 1.7084282 | J16: 1.0998075 | K16: 2022

Sheet chapter2
A1: الباب الثاني: المواليد الأحياء
A2: CHAPTER TWO: LIVE BIRTHS

Sheet Map Births

Sheet B1
A1: الواقعات الحيوية المسجلة
A2: REGISTERED VITAL EVENTS
A3: 2013 - 2022
A4: Table No. (1) | E4: جدول رقم (1)
A5: Year | B5: الزيادة الطبيعية Natural Increase | C5: الوفيات Deaths | D5: المواليد أحياء Live Births | E5: السنة
A6: 2013 | B6: =D6-C6 -> 21575 | C6: 2133 | D6: 23708 | E6: 2013
A7: 2014 | B7: =D7-C7 -> 23077 | C7: 2366 | D7: 25443 | E7: 2014
A8: 2015 | B8: =D8-C8 -> 24305 | C8: 2317 | D8: 26622 | E8: 2015
A9: 2016 | B9: =D9-C9 -> 24469 | C9: 2347 | D9: 26816 | E9: 2016
A10: 2017 | B10: =D10-C10 -> 25612 | C10: 2294 | D10: 27906 | E10: 2017
A11: 2018 | B11: =D11-C11 -> 25684 | C11: 2385 | D11: 28069 | E11: 2018
A12: 2019 | B12: =D12-C12 -> 26212 | C12: 2200 | D12: 28412 | E12: 2019
A13: 2020 | B13: =D13-C13 -> 26203 | C13: 2811 | D13: 29014 | E13: 2020
A14: 2021 | B14: =D14-C14 -> 23478 | C14: 2841 | D14: 26319 | E14: 2021
A15: 2022 | B15: =D15-C15 -> 23524 | C15: 2792 | D15: 26316 | E15: 2022

Sheet B2
A1: المواليد الأحياء فاقدو القيد حسب الجنسية والنوع
A2: NON-REGISTERED LIVE BIRTHS BY NATIONALITY AND GENDER
A3: 2012 - 2021
A4: Table No. (2) | K4: جدول رقم (2)
A5: Nationality & Gender Year | B5: المجموع Total | E5: غير قطريين Non-Qataris | H5: قطريون Qataris | K5: الجنسية والنوع السنة
B6: المجموع Total | C6: إناث Females | D6: ذكور Males | E6: المجموع Total | F6: إناث Females | G6: ذكور Males | H6: المجموع Total | I6: إناث Females | J6: ذكور Males
A7: 2012 | B7: =H7+E7 -> 346 | C7: =I7+F7 -> 162 | D7: =J7+G7 -> 184 | E7: =G7+F7 -> 71 | F7: 41 | G7: 30 | H7: =J7+I7 -> 275 | I7: 121 | J7: 154 | K7: 2012
A8: 2013 | B8: =H8+E8 -> 323 | C8: =I8+F8 -> 154 | D8: =J8+G8 -> 169 | E8: =G8+F8 -> 100 | F8: 49 | G8: 51 | H8: =J8+I8 -> 223 | I8: 105 | J8: 118 | K8: 2013
A9: 2014 | B9: =H9+E9 -> 164 | C9: =I9+F9 -> 82 | D9: =J9+G9 -> 82 | E9: =G9+F9 -> 86 | F9: 44 | G9: 42 | H9: =J9+I9 -> 78 | I9: 38 | J9: 40 | K9: 2014
A10: 2015 | B10: =H10+E10 -> 104 | C10: =I10+F10 -> 56 | D10: =J10+G10 -> 48 | E10: =SUM(G10)+(F10) -> 56 | F10: 27 | G10: 29 | H10: =SUM(J10)+(I10) -> 48 | I10: 29 | J10: 19 | K10: 2015
A11: 2016 | B11: =H11+E11 -> 107 | C11: =I11+F11 -> 51 | D11: =J11+G11 -> 56 | E11: =SUM(G11)+(F11) -> 40 | F11: 15 | G11: 25 | H11: =SUM(J11)+(I11) -> 67 | I11: 36 | J11: 31 | K11: 2016
A12: 2017 | B12: =H12+E12 -> 158 | C12: =I12+F12 -> 80 | D12: =J12+G12 -> 78 | E12: =SUM(G12)+(F12) -> 62 | F12: 25 | G12: 37 | H12: =SUM(J12)+(I12) -> 96 | I12: 55 | J12: 41 | K12: 2017
A13: 2018 | B13: =H13+E13 -> 139 | C13: =I13+F13 -> 74 | D13: =J13+G13 -> 65 | E13: =SUM(G13)+(F13) -> 80 | F13: 42 | G13: 38 | H13: =SUM(J13)+(I13) -> 59 | I13: 32 | J13: 27 | K13: 2018
A14: 2019 | B14: =H14+E14 -> 127 | C14: =I14+F14 -> 73 | D14: =J14+G14 -> 54 | E14: =SUM(G14)+(F14) -> 44 | F14: 22 | G14: 22 | H14: =SUM(J14)+(I14) -> 83 | I14: 51 | J14: 32 | K14: 2019
A15: 2020 | B15: =H15+E15 -> 18 | C15: =I15+F15 -> 8 | D15: =J15+G15 -> 10 | E15: =SUM(G15)+(F15) -> 10 | F15: 4 | G15: 6 | H15: =SUM(J15)+(I15) -> 8 | I15: 4 | J15: 4 | K15: 2020
A16: 2021 | B16: =H16+E16 -> 11 | C16: =I16+F16 -> 6 | D16: =J16+G16 -> 5 | E16: =SUM(G16)+(F16) -> 8 | F16: 4 | G16: 4 | H16: =SUM(J16)+(I16) -> 3 | I16: 2 | J16: 1 | K16: 2021

Sheet B3
A1: *المواليد الأحياء المسجلون حسب الجنسية والنوع ونسبة النوع عند الميلاد
A2: REGISTERED LIVE BIRTHS BY NATIONALITY, GENDER AND GENDER RATIO AT BIRTH*
A3: 2013 - 2022
A4: Table No. (3) | N4: جدول رقم (3)
A5: Nationality & Gender Year | B5: المجموع Total | F5: غير قطريين Non-Qataris | J5: قطريون Qataris | N5: الجنسية والنوع السنة
B6: نسبة النوع Gender Ratio | C6: المجموع Total | D6: إناث Females | E6: ذكور Males | F6: نسبة النوع Gender Ratio | G6: المجموع Total | H6: إناث Females | I6: ذكور Males | J6: نسبة النوع Gender Ratio | K6: المجموع Total | L6: إناث Females | M6: ذكور Males
A7: 2013 | B7: =E7/D7*100 -> 104.64106 | C7: =E7+D7 -> 24031 | D7: =L7+H7 -> 11743 | E7: =M7+I7 -> 12288 | F7: =I7/H7*100 -> 104.17251 | G7: =I7+H7 -> 16001 | H7: 7837 | I7: 8164 | J7: =M7/L7*100 -> 105.58116 | K7: =M7+L7 -> 8030 | L7: 3906 | M7: 4124 | N7: 2013
A8: 2014 | B8: =E8/D8*100 -> 104.03984 | C8: =E8+D8 -> 25607 | D8: =L8+H8 -> 12550 | E8: =M8+I8 -> 13057 | F8: =I8/H8*100 -> 103.10875 | G8: =I8+H8 -> 17575 | H8: 8653 | I8: 8922 | J8: =M8/L8*100 -> 106.10726 | K8: =M8+L8 -> 8032 | L8: 3897 | M8: 4135 | N8: 2014
A9: 2015 | B9: =E9/D9*100 -> 104.51485 | C9: =E9+D9 -> 26726 | D9: =L9+H9 -> 13068 | E9: =M9+I9 -> 13658 | F9: =I9/H9*100 -> 104.57219 | G9: =I9+H9 -> 18434 | H9: 9011 | I9: 9423 | J9: =M9/L9*100 -> 104.38748 | K9: =M9+L9 -> 8292 | L9: 4057 | M9: 4235 | N9: 2015
A10: 2016 | B10: =E10/D10*100 -> 102.79452 | C10: =SUM(E10)+(D10) -> 26923 | D10: =L10+H10 -> 13276 | E10: =M10+I10 -> 13647 | F10: =I10/H10*100 -> 103.0264 | G10: =SUM(I10)+(H10) -> 18918 | H10: 9318 | I10: 9600 | J10: =M10/L10*100 -> 102.24861 | K10: =SUM(M10)+(L10) -> 8005 | L10: 3958 | M10: 4047 | N10: 2016
A11: 2017 | B11: =E11/D11*100 -> 104.89158 | C11: =SUM(E11)+(D11) -> 28064 | D11: =L11+H11 -> 13697 | E11: =M11+I11 -> 14367 | F11: =I11/H11*100 -> 104.66067 | G11: =SUM(I11)+(H11) -> 20024 | H11: 9784 | I11: 10240 | J11: =M11/L11*100 -> 105.46895 | K11: =SUM(M11)+(L11) -> 8040 | L11: 3913 | M11: 4127 | N11: 2017
A12: 2018 | B12: =E12/D12*100 -> 102.06304 | C12: =E12+D12 -> 28208 | D12: =L12+H12 -> 13960 | E12: =M12+I12 -> 14248 | F12: =I12/H12*100 -> 101.96546 | G12: =SUM(I12)+(H12) -> 20346 | H12: 10074 | I12: 10272 | J12: =M12/L12*100 -> 102.31601 | K12: =SUM(M12)+(L12) -> 7862 | L12: 3886 | M12: 3976 | N12: 2018
A13: 2019 | B13: =E13/D13*100 -> 104.87437 | C13: =SUM(E13)+(D13) -> 28539 | D13: =L13+H13 -> 13930 | E13: =M13+I13 -> 14609 | F13: =I13/H13*100 -> 105.91414 | G13: =SUM(I13)+(H13) -> 20960 | H13: 10179 | I13: 10781 | J13: =M13/L13*100 -> 102.05279 | K13: =SUM(M13)+(L13) -> 7579 | L13: 3751 | M13: 3828 | N13: 2019
A14: 2020 | B14: =E14/D14*100 -> 104.13444 | C14: =SUM(E14)+(D14) -> 29032 | D14: =L14+H14 -> 14222 | E14: =M14+I14 -> 14810 | F14: =I14/H14*100 -> 104.97336 | G14: =SUM(I14)+(H14) -> 21926 | H14: 10697 | I14: 11229 | J14: =M14/L14*100 -> 101.58865 | K14: =SUM(M14)+(L14) -> 7106 | L14: 3525 | M14: 3581 | N14: 2020
A15: 2021 | B15: =E15/D15*100 -> 106.80176 | C15: =SUM(E15)+(D15) -> 26330 | D15: =L15+H15 -> 12732 | E15: =M15+I15 -> 13598 | F15: =I15/H15*100 -> 106.13517 | G15: =SUM(I15)+(H15) -> 18513 | H15: 8981 | I15: 9532 | J15: =M15/L15*100 -> 108.39776 | K15: =SUM(M15)+(L15) -> 7817 | L15: 3751 | M15: 4066 | N15: 2021
A16: 2022 | B16: =E16/D16*100 -> 103.68421 | C16: =SUM(E16)+(D16) -> 26316 | D16: =L16+H16 -> 12920 | E16: =M16+I16 -> 13396 | F16: =I16/H16*100 -> 103.73087 | G16: =SUM(I16)+(H16) -> 19167 | H16: 9408 | I16: 9759 | J16: =M16/L16*100 -> 103.55923 | K16: =SUM(M16)+(L16) -> 7149 | L16: 3512 | M16: 3637 | N16: 2022
A17: * This table includes non-registered live births data. | L17: * تم اضافة بيانات فاقدي القيد على هذا الجدول.

Sheet B4
A1: المواليد الأحياء المسجلون حسب الجنسية والنوع
A2: REGISTERED LIVE BIRTHS BY NATIONALITY AND GENDER
A3: 2013 - 2022
A4: Table No. (4) | O4: جدول رقم (4)
A5: Nationality & Gender Year | B5: المجموع Total | G5: غير قطريين Non-Qataris | K5: قطريون Qataris | O5: الجنسية والنوع السنة
B6: المجموع Total | C6: نسبة الإناث Females % | D6: إناث Females | E6: نسبة الذكور Males % | F6: ذكور Males | G6: % | H6: المجموع Total | I6: إناث Females | J6: ذكور Males | K6: % | L6: المجموع Total | M6: إناث Females | N6: ذكور Males
A7: 2013 | B7: =SUM(L7+H7) -> 23708 | C7: =SUM(D7/B7*100) -> 48.882234 | D7: =SUM(M7+I7) -> 11589 | E7: =SUM(F7/B7*100) -> 51.117766 | F7: =SUM(N7+J7) -> 12119 | G7: =SUM(H7/B7*100) -> 67.070187 | H7: =SUM(I7:J7) -> 15901 | I7: 7788 | J7: 8113 | K7: =SUM(L7/B7*100) -> 32.929813 | L7: =SUM(M7:N7) -> 7807 | M7: 3801 | N7: 4006 | O7: 2013
A8: 2014 | B8: =SUM(L8+H8) -> 25443 | C8: =SUM(D8/B8*100) -> 49.003655 | D8: =SUM(M8+I8) -> 12468 | E8: =SUM(F8/B8*100) -> 50.996345 | F8: =SUM(N8+J8) -> 12975 | G8: =SUM(H8/B8*100) -> 68.737963 | H8: =SUM(I8:J8) -> 17489 | I8: 8609 | J8: 8880 | K8: =SUM(L8/B8*100) -> 31.262037 | L8: =SUM(M8:N8) -> 7954 | M8: 3859 | N8: 4095 | O8: 2014
A9: 2015 | B9: =SUM(L9+H9) -> 26622 | C9: =SUM(D9/B9*100) -> 48.876869 | D9: =SUM(M9+I9) -> 13012 | E9: =SUM(F9/B9*100) -> 51.123131 | F9: =SUM(N9+J9) -> 13610 | G9: =SUM(H9/B9*100) -> 69.03313 | H9: =SUM(I9:J9) -> 18378 | I9: 8984 | J9: 9394 | K9: =SUM(L9/B9*100) -> 30.96687 | L9: =SUM(M9:N9) -> 8244 | M9: 4028 | N9: 4216 | O9: 2015
A10: 2016 | B10: =SUM(L10+H10) -> 26816 | C10: =SUM(D10/B10*100) -> 49.317572 | D10: =SUM(M10+I10) -> 13225 | E10: =SUM(F10/B10*100) -> 50.682428 | F10: =SUM(N10+J10) -> 13591 | G10: =SUM(H10/B10*100) -> 70.39827 | H10: =SUM(I10:J10) -> 18878 | I10: 9303 | J10: 9575 | K10: =SUM(L10/B10*100) -> 29.60173 | L10: =SUM(M10:N10) -> 7938 | M10: 3922 | N10: 4016 | O10: 2016
A11: 2017 | B11: =SUM(L11+H11) -> 27906 | C11: =SUM(D11/B11*100) -> 48.795958 | D11: =SUM(M11+I11) -> 13617 | E11: =SUM(F11/B11*100) -> 51.204042 | F11: =SUM(N11+J11) -> 14289 | G11: =SUM(H11/B11*100) -> 71.533004 | H11: =SUM(I11:J11) -> 19962 | I11: 9759 | J11: 10203 | K11: =SUM(L11/B11*100) -> 28.466996 | L11: =SUM(M11:N11) -> 7944 | M11: 3858 | N11: 4086 | O11: 2017
A12: 2018 | B12: =SUM(L12+H12) -> 28069 | C12: =SUM(D12/B12*100) -> 49.470947 | D12: =SUM(M12+I12) -> 13886 | E12: =SUM(F12/B12*100) -> 50.529053 | F12: =SUM(N12+J12) -> 14183 | G12: =SUM(H12/B12*100) -> 72.200648 | H12: =SUM(I12:J12) -> 20266 | I12: 10032 | J12: 10234 | K12: =SUM(L12/B12*100) -> 27.799352 | L12: =SUM(M12:N12) -> 7803 | M12: 3854 | N12: 3949 | O12: 2018
A13: 2019 | B13: =SUM(L13+H13) -> 28412 | C13: =SUM(D13/B13*100) -> 48.771646 | D13: =SUM(M13+I13) -> 13857 | E13: =SUM(F13/B13*100) -> 51.228354 | F13: =SUM(N13+J13) -> 14555 | G13: =SUM(H13/B13*100) -> 73.616782 | H13: =SUM(I13:J13) -> 20916 | I13: 10157 | J13: 10759 | K13: =SUM(L13/B13*100) -> 26.383218 | L13: =SUM(M13:N13) -> 7496 | M13: 3700 | N13: 3796 | O13: 2019
A14: 2020 | B14: =SUM(L14+H14) -> 29014 | C14: =SUM(D14/B14*100) -> 48.990143 | D14: =SUM(M14+I14) -> 14214 | E14: =SUM(F14/B14*100) -> 51.009857 | F14: =SUM(N14+J14) -> 14800 | G14: =SUM(H14/B14*100) -> 75.535948 | H14: =SUM(I14:J14) -> 21916 | I14: 10693 | J14: 11223 | K14: =SUM(L14/B14*100) -> 24.464052 | L14: =SUM(M14:N14) -> 7098 | M14: 3521 | N14: 3577 | O14: 2020
A15: 2021 | B15: =SUM(L15+H15) -> 26319 | C15: =SUM(D15/B15*100) -> 48.352901 | D15: =SUM(M15+I15) -> 12726 | E15: =SUM(F15/B15*100) -> 51.647099 | F15: =SUM(N15+J15) -> 13593 | G15: =SUM(H15/B15*100) -> 70.310422 | H15: =SUM(I15:J15) -> 18505 | I15: 8977 | J15: 9528 | K15: =SUM(L15/B15*100) -> 29.689578 | L15: =SUM(M15:N15) -> 7814 | M15: 3749 | N15: 4065 | O15: 2021
A16: 2021 | B16: =SUM(L16+H16) -> 26316 | C16: =SUM(D16/B16*100) -> 49.095607 | D16: =SUM(M16+I16) -> 12920 | E16: =SUM(F16/B16*100) -> 50.904393 | F16: =SUM(N16+J16) -> 13396 | G16: =SUM(H16/B16*100) -> 72.834017 | H16: =SUM(I16:J16) -> 19167 | I16: 9408 | J16: 9759 | K16: =SUM(L16/B16*100) -> 27.165983 | L16: =SUM(M16:N16) -> 7149 | M16: 3512 | N16: 3637 | O16: 2022

Sheet B5
A1: المواليد الأحياء المسجلون حسب الجنسية والنوع والبلدية
A2: REGISTERED LIVE BIRTHS BY NATIONALITY, GENDER AND MUNICIPALITY
A3: 2022
A4: Table No. (5) | K4: جدول رقم (5)
A5: Nationality & Gender Year | B5: المجموع Total | E5: غير قطريين Non-Qataris | H5: قطريون Qataris | K5: الجنسية والنوع البلدية
B6: المجموع Total | C6: إناث Females | D6: ذكور Males | E6: المجموع Total | F6: إناث Females | G6: ذكور Males | H6: المجموع Total | I6: إناث Females | J6: ذكور Males
A7: Doha | B7: =D7+C7 -> 9875 | C7: =I7+F7 -> 4856 | D7: =J7+G7 -> 5019 | E7: =G7+F7 -> 8532 | F7: 4168 | G7: 4364 | H7: =J7+I7 -> 1343 | I7: 688 | J7: 655 | K7: الدوحة
A8: Al Rayyan | B8: =D8+C8 -> 9353 | C8: =I8+F8 -> 4545 | D8: =J8+G8 -> 4808 | E8: =G8+F8 -> 5977 | F8: 2919 | G8: 3058 | H8: =J8+I8 -> 3376 | I8: 1626 | J8: 1750 | K8: الريان
A9: Al Wakra | B9: =D9+C9 -> 2765 | C9: =I9+F9 -> 1370 | D9: =J9+G9 -> 1395 | E9: =G9+F9 -> 2173 | F9: 1086 | G9: 1087 | H9: =J9+I9 -> 592 | I9: 284 | J9: 308 | K9: الوكرة
A10: Umm Salal | B10: =D10+C10 -> 1487 | C10: =I10+F10 -> 771 | D10: =J10+G10 -> 716 | E10: =G10+F10 -> 883 | F10: 466 | G10: 417 | H10: =J10+I10 -> 604 | I10: 305 | J10: 299 | K10: ام صلال
A11: Al Khor | B11: =D11+C11 -> 804 | C11: =I11+F11 -> 388 | D11: =J11+G11 -> 416 | E11: =G11+F11 -> 620 | F11: 294 | G11: 326 | H11: =J11+I11 -> 184 | I11: 94 | J11: 90 | K11: الخور
A12: Al Shamal | B12: =D12+C12 -> 70 | C12: =I12+F12 -> 40 | D12: =J12+G12 -> 30 | E12: =G12+F12 -> 45 | F12: 27 | G12: 18 | H12: =J12+I12 -> 25 | I12: 13 | J12: 12 | K12: الشمال
A13: Al Dhaayen | B13: =D13+C13 -> 1332 | C13: =I13+F13 -> 654 | D13: =J13+G13 -> 678 | E13: =G13+F13 -> 665 | F13: 332 | G13: 333 | H13: =J13+I13 -> 667 | I13: 322 | J13: 345 | K13: الظعاين
A14: Al Sheehaniya | B14: =D14+C14 -> 485 | C14: =I14+F14 -> 219 | D14: =J14+G14 -> 266 | E14: =G14+F14 -> 272 | F14: 116 | G14: 156 | H14: =J14+I14 -> 213 | I14: 103 | J14: 110 | K14: الشيحانية
A15: Outside Qatar | B15: =D15+C15 -> 145 | C15: =I15+F15 -> 77 | D15: =J15+G15 -> 68 | E15: =G15+F15 -> 0 | F15: 0 | G15: 0 | H15: =J15+I15 -> 145 | I15: 77 | J15: 68 | K15: خارج قطر
A16: Total | B16: =SUM(B7:B15) -> 26316 | C16: =SUM(C7:C15) -> 12920 | D16: =SUM(D7:D15) -> 13396 | E16: =SUM(E7:E15) -> 19167 | F16: =SUM(F7:F15) -> 9408 | G16: =SUM(G7:G15) -> 9759 | H16: =SUM(H7:H15) -> 7149 | I16: =SUM(I7:I15) -> 3512 | J16: =SUM(J7:J15) -> 3637 | K16: المجموع

Sheet B6-1
A1: المواليد الأحياء المسجلون حسب الشهر والنوع والبلدية
A2: REGISTERED LIVE BIRTHS BY MONTH, GENDER AND MUNICIPALITY
A3: 2022
A4: QATARIS قطريون
A5: Table No. (6-1) | Q5: جدول رقم (6-1)
A6: Municipality | B6: Gender | C6: المجموع Total | D6: ديسمبر Dec. | E6: نوفمبر Nov. | F6: اكتوبر Oct. | G6: سبتمبر Sep. | H6: اغسطس Aug. | I6: يوليو Jul. | J6: يونيو Jun. | K6: مايو May. | L6: ابريل Apr. | M6: مارس Mar. | N6: فبراير Feb. | O6: يناير Jan. | P6: النوع | Q6: البلدية
A7: Doha | B7: Males | C7: =SUM(D7:O7) -> 655 | D7: 57 | E7: 59 | F7: 62 | G7: 50 | H7: 56 | I7: 48 | J7: 72 | K7: 49 | L7: 53 | M7: 55 | N7: 58 | O7: 36 | P7: ذكور | Q7: الدوحة
B8: Females | C8: =SUM(D8:O8) -> 688 | D8: 46 | E8: 75 | F8: 60 | G8: 60 | H8: 58 | I8: 67 | J8: 63 | K8: 53 | L8: 62 | M8: 52 | N8: 56 | O8: 36 | P8: إناث
B9: Total | C9: =SUM(D9:O9) -> 1343 | D9: =D7+D8 -> 103 | E9: =E7+E8 -> 134 | F9: =F7+F8 -> 122 | G9: =G7+G8 -> 110 | H9: =H7+H8 -> 114 | I9: =I7+I8 -> 115 | J9: =J7+J8 -> 135 | K9: =K7+K8 -> 102 | ... O9: =O7+O8 -> 72 | P9: المجموع
A10: Al Rayyan | B10: Males | C10: =SUM(D10:O10) -> 1750 | D10: 152 | E10: 162 | F10: 165 | G10: 137 | H10: 141 | I10: 149 | J10: 167 | K10: 154 | L10: 145 | M10: 126 | N10: 131 | O10: 121 | P10: ذكور | Q10: الريان
B11: Females | C11: =SUM(D11:O11) -> 1626 | D11: 147 | E11: 148 | F11: 164 | G11: 142 | H11: 139 | I11: 124 | J11: 139 | K11: 155 | L11: 126 | M11: 104 | N11: 110 | O11: 128 | P11: إناث
B12: Total | C12: =SUM(D12:O12) -> 3376 | D12: =SUM(D10:D11) -> 299 | E12: =E10+E11 -> 310 | F12: =F10+F11 -> 329 | G12: =G10+G11 -> 279 | H12: =H10+H11 -> 280 | I12: =I10+I11 -> 273 | J12: =J10+J11 -> 306 | K12: =K10+K11 -> 309 | L12: =L10+L11 -> 271 | ... O12: =O10+O11 -> 249 | P12: المجموع
A13: Al Wakra | B13: Males | C13: =SUM(D13:O13) -> 308 | D13: 25 | E13: 21 | F13: 28 | G13: 22 | H13: 27 | I13: 29 | J13: 25 | K13: 28 | L13: 21 | M13: 33 | N13: 22 | O13: 27 | P13: ذكور | Q13: الوكرة
B14: Females | C14: =SUM(D14:O14) -> 284 | D14: 21 | E14: 30 | F14: 29 | G14: 27 | H14: 14 | I14: 27 | J14: 19 | K14: 21 | L14: 24 | M14: 19 | N14: 25 | O14: 28 | P14: إناث
B15: Total | C15: =SUM(D15:O15) -> 592 | D15: =SUM(D13:D14) -> 46 | E15: =E13+E14 -> 51 | F15: =F13+F14 -> 57 | G15: =G13+G14 -> 49 | H15: =H13+H14 -> 41 | I15: =I13+I14 -> 56 | J15: =J13+J14 -> 44 | K15: =K13+K14 -> 49 | L15: =L13+L14 -> 45 | ... O15: =O13+O14 -> 55 | P15: المجموع
A16: Umm Salal | B16: Males | C16: =SUM(D16:O16) -> 299 | D16: 23 | E16: 17 | F16: 29 | G16: 24 | H16: 20 | I16: 21 | J16: 33 | K16: 24 | L16: 36 | M16: 19 | N16: 25 | O16: 28 | P16: ذكور | Q16: ام صلال
B17: Females | C17: =SUM(D17:O17) -> 305 | D17: 30 | E17: 26 | F17: 35 | G17: 21 | H17: 25 | I17: 26 | J17: 18 | K17: 29 | L17: 20 | M17: 28 | N17: 25 | O17: 22 | P17: إناث
B18: Total | C18: =SUM(D18:O18) -> 604 | D18: =D16+D17 -> 53 | E18: =E16+E17 -> 43 | F18: =F16+F17 -> 64 | G18: =G16+G17 -> 45 | H18: =H16+H17 -> 45 | I18: =I16+I17 -> 47 | J18: =J16+J17 -> 51 | K18: =K16+K17 -> 53 | ... O18: =O16+O17 -> 50 | P18: المجموع
A19: Al Khor | B19: Males | C19: =SUM(D19:O19) -> 90 | D19: 8 | E19: 6 | F19: 7 | G19: 11 | H19: 5 | I19: 8 | J19: 8 | K19: 6 | L19: 8 | M19: 10 | N19: 6 | O19: 7 | P19: ذكور | Q19: الخور
B20: Females | C20: =SUM(D20:O20) -> 94 | D20: 14 | E20: 8 | F20: 9 | G20: 5 | H20: 11 | I20: 4 | J20: 4 | K20: 8 | L20: 5 | M20: 9 | N20: 7 | O20: 10 | P20: إناث
B21: Total | C21: =SUM(D21:O21) -> 184 | D21: =D19+D20 -> 22 | E21: =E19+E20 -> 14 | F21: =F19+F20 -> 16 | G21: =G19+G20 -> 16 | H21: =H19+H20 -> 16 | I21: =I19+I20 -> 12 | J21: =J19+J20 -> 12 | K21: =K19+K20 -> 14 | ... O21: =O19+O20 -> 17 | P21: المجموع
A22: Al Shamal | B22: Males | C22: =SUM(D22:O22) -> 12 | D22: 0 | E22: 4 | F22: 1 | G22: 1 | H22: 0 | I22: 2 | J22: 0 | K22: 0 | L22: 1 | M22: 2 | N22: 0 | O22: 1 | P22: ذكور | Q22: الشمال
B23: Females | C23: =SUM(D23:O23) -> 13 | D23: 0 | E23: 2 | F23: 2 | G23: 1 | H23: 0 | I23: 2 | J23: 1 | K23: 2 | L23: 0 | M23: 1 | N23: 1 | O23: 1 | P23: إناث
B24: Total | C24: =SUM(D24:O24) -> 25 | D24: =D22+D23 -> 0 | E24: =E22+E23 -> 6 | F24: =F22+F23 -> 3 | G24: =G22+G23 -> 2 | H24: =H22+H23 -> 0 | I24: =I22+I23 -> 4 | J24: =J22+J23 -> 1 | K24: =K22+K23 -> 2 | ... O24: =O22+O23 -> 2 | P24: المجموع
A25: Al Dhaayen | B25: Males | C25: =SUM(D25:O25) -> 345 | D25: 27 | E25: 30 | F25: 30 | G25: 28 | H25: 30 | I25: 29 | J25: 30 | K25: 28 | L25: 29 | M25: 29 | N25: 28 | O25: 27 | P25: ذكور | Q25: الظعاين
B26: Females | C26: =SUM(D26:O26) -> 322 | D26: 25 | E26: 30 | F26: 27 | G26: 24 | H26: 26 | I26: 24 | J26: 25 | K26: 24 | L26: 29 | M26: 38 | N26: 24 | O26: 26 | P26: إناث
B27: Total | C27: =SUM(D27:O27) -> 667 | D27: =D25+D26 -> 52 | E27: =E25+E26 -> 60 | F27: =F25+F26 -> 57 | G27: =G25+G26 -> 52 | H27: =H25+H26 -> 56 | I27: =I25+I26 -> 53 | J27: =J25+J26 -> 55 | K27: =K25+K26 -> 52 | ... O27: =O25+O26 -> 53 | P27: المجموع
A28: Al Sheehaniya | B28: Males | C28: =SUM(D28:O28) -> 110 | D28: 10 | E28: 3 | F28: 11 | G28: 7 | H28: 14 | I28: 13 | J28: 9 | K28: 12 | L28: 7 | M28: 4 | N28: 11 | O28: 9 | P28: ذكور | Q28: الشيحانية
B29: Females | C29: =SUM(D29:O29) -> 103 | D29: 4 | E29: 5 | F29: 7 | G29: 6 | H29: 9 | I29: 12 | J29: 10 | K29: 13 | L29: 11 | M29: 7 | N29: 9 | O29: 10 | P29: إناث
B30: Total | C30: =SUM(D30:O30) -> 213 | D30: =D28+D29 -> 14 | E30: =E28+E29 -> 8 | F30: =F28+F29 -> 18 | G30: =G28+G29 -> 13 | H30: =H28+H29 -> 23 | I30: =I28+I29 -> 25 | J30: =J28+J29 -> 19 | K30: =K28+K29 -> 25 | ... O30: =O28+O29 -> 19 | P30: المجموع
A31: Outside Qatar | B31: Males | C31: =SUM(D31:O31) -> 68 | D31: 8 | E31: 2 | F31: 4 | G31: 9 | H31: 5 | I31: 4 | J31: 9 | K31: 9 | L31: 3 | M31: 6 | N31: 4 | O31: 5 | P31: ذكور | Q31: خارج قطر
B32: Females | C32: =SUM(D32:O32) -> 77 | D32: 3 | E32: 10 | F32: 6 | G32: 4 | H32: 13 | I32: 8 | J32: 4 | K32: 6 | L32: 7 | M32: 6 | N32: 3 | O32: 7 | P32: إناث
B33: Total | C33: =SUM(D33:O33) -> 145 | D33: =D31+D32 -> 11 | E33: =E31+E32 -> 12 | F33: =F31+F32 -> 10 | G33: =G31+G32 -> 13 | H33: =H31+H32 -> 18 | I33: =I31+I32 -> 12 | J33: =J31+J32 -> 13 | K33: =K31+K32 -> 15 | ... O33: =O31+O32 -> 12 | P33: المجموع
A34: Total | B34: Males | C34: =C7+C10+C13+C16+C19+C22+C25+C28+C31 -> 3637 | D34: =D7+D10+D13+D16+D19+D22+D25+D28+D31 -> 310 | E34: =E7+E10+E13+E16+E19+E22+E25+E28+E31 -> 304 | F34: =F7+F10+F13+F16+F19+F22+F25+F28+F31 -> 337 | G34: =G7+G10+G13+G16+G19+G22+G25+G28+G31 -> 289 | H34: =H7+H10+H13+H16+H19+H22+H25+H28+H31 -> 298 | I34: =I7+I10+I13+I16+I19+I22+I25+I28+I31 -> 303 | J34: =J7+J10+J13+J16+J19+J22+J25+J28+J31 -> 353 | ... O34: =O7+O10+O13+O16+O19+O22+O25+O28+O31 -> 261 | P34: ذكور | Q34: المجموع
B35: Females | C35: =C8+C11+C14+C17+C20+C23+C26+C29+C32 -> 3512 | D35: =D8+D11+D14+D17+D20+D23+D26+D29+D32 -> 290 | E35: =E8+E11+E14+E17+E20+E23+E26+E29+E32 -> 334 | F35: =F8+F11+F14+F17+F20+F23+F26+F29+F32 -> 339 | G35: =G8+G11+G14+G17+G20+G23+G26+G29+G32 -> 290 | H35: =H8+H11+H14+H17+H20+H23+H26+H29+H32 -> 295 | I35: =I8+I11+I14+I17+I20+I23+I26+I29+I32 -> 294 | J35: =J8+J11+J14+J17+J20+J23+J26+J29+J32 -> 283 | ... O35: =O8+O11+O14+O17+O20+O23+O26+O29+O32 -> 268 | P35: إناث
B36: Total | C36: =C34+C35 -> 7149 | D36: =D34+D35 -> 600 | E36: =E34+E35 -> 638 | F36: =F34+F35 -> 676 | G36: =G34+G35 -> 579 | H36: =H34+H35 -> 593 | I36: =I34+I35 -> 597 | J36: =J34+J35 -> 636 | ... O36: =O34+O35 -> 529 | P36: المجموع

Sheet B6-2
A1: المواليد الأحياء المسجلون حسب الشهر والنوع والبلدية
A2: REGISTERED LIVE BIRTHS BY MONTH, GENDER AND MUNICIPALITY
A3: 2022
A4: NON-QATARIS غير قطريين
A5: Table No. (6-2) | Q5: جدول رقم (6-2)
A6: Municipality | B6: Gender | C6: المجموع Total | D6: ديسمبر Dec. | E6: نوفمبر Nov. | F6: اكتوبر Oct. | G6: سبتمبر Sep. | H6: اغسطس Aug. | I6: يوليو Jul. | J6: يونيو Jun. | K6: مايو May. | L6: ابريل Apr. | M6: مارس Mar. | N6: فبراير Feb. | O6: يناير Jan. | P6: النوع | Q6: البلدية
A7: Doha | B7: Males | C7: =SUM(D7:O7) -> 4364 | D7: 428 | E7: 411 | F7: 375 | G7: 365 | H7: 381 | I7: 343 | J7: 365 | K7: 356 | L7: 366 | M7: 313 | N7: 326 | O7: 335 | P7: ذكور | Q7: الدوحة
B8: Females | C8: =SUM(D8:O8) -> 4168 | D8: 348 | E8: 368 | F8: 372 | G8: 348 | H8: 390 | I8: 368 | J8: 361 | K8: 343 | L8: 339 | M8: 288 | N8: 303 | O8: 340 | P8: إناث
B9: Total | C9: =SUM(D9:O9) -> 8532 | D9: =D7+D8 -> 776 | E9: =E7+E8 -> 779 | F9: =F7+F8 -> 747 | G9: =G7+G8 -> 713 | H9: =H7+H8 -> 771 | I9: =I7+I8 -> 711 | J9: =J7+J8 -> 726 | K9: =K7+K8 -> 699 | ... O9: =O7+O8 -> 675 | P9: المجموع
A10: Al Rayyan | B10: Males | C10: =SUM(D10:O10) -> 3058 | D10: 248 | E10: 258 | F10: 285 | G10: 265 | H10: 282 | I10: 238 | J10: 249 | K10: 251 | L10: 265 | M10: 264 | N10: 231 | O10: 222 | P10: ذكور | Q10: الريان
B11: Females | C11: =SUM(D11:O11) -> 2919 | D11: 266 | E11: 285 | F11: 265 | G11: 265 | H11: 245 | I11: 261 | J11: 209 | K11: 263 | L11: 227 | M11: 210 | N11: 217 | O11: 206 | P11: إناث
B12: Total | C12: =SUM(D12:O12) -> 5977 | D12: =D10+D11 -> 514 | E12: =E10+E11 -> 543 | F12: =F10+F11 -> 550 | G12: =G10+G11 -> 530 | H12: =H10+H11 -> 527 | I12: =I10+I11 -> 499 | J12: =J10+J11 -> 458 | K12: =K10+K11 -> 514 | ... O12: =O10+O11 -> 428 | P12: المجموع
A13: Al Wakra | B13: Males | C13: =SUM(D13:O13) -> 1087 | D13: 94 | E13: 105 | F13: 91 | G13: 100 | H13: 98 | I13: 93 | J13: 100 | K13: 81 | L13: 83 | M13: 79 | N13: 91 | O13: 72 | P13: ذكور | Q13: الوكرة
B14: Females | C14: =SUM(D14:O14) -> 1086 | D14: 105 | E14: 108 | F14: 81 | G14: 96 | H14: 86 | I14: 87 | J14: 82 | K14: 115 | L14: 72 | M14: 93 | N14: 71 | O14: 90 | P14: إناث
B15: Total | C15: =SUM(D15:O15) -> 2173 | D15: =D13+D14 -> 199 | E15: =E13+E14 -> 213 | F15: =F13+F14 -> 172 | G15: =G13+G14 -> 196 | H15: =H13+H14 -> 184 | I15: =I13+I14 -> 180 | J15: =J13+J14 -> 182 | K15: =K13+K14 -> 196 | ... O15: =O13+O14 -> 162 | P15: المجموع
A16: Umm Salal | B16: Males | C16: =SUM(D16:O16) -> 417 | D16: 43 | E16: 37 | F16: 26 | G16: 34 | H16: 41 | I16: 47 | J16: 35 | K16: 28 | L16: 35 | M16: 35 | N16: 28 | O16: 28 | P16: ذكور | Q16: ام صلال
B17: Females | C17: =SUM(D17:O17) -> 466 | D17: 56 | E17: 46 | F17: 31 | G17: 44 | H17: 39 | I17: 40 | J17: 43 | K17: 32 | L17: 34 | M17: 38 | N17: 28 | O17: 35 | P17: إناث
B18: Total | C18: =SUM(D18:O18) -> 883 | D18: =D16+D17 -> 99 | E18: =E16+E17 -> 83 | F18: =F16+F17 -> 57 | G18: =G16+G17 -> 78 | H18: =H16+H17 -> 80 | I18: =I16+I17 -> 87 | J18: =J16+J17 -> 78 | K18: =K16+K17 -> 60 | ... O18: =O16+O17 -> 63 | P18: المجموع
A19: Al Khor | B19: Males | C19: =SUM(D19:O19) -> 326 | D19: 33 | E19: 27 | F19: 28 | G19: 31 | H19: 37 | I19: 29 | J19: 29 | K19: 25 | L19: 28 | M19: 23 | N19: 16 | O19: 20 | P19: ذكور | Q19: الخور
B20: Females | C20: =SUM(D20:O20) -> 294 | D20: 26 | E20: 26 | F20: 26 | G20: 29 | H20: 29 | I20: 22 | J20: 16 | K20: 27 | L20: 24 | M20: 29 | N20: 16 | O20: 24 | P20: إناث
B21: Total | C21: =SUM(D21:O21) -> 620 | D21: =D19+D20 -> 59 | E21: =E19+E20 -> 53 | F21: =F19+F20 -> 54 | G21: =G19+G20 -> 60 | H21: =H19+H20 -> 66 | I21: =I19+I20 -> 51 | J21: =J19+J20 -> 45 | K21: =K19+K20 -> 52 | ... O21: =O19+O20 -> 44 | P21: المجموع
A22: Al Shamal | B22: Males | C22: =SUM(D22:O22) -> 18 | D22: 2 | E22: 0 | F22: 0 | G22: 0 | H22: 2 | I22: 2 | J22: 2 | K22: 2 | L22: 1 | M22: 2 | N22: 3 | O22: 2 | P22: ذكور | Q22: الشمال
B23: Females | C23: =SUM(D23:O23) -> 27 | D23: 2 | E23: 3 | F23: 2 | G23: 2 | H23: 1 | I23: 4 | J23: 4 | K23: 2 | L23: 5 | M23: 1 | N23: 0 | O23: 1 | P23: إناث
B24: Total | C24: =SUM(D24:O24) -> 45 | D24: =D22+D23 -> 4 | E24: =E22+E23 -> 3 | F24: =F22+F23 -> 2 | G24: =G22+G23 -> 2 | H24: =H22+H23 -> 3 | I24: =I22+I23 -> 6 | J24: =J22+J23 -> 6 | K24: =K22+K23 -> 4 | ... O24: =O22+O23 -> 3 | P24: المجموع
A25: Al Dhaayen | B25: Males | C25: =SUM(D25:O25) -> 333 | D25: 27 | E25: 34 | F25: 25 | G25: 31 | H25: 26 | I25: 32 | J25: 25 | K25: 23 | L25: 32 | M25: 25 | N25: 21 | O25: 32 | P25: ذكور | Q25: الظعاين
B26: Females | C26: =SUM(D26:O26) -> 332 | D26: 19 | E26: 27 | F26: 32 | G26: 30 | H26: 23 | I26: 29 | J26: 33 | K26: 33 | L26: 20 | M26: 34 | N26: 27 | O26: 25 | P26: إناث
B27: Total | C27: =SUM(D27:O27) -> 665 | D27: =D25+D26 -> 46 | E27: =E25+E26 -> 61 | F27: =F25+F26 -> 57 | G27: =G25+G26 -> 61 | H27: =H25+H26 -> 49 | I27: =I25+I26 -> 61 | J27: =J25+J26 -> 58 | K27: =K25+K26 -> 56 | ... O27: =O25+O26 -> 57 | P27: المجموع
A28: Al Sheehaniya | B28: Males | C28: =SUM(D28:O28) -> 156 | D28: 9 | E28: 15 | F28: 16 | G28: 16 | H28: 19 | I28: 16 | J28: 10 | K28: 12 | L28: 14 | M28: 16 | N28: 6 | O28: 7 | P28: ذكور | Q28: الشيحانية
B29: Females | C29: =SUM(D29:O29) -> 116 | D29: 10 | E29: 10 | F29: 10 | G29: 9 | H29: 12 | I29: 6 | J29: 7 | K29: 15 | L29: 11 | M29: 8 | N29: 8 | O29: 10 | P29: إناث
B30: Total | C30: =SUM(D30:O30) -> 272 | D30: =D28+D29 -> 19 | E30: =E28+E29 -> 25 | F30: =F28+F29 -> 26 | G30: =G28+G29 -> 25 | H30: =H28+H29 -> 31 | I30: =I28+I29 -> 22 | J30: =J28+J29 -> 17 | K30: =K28+K29 -> 27 | ... O30: =O28+O29 -> 17 | P30: المجموع
A31: Outside Qatar | B31: Males | C31: =SUM(D31:O31) -> 0 | D31: 0 | E31: 0 | F31: 0 | G31: 0 | H31: 0 | I31: 0 | J31: 0 | K31: 0 | L31: 0 | M31: 0 | N31: 0 | O31: 0 | P31: ذكور | Q31: خارج قطر
B32: Females | C32: =SUM(D32:O32) -> 0 | D32: 0 | E32: 0 | F32: 0 | G32: 0 | H32: 0 | I32: 0 | J32: 0 | K32: 0 | L32: 0 | M32: 0 | N32: 0 | O32: 0 | P32: إناث
B33: Total | C33: =SUM(D33:O33) -> 0 | D33: =D31+D32 -> 0 | E33: =E31+E32 -> 0 | F33: =F31+F32 -> 0 | G33: =G31+G32 -> 0 | H33: =H31+H32 -> 0 | I33: =I31+I32 -> 0 | J33: =J31+J32 -> 0 | K33: =K31+K32 -> 0 | ... O33: =O31+O32 -> 0 | P33: المجموع
A34: Total | B34: Males | C34: =C7+C10+C13+C16+C19+C22+C25+C28+C31 -> 9759 | D34: =D7+D10+D13+D16+D19+D22+D25+D28+D31 -> 884 | E34: =E7+E10+E13+E16+E19+E22+E25+E28+E31 -> 887 | F34: =F7+F10+F13+F16+F19+F22+F25+F28+F31 -> 846 | G34: =G7+G10+G13+G16+G19+G22+G25+G28+G31 -> 842 | H34: =H7+H10+H13+H16+H19+H22+H25+H28+H31 -> 886 | I34: =I7+I10+I13+I16+I19+I22+I25+I28+I31 -> 800 | J34: =J7+J10+J13+J16+J19+J22+J25+J28+J31 -> 815 | ... O34: =O7+O10+O13+O16+O19+O22+O25+O28+O31 -> 718 | P34: ذكور | Q34: المجموع
B35: Females | C35: =C8+C11+C14+C17+C20+C23+C26+C29+C32 -> 9408 | D35: =D8+D11+D14+D17+D20+D23+D26+D29+D32 -> 832 | E35: =E8+E11+E14+E17+E20+E23+E26+E29+E32 -> 873 | F35: =F8+F11+F14+F17+F20+F23+F26+F29+F32 -> 819 | G35: =G8+G11+G14+G17+G20+G23+G26+G29+G32 -> 823 | H35: =H8+H11+H14+H17+H20+H23+H26+H29+H32 -> 825 | I35: =I8+I11+I14+I17+I20+I23+I26+I29+I32 -> 817 | J35: =J8+J11+J14+J17+J20+J23+J26+J29+J32 -> 755 | ... O35: =O8+O11+O14+O17+O20+O23+O26+O29+O32 -> 731 | P35: إناث
B36: Total | C36: =C34+C35 -> 19167 | D36: =D34+D35 -> 1716 | E36: =E34+E35 -> 1760 | F36: =F34+F35 -> 1665 | G36: =G34+G35 -> 1665 | H36: =H34+H35 -> 1711 | I36: =I34+I35 -> 1617 | J36: =J34+J35 -> 1570 | ... O36: =O34+O35 -> 1449 | P36: المجموع

Sheet B6-3
A1: المواليد الأحياء المسجلون حسب الشهر والنوع والبلدية
A2: REGISTERED LIVE BIRTHS BY MONTH, GENDER AND MUNICIPALITY
A3: 2022
A4: TOTAL المجموع
A5: Table No. (6-3) | Q5: جدول رقم (6-3)
A6: Municipality | B6: Gender | C6: المجموع Total | D6: ديسمبر Dec. | E6: نوفمبر Nov. | F6: اكتوبر Oct. | G6: سبتمبر Sep. | H6: اغسطس Aug. | I6: يوليو Jul. | J6: يونيو Jun. | K6: مايو May. | L6: ابريل Apr. | M6: مارس Mar. | N6: فبراير Feb. | O6: يناير Jan. | P6: النوع | Q6: البلدية
A7: Doha | B7: Males | C7: =SUM(D7:O7) -> 5019 | D7: ='B6-1'!D7+'B6-2'!D7 -> 485 | E7: ='B6-1'!E7+'B6-2'!E7 -> 470 | F7: ='B6-1'!F7+'B6-2'!F7 -> 437 | G7: ='B6-1'!G7+'B6-2'!G7 -> 415 | H7: ='B6-1'!H7+'B6-2'!H7 -> 437 | I7: ='B6-1'!I7+'B6-2'!I7 -> 391 | J7: ='B6-1'!J7+'B6-2'!J7 -> 437 | K7: ='B6-1'!K7+'B6-2'!K7 -> 405 | ... O7: ='B6-1'!O7+'B6-2'!O7 -> 371 | P7: ذكور | Q7: الدوحة
B8: Females | C8: =SUM(D8:O8) -> 4856 | D8: ='B6-1'!D8+'B6-2'!D8 -> 394 | E8: ='B6-1'!E8+'B6-2'!E8 -> 443 | F8: ='B6-1'!F8+'B6-2'!F8 -> 432 | G8: ='B6-1'!G8+'B6-2'!G8 -> 408 | H8: ='B6-1'!H8+'B6-2'!H8 -> 448 | I8: ='B6-1'!I8+'B6-2'!I8 -> 435 | J8: ='B6-1'!J8+'B6-2'!J8 -> 424 | K8: ='B6-1'!K8+'B6-2'!K8 -> 396 | ... O8: ='B6-1'!O8+'B6-2'!O8 -> 376 | P8: إناث
B9: Total | C9: =SUM(D9:O9) -> 9875 | D9: ='B6-1'!D9+'B6-2'!D9 -> 879 | E9: ='B6-1'!E9+'B6-2'!E9 -> 913 | F9: ='B6-1'!F9+'B6-2'!F9 -> 869 | G9: ='B6-1'!G9+'B6-2'!G9 -> 823 | H9: ='B6-1'!H9+'B6-2'!H9 -> 885 | I9: ='B6-1'!I9+'B6-2'!I9 -> 826 | J9: ='B6-1'!J9+'B6-2'!J9 -> 861 | K9: ='B6-1'!K9+'B6-2'!K9 -> 801 | ... O9: ='B6-1'!O9+'B6-2'!O9 -> 747 | P9: المجموع
A10: Al Rayyan | B10: Males | C10: =SUM(D10:O10) -> 4808 | D10: ='B6-1'!D10+'B6-2'!D10 -> 400 | E10: ='B6-1'!E10+'B6-2'!E10 -> 420 | F10: ='B6-1'!F10+'B6-2'!F10 -> 450 | G10: ='B6-1'!G10+'B6-2'!G10 -> 402 | H10: ='B6-1'!H10+'B6-2'!H10 -> 423 | I10: ='B6-1'!I10+'B6-2'!I10 -> 387 | J10: ='B6-1'!J10+'B6-2'!J10 -> 416 | K10: ='B6-1'!K10+'B6-2'!K10 -> 405 | ... O10: ='B6-1'!O10+'B6-2'!O10 -> 343 | P10: ذكور | Q10: الريان
B11: Females | C11: =SUM(D11:O11) -> 4545 | D11: ='B6-1'!D11+'B6-2'!D11 -> 413 | E11: ='B6-1'!E11+'B6-2'!E11 -> 433 | F11: ='B6-1'!F11+'B6-2'!F11 -> 429 | G11: ='B6-1'!G11+'B6-2'!G11 -> 407 | H11: ='B6-1'!H11+'B6-2'!H11 -> 384 | I11: ='B6-1'!I11+'B6-2'!I11 -> 385 | J11: ='B6-1'!J11+'B6-2'!J11 -> 348 | K11: ='B6-1'!K11+'B6-2'!K11 -> 418 | ... O11: ='B6-1'!O11+'B6-2'!O11 -> 334 | P11: إناث
B12: Total | C12: =SUM(D12:O12) -> 9353 | D12: ='B6-1'!D12+'B6-2'!D12 -> 813 | E12: ='B6-1'!E12+'B6-2'!E12 -> 853 | F12: ='B6-1'!F12+'B6-2'!F12 -> 879 | G12: ='B6-1'!G12+'B6-2'!G12 -> 809 | H12: ='B6-1'!H12+'B6-2'!H12 -> 807 | I12: ='B6-1'!I12+'B6-2'!I12 -> 772 | J12: ='B6-1'!J12+'B6-2'!J12 -> 764 | K12: ='B6-1'!K12+'B6-2'!K12 -> 823 | ... O12: ='B6-1'!O12+'B6-2'!O12 -> 677 | P12: المجموع
A13: Al Wakra | B13: Males | C13: =SUM(D13:O13) -> 1395 | D13: ='B6-1'!D13+'B6-2'!D13 -> 119 | E13: ='B6-1'!E13+'B6-2'!E13 -> 126 | F13: ='B6-1'!F13+'B6-2'!F13 -> 119 | G13: ='B6-1'!G13+'B6-2'!G13 -> 122 | H13: ='B6-1'!H13+'B6-2'!H13 -> 125 | I13: ='B6-1'!I13+'B6-2'!I13 -> 122 | J13: ='B6-1'!J13+'B6-2'!J13 -> 125 | K13: ='B6-1'!K13+'B6-2'!K13 -> 109 | ... O13: ='B6-1'!O13+'B6-2'!O13 -> 99 | P13: ذكور | Q13: الوكرة
B14: Females | C14: =SUM(D14:O14) -> 1370 | D14: ='B6-1'!D14+'B6-2'!D14 -> 126 | E14: ='B6-1'!E14+'B6-2'!E14 -> 138 | F14: ='B6-1'!F14+'B6-2'!F14 -> 110 | G14: ='B6-1'!G14+'B6-2'!G14 -> 123 | H14: ='B6-1'!H14+'B6-2'!H14 -> 100 | I14: ='B6-1'!I14+'B6-2'!I14 -> 114 | J14: ='B6-1'!J14+'B6-2'!J14 -> 101 | K14: ='B6-1'!K14+'B6-2'!K14 -> 136 | ... O14: ='B6-1'!O14+'B6-2'!O14 -> 118 | P14: إناث
B15: Total | C15: =SUM(D15:O15) -> 2765 | D15: ='B6-1'!D15+'B6-2'!D15 -> 245 | E15: ='B6-1'!E15+'B6-2'!E15 -> 264 | F15: ='B6-1'!F15+'B6-2'!F15 -> 229 | G15: ='B6-1'!G15+'B6-2'!G15 -> 245 | H15: ='B6-1'!H15+'B6-2'!H15 -> 225 | I15: ='B6-1'!I15+'B6-2'!I15 -> 236 | J15: ='B6-1'!J15+'B6-2'!J15 -> 226 | K15: ='B6-1'!K15+'B6-2'!K15 -> 245 | ... O15: ='B6-1'!O15+'B6-2'!O15 -> 217 | P15: المجموع
A16: Umm Salal | B16: Males | C16: =SUM(D16:O16) -> 716 | D16: ='B6-1'!D16+'B6-2'!D16 -> 66 | E16: ='B6-1'!E16+'B6-2'!E16 -> 54 | F16: ='B6-1'!F16+'B6-2'!F16 -> 55 | G16: ='B6-1'!G16+'B6-2'!G16 -> 58 | H16: ='B6-1'!H16+'B6-2'!H16 -> 61 | I16: ='B6-1'!I16+'B6-2'!I16 -> 68 | J16: ='B6-1'!J16+'B6-2'!J16 -> 68 | K16: ='B6-1'!K16+'B6-2'!K16 -> 52 | ... O16: ='B6-1'!O16+'B6-2'!O16 -> 56 | P16: ذكور | Q16: ام صلال
B17: Females | C17: =SUM(D17:O17) -> 771 | D17: ='B6-1'!D17+'B6-2'!D17 -> 86 | E17: ='B6-1'!E17+'B6-2'!E17 -> 72 | F17: ='B6-1'!F17+'B6-2'!F17 -> 66 | G17: ='B6-1'!G17+'B6-2'!G17 -> 65 | H17: ='B6-1'!H17+'B6-2'!H17 -> 64 | I17: ='B6-1'!I17+'B6-2'!I17 -> 66 | J17: ='B6-1'!J17+'B6-2'!J17 -> 61 | K17: ='B6-1'!K17+'B6-2'!K17 -> 61 | ... O17: ='B6-1'!O17+'B6-2'!O17 -> 57 | P17: إناث
B18: Total | C18: =SUM(D18:O18) -> 1487 | D18: ='B6-1'!D18+'B6-2'!D18 -> 152 | E18: ='B6-1'!E18+'B6-2'!E18 -> 126 | F18: ='B6-1'!F18+'B6-2'!F18 -> 121 | G18: ='B6-1'!G18+'B6-2'!G18 -> 123 | H18: ='B6-1'!H18+'B6-2'!H18 -> 125 | I18: ='B6-1'!I18+'B6-2'!I18 -> 134 | J18: ='B6-1'!J18+'B6-2'!J18 -> 129 | K18: ='B6-1'!K18+'B6-2'!K18 -> 113 | ... O18: ='B6-1'!O18+'B6-2'!O18 -> 113 | P18: المجموع
A19: Al Khor | B19: Males | C19: =SUM(D19:O19) -> 416 | D19: ='B6-1'!D19+'B6-2'!D19 -> 41 | E19: ='B6-1'!E19+'B6-2'!E19 -> 33 | F19: ='B6-1'!F19+'B6-2'!F19 -> 35 | G19: ='B6-1'!G19+'B6-2'!G19 -> 42 | H19: ='B6-1'!H19+'B6-2'!H19 -> 42 | I19: ='B6-1'!I19+'B6-2'!I19 -> 37 | J19: ='B6-1'!J19+'B6-2'!J19 -> 37 | K19: ='B6-1'!K19+'B6-2'!K19 -> 31 | ... O19: ='B6-1'!O19+'B6-2'!O19 -> 27 | P19: ذكور | Q19: الخور
B20: Females | C20: =SUM(D20:O20) -> 388 | D20: ='B6-1'!D20+'B6-2'!D20 -> 40 | E20: ='B6-1'!E20+'B6-2'!E20 -> 34 | F20: ='B6-1'!F20+'B6-2'!F20 -> 35 | G20: ='B6-1'!G20+'B6-2'!G20 -> 34 | H20: ='B6-1'!H20+'B6-2'!H20 -> 40 | I20: ='B6-1'!I20+'B6-2'!I20 -> 26 | J20: ='B6-1'!J20+'B6-2'!J20 -> 20 | K20: ='B6-1'!K20+'B6-2'!K20 -> 35 | ... O20: ='B6-1'!O20+'B6-2'!O20 -> 34 | P20: إناث
B21: Total | C21: =SUM(D21:O21) -> 804 | D21: ='B6-1'!D21+'B6-2'!D21 -> 81 | E21: ='B6-1'!E21+'B6-2'!E21 -> 67 | F21: ='B6-1'!F21+'B6-2'!F21 -> 70 | G21: ='B6-1'!G21+'B6-2'!G21 -> 76 | H21: ='B6-1'!H21+'B6-2'!H21 -> 82 | I21: ='B6-1'!I21+'B6-2'!I21 -> 63 | J21: ='B6-1'!J21+'B6-2'!J21 -> 57 | K21: ='B6-1'!K21+'B6-2'!K21 -> 66 | ... O21: ='B6-1'!O21+'B6-2'!O21 -> 61 | P21: المجموع
A22: Al Shamal | B22: Males | C22: =SUM(D22:O22) -> 30 | D22: ='B6-1'!D22+'B6-2'!D22 -> 2 | E22: ='B6-1'!E22+'B6-2'!E22 -> 4 | F22: ='B6-1'!F22+'B6-2'!F22 -> 1 | G22: ='B6-1'!G22+'B6-2'!G22 -> 1 | H22: ='B6-1'!H22+'B6-2'!H22 -> 2 | I22: ='B6-1'!I22+'B6-2'!I22 -> 4 | J22: ='B6-1'!J22+'B6-2'!J22 -> 2 | K22: ='B6-1'!K22+'B6-2'!K22 -> 2 | ... O22: ='B6-1'!O22+'B6-2'!O22 -> 3 | P22: ذكور | Q22: الشمال
B23: Females | C23: =SUM(D23:O23) -> 40 | D23: ='B6-1'!D23+'B6-2'!D23 -> 2 | E23: ='B6-1'!E23+'B6-2'!E23 -> 5 | F23: ='B6-1'!F23+'B6-2'!F23 -> 4 | G23: ='B6-1'!G23+'B6-2'!G23 -> 3 | H23: ='B6-1'!H23+'B6-2'!H23 -> 1 | I23: ='B6-1'!I23+'B6-2'!I23 -> 6 | J23: ='B6-1'!J23+'B6-2'!J23 -> 5 | K23: ='B6-1'!K23+'B6-2'!K23 -> 4 | ... O23: ='B6-1'!O23+'B6-2'!O23 -> 2 | P23: إناث
B24: Total | C24: =SUM(D24:O24) -> 70 | D24: ='B6-1'!D24+'B6-2'!D24 -> 4 | E24: ='B6-1'!E24+'B6-2'!E24 -> 9 | F24: ='B6-1'!F24+'B6-2'!F24 -> 5 | G24: ='B6-1'!G24+'B6-2'!G24 -> 4 | H24: ='B6-1'!H24+'B6-2'!H24 -> 3 | I24: ='B6-1'!I24+'B6-2'!I24 -> 10 | J24: ='B6-1'!J24+'B6-2'!J24 -> 7 | K24: ='B6-1'!K24+'B6-2'!K24 -> 6 | ... O24: ='B6-1'!O24+'B6-2'!O24 -> 5 | P24: المجموع
A25: Al Dhaayen | B25: Males | C25: =SUM(D25:O25) -> 678 | D25: ='B6-1'!D25+'B6-2'!D25 -> 54 | E25: ='B6-1'!E25+'B6-2'!E25 -> 64 | F25: ='B6-1'!F25+'B6-2'!F25 -> 55 | G25: ='B6-1'!G25+'B6-2'!G25 -> 59 | H25: ='B6-1'!H25+'B6-2'!H25 -> 56 | I25: ='B6-1'!I25+'B6-2'!I25 -> 61 | J25: ='B6-1'!J25+'B6-2'!J25 -> 55 | K25: ='B6-1'!K25+'B6-2'!K25 -> 51 | ... O25: ='B6-1'!O25+'B6-2'!O25 -> 59 | P25: ذكور | Q25: الظعاين
B26: Females | C26: =SUM(D26:O26) -> 654 | D26: ='B6-1'!D26+'B6-2'!D26 -> 44 | E26: ='B6-1'!E26+'B6-2'!E26 -> 57 | F26: ='B6-1'!F26+'B6-2'!F26 -> 59 | G26: ='B6-1'!G26+'B6-2'!G26 -> 54 | H26: ='B6-1'!H26+'B6-2'!H26 -> 49 | I26: ='B6-1'!I26+'B6-2'!I26 -> 53 | J26: ='B6-1'!J26+'B6-2'!J26 -> 58 | K26: ='B6-1'!K26+'B6-2'!K26 -> 57 | ... O26: ='B6-1'!O26+'B6-2'!O26 -> 51 | P26: إناث
B27: Total | C27: =SUM(D27:O27) -> 1332 | D27: ='B6-1'!D27+'B6-2'!D27 -> 98 | E27: ='B6-1'!E27+'B6-2'!E27 -> 121 | F27: ='B6-1'!F27+'B6-2'!F27 -> 114 | G27: ='B6-1'!G27+'B6-2'!G27 -> 113 | H27: ='B6-1'!H27+'B6-2'!H27 -> 105 | I27: ='B6-1'!I27+'B6-2'!I27 -> 114 | J27: ='B6-1'!J27+'B6-2'!J27 -> 113 | K27: ='B6-1'!K27+'B6-2'!K27 -> 108 | ... O27: ='B6-1'!O27+'B6-2'!O27 -> 110 | P27: المجموع
A28: Al Sheehaniya | B28: Males | C28: =SUM(D28:O28) -> 266 | D28: ='B6-1'!D28+'B6-2'!D28 -> 19 | E28: ='B6-1'!E28+'B6-2'!E28 -> 18 | F28: ='B6-1'!F28+'B6-2'!F28 -> 27 | G28: ='B6-1'!G28+'B6-2'!G28 -> 23 | H28: ='B6-1'!H28+'B6-2'!H28 -> 33 | I28: ='B6-1'!I28+'B6-2'!I28 -> 29 | J28: ='B6-1'!J28+'B6-2'!J28 -> 19 | K28: ='B6-1'!K28+'B6-2'!K28 -> 24 | ... O28: ='B6-1'!O28+'B6-2'!O28 -> 16 | P28: ذكور | Q28: الشيحانية
B29: Females | C29: =SUM(D29:O29) -> 219 | D29: ='B6-1'!D29+'B6-2'!D29 -> 14 | E29: ='B6-1'!E29+'B6-2'!E29 -> 15 | F29: ='B6-1'!F29+'B6-2'!F29 -> 17 | G29: ='B6-1'!G29+'B6-2'!G29 -> 15 | H29: ='B6-1'!H29+'B6-2'!H29 -> 21 | I29: ='B6-1'!I29+'B6-2'!I29 -> 18 | J29: ='B6-1'!J29+'B6-2'!J29 -> 17 | K29: ='B6-1'!K29+'B6-2'!K29 -> 28 | ... O29: ='B6-1'!O29+'B6-2'!O29 -> 20 | P29: إناث
B30: Total | C30: =SUM(D30:O30) -> 485 | D30: ='B6-1'!D30+'B6-2'!D30 -> 33 | E30: ='B6-1'!E30+'B6-2'!E30 -> 33 | F30: ='B6-1'!F30+'B6-2'!F30 -> 44 | G30: ='B6-1'!G30+'B6-2'!G30 -> 38 | H30: ='B6-1'!H30+'B6-2'!H30 -> 54 | I30: ='B6-1'!I30+'B6-2'!I30 -> 47 | J30: ='B6-1'!J30+'B6-2'!J30 -> 36 | K30: ='B6-1'!K30+'B6-2'!K30 -> 52 | ... O30: ='B6-1'!O30+'B6-2'!O30 -> 36 | P30: المجموع
A31: Outside Qatar | B31: Males | C31: =SUM(D31:O31) -> 68 | D31: ='B6-1'!D31+'B6-2'!D31 -> 8 | E31: ='B6-1'!E31+'B6-2'!E31 -> 2 | F31: ='B6-1'!F31+'B6-2'!F31 -> 4 | G31: ='B6-1'!G31+'B6-2'!G31 -> 9 | H31: ='B6-1'!H31+'B6-2'!H31 -> 5 | I31: ='B6-1'!I31+'B6-2'!I31 -> 4 | J31: ='B6-1'!J31+'B6-2'!J31 -> 9 | K31: ='B6-1'!K31+'B6-2'!K31 -> 9 | ... O31: ='B6-1'!O31+'B6-2'!O31 -> 5 | P31: ذكور | Q31: خارج قطر
B32: Females | C32: =SUM(D32:O32) -> 77 | D32: ='B6-1'!D32+'B6-2'!D32 -> 3 | E32: ='B6-1'!E32+'B6-2'!E32 -> 10 | F32: ='B6-1'!F32+'B6-2'!F32 -> 6 | G32: ='B6-1'!G32+'B6-2'!G32 -> 4 | H32: ='B6-1'!H32+'B6-2'!H32 -> 13 | I32: ='B6-1'!I32+'B6-2'!I32 -> 8 | J32: ='B6-1'!J32+'B6-2'!J32 -> 4 | K32: ='B6-1'!K32+'B6-2'!K32 -> 6 | ... O32: ='B6-1'!O32+'B6-2'!O32 -> 7 | P32: إناث
B33: Total | C33: =SUM(D33:O33) -> 145 | D33: ='B6-1'!D33+'B6-2'!D33 -> 11 | E33: ='B6-1'!E33+'B6-2'!E33 -> 12 | F33: ='B6-1'!F33+'B6-2'!F33 -> 10 | G33: ='B6-1'!G33+'B6-2'!G33 -> 13 | H33: ='B6-1'!H33+'B6-2'!H33 -> 18 | I33: ='B6-1'!I33+'B6-2'!I33 -> 12 | J33: ='B6-1'!J33+'B6-2'!J33 -> 13 | K33: ='B6-1'!K33+'B6-2'!K33 -> 15 | ... O33: ='B6-1'!O33+'B6-2'!O33 -> 12 | P33: المجموع
A34: Total | B34: Males | C34: =C7+C10+C13+C16+C19+C22+C25+C28+C31 -> 13396 | D34: =D7+D10+D13+D16+D19+D22+D25+D28+D31 -> 1194 | E34: =E7+E10+E13+E16+E19+E22+E25+E28+E31 -> 1191 | F34: =F7+F10+F13+F16+F19+F22+F25+F28+F31 -> 1183 | G34: =G7+G10+G13+G16+G19+G22+G25+G28+G31 -> 1131 | H34: =H7+H10+H13+H16+H19+H22+H25+H28+H31 -> 1184 | I34: =I7+I10+I13+I16+I19+I22+I25+I28+I31 -> 1103 | J34: =J7+J10+J13+J16+J19+J22+J25+J28+J31 -> 1168 | ... O34: =O7+O10+O13+O16+O19+O22+O25+O28+O31 -> 979 | P34: ذكور | Q34: المجموع
