Workbook

Sheet المحتويات
A1: المحتـويــــــــات Contents

Sheet Cont
A1: Contents | D1: المحتويات
A2: Tables | B2: رقم الصفحة Page No. | C2: رقم الجدول Table No. | D2: الجداول
A3: Introduction | D3: مقدمة
A4: Preface | D4: تقديم
A5: Definitions | D5: تعاريف
A6: CHAPTER ONE : VITAL INDICATORS | D6: الباب الأول : المؤشرات الحيوية
A7: General Fertility, Total Fertility and Gross Reproduction Rate, and Average Age of Child Bearing by Nationality (2018-2022) | C7: 1 | D7: معدل الخصوبة العام والخصوبة الكلية والإحلال الإجمالى ومتوسط عمر المرأة عند الإنجاب حسب الجنسية (2018-2022)
A8: Crude Birth and Death Rate, Natural Increase Rate, Maternal Mortality Rate and Rate Of Deliveries Under Medical Supervision (2013-2022) | C8: 2 | D8: معدل المواليد والوفيات الخام ومعدل الزيادة الطبيعية ومعدل وفيات الأمهات ونسبة الولادات التي تجري تحت إشراف صحي (2013-2022)
A9: Neonatal Mortality Rate (2013-2022) | C9: 3 | D9: معدل وفيات حديثي الولادة (2013-2022)
A10: Infant Mortality Rate by Nationality and Gender (2013-2022) | C10: 4 | D10: معدل وفيات الأطفال الرضع حسب الجنسية والنوع (2013-2022)
A11: Child Mortality Rate (Less Than 5 Years) by Nationality and Gender (2013-2022) | C11: 5 | D11: معدل وفيات الأطفال (أقل من 5 سنوات) حسب الجنسية والنوع (2013-2022)
A12: Child Mortality Rate by Nationlity and Gender (2013-2022) | C12: 6 | D12: معدل وفيات الأطفال حسب الجنسية والنوع (2013-2022)
A14: CHAPTER TWO : LIVE BIRTHS | D14: الباب الثاني : المواليــــد الأحياء
A15: Registered Vital Events (2013-2022) | C15: 1 | D15: الواقعات الحيوية المسجلة (2013-2022)
A16: Non-Registered Live Births by Nationality and Gender (2012-2021) | C16: 2 | D16: المواليد الأحياء فاقدو القيد حسب الجنسية والنوع (2012-2021)
A17: Registered Live Births by Nationality, Gender and Gender Ratio at birth (2013-2022) | C17: 3 | D17: المواليد الأحياء المسجلون حسب الجنسية والنوع ونسبة النوع عند الميلاد (2013-2022)
A18: Registerd Live Births by Nationality and Gender (2013-2022) | C18: 4 | D18: المواليد الأحياء المسجلون حسب الجنسية والنوع (2013-2022)
A19: Registered Live Births by Nationality, Gender and Municipality (2022) | C19: 5 | D19: المواليد الأحياء المسجلون حسب الجنسية والنوع والبلدية (2022)
A20: Registered Live Births by Month, Gender and Municipality, Qataris (2022) | C20: 6-1 | D20: المواليد الأحياء المسجلون حسب الشهر والنوع والبلدية، قطريون (2022)
A21: Registered Live Births by Month, Gender and Municipality, Non-Qataris (2022) | C21: 6-2 | D21: المواليد الأحياء المسجلون حسب الشهر والنوع والبلدية، غير قطريين (2022)
A22: Registered Live Births by Month, Gender and Municipality, Total (2022) | C22: 6-3 | D22: المواليد الأحياء المسجلون حسب الشهر والنوع والبلدية، المجموع (2022)
A23: Registered Live Births by Nationality, Type of Births and Municipality (2022) | C23: 7 | D23: المواليد الأحياء المسجلون حسب الجنسية ونوع الولادة والبلدية (2022)
A24: Registered Live Births by Nationality, Delivery Attendant, Place of Birth and Municipality (2022) | C24: 8 | D24: المواليد الأحياء المسجلون حسب الجنسية وصفة القائم بالتوليد ومكان الولادة والبلدية (2022)
A25: Registered Live Births by Gender and Nationality (2018-2022) | C25: 9 | D25: المواليد الأحياء المسجلون حسب النوع والجنسية (2018-2022)
A26: Registered Live Births by Nationality, Gender and Mother's Age Group (2022) | C26: 10 | D26: المواليد الأحياء المسجلون حسب الجنسية والنوع وفئة عمر الأم (2022)
... A47: Registered Live Births by Father's Age Group, Nationality and Occupation (2022) | C47: 19 | D47: المواليد الأحياء المسجلون حسب فئة عمر الأب وجنسيته ومهنته (2022)
A48: CHAPTER THREE : FOETAL DEATHS | D48: الباب الثالث : المواليــــد موتى
A49: REGISTERED FOETAL DEATHS BY NATIONALITY AND GENDER (2013-2022) | C49: 1 | D49: واقعات الولادة الميتة المسجلة حسب الجنسية والنوع (2013-2022)
A50: REGISTERED FOETAL DEATHS BY NATIONALITY, GENDER AND MUNICIPALITY (2022) | C50: 2 | D50: واقعات الولادة الميتة المسجلة حسب الجنسية والنوع والبلدية (2022)
A51: REGISTERED FOETAL DEATHS BY NATIONALITY, GENDER AND MONTH (2022) | C51: 3 | D51: واقعات الولادة الميتة المسجلة حسب الجنسية والنوع والشهر (2022)
A52: REGISTERED FOETAL DEATHS BY NATIONALITY, GENDER AND AGE GROUP OF MOTHER, (2022) | C52: 4 | D52: واقعات الولادة الميتة المسجلة حسب الجنسية والنوع وفئة عمر الأم (2022)
A53: REGISTERED FOETAL DEATHS BY NATIONALITY, GENDER AND GESTATIONAL AGE IN WEEKS (2022) | C53: 5 | D53: واقعات الولادة الميتة المسجلة حسب الجنسية والنوع والعمر الرحمى بالاسابيع (2022)
A54: REGISTERED FOETAL DEATHS BY NATIONALITY, GENDER AND EDUCATIONAL STATUS OF MOTHER (2022) | C54: 6 | D54: واقعات الولادة الميتة المسجلة حسب الجنسية والنوع والحالة التعليمية للأم (2022)
A55: REGISTERED FOETAL DEATHS BY GENDER AND NATIONALITY (2022) | C55: 7 | D55: واقعات الولادة الميتة المسجلة حسب النوع والجنسية (2022)
A56: REGISTERED FOETAL DEATHS BY AGE GROUP OF MOTHER AND CHILD ORDER (Qataris) (2022) | C56: 8-1 | D56: واقعات الولادة الميتة المسجلة حسب فئة عمر الام وترتيب المولود، قطريون (2022)
A57: REGISTERED FOETAL DEATHS BY AGE GROUP OF MOTHER AND CHILD ORDER (Non-Qataris) (2022) | C57: 8-2 | D57: واقعات الولادة الميتة المسجلة حسب فئة عمر الام وترتيب المولود، غير قطريين (2022)
A58: REGISTERED FOETAL DEATHS BY AGE GROUP OF MOTHER AND CHILD ORDER (Total) (2022) | C58: 8-3 | D58: واقعات الولادة الميتة المسجلة حسب فئة عمر الام وترتيب المولود، المجموع (2022)
A60: CHAPTER THREE : DEATHS | D60: الباب الثالث: الوفيات
A61: Registered Deaths by Nationality and Gender (2013-2022) | C61: 1 | D61: الوفيات المسجلة حسب الجنسية والنوع (2013-2022)
A62: Registered Deaths by Nationality, Gender and Municipality (2022) | C62: 2 | D62: الوفيات المسجلة حسب الجنسية والنوع والبلدية (2022)
A63: Registered Deaths by Nationality, Gender and Month (2022) | C63: 3 | D63: الوفيات المسجلة حسب الجنسية والنوع والشهر (2022)
A64: Registered Deaths by Nationality, Gender and Age (2022) | C64: 4 | D64: الوفيات المسجلة حسب الجنسية والنوع والعمر (2022)
A65: Registered Qatari Deaths by Place of Death, Gender and Age Groups (2022) | C65: 5 | D65: الوفيات المسجلة للقطريين حسب مكان الوفاة والنوع والفئات العمرية (2022)
A66: Registered Qatari Deaths by Gender and Place of Death (2022) | C66: 6 | D66: الوفيات المسجلة للقطريين حسب النوع ومكان الوفاة (2022)
A67: Registered Deaths by Nationality, Gender and Single Year of Age (2022) | C67: 7 | D67: الوفيات المسجلة حسب الجنسية والنوع وآحاد العمر (2022)
A68: Registered Deaths (15 years old and over) by Marital Status, Gender and Age Groups (Qataris) (2022) | C68: 8-1 | D68: الوفيات المسجلة (15 سنة فأكثر) حسب الحالة الزواجية والنوع والفئات العمرية، قطريون (2022)
A69: Registered Deaths (15 years old and over) by Marital Status, Gender and Age Groups (Non-Qataris) (2022) | C69: 8-2 | D69: الوفيات المسجلة (15 سنة فأكثر) حسب الحالة الزواجية والنوع والفئات العمرية، غير قطريين (2022)
A70: Registered Deaths (15 years old and over) by Marital Status, Gender and Age Groups (Total) (2022) | C70: 8-3 | D70: الوفيات المسجلة (15 سنة فأكثر) حسب الحالة الزواجية والنوع والفئات العمرية، المجموع (2022)
A71: Registered Deaths by Gender and Nationality (2018-2022) | C71: 9 | D71: الوفيات المسجلة حسب النوع والجنسية (2018-2022)
A72: Registered Deaths (15 years and over) by Age Groups, Gender and Occupation (Qataris) (2022) | C72: 10-1 | D72: الوفيات المسجلة (15 سنة فأكثر) حسب الفئات العمرية والنوع والمهنة، قطريون (2022)
... A78: Deaths by Age groups, Gender and Cause of Death (ICD 10 Detailed List) (Total) (2022) | C78: 12-3 | D78: الوفيات حسب الفئات العمرية والنوع و سبب الوفاة، (المراجعة العاشرة القائمة المفصلة)، المجموع (2022)
A80: CHAPTER FOUR : INFANT DEATHS | D80: الباب الرابع: وفيات الأطفال الرضع
A81: Registered Infant Deaths by Nationality and Gender (2013-2022) | C81: 1 | D81: وفيات الأطفال الرضع المسجلة حسب الجنسية والنوع (2013-2022)
A82: Registered Infant Deaths by Nationality, Gender and Municipality (2022) | C82: 2 | D82: وفيات الأطفال الرضع المسجلة حسب الجنسية والنوع والبلدية (2022)
A83: Registered Infant Deaths by Nationality, Gender and Month (2022) | C83: 3 | D83: وفيات الأطفال الرضع المسجلة حسب الجنسية والنوع والشهر (2022)
A84: Registered Infant Deaths by Nationality, Gender and Age (2022) | C84: 4 | D84: وفيات الأطفال الرضع المسجلة حسب الجنسية والنوع والعمر (2022)
A85: Registered Infant Deaths by Month and Age (Qataris) (2022) | C85: 5-1 | D85: وفيات الأطفال الرضع المسجلة حسب الشهر والعمر، قطريون (2022)
A86: Registered Infant Deaths by Month and Age (Non-Qataris) (2022) | C86: 5-2 | D86: وفيات الأطفال الرضع المسجلة حسب الشهر والعمر، غير قطريين (2022)
A87: Registered Infant Deaths by Month and Age (Total) (2022) | C87: 5-3 | D87: وفيات الأطفال الرضع المسجلة حسب الشهر والعمر، المجموع (2022)
A88: Registered Infant Deaths by Gender and Nationality (2022) | C88: 6 | D88: وفيات الأطفال الرضع المسجلة حسب النوع والجنسية (2022)
A89: Registered Infant Deaths by Nationality, Gender and Cause of Death (ICD 10 Detailed List) (2022) | C89: 7 | D89: وفيات الاطفال الرضع المسجلة حسب الجنسية والنوع وسبب الوفاة، (المراجعة العاشرة القائمة المفصلة) (2022)
A91: CHAPTER FIVE : REGISTERED DEATHS BY CAUSE OF DEATH | D91: الباب الخامس: الوفيات المسجلة حسب سبب الوفاة
A92: Percentage of Registered Deaths by Nationality,Gender and Cause of Death (ICD 10 basic list) (2022) | C92: 1 | D92: نسبة الوفيات المسجلة حسب الجنسية والنوع وسبب الوفاة، (المراجعة العاشرة القائمة الأساسية) (2022)
A93: Percentage of Registered Deaths by Nationality,Gender and Cause of Death (ICD 10 basic list) (2021) | C93: 2 | D93: نسبة الوفيات المسجلة حسب الجنسية والنوع وسبب الوفاة، (المراجعة العاشرة القائمة الأساسية) (2021)
A94: Percentage of Registered Deaths by Nationality,Gender and Cause of Death (ICD 10 basic list) (2020) | C94: 3 | D94: نسبة الوفيات المسجلة حسب الجنسية والنوع وسبب الوفاة، (المراجعة العاشرة القائمة الأساسية)، (2020)
A96: Appendices: | D96: ملاحـــــــق :
A98: 1. Notification of Live Birth | D98: 1 - استمارة بلاغ عن مولود حي
A99: 2. Notification of Death | D99: 2 - استمارة بلاغ عن وفاة

Sheet Con-GR
A1: List of Figures | D1: فهرس الرسوم البيانية
A2: Figure | B2: رقم الصفحة Page No. | C2: رقم الشكل Figure No. | D2: الشكل
A4: CHAPTER ONE : VITAL INDICATORS | D4: الباب الأول : المؤشرات الحيوية
A5: Child Mortality Rate (Less Than 5 Years) by Gender (2013-2022) | C5: 1 | D5: معدل وفيات الأطفال (أقل من 5 سنوات) حسب النوع (2013 - 2022)
A7: CHAPTER TWO : LIVE BIRTHS | D7: الباب الثاني : المواليــــد الأحياء
A8: Registerd Vital Events (2013-2022) | C8: 2 | D8: الواقعات الحيوية المسجلة (2013 -2022)
A9: Registerd Live Births by Nationality and Municipility (2022) | C9: 3 | D9: المواليد الأحياء المسجلون حسب الجنسية والبلدية (2022)
A10: Registered Live Births by Gender and Month (2022) | C10: 4 | D10: المواليد الأحياء المسجلون حسب النوع والشهر (2022)
A11: Registered Live Births by Nationality (2022) | C11: 5 | D11: المواليد الأحياء المسجلون حسب الجنسية (2022)
A12: Registered Live Births by Nationality and Mother's Age Group (2022) | C12: 6 | D12: المواليد الأحياء المسجلون حسب الجنسية و فئة عمر الأم (2022)
A13: Registered Live Births by Mother's Nationality and Age Group (2022) | C13: 7 | D13: المواليد الأحياء المسجلون حسب جنسية الأم وفئة عمرها (2022)
A14: Registered Live Births by Mother's Educational Status (2022) | C14: 8 | D14: المواليد الأحياء المسجلون حسب الحالة التعليمية للأم (2022)
A16: CHAPTER THREE : DEATHS | D16: الباب الثالث: الوفيات
A17: Registered Deaths by Gender and Month (2022) | C17: 9 | D17: الوفيات المسجلة حسب النوع والشهر (2022)
A18: Registered Deaths by Nationality and Age Groups (2022) | C18: 10 | D18: الوفيات المسجلة حسب الجنسية والفئات العمرية (2022)
A19: Register Qatari Deaths by Place of Death (2022) | C19: 11 | D19: الوفيات المسجلة للقطريين حسب مكان الوفاة (2022)
A20: Registered Deaths by Nationality (2022) | C20: 12 | D20: الوفيات المسجلة حسب الجنسية (2022)
A22: CHAPTER FOUR : INFANT DEATHS | D22: الباب الرابع: وفيات الأطفال الرضع
A23: Registered Infant Deaths by Nationality (2013-2022) | C23: 13 | D23: وفيات الأطفال الرضع المسجلة حسب الجنسية (2013 - 2022)
A24: Registered Infant Deaths by Gender and Nationality (2022) | C24: 14 | D24: وفيات الاطفال الرضع المسجلة حسب النوع والجنسية (2022)

Sheet chapter1
A1: الباب الأول: المؤشرات الحيوية CHAPTER ONE: VITAL INDICATORS

Sheet 1
A1: معدل الخصوبة العام والخصوبة الكلية والإحلال الإجمالى ومتوسط عمر المرأة عند الإنجاب حسب الجنسية
A2: GENERAL FERTILITY, TOTAL FERTILITY AND GROSS REPRODUCTION RATE, AND AVERAGE AGE OF CHILD BEARING BY NATIONALITY
A3: 2018 - 2022
A4: Table No. (1) | I4: جدول رقم (1)
A5: Year Rate & Nationality | C5: 2022 | D5: 2021 | E5: 2020 | F5: 2019 | G5: 2018 | H5: السنة المعدل والجنسية
A6: General Fertility Rate Per 1000 Women | B6: Qataris | C6: 69.674018 | D6: 77.67 | E6: 72.42 | F6: 76.92 | G6: 81.658372 | H6: قطريات | I6: معدل الخصوبة العام لكل ألف امرأة
B7: Non-Qataris | C7: 46.277349 | D7: 49.52 | E7: 53.2 | F7: 56.26 | G7: 56.637773 | H7: غير قطريات
B8: Total | C8: 50.150933 | D8: 54.49 | E8: 56.27 | F8: 59.72 | G8: 60.85618 | H8: المجموع
A9: Total Fertility Rate Per Woman | B9: Qataris | C9: 2.38 | D9: 2.65 | E9: 2.48 | F9: 2.62 | G9: 2.789448 | H9: قطريات | I9: معدل الخصوبة الكلية لكل امرأة
B10: Non-Qataris | C10: 1.4 | D10: 1.45 | E10: 1.59 | F10: 1.63 | G10: 1.633399 | H10: غير قطريات
B11: Total | C11: 1.51 | D11: 1.6 | E11: 1.67 | F11: 1.73 | G11: 1.7548495 | H11: المجموع
A12: Gross Reproduction Rate | B12: Qataris | C12: 1.17 | D12: 1.28 | E12: 1.23 | F12: 1.287 | G12: 1.3758231 | H12: قطريات | I12: معدل الإحلال الإجمالي
B13: Non-Qataris | C13: 0.69 | D13: 0.7 | E13: 0.77 | F13: 0.79 | G13: 0.80385483 | H13: غير قطريات
B14: Total | C14: 0.74 | D14: 0.78 | E14: 0.82 | F14: 0.84 | G14: 0.86474398 | H14: المجموع
A15: Average Age Of Child Bearing | B15: Qataris | C15: 31.93 | D15: 31.93 | E15: 32.05 | F15: 31.77 | G15: 31.862067 | H15: قطريات | I15: متوسط عمر المرأة عند الإنجاب
B16: Non-Qataris | C16: 29.75 | D16: 30.16 | E16: 29.66 | F16: 29.67 | G16: 29.655262 | H16: غير قطريات
B17: Total | C17: 30.25 | D17: 30.57 | E17: 30.19 | F17: 30.2 | G17: 30.200709 | H17: المجموع

Sheet 2
A1: معدل المواليد والوفيات الخام ومعدل الزيادة الطبيعية ومعدل وفيات الأمهات ونسبة الولادات التي تجري تحت إشراف صحي
A2: CRUDE BIRTH AND DEATH RATE, NATURAL INCREASE RATE, MATERNAL MORTALITY RATE AND RATE OF DELIVERIES UNDER MEDICAL SUPERVISION
A3: 2013 - 2022
A4: Table No. (2) | G4: جدول رقم (2)
A5: Year | B5: نسبة الولادات التي تجري تحت إشراف صحي | C5: نسبة وفيات الأمهات لكل 100000 من المواليد أحياء | D5: الزيادة الطبيعية لكل 1000 من السكان | E5: معدل الوفيات الخام لكل 1000 من السكان | F5: معدل المواليد الخام لكل 1000 من السكان | G5: السنة
B6: Rate Of Deliveries Under Medical Supervision | C6: Maternal Mortality Rate Per 100000 Live Birth | D6: Natural Increase Per 1000 Population | E6: Crude Death Rate Per 1000 Population | F6: Crude Birth Rate Per 1000 Population
A7: 2013 | B7: 100 | C7: 0 | D7: 10.77 | E7: 1.06 | F7: 11.83 | G7: 2013
A8: 2014 | B8: 100 | C8: 3.93 | D8: 10.412963 | E8: 1.1 | F8: 11.48 | G8: 2014
A9: 2015 | B9: 100 | C9: 11.268875 | D9: 9.9700959 | E9: 0.95045102 | F9: 10.920547 | G9: 2015
A10: 2016 | B10: 100 | C10: 0 | D10: 9.35 | E10: 0.9 | F10: 10.24 | G10: 2016
A11: 2017 | B11: 100 | C11: 0 | D11: 9.4 | E11: 0.84 | F11: 10.24 | G11: 2017
A12: 2018 | B12: 100 | C12: 3.56 | D12: 9.31 | E12: 0.86 | F12: 10.17 | G12: 2018
A13: 2019 | B13: 100 | C13: 3.52 | D13: 9.3640973 | E13: 0.78593828 | F13: 10.150036 | G13: 2019
A14: 2020 | B14: 100 | C14: 3.446612 | D14: 9.2469895 | E14: 0.99199662 | F14: 10.238986 | G14: 2020
A15: 2021 | B15: 100 | C15: 7.5990729 | D15: 8.5431645 | E15: 1.0337819 | F15: 9.5769463 | G15: 2021
A16: 2022 | B16: 100 | C16: 7.5999392 | D16: 8.0225329 | E16: 0.95217276 | F16: 8.9747057 | G16: 2022

Sheet 3
A1: معدل وفيات حديثي الولادة
A2: NEONATAL MORTALITY RATE
A3: 2013 - 2022
A4: Table No. (3) | N4: جدول رقم (3)
A5: Year Rate & Nationality | C5: 2022 | D5: 2021 | E5: 2020 | F5: 2019 | G5: 2018 | H5: 2017 | I5: 2016 | J5: 2015 | K5: 2014 | L5: 2013 | M5: السنة المعدل والجنسية
A6: Early Neonatal Mortality Rate (0-7) Days | B6: Qataris | C6: 4.6160302 | D6: 4.2231891 | E6: 3.66 | F6: 2.53 | G6: 3.2038959 | H6: 3.27 | I6: 3.15 | J6: 3.5177098 | K6: 2.0115665 | L6: 2.95 | M6: قطريون | N6: معدل وفيات حديثي الولادة الباكرة (0 - 7) يوم
B7: Non-Qataris | C7: 2.9738613 | D7: 2.2156174 | E7: 2.56 | F7: 2.77 | G7: 2.6645613 | H7: 2.66 | I7: 2.07 | J7: 3.2103602 | K7: 2.2871519 | L7: 3.14 | M7: غير قطريين
B8: Total | C8: 3.4199726 | D8: 2.811657 | E8: 2.83 | F8: 2.71 | G8: 2.8144929 | H8: 2.83 | I8: 2.39 | J8: 3.3055368 | K8: 2.2009983 | L8: 3.08 | M8: المجموع
A9: Late Neonatal Mortality Rate (7-28) Days | B9: Qataris | C9: 0.97915792 | D9: 0.895828 | E9: 0.7 | F9: 0.27 | G9: 1.0252467 | H9: 1.01 | I9: 0.76 | J9: 1.5769044 | K9: 1.2572291 | L9: 1.15 | M9: قطريون | N9: معدل وفيات حديثي الولادة المتأخرة (7 - 28) يوم
B10: Non-Qataris | C10: 1.2521521 | D10: 0.70251283 | E10: 0.5 | F10: 0.86 | G10: 0.98687457 | H10: 1 | I10: 0.74 | J10: 1.1426706 | K10: 1.5438275 | L10: 0.88 | M10: غير قطريين
B11: Total | C11: 1.1779906 | D11: 0.75990729 | E11: 0.55 | F11: 0.7 | G11: 0.99754177 | H11: 1 | I11: 0.75 | J11: 1.2771392 | K11: 1.454231 | L11: 0.97 | M11: المجموع
A12: Neonatal Mortality Rate (0-28) Days | B12: Qataris | C12: 5.5951881 | D12: 5.1190171 | E12: 4.37 | F12: 2.8 | G12: 4.2291426 | H12: 4.28 | I12: 3.91 | J12: 5.0946143 | K12: 3.2687956 | L12: 4.1 | M12: قطريون | N12: معدل وفيات حديثي الولادة (0 - 28) يوم
B13: Non-Qataris | C13: 4.2260135 | D13: 2.9181302 | E13: 3.06 | F13: 3.63 | G13: 3.6514359 | H13: 3.66 | I13: 2.81 | J13: 4.3530308 | K13: 3.8309795 | L13: 4.02 | M13: غير قطريين
B14: Total | C14: 4.5979632 | D14: 3.5715643 | E14: 3.38 | F14: 3.41 | G14: 3.8120346 | H14: 3.83 | I14: 3.13 | J14: 4.582676 | K14: 3.6552293 | L14: 4.05 | M14: المجموع
A15: Post-Neonatal Mortality Rate (28 - 264) Days | B15: Qataris | C15: 2.0981956 | D15: 1.4077297 | E15: 1.13 | F15: 0.93 | G15: 2.8194284 | H15: 1.26 | I15: 2.77 | J15: 3.2751092 | K15: 3.8974101 | L15: 3.33 | M15: قطريون | N15: معدل وفيات الأطفال بعد حديثي الولادة من (28 - 364) يوم
B16: Non-Qataris | C16: 2.0347472 | D16: 1.4590651 | E16: 2.14 | F16: 1.58 | G16: 2.1217803 | H16: 1.7 | I16: 2.91 | J16: 2.6118185 | K16: 2.5158671 | L16: 2.26 | M16: غير قطريين
B17: Total | C17: 2.0519836 | D17: 1.4438239 | E17: 1.9 | F17: 1.41 | G17: 2.315722 | H17: 1.58 | I17: 2.87 | J17: 2.8172188 | K17: 2.9477656 | L17: 2.62 | M17: المجموع

Sheet 4
A1: معدل وفيات الأطفال الرضع حسب الجنسية والنوع
A2: INFANT MORTALITY RATE BY NATIONALITY AND GENDER
A3: 2013 - 2022
A4: Table No. (4) | K4: جدول رقم (4)
A5: Nationality & Gender Year | B5: المجموع Total | E5: غير قطريين Non-Qataris | H5: قطريون Qataris | K5: الجنسية والنوع السنة
B6: المجموع Total | C6: إناث Females | D6: ذكور Males | E6: المجموع Total | F6: إناث Females | G6: ذكور Males | H6: المجموع Total | I6: إناث Females | J6: ذكور Males
A7: 2013 | B7: 6.7 | C7: 5.2 | D7: 8.1 | E7: 5.9 | F7: 4.4 | G7: 7.5 | H7: 7.4 | I7: 5.5 | J7: 9.2 | K7: 2013
A8: 2014 | B8: 6.6 | C8: 6.7 | D8: 6.6 | E8: 6.3 | F8: 6 | G8: 6.5 | H8: 7.3 | I8: 8 | J8: 6.6 | K8: 2014
A9: 2015 | B9: 7.3998948 | C9: 7.300953 | D9: 7.4944893 | E9: 6.9648493 | F9: 6.6785396 | G9: 7.238663 | H9: 8.3697234 | I9: 8.6891758 | J9: 8.0645161 | K9: 2015
A10: 2016 | B10: 6 | C10: 6 | D10: 6 | E10: 5.7 | F10: 5.8 | G10: 5.6 | H10: 6.7 | I10: 6.4 | J10: 7 | K10: 2016
A11: 2017 | B11: 5.4 | C11: 5 | D11: 5.8 | E11: 5.4 | F11: 5.4 | G11: 5.3 | H11: 5.5 | I11: 3.9 | J11: 7.1 | K11: 2017
A12: 2018 | B12: 6.1277566 | C12: 6.4093331 | D12: 5.8520764 | E12: 5.7732162 | F12: 5.8811802 | G12: 5.6673832 | H12: 7.0485711 | I12: 7.7841204 | J12: 6.3307166 | K12: 2018
A13: 2019 | B13: 4.7867098 | C13: 5.0515985 | D13: 4.6 | E13: 5.2 | F13: 5.8 | G13: 4.6472721 | H13: 3.7 | I13: 3 | J13: 4.5 | K13: 2019
A14: 2020 | B14: 5.2733163 | C14: 4.9247221 | D14: 5.6081081 | E14: 5.2016791 | F14: 4.9565136 | G14: 5.4352669 | H14: 5.4945055 | I14: 4.8281738 | J14: 6.1504054 | K14: 2020
A15: 2021 | B15: 5.0153881 | C15: 4.4790193 | D15: 5.5175458 | E15: 4.3771954 | F15: 4.23304 | G15: 4.5130143 | H15: 6.5267469 | I15: 5.0680181 | J15: 7.8720787 | K15: 2021
A16: 2022 | B16: 6.5359477 | C16: 6.5789474 | D16: 6.4198268 | E16: 6.2607607 | F16: 6.0586735 | G16: 6.3531099 | H16: 7.2737446 | I16: 7.9726651 | J16: 6.5988452 | K16: 2022

Sheet 5
A1: معدل وفيات الأطفال (أقل من 5 سنوات) حسب الجنسية والنوع
A2: CHILD MORTALITY RATE (LESS THAN 5 YEARS) BY NATIONALITY AND GENDER
A3: 2013 - 2022
A4: Table No. (5) | K4: جدول رقم (5)
A5: Nationality & Gender Year | B5: المجموع Total | E5: غير قطريين Non-Qataris | H5: قطريون Qataris | K5: الجنسية والنوع السنة
B6: المجموع Total | C6: إناث Females | D6: ذكور Males | E6: المجموع Total | F6: إناث Females | G6: ذكور Males | H6: المجموع Total | I6: إناث Females | J6: ذكور Males
A7: 2013 | B7: 7.8 | C7: 6 | D7: 9.6 | E7: 6.9 | F7: 5 | G7: 9 | H7: 8.7 | I7: 6.6 | J7: 10.7 | K7: 2013
A8: 2014 | B8: 8.1 | C8: 7.7 | D8: 8.4 | E8: 7.9 | F8: 7.2 | G8: 8.7 | H8: 8.3 | I8: 8.8 | J8: 7.8 | K8: 2014
A9: 2015 | B9: 9.0151003 | C9: 8.7611436 | D9: 9.2578986 | E9: 8.5972358 | F9: 7.9029386 | G9: 9.2612306 | H9: 9.9466279 | I9: 10.675273 | J9: 9.2504744 | K9: 2015
A10: 2016 | B10: 7.1 | C10: 7 | D10: 7.2 | E10: 7 | F10: 7 | G10: 7.1 | H10: 7.2 | I10: 6.9 | J10: 7.5 | K10: 2016
A11: 2017 | B11: 6.6652333 | C11: 6.095322 | D11: 7.2083421 | E11: 6.6125639 | F11: 6.4555795 | G11: 6.7627168 | H11: 6.7975831 | I11: 5.1840332 | J11: 8.3210964 | K11: 2017
A12: 2018 | B12: 7.5884428 | C12: 7.4175428 | D12: 7.7557639 | E12: 7.4015593 | F12: 7.2767145 | G12: 7.5239398 | H12: 8.0738178 | I12: 7.7841204 | J12: 8.356546 | K12: 2018
A13: 2019 | B13: 5.9129945 | C13: 6.1 | D13: 5.7 | E13: 6.3 | F13: 7 | G13: 5.6696719 | H13: 4.8 | I13: 3.7837838 | J13: 5.8 | K13: 2019
A14: 2020 | B14: 6.0660371 | C14: 5.4171943 | D14: 6.6891892 | E14: 6.0686257 | F14: 5.5176284 | G14: 6.5936024 | H14: 6.0580445 | I14: 5.112184 | J14: 6.989097 | K14: 2020
A15: 2021 | B15: 6.4212166 | C15: 5.7362879 | D15: 7.0624586 | E15: 5.6741421 | F15: 5.5697895 | G15: 5.7724601 | H15: 8.1904274 | I15: 6.1349693 | J15: 10.086101 | K15: 2021
A16: 2022 | B16: 7.9799362 | C16: 8.5139319 | D16: 7.4649149 | E16: 7.7216048 | F16: 8.0782313 | G16: 7.3778051 | H16: 8.6725416 | I16: 9.6810934 | J16: 7.6986527 | K16: 2022

Sheet 6
A1: معدل وفيات الأطفال حسب الجنسية والنوع
A2: CHILD MORTALITY RATE BY NATIONALITY AND GENDER
A3: 2013 - 2022
A4: Table No. (6) | K4: جدول رقم (6)
A5: Nationality & Gender Year | B5: المجموع Total | E5: غير قطريين Non-Qataris | H5: قطريون Qataris | K5: الجنسية والنوع السنة
B6: المجموع Total | C6: إناث Females | D6: ذكور Males | E6: المجموع Total | F6: إناث Females | G6: ذكور Males | H6: المجموع Total | I6: إناث Females | J6: ذكور Males
A7: 2013 | B7: 1.1 | C7: 0.8 | D7: 1.5 | E7: 1 | F7: 0.6 | G7: 1.5 | H7: 1.3 | I7: 1.1 | J7: 1.5 | K7: 2013
A8: 2014 | B8: 1.6 | C8: 1 | D8: 2.1 | E8: 1.7 | F8: 1.2 | G8: 2.3 | H8: 1.3 | I8: 0.8 | J8: 1.7 | K8: 2014
A9: 2015 | B9: 1.6152055 | C9: 1.4601906 | D9: 1.7634093 | E9: 1.6323865 | F9: 1.2243989 | G9: 2.0225676 | H9: 1.5769044 | I9: 1.9860973 | J9: 1.1859583 | K9: 2015
A10: 2016 | B10: 1.1 | C10: 1 | D10: 1.2 | E10: 1.3 | F10: 1.2 | G10: 1.5 | H10: 0.5 | I10: 0.5 | J10: 0.5 | K10: 2016
A11: 2017 | B11: 1.2542106 | C11: 1.1015642 | D11: 1.3996781 | E11: 1.2523795 | F11: 1.0246952 | G11: 1.4701558 | H11: 1.2588117 | I11: 1.2960083 | J11: 1.2236907 | K11: 2017
A12: 2018 | B12: 1.4606862 | C12: 1.0082097 | D12: 1.9036875 | E12: 1.628343 | F12: 1.3955343 | G12: 1.8565566 | H12: 1.0252467 | I12: 0 | J12: 2.0258293 | K12: 2018
A13: 2019 | B13: 1.1262847 | C13: 1.1 | D13: 1.0992786 | E13: 1.0996366 | F13: 1.1814512 | G13: 1.0223999 | H13: 1.1 | I13: 0.8 | J13: 1.317176 | K13: 2019
A14: 2020 | B14: 0.79272076 | C14: 0.49247221 | D14: 1.0810811 | E14: 0.86694652 | F14: 0.56111475 | G14: 1.1583356 | H14: 0.56353903 | I14: 0.28401022 | J14: 0.83869164 | K14: 2020
A15: 2021 | B15: 1.4058285 | C15: 1.2572686 | D15: 1.5449128 | E15: 1.2969468 | F15: 1.3367495 | G15: 1.2594458 | H15: 1.6636806 | I15: 1.0669512 | J15: 2.2140221 | K15: 2021
A16: 2022 | B16: 1.4819881 | C16: 1.9349845 | D16: 1.0450881 | E16: 1.5130172 | F16: 2.0195578 | G16: 1.0246952 | H16: 1.398797 | I16: 1.7084282 | J16: 1.0998075 | K16: 2022

Sheet chapter2
A1: الباب الثاني: المواليد الأحياء
A2: CHAPTER TWO: LIVE BIRTHS

Sheet Map Births

Sheet B1
A1: الواقعات الحيوية المسجلة
A2: REGISTERED VITAL EVENTS
A3: 2013 - 2022
A4: Table No. (1) | E4: جدول رقم (1)
A5: Year | B5: الزيادة الطبيعية Natural Increase | C5: الوفيات Deaths | D5: المواليد أحياء Live Births | E5: السنة
A6: 2013 | B6: =D6-C6 -> 21575 | C6: 2133 | D6: 23708 | E6: 2013
A7: 2014 | B7: =D7-C7 -> 23077 | C7: 2366 | D7: 25443 | E7: 2014
A8: 2015 | B8: =D8-C8 -> 24305 | C8: 2317 | D8: 26622 | E8: 2015
A9: 2016 | B9: =D9-C9 -> 24469 | C9: 2347 | D9: 26816 | E9: 2016
A10: 2017 | B10: =D10-C10 -> 25612 | C10: 2294 | D10: 27906 | E10: 2017
A11: 2018 | B11: =D11-C11 -> 25684 | C11: 2385 | D11: 28069 | E11: 2018
A12: 2019 | B12: =D12-C12 -> 26212 | C12: 2200 | D12: 28412 | E12: 2019
A13: 2020 | B13: =D13-C13 -> 26203 | C13: 2811 | D13: 29014 | E13: 2020
A14: 2021 | B14: =D14-C14 -> 23478 | C14: 2841 | D14: 26319 | E14: 2021
A15: 2022 | B15: =D15-C15 -> 23524 | C15: 2792 | D15: 26316 | E15: 2022

Sheet B2
A1: المواليد الأحياء فاقدو القيد حسب الجنسية والنوع
A2: NON-REGISTERED LIVE BIRTHS BY NATIONALITY AND GENDER
A3: 2012 - 2021
A4: Table No. (2) | K4: جدول رقم (2)
A5: Nationality & Gender Year | B5: المجموع Total | E5: غير قطريين Non-Qataris | H5: قطريون Qataris | K5: الجنسية والنوع السنة
B6: المجموع Total | C6: إناث Females | D6: ذكور Males | E6: المجموع Total | F6: إناث Females | G6: ذكور Males | H6: المجموع Total | I6: إناث Females | J6: ذكور Males
A7: 2012 | B7: =H7+E7 -> 346 | C7: =I7+F7 -> 162 | D7: =J7+G7 -> 184 | E7: =G7+F7 -> 71 | F7: 41 | G7: 30 | H7: =J7+I7 -> 275 | I7: 121 | J7: 154 | K7: 2012
A8: 2013 | B8: =H8+E8 -> 323 | C8: =I8+F8 -> 154 | D8: =J8+G8 -> 169 | E8: =G8+F8 -> 100 | F8: 49 | G8: 51 | H8: =J8+I8 -> 223 | I8: 105 | J8: 118 | K8: 2013
A9: 2014 | B9: =H9+E9 -> 164 | C9: =I9+F9 -> 82 | D9: =J9+G9 -> 82 | E9: =G9+F9 -> 86 | F9: 44 | G9: 42 | H9: =J9+I9 -> 78 | I9: 38 | J9: 40 | K9: 2014
A10: 2015 | B10: =H10+E10 -> 104 | C10: =I10+F10 -> 56 | D10: =J10+G10 -> 48 | E10: =SUM(G10)+(F10) -> 56 | F10: 27 | G10: 29 | H10: =SUM(J10)+(I10) -> 48 | I10: 29 | J10: 19 | K10: 2015
A11: 2016 | B11: =H11+E11 -> 107 | C11: =I11+F11 -> 51 | D11: =J11+G11 -> 56 | E11: =SUM(G11)+(F11) -> 40 | F11: 15 | G11: 25 | H11: =SUM(J11)+(I11) -> 67 | I11: 36 | J11: 31 | K11: 2016
A12: 2017 | B12: =H12+E12 -> 158 | C12: =I12+F12 -> 80 | D12: =J12+G12 -> 78 | E12: =SUM(G12)+(F12) -> 62 | F12: 25 | G12: 37 | H12: =SUM(J12)+(I12) -> 96 | I12: 55 | J12: 41 | K12: 2017
A13: 2018 | B13: =H13+E13 -> 139 | C13: =I13+F13 -> 74 | D13: =J13+G13 -> 65 | E13: =SUM(G13)+(F13) -> 80 | F13: 42 | G13: 38 | H13: =SUM(J13)+(I13) -> 59 | I13: 32 | J13: 27 | K13: 2018
A14: 2019 | B14: =H14+E14 -> 127 | C14: =I14+F14 -> 73 | D14: =J14+G14 -> 54 | E14: =SUM(G14)+(F14) -> 44 | F14: 22 | G14: 22 | H14: =SUM(J14)+(I14) -> 83 | I14: 51 | J14: 32 | K14: 2019
A15: 2020 | B15: =H15+E15 -> 18 | C15: =I15+F15 -> 8 | D15: =J15+G15 -> 10 | E15: =SUM(G15)+(F15) -> 10 | F15: 4 | G15: 6 | H15: =SUM(J15)+(I15) -> 8 | I15: 4 | J15: 4 | K15: 2020
A16: 2021 | B16: =H16+E16 -> 11 | C16: =I16+F16 -> 6 | D16: =J16+G16 -> 5 | E16: =SUM(G16)+(F16) -> 8 | F16: 4 | G16: 4 | H16: =SUM(J16)+(I16) -> 3 | I16: 2 | J16: 1 | K16: 2021

Sheet B3
A1: *المواليد الأحياء المسجلون حسب الجنسية والنوع ونسبة النوع عند الميلاد
A2: REGISTERED LIVE BIRTHS BY NATIONALITY, GENDER AND GENDER RATIO AT BIRTH*
A3: 2013 - 2022
A4: Table No. (3) | N4: جدول رقم (3)
A5: Nationality & Gender Year | B5: المجموع Total | F5: غير قطريين Non-Qataris | J5: قطريون Qataris | N5: الجنسية والنوع السنة
B6: نسبة النوع Gender Ratio | C6: المجموع Total | D6: إناث Females | E6: ذكور Males | F6: نسبة النوع Gender Ratio | G6: المجموع Total | H6: إناث Females | I6: ذكور Males | J6: نسبة النوع Gender Ratio | K6: المجموع Total | L6: إناث Females | M6: ذكور Males
A7: 2013 | B7: =E7/D7*100 -> 104.64106 | C7: =E7+D7 -> 24031 | D7: =L7+H7 -> 11743 | E7: =M7+I7 -> 12288 | F7: =I7/H7*100 -> 104.17251 | G7: =I7+H7 -> 16001 | H7: 7837 | I7: 8164 | J7: =M7/L7*100 -> 105.58116 | K7: =M7+L7 -> 8030 | L7: 3906 | M7: 4124 | N7: 2013
A8: 2014 | B8: =E8/D8*100 -> 104.03984 | C8: =E8+D8 -> 25607 | D8: =L8+H8 -> 12550 | E8: =M8+I8 -> 13057 | F8: =I8/H8*100 -> 103.10875 | G8: =I8+H8 -> 17575 | H8: 8653 | I8: 8922 | J8: =M8/L8*100 -> 106.10726 | K8: =M8+L8 -> 8032 | L8: 3897 | M8: 4135 | N8: 2014
A9: 2015 | B9: =E9/D9*100 -> 104.51485 | C9: =E9+D9 -> 26726 | D9: =L9+H9 -> 13068 | E9: =M9+I9 -> 13658 | F9: =I9/H9*100 -> 104.57219 | G9: =I9+H9 -> 18434 | H9: 9011 | I9: 9423 | J9: =M9/L9*100 -> 104.38748 | K9: =M9+L9 -> 8292 | L9: 4057 | M9: 4235 | N9: 2015
A10: 2016 | B10: =E10/D10*100 -> 102.79452 | C10: =SUM(E10)+(D10) -> 26923 | D10: =L10+H10 -> 13276 | E10: =M10+I10 -> 13647 | F10: =I10/H10*100 -> 103.0264 | G10: =SUM(I10)+(H10) -> 18918 | H10: 9318 | I10: 9600 | J10: =M10/L10*100 -> 102.24861 | K10: =SUM(M10)+(L10) -> 8005 | L10: 3958 | M10: 4047 | N10: 2016
A11: 2017 | B11: =E11/D11*100 -> 104.89158 | C11: =SUM(E11)+(D11) -> 28064 | D11: =L11+H11 -> 13697 | E11: =M11+I11 -> 14367 | F11: =I11/H11*100 -> 104.66067 | G11: =SUM(I11)+(H11) -> 20024 | H11: 9784 | I11: 10240 | J11: =M11/L11*100 -> 105.46895 | K11: =SUM(M11)+(L11) -> 8040 | L11: 3913 | M11: 4127 | N11: 2017
A12: 2018 | B12: =E12/D12*100 -> 102.06304 | C12: =E12+D12 -> 28208 | D12: =L12+H12 -> 13960 | E12: =M12+I12 -> 14248 | F12: =I12/H12*100 -> 101.96546 | G12: =SUM(I12)+(H12) -> 20346 | H12: 10074 | I12: 10272 | J12: =M12/L12*100 -> 102.31601 | K12: =SUM(M12)+(L12) -> 7862 | L12: 3886 | M12: 3976 | N12: 2018
A13: 2019 | B13: =E13/D13*100 -> 104.87437 | C13: =SUM(E13)+(D13) -> 28539 | D13: =L13+H13 -> 13930 | E13: =M13+I13 -> 14609 | F13: =I13/H13*100 -> 105.91414 | G13: =SUM(I13)+(H13) -> 20960 | H13: 10179 | I13: 10781 | J13: =M13/L13*100 -> 102.05279 | K13: =SUM(M13)+(L13) -> 7579 | L13: 3751 | M13: 3828 | N13: 2019
A14: 2020 | B14: =E14/D14*100 -> 104.13444 | C14: =SUM(E14)+(D14) -> 29032 | D14: =L14+H14 -> 14222 | E14: =M14+I14 -> 14810 | F14: =I14/H14*100 -> 104.97336 | G14: =SUM(I14)+(H14) -> 21926 | H14: 10697 | I14: 11229 | J14: =M14/L14*100 -> 101.58865 | K14: =SUM(M14)+(L14) -> 7106 | L14: 3525 | M14: 3581 | N14: 2020
A15: 2021 | B15: =E15/D15*100 -> 106.80176 | C15: =SUM(E15)+(D15) -> 26330 | D15: =L15+H15 -> 12732 | E15: =M15+I15 -> 13598 | F15: =I15/H15*100 -> 106.13517 | G15: =SUM(I15)+(H15) -> 18513 | H15: 8981 | I15: 9532 | J15: =M15/L15*100 -> 108.39776 | K15: =SUM(M15)+(L15) -> 7817 | L15: 3751 | M15: 4066 | N15: 2021
A16: 2022 | B16: =E16/D16*100 -> 103.68421 | C16: =SUM(E16)+(D16) -> 26316 | D16: =L16+H16 -> 12920 | E16: =M16+I16 -> 13396 | F16: =I16/H16*100 -> 103.73087 | G16: =SUM(I16)+(H16) -> 19167 | H16: 9408 | I16: 9759 | J16: =M16/L16*100 -> 103.55923 | K16: =SUM(M16)+(L16) -> 7149 | L16: 3512 | M16: 3637 | N16: 2022
A17: * This table includes non-registered live births data. | L17: * تم اضافة بيانات فاقدي القيد على هذا الجدول.

Sheet B4
A1: المواليد الأحياء المسجلون حسب الجنسية والنوع
A2: REGISTERED LIVE BIRTHS BY NATIONALITY AND GENDER
A3: 2013 - 2022
A4: Table No. (4) | O4: جدول رقم (4)
A5: Nationality & Gender Year | B5: المجموع Total | G5: غير قطريين Non-Qataris | K5: قطريون Qataris | O5: الجنسية والنوع السنة
B6: المجموع Total | C6: نسبة الإناث Females % | D6: إناث Females | E6: نسبة الذكور Males % | F6: ذكور Males | G6: % | H6: المجموع Total | I6: إناث Females | J6: ذكور Males | K6: % | L6: المجموع Total | M6: إناث Females | N6: ذكور Males
A7: 2013 | B7: =SUM(L7+H7) -> 23708 | C7: =SUM(D7/B7*100) -> 48.882234 | D7: =SUM(M7+I7) -> 11589 | E7: =SUM(F7/B7*100) -> 51.117766 | F7: =SUM(N7+J7) -> 12119 | G7: =SUM(H7/B7*100) -> 67.070187 | H7: =SUM(I7:J7) -> 15901 | I7: 7788 | J7: 8113 | K7: =SUM(L7/B7*100) -> 32.929813 | L7: =SUM(M7:N7) -> 7807 | M7: 3801 | N7: 4006 | O7: 2013
A8: 2014 | B8: =SUM(L8+H8) -> 25443 | C8: =SUM(D8/B8*100) -> 49.003655 | D8: =SUM(M8+I8) -> 12468 | E8: =SUM(F8/B8*100) -> 50.996345 | F8: =SUM(N8+J8) -> 12975 | G8: =SUM(H8/B8*100) -> 68.737963 | H8: =SUM(I8:J8) -> 17489 | I8: 8609 | J8: 8880 | K8: =SUM(L8/B8*100) -> 31.262037 | L8: =SUM(M8:N8) -> 7954 | M8: 3859 | N8: 4095 | O8: 2014
A9: 2015 | B9: =SUM(L9+H9) -> 26622 | C9: =SUM(D9/B9*100) -> 48.876869 | D9: =SUM(M9+I9) -> 13012 | E9: =SUM(F9/B9*100) -> 51.123131 | F9: =SUM(N9+J9) -> 13610 | G9: =SUM(H9/B9*100) -> 69.03313 | H9: =SUM(I9:J9) -> 18378 | I9: 8984 | J9: 9394 | K9: =SUM(L9/B9*100) -> 30.96687 | L9: =SUM(M9:N9) -> 8244 | M9: 4028 | N9: 4216 | O9: 2015
A10: 2016 | B10: =SUM(L10+H10) -> 26816 | C10: =SUM(D10/B10*100) -> 49.317572 | D10: =SUM(M10+I10) -> 13225 | E10: =SUM(F10/B10*100) -> 50.682428 | F10: =SUM(N10+J10) -> 13591 | G10: =SUM(H10/B10*100) -> 70.39827 | H10: =SUM(I10:J10) -> 18878 | I10: 9303 | J10: 9575 | K10: =SUM(L10/B10*100) -> 29.60173 | L10: =SUM(M10:N10) -> 7938 | M10: 3922 | N10: 4016 | O10: 2016
A11: 2017 | B11: =SUM(L11+H11) -> 27906 | C11: =SUM(D11/B11*100) -> 48.795958 | D11: =SUM(M11+I11) -> 13617 | E11: =SUM(F11/B11*100) -> 51.204042 | F11: =SUM(N11+J11) -> 14289 | G11: =SUM(H11/B11*100) -> 71.533004 | H11: =SUM(I11:J11) -> 19962 | I11: 9759 | J11: 10203 | K11: =SUM(L11/B11*100) -> 28.466996 | L11: =SUM(M11:N11) -> 7944 | M11: 3858 | N11: 4086 | O11: 2017
A12: 2018 | B12: =SUM(L12+H12) -> 28069 | C12: =SUM(D12/B12*100) -> 49.470947 | D12: =SUM(M12+I12) -> 13886 | E12: =SUM(F12/B12*100) -> 50.529053 | F12: =SUM(N12+J12) -> 14183 | G12: =SUM(H12/B12*100) -> 72.200648 | H12: =SUM(I12:J12) -> 20266 | I12: 10032 | J12: 10234 | K12: =SUM(L12/B12*100) -> 27.799352 | L12: =SUM(M12:N12) -> 7803 | M12: 3854 | N12: 3949 | O12: 2018
A13: 2019 | B13: =SUM(L13+H13) -> 28412 | C13: =SUM(D13/B13*100) -> 48.771646 | D13: =SUM(M13+I13) -> 13857 | E13: =SUM(F13/B13*100) -> 51.228354 | F13: =SUM(N13+J13) -> 14555 | G13: =SUM(H13/B13*100) -> 73.616782 | H13: =SUM(I13:J13) -> 20916 | I13: 10157 | J13: 10759 | K13: =SUM(L13/B13*100) -> 26.383218 | L13: =SUM(M13:N13) -> 7496 | M13: 3700 | N13: 3796 | O13: 2019
A14: 2020 | B14: =SUM(L14+H14) -> 29014 | C14: =SUM(D14/B14*100) -> 48.990143 | D14: =SUM(M14+I14) -> 14214 | E14: =SUM(F14/B14*100) -> 51.009857 | F14: =SUM(N14+J14) -> 14800 | G14: =SUM(H14/B14*100) -> 75.535948 | H14: =SUM(I14:J14) -> 21916 | I14: 10693 | J14: 11223 | K14: =SUM(L14/B14*100) -> 24.464052 | L14: =SUM(M14:N14) -> 7098 | M14: 3521 | N14: 3577 | O14: 2020
A15: 2021 | B15: =SUM(L15+H15) -> 26319 | C15: =SUM(D15/B15*100) -> 48.352901 | D15: =SUM(M15+I15) -> 12726 | E15: =SUM(F15/B15*100) -> 51.647099 | F15: =SUM(N15+J15) -> 13593 | G15: =SUM(H15/B15*100) -> 70.310422 | H15: =SUM(I15:J15) -> 18505 | I15: 8977 | J15: 9528 | K15: =SUM(L15/B15*100) -> 29.689578 | L15: =SUM(M15:N15) -> 7814 | M15: 3749 | N15: 4065 | O15: 2021
A16: 2021 | B16: =SUM(L16+H16) -> 26316 | C16: =SUM(D16/B16*100) -> 49.095607 | D16: =SUM(M16+I16) -> 12920 | E16: =SUM(F16/B16*100) -> 50.904393 | F16: =SUM(N16+J16) -> 13396 | G16: =SUM(H16/B16*100) -> 72.834017 | H16: =SUM(I16:J16) -> 19167 | I16: 9408 | J16: 9759 | K16: =SUM(L16/B16*100) -> 27.165983 | L16: =SUM(M16:N16) -> 7149 | M16: 3512 | N16: 3637 | O16: 2022

Sheet B5
A1: المواليد الأحياء المسجلون حسب الجنسية والنوع والبلدية
A2: REGISTERED LIVE BIRTHS BY NATIONALITY, GENDER AND MUNICIPALITY
A3: 2022
A4: Table No. (5) | K4: جدول رقم (5)
A5: Nationality & Gender Year | B5: المجموع Total | E5: غير قطريين Non-Qataris | H5: قطريون Qataris | K5: الجنسية والنوع البلدية
B6: المجموع Total | C6: إناث Females | D6: ذكور Males | E6: المجموع Total | F6: إناث Females | G6: ذكور Males | H6: المجموع Total | I6: إناث Females | J6: ذكور Males
A7: Doha | B7: =D7+C7 -> 9875 | C7: =I7+F7 -> 4856 | D7: =J7+G7 -> 5019 | E7: =G7+F7 -> 8532 | F7: 4168 | G7: 4364 | H7: =J7+I7 -> 1343 | I7: 688 | J7: 655 | K7: الدوحة
A8: Al Rayyan | B8: =D8+C8 -> 9353 | C8: =I8+F8 -> 4545 | D8: =J8+G8 -> 4808 | E8: =G8+F8 -> 5977 | F8: 2919 | G8: 3058 | H8: =J8+I8 -> 3376 | I8: 1626 | J8: 1750 | K8: الريان
A9: Al Wakra | B9: =D9+C9 -> 2765 | C9: =I9+F9 -> 1370 | D9: =J9+G9 -> 1395 | E9: =G9+F9 -> 2173 | F9: 1086 | G9: 1087 | H9: =J9+I9 -> 592 | I9: 284 | J9: 308 | K9: الوكرة
A10: Umm Salal | B10: =D10+C10 -> 1487 | C10: =I10+F10 -> 771 | D10: =J10+G10 -> 716 | E10: =G10+F10 -> 883 | F10: 466 | G10: 417 | H10: =J10+I10 -> 604 | I10: 305 | J10: 299 | K10: ام صلال
A11: Al Khor | B11: =D11+C11 -> 804 | C11: =I11+F11 -> 388 | D11: =J11+G11 -> 416 | E11: =G11+F11 -> 620 | F11: 294 | G11: 326 | H11: =J11+I11 -> 184 | I11: 94 | J11: 90 | K11: الخور
A12: Al Shamal | B12: =D12+C12 -> 70 | C12: =I12+F12 -> 40 | D12: =J12+G12 -> 30 | E12: =G12+F12 -> 45 | F12: 27 | G12: 18 | H12: =J12+I12 -> 25 | I12: 13 | J12: 12 | K12: الشمال
A13: Al Dhaayen | B13: =D13+C13 -> 1332 | C13: =I13+F13 -> 654 | D13: =J13+G13 -> 678 | E13: =G13+F13 -> 665 | F13: 332 | G13: 333 | H13: =J13+I13 -> 667 | I13: 322 | J13: 345 | K13: الظعاين
A14: Al Sheehaniya | B14: =D14+C14 -> 485 | C14: =I14+F14 -> 219 | D14: =J14+G14 -> 266 | E14: =G14+F14 -> 272 | F14: 116 | G14: 156 | H14: =J14+I14 -> 213 | I14: 103 | J14: 110 | K14: الشيحانية
A15: Outside Qatar | B15: =D15+C15 -> 145 | C15: =I15+F15 -> 77 | D15: =J15+G15 -> 68 | E15: =G15+F15 -> 0 | F15: 0 | G15: 0 | H15: =J15+I15 -> 145 | I15: 77 | J15: 68 | K15: خارج قطر
A16: Total | B16: =SUM(B7:B15) -> 26316 | C16: =SUM(C7:C15) -> 12920 | D16: =SUM(D7:D15) -> 13396 | E16: =SUM(E7:E15) -> 19167 | F16: =SUM(F7:F15) -> 9408 | G16: =SUM(G7:G15) -> 9759 | H16: =SUM(H7:H15) -> 7149 | I16: =SUM(I7:I15) -> 3512 | J16: =SUM(J7:J15) -> 3637 | K16: المجموع

Sheet B6-1
A1: المواليد الأحياء المسجلون حسب الشهر والنوع والبلدية
A2: REGISTERED LIVE BIRTHS BY MONTH, GENDER AND MUNICIPALITY
A3: 2022
A4: QATARIS قطريون
A5: Table No. (6-1) | Q5: جدول رقم (6-1)
A6: Municipality | B6: Gender | C6: المجموع Total | D6: ديسمبر Dec. | E6: نوفمبر Nov. | F6: اكتوبر Oct. | G6: سبتمبر Sep. | H6: اغسطس Aug. | I6: يوليو Jul. | J6: يونيو Jun. | K6: مايو May. | L6: ابريل Apr. | M6: مارس Mar. | N6: فبراير Feb. | O6: يناير Jan. | P6: النوع | Q6: البلدية
A7: Doha | B7: Males | C7: =SUM(D7:O7) -> 655 | D7: 57 | E7: 59 | F7: 62 | G7: 50 | H7: 56 | I7: 48 | J7: 72 | K7: 49 | L7: 53 | M7: 55 | N7: 58 | O7: 36 | P7: ذكور | Q7: الدوحة
B8: Females | C8: =SUM(D8:O8) -> 688 | D8: 46 | E8: 75 | F8: 60 | G8: 60 | H8: 58 | I8: 67 | J8: 63 | K8: 53 | L8: 62 | M8: 52 | N8: 56 | O8: 36 | P8: إناث
B9: Total | C9: =SUM(D9:O9) -> 1343 | D9: =D7+D8 -> 103 | E9: =E7+E8 -> 134 | F9: =F7+F8 -> 122 | G9: =G7+G8 -> 110 | H9: =H7+H8 -> 114 | I9: =I7+I8 -> 115 | J9: =J7+J8 -> 135 | K9: =K7+K8 -> 102 | ... O9: =O7+O8 -> 72 | P9: المجموع
A10: Al Rayyan | B10: Males | C10: =SUM(D10:O10) -> 1750 | D10: 152 | E10: 162 | F10: 165 | G10: 137 | H10: 141 | I10: 149 | J10: 167 | K10: 154 | L10: 145 | M10: 126 | N10: 131 | O10: 121 | P10: ذكور | Q10: الريان
B11: Females | C11: =SUM(D11:O11) -> 1626 | D11: 147 | E11: 148 | F11: 164 | G11: 142 | H11: 139 | I11: 124 | J11: 139 | K11: 155 | L11: 126 | M11: 104 | N11: 110 | O11: 128 | P11: إناث
B12: Total | C12: =SUM(D12:O12) -> 3376 | D12: =SUM(D10:D11) -> 299 | E12: =E10+E11 -> 310 | F12: =F10+F11 -> 329 | G12: =G10+G11 -> 279 | H12: =H10+H11 -> 280 | I12: =I10+I11 -> 273 | J12: =J10+J11 -> 306 | K12: =K10+K11 -> 309 | L12: =L10+L11 -> 271 | ... O12: =O10+O11 -> 249 | P12: المجموع
A13: Al Wakra | B13: Males | C13: =SUM(D13:O13) -> 308 | D13: 25 | E13: 21 | F13: 28 | G13: 22 | H13: 27 | I13: 29 | J13: 25 | K13: 28 | L13: 21 | M13: 33 | N13: 22 | O13: 27 | P13: ذكور | Q13: الوكرة
B14: Females | C14: =SUM(D14:O14) -> 284 | D14: 21 | E14: 30 | F14: 29 | G14: 27 | H14: 14 | I14: 27 | J14: 19 | K14: 21 | L14: 24 | M14: 19 | N14: 25 | O14: 28 | P14: إناث
B15: Total | C15: =SUM(D15:O15) -> 592 | D15: =SUM(D13:D14) -> 46 | E15: =E13+E14 -> 51 | F15: =F13+F14 -> 57 | G15: =G13+G14 -> 49 | H15: =H13+H14 -> 41 | I15: =I13+I14 -> 56 | J15: =J13+J14 -> 44 | K15: =K13+K14 -> 49 | L15: =L13+L14 -> 45 | ... O15: =O13+O14 -> 55 | P15: المجموع
A16: Umm Salal | B16: Males | C16: =SUM(D16:O16) -> 299 | D16: 23 | E16: 17 | F16: 29 | G16: 24 | H16: 20 | I16: 21 | J16: 33 | K16: 24 | L16: 36 | M16: 19 | N16: 25 | O16: 28 | P16: ذكور | Q16: ام صلال
B17: Females | C17: =SUM(D17:O17) -> 305 | D17: 30 | E17: 26 | F17: 35 | G17: 21 | H17: 25 | I17: 26 | J17: 18 | K17: 29 | L17: 20 | M17: 28 | N17: 25 | O17: 22 | P17: إناث
B18: Total | C18: =SUM(D18:O18) -> 604 | D18: =D16+D17 -> 53 | E18: =E16+E17 -> 43 | F18: =F16+F17 -> 64 | G18: =G16+G17 -> 45 | H18: =H16+H17 -> 45 | I18: =I16+I17 -> 47 | J18: =J16+J17 -> 51 | K18: =K16+K17 -> 53 | ... O18: =O16+O17 -> 50 | P18: المجموع
A19: Al Khor | B19: Males | C19: =SUM(D19:O19) -> 90 | D19: 8 | E19: 6 | F19: 7 | G19: 11 | H19: 5 | I19: 8 | J19: 8 | K19: 6 | L19: 8 | M19: 10 | N19: 6 | O19: 7 | P19: ذكور | Q19: الخور
B20: Females | C20: =SUM(D20:O20) -> 94 | D20: 14 | E20: 8 | F20: 9 | G20: 5 | H20: 11 | I20: 4 | J20: 4 | K20: 8 | L20: 5 | M20: 9 | N20: 7 | O20: 10 | P20: إناث
B21: Total | C21: =SUM(D21:O21) -> 184 | D21: =D19+D20 -> 22 | E21: =E19+E20 -> 14 | F21: =F19+F20 -> 16 | G21: =G19+G20 -> 16 | H21: =H19+H20 -> 16 | I21: =I19+I20 -> 12 | J21: =J19+J20 -> 12 | K21: =K19+K20 -> 14 | ... O21: =O19+O20 -> 17 | P21: المجموع
A22: Al Shamal | B22: Males | C22: =SUM(D22:O22) -> 12 | D22: 0 | E22: 4 | F22: 1 | G22: 1 | H22: 0 | I22: 2 | J22: 0 | K22: 0 | L22: 1 | M22: 2 | N22: 0 | O22: 1 | P22: ذكور | Q22: الشمال
B23: Females | C23: =SUM(D23:O23) -> 13 | D23: 0 | E23: 2 | F23: 2 | G23: 1 | H23: 0 | I23: 2 | J23: 1 | K23: 2 | L23: 0 | M23: 1 | N23: 1 | O23: 1 | P23: إناث
B24: Total | C24: =SUM(D24:O24) -> 25 | D24: =D22+D23 -> 0 | E24: =E22+E23 -> 6 | F24: =F22+F23 -> 3 | G24: =G22+G23 -> 2 | H24: =H22+H23 -> 0 | I24: =I22+I23 -> 4 | J24: =J22+J23 -> 1 | K24: =K22+K23 -> 2 | ... O24: =O22+O23 -> 2 | P24: المجموع
A25: Al Dhaayen | B25: Males | C25: =SUM(D25:O25) -> 345 | D25: 27 | E25: 30 | F25: 30 | G25: 28 | H25: 30 | I25: 29 | J25: 30 | K25: 28 | L25: 29 | M25: 29 | N25: 28 | O25: 27 | P25: ذكور | Q25: الظعاين
B26: Females | C26: =SUM(D26:O26) -> 322 | D26: 25 | E26: 30 | F26: 27 | G26: 24 | H26: 26 | I26: 24 | J26: 25 | K26: 24 | L26: 29 | M26: 38 | N26: 24 | O26: 26 | P26: إناث
B27: Total | C27: =SUM(D27:O27) -> 667 | D27: =D25+D26 -> 52 | E27: =E25+E26 -> 60 | F27: =F25+F26 -> 57 | G27: =G25+G26 -> 52 | H27: =H25+H26 -> 56 | I27: =I25+I26 -> 53 | J27: =J25+J26 -> 55 | K27: =K25+K26 -> 52 | ... O27: =O25+O26 -> 53 | P27: المجموع
A28: Al Sheehaniya | B28: Males | C28: =SUM(D28:O28) -> 110 | D28: 10 | E28: 3 | F28: 11 | G28: 7 | H28: 14 | I28: 13 | J28: 9 | K28: 12 | L28: 7 | M28: 4 | N28: 11 | O28: 9 | P28: ذكور | Q28: الشيحانية
B29: Females | C29: =SUM(D29:O29) -> 103 | D29: 4 | E29: 5 | F29: 7 | G29: 6 | H29: 9 | I29: 12 | J29: 10 | K29: 13 | L29: 11 | M29: 7 | N29: 9 | O29: 10 | P29: إناث
B30: Total | C30: =SUM(D30:O30) -> 213 | D30: =D28+D29 -> 14 | E30: =E28+E29 -> 8 | F30: =F28+F29 -> 18 | G30: =G28+G29 -> 13 | H30: =H28+H29 -> 23 | I30: =I28+I29 -> 25 | J30: =J28+J29 -> 19 | K30: =K28+K29 -> 25 | ... O30: =O28+O29 -> 19 | P30: المجموع
A31: Outside Qatar | B31: Males | C31: =SUM(D31:O31) -> 68 | D31: 8 | E31: 2 | F31: 4 | G31: 9 | H31: 5 | I31: 4 | J31: 9 | K31: 9 | L31: 3 | M31: 6 | N31: 4 | O31: 5 | P31: ذكور | Q31: خارج قطر
B32: Females | C32: =SUM(D32:O32) -> 77 | D32: 3 | E32: 10 | F32: 6 | G32: 4 | H32: 13 | I32: 8 | J32: 4 | K32: 6 | L32: 7 | M32: 6 | N32: 3 | O32: 7 | P32: إناث
B33: Total | C33: =SUM(D33:O33) -> 145 | D33: =D31+D32 -> 11 | E33: =E31+E32 -> 12 | F33: =F31+F32 -> 10 | G33: =G31+G32 -> 13 | H33: =H31+H32 -> 18 | I33: =I31+I32 -> 12 | J33: =J31+J32 -> 13 | K33: =K31+K32 -> 15 | ... O33: =O31+O32 -> 12 | P33: المجموع
A34: Total | B34: Males | C34: =C7+C10+C13+C16+C19+C22+C25+C28+C31 -> 3637 | D34: =D7+D10+D13+D16+D19+D22+D25+D28+D31 -> 310 | E34: =E7+E10+E13+E16+E19+E22+E25+E28+E31 -> 304 | F34: =F7+F10+F13+F16+F19+F22+F25+F28+F31 -> 337 | G34: =G7+G10+G13+G16+G19+G22+G25+G28+G31 -> 289 | H34: =H7+H10+H13+H16+H19+H22+H25+H28+H31 -> 298 | I34: =I7+I10+I13+I16+I19+I22+I25+I28+I31 -> 303 | J34: =J7+J10+J13+J16+J19+J22+J25+J28+J31 -> 353 | ... O34: =O7+O10+O13+O16+O19+O22+O25+O28+O31 -> 261 | P34: ذكور | Q34: المجموع
B35: Females | C35: =C8+C11+C14+C17+C20+C23+C26+C29+C32 -> 3512 | D35: =D8+D11+D14+D17+D20+D23+D26+D29+D32 -> 290 | E35: =E8+E11+E14+E17+E20+E23+E26+E29+E32 -> 334 | F35: =F8+F11+F14+F17+F20+F23+F26+F29+F32 -> 339 | G35: =G8+G11+G14+G17+G20+G23+G26+G29+G32 -> 290 | H35: =H8+H11+H14+H17+H20+H23+H26+H29+H32 -> 295 | I35: =I8+I11+I14+I17+I20+I23+I26+I29+I32 -> 294 | J35: =J8+J11+J14+J17+J20+J23+J26+J29+J32 -> 283 | ... O35: =O8+O11+O14+O17+O20+O23+O26+O29+O32 -> 268 | P35: إناث
B36: Total | C36: =C34+C35 -> 7149 | D36: =D34+D35 -> 600 | E36: =E34+E35 -> 638 | F36: =F34+F35 -> 676 | G36: =G34+G35 -> 579 | H36: =H34+H35 -> 593 | I36: =I34+I35 -> 597 | J36: =J34+J35 -> 636 | ... O36: =O34+O35 -> 529 | P36: المجموع

Sheet B6-2
A1: المواليد الأحياء المسجلون حسب الشهر والنوع والبلدية
A2: REGISTERED LIVE BIRTHS BY MONTH, GENDER AND MUNICIPALITY
A3: 2022
A4: NON-QATARIS غير قطريين
A5: Table No. (6-2) | Q5: جدول رقم (6-2)
A6: Municipality | B6: Gender | C6: المجموع Total | D6: ديسمبر Dec. | E6: نوفمبر Nov. | F6: اكتوبر Oct. | G6: سبتمبر Sep. | H6: اغسطس Aug. | I6: يوليو Jul. | J6: يونيو Jun. | K6: مايو May. | L6: ابريل Apr. | M6: مارس Mar. | N6: فبراير Feb. | O6: يناير Jan. | P6: النوع | Q6: البلدية
A7: Doha | B7: Males | C7: =SUM(D7:O7) -> 4364 | D7: 428 | E7: 411 | F7: 375 | G7: 365 | H7: 381 | I7: 343 | J7: 365 | K7: 356 | L7: 366 | M7: 313 | N7: 326 | O7: 335 | P7: ذكور | Q7: الدوحة
B8: Females | C8: =SUM(D8:O8) -> 4168 | D8: 348 | E8: 368 | F8: 372 | G8: 348 | H8: 390 | I8: 368 | J8: 361 | K8: 343 | L8: 339 | M8: 288 | N8: 303 | O8: 340 | P8: إناث
B9: Total | C9: =SUM(D9:O9) -> 8532 | D9: =D7+D8 -> 776 | E9: =E7+E8 -> 779 | F9: =F7+F8 -> 747 | G9: =G7+G8 -> 713 | H9: =H7+H8 -> 771 | I9: =I7+I8 -> 711 | J9: =J7+J8 -> 726 | K9: =K7+K8 -> 699 | ... O9: =O7+O8 -> 675 | P9: المجموع
A10: Al Rayyan | B10: Males | C10: =SUM(D10:O10) -> 3058 | D10: 248 | E10: 258 | F10: 285 | G10: 265 | H10: 282 | I10: 238 | J10: 249 | K10: 251 | L10: 265 | M10: 264 | N10: 231 | O10: 222 | P10: ذكور | Q10: الريان
B11: Females | C11: =SUM(D11:O11) -> 2919 | D11: 266 | E11: 285 | F11: 265 | G11: 265 | H11: 245 | I11: 261 | J11: 209 | K11: 263 | L11: 227 | M11: 210 | N11: 217 | O11: 206 | P11: إناث
B12: Total | C12: =SUM(D12:O12) -> 5977 | D12: =D10+D11 -> 514 | E12: =E10+E11 -> 543 | F12: =F10+F11 -> 550 | G12: =G10+G11 -> 530 | H12: =H10+H11 -> 527 | I12: =I10+I11 -> 499 | J12: =J10+J11 -> 458 | K12: =K10+K11 -> 514 | ... O12: =O10+O11 -> 428 | P12: المجموع
A13: Al Wakra | B13: Males | C13: =SUM(D13:O13) -> 1087 | D13: 94 | E13: 105 | F13: 91 | G13: 100 | H13: 98 | I13: 93 | J13: 100 | K13: 81 | L13: 83 | M13: 79 | N13: 91 | O13: 72 | P13: ذكور | Q13: الوكرة
B14: Females | C14: =SUM(D14:O14) -> 1086 | D14: 105 | E14: 108 | F14: 81 | G14: 96 | H14: 86 | I14: 87 | J14: 82 | K14: 115 | L14: 72 | M14: 93 | N14: 71 | O14: 90 | P14: إناث
B15: Total | C15: =SUM(D15:O15) -> 2173 | D15: =D13+D14 -> 199 | E15: =E13+E14 -> 213 | F15: =F13+F14 -> 172 | G15: =G13+G14 -> 196 | H15: =H13+H14 -> 184 | I15: =I13+I14 -> 180 | J15: =J13+J14 -> 182 | K15: =K13+K14 -> 196 | ... O15: =O13+O14 -> 162 | P15: المجموع
A16: Umm Salal | B16: Males | C16: =SUM(D16:O16) -> 417 | D16: 43 | E16: 37 | F16: 26 | G16: 34 | H16: 41 | I16: 47 | J16: 35 | K16: 28 | L16: 35 | M16: 35 | N16: 28 | O16: 28 | P16: ذكور | Q16: ام صلال
B17: Females | C17: =SUM(D17:O17) -> 466 | D17: 56 | E17: 46 | F17: 31 | G17: 44 | H17: 39 | I17: 40 | J17: 43 | K17: 32 | L17: 34 | M17: 38 | N17: 28 | O17: 35 | P17: إناث
B18: Total | C18: =SUM(D18:O18) -> 883 | D18: =D16+D17 -> 99 | E18: =E16+E17 -> 83 | F18: =F16+F17 -> 57 | G18: =G16+G17 -> 78 | H18: =H16+H17 -> 80 | I18: =I16+I17 -> 87 | J18: =J16+J17 -> 78 | K18: =K16+K17 -> 60 | ... O18: =O16+O17 -> 63 | P18: المجموع
A19: Al Khor | B19: Males | C19: =SUM(D19:O19) -> 326 | D19: 33 | E19: 27 | F19: 28 | G19: 31 | H19: 37 | I19: 29 | J19: 29 | K19: 25 | L19: 28 | M19: 23 | N19: 16 | O19: 20 | P19: ذكور | Q19: الخور
B20: Females | C20: =SUM(D20:O20) -> 294 | D20: 26 | E20: 26 | F20: 26 | G20: 29 | H20: 29 | I20: 22 | J20: 16 | K20: 27 | L20: 24 | M20: 29 | N20: 16 | O20: 24 | P20: إناث
B21: Total | C21: =SUM(D21:O21) -> 620 | D21: =D19+D20 -> 59 | E21: =E19+E20 -> 53 | F21: =F19+F20 -> 54 | G21: =G19+G20 -> 60 | H21: =H19+H20 -> 66 | I21: =I19+I20 -> 51 | J21: =J19+J20 -> 45 | K21: =K19+K20 -> 52 | ... O21: =O19+O20 -> 44 | P21: المجموع
A22: Al Shamal | B22: Males | C22: =SUM(D22:O22) -> 18 | D22: 2 | E22: 0 | F22: 0 | G22: 0 | H22: 2 | I22: 2 | J22: 2 | K22: 2 | L22: 1 | M22: 2 | N22: 3 | O22: 2 | P22: ذكور | Q22: الشمال
B23: Females | C23: =SUM(D23:O23) -> 27 | D23: 2 | E23: 3 | F23: 2 | G23: 2 | H23: 1 | I23: 4 | J23: 4 | K23: 2 | L23: 5 | M23: 1 | N23: 0 | O23: 1 | P23: إناث
B24: Total | C24: =SUM(D24:O24) -> 45 | D24: =D22+D23 -> 4 | E24: =E22+E23 -> 3 | F24: =F22+F23 -> 2 | G24: =G22+G23 -> 2 | H24: =H22+H23 -> 3 | I24: =I22+I23 -> 6 | J24: =J22+J23 -> 6 | K24: =K22+K23 -> 4 | ... O24: =O22+O23 -> 3 | P24: المجموع
A25: Al Dhaayen | B25: Males | C25: =SUM(D25:O25) -> 333 | D25: 27 | E25: 34 | F25: 25 | G25: 31 | H25: 26 | I25: 32 | J25: 25 | K25: 23 | L25: 32 | M25: 25 | N25: 21 | O25: 32 | P25: ذكور | Q25: الظعاين
B26: Females | C26: =SUM(D26:O26) -> 332 | D26: 19 | E26: 27 | F26: 32 | G26: 30 | H26: 23 | I26: 29 | J26: 33 | K26: 33 | L26: 20 | M26: 34 | N26: 27 | O26: 25 | P26: إناث
B27: Total | C27: =SUM(D27:O27) -> 665 | D27: =D25+D26 -> 46 | E27: =E25+E26 -> 61 | F27: =F25+F26 -> 57 | G27: =G25+G26 -> 61 | H27: =H25+H26 -> 49 | I27: =I25+I26 -> 61 | J27: =J25+J26 -> 58 | K27: =K25+K26 -> 56 | ... O27: =O25+O26 -> 57 | P27: المجموع
A28: Al Sheehaniya | B28: Males | C28: =SUM(D28:O28) -> 156 | D28: 9 | E28: 15 | F28: 16 | G28: 16 | H28: 19 | I28: 16 | J28: 10 | K28: 12 | L28: 14 | M28: 16 | N28: 6 | O28: 7 | P28: ذكور | Q28: الشيحانية
B29: Females | C29: =SUM(D29:O29) -> 116 | D29: 10 | E29: 10 | F29: 10 | G29: 9 | H29: 12 | I29: 6 | J29: 7 | K29: 15 | L29: 11 | M29: 8 | N29: 8 | O29: 10 | P29: إناث
B30: Total | C30: =SUM(D30:O30) -> 272 | D30: =D28+D29 -> 19 | E30: =E28+E29 -> 25 | F30: =F28+F29 -> 26 | G30: =G28+G29 -> 25 | H30: =H28+H29 -> 31 | I30: =I28+I29 -> 22 | J30: =J28+J29 -> 17 | K30: =K28+K29 -> 27 | ... O30: =O28+O29 -> 17 | P30: المجموع
A31: Outside Qatar | B31: Males | C31: =SUM(D31:O31) -> 0 | D31: 0 | E31: 0 | F31: 0 | G31: 0 | H31: 0 | I31: 0 | J31: 0 | K31: 0 | L31: 0 | M31: 0 | N31: 0 | O31: 0 | P31: ذكور | Q31: خارج قطر
B32: Females | C32: =SUM(D32:O32) -> 0 | D32: 0 | E32: 0 | F32: 0 | G32: 0 | H32: 0 | I32: 0 | J32: 0 | K32: 0 | L32: 0 | M32: 0 | N32: 0 | O32: 0 | P32: إناث
B33: Total | C33: =SUM(D33:O33) -> 0 | D33: =D31+D32 -> 0 | E33: =E31+E32 -> 0 | F33: =F31+F32 -> 0 | G33: =G31+G32 -> 0 | H33: =H31+H32 -> 0 | I33: =I31+I32 -> 0 | J33: =J31+J32 -> 0 | K33: =K31+K32 -> 0 | ... O33: =O31+O32 -> 0 | P33: المجموع
A34: Total | B34: Males | C34: =C7+C10+C13+C16+C19+C22+C25+C28+C31 -> 9759 | D34: =D7+D10+D13+D16+D19+D22+D25+D28+D31 -> 884 | E34: =E7+E10+E13+E16+E19+E22+E25+E28+E31 -> 887 | F34: =F7+F10+F13+F16+F19+F22+F25+F28+F31 -> 846 | G34: =G7+G10+G13+G16+G19+G22+G25+G28+G31 -> 842 | H34: =H7+H10+H13+H16+H19+H22+H25+H28+H31 -> 886 | I34: =I7+I10+I13+I16+I19+I22+I25+I28+I31 -> 800 | J34: =J7+J10+J13+J16+J19+J22+J25+J28+J31 -> 815 | ... O34: =O7+O10+O13+O16+O19+O22+O25+O28+O31 -> 718 | P34: ذكور | Q34: المجموع
B35: Females | C35: =C8+C11+C14+C17+C20+C23+C26+C29+C32 -> 9408 | D35: =D8+D11+D14+D17+D20+D23+D26+D29+D32 -> 832 | E35: =E8+E11+E14+E17+E20+E23+E26+E29+E32 -> 873 | F35: =F8+F11+F14+F17+F20+F23+F26+F29+F32 -> 819 | G35: =G8+G11+G14+G17+G20+G23+G26+G29+G32 -> 823 | H35: =H8+H11+H14+H17+H20+H23+H26+H29+H32 -> 825 | I35: =I8+I11+I14+I17+I20+I23+I26+I29+I32 -> 817 | J35: =J8+J11+J14+J17+J20+J23+J26+J29+J32 -> 755 | ... O35: =O8+O11+O14+O17+O20+O23+O26+O29+O32 -> 731 | P35: إناث
B36: Total | C36: =C34+C35 -> 19167 | D36: =D34+D35 -> 1716 | E36: =E34+E35 -> 1760 | F36: =F34+F35 -> 1665 | G36: =G34+G35 -> 1665 | H36: =H34+H35 -> 1711 | I36: =I34+I35 -> 1617 | J36: =J34+J35 -> 1570 | ... O36: =O34+O35 -> 1449 | P36: المجموع

Sheet B6-3
A1: المواليد الأحياء المسجلون حسب الشهر والنوع والبلدية
A2: REGISTERED LIVE BIRTHS BY MONTH, GENDER AND MUNICIPALITY
A3: 2022
A4: TOTAL المجموع
A5: Table No. (6-3) | Q5: جدول رقم (6-3)
A6: Municipality | B6: Gender | C6: المجموع Total | D6: ديسمبر Dec. | E6: نوفمبر Nov. | F6: اكتوبر Oct. | G6: سبتمبر Sep. | H6: اغسطس Aug. | I6: يوليو Jul. | J6: يونيو Jun. | K6: مايو May. | L6: ابريل Apr. | M6: مارس Mar. | N6: فبراير Feb. | O6: يناير Jan. | P6: النوع | Q6: البلدية
A7: Doha | B7: Males | C7: =SUM(D7:O7) -> 5019 | D7: ='B6-1'!D7+'B6-2'!D7 -> 485 | E7: ='B6-1'!E7+'B6-2'!E7 -> 470 | F7: ='B6-1'!F7+'B6-2'!F7 -> 437 | G7: ='B6-1'!G7+'B6-2'!G7 -> 415 | H7: ='B6-1'!H7+'B6-2'!H7 -> 437 | I7: ='B6-1'!I7+'B6-2'!I7 -> 391 | J7: ='B6-1'!J7+'B6-2'!J7 -> 437 | K7: ='B6-1'!K7+'B6-2'!K7 -> 405 | ... O7: ='B6-1'!O7+'B6-2'!O7 -> 371 | P7: ذكور | Q7: الدوحة
B8: Females | C8: =SUM(D8:O8) -> 4856 | D8: ='B6-1'!D8+'B6-2'!D8 -> 394 | E8: ='B6-1'!E8+'B6-2'!E8 -> 443 | F8: ='B6-1'!F8+'B6-2'!F8 -> 432 | G8: ='B6-1'!G8+'B6-2'!G8 -> 408 | H8: ='B6-1'!H8+'B6-2'!H8 -> 448 | I8: ='B6-1'!I8+'B6-2'!I8 -> 435 | J8: ='B6-1'!J8+'B6-2'!J8 -> 424 | K8: ='B6-1'!K8+'B6-2'!K8 -> 396 | ... O8: ='B6-1'!O8+'B6-2'!O8 -> 376 | P8: إناث
B9: Total | C9: =SUM(D9:O9) -> 9875 | D9: ='B6-1'!D9+'B6-2'!D9 -> 879 | E9: ='B6-1'!E9+'B6-2'!E9 -> 913 | F9: ='B6-1'!F9+'B6-2'!F9 -> 869 | G9: ='B6-1'!G9+'B6-2'!G9 -> 823 | H9: ='B6-1'!H9+'B6-2'!H9 -> 885 | I9: ='B6-1'!I9+'B6-2'!I9 -> 826 | J9: ='B6-1'!J9+'B6-2'!J9 -> 861 | K9: ='B6-1'!K9+'B6-2'!K9 -> 801 | ... O9: ='B6-1'!O9+'B6-2'!O9 -> 747 | P9: المجموع
A10: Al Rayyan | B10: Males | C10: =SUM(D10:O10) -> 4808 | D10: ='B6-1'!D10+'B6-2'!D10 -> 400 | E10: ='B6-1'!E10+'B6-2'!E10 -> 420 | F10: ='B6-1'!F10+'B6-2'!F10 -> 450 | G10: ='B6-1'!G10+'B6-2'!G10 -> 402 | H10: ='B6-1'!H10+'B6-2'!H10 -> 423 | I10: ='B6-1'!I10+'B6-2'!I10 -> 387 | J10: ='B6-1'!J10+'B6-2'!J10 -> 416 | K10: ='B6-1'!K10+'B6-2'!K10 -> 405 | ... O10: ='B6-1'!O10+'B6-2'!O10 -> 343 | P10: ذكور | Q10: الريان
B11: Females | C11: =SUM(D11:O11) -> 4545 | D11: ='B6-1'!D11+'B6-2'!D11 -> 413 | E11: ='B6-1'!E11+'B6-2'!E11 -> 433 | F11: ='B6-1'!F11+'B6-2'!F11 -> 429 | G11: ='B6-1'!G11+'B6-2'!G11 -> 407 | H11: ='B6-1'!H11+'B6-2'!H11 -> 384 | I11: ='B6-1'!I11+'B6-2'!I11 -> 385 | J11: ='B6-1'!J11+'B6-2'!J11 -> 348 | K11: ='B6-1'!K11+'B6-2'!K11 -> 418 | ... O11: ='B6-1'!O11+'B6-2'!O11 -> 334 | P11: إناث
B12: Total | C12: =SUM(D12:O12) -> 9353 | D12: ='B6-1'!D12+'B6-2'!D12 -> 813 | E12: ='B6-1'!E12+'B6-2'!E12 -> 853 | F12: ='B6-1'!F12+'B6-2'!F12 -> 879 | G12: ='B6-1'!G12+'B6-2'!G12 -> 809 | H12: ='B6-1'!H12+'B6-2'!H12 -> 807 | I12: ='B6-1'!I12+'B6-2'!I12 -> 772 | J12: ='B6-1'!J12+'B6-2'!J12 -> 764 | K12: ='B6-1'!K12+'B6-2'!K12 -> 823 | ... O12: ='B6-1'!O12+'B6-2'!O12 -> 677 | P12: المجموع
A13: Al Wakra | B13: Males | C13: =SUM(D13:O13) -> 1395 | D13: ='B6-1'!D13+'B6-2'!D13 -> 119 | E13: ='B6-1'!E13+'B6-2'!E13 -> 126 | F13: ='B6-1'!F13+'B6-2'!F13 -> 119 | G13: ='B6-1'!G13+'B6-2'!G13 -> 122 | H13: ='B6-1'!H13+'B6-2'!H13 -> 125 | I13: ='B6-1'!I13+'B6-2'!I13 -> 122 | J13: ='B6-1'!J13+'B6-2'!J13 -> 125 | K13: ='B6-1'!K13+'B6-2'!K13 -> 109 | ... O13: ='B6-1'!O13+'B6-2'!O13 -> 99 | P13: ذكور | Q13: الوكرة
B14: Females | C14: =SUM(D14:O14) -> 1370 | D14: ='B6-1'!D14+'B6-2'!D14 -> 126 | E14: ='B6-1'!E14+'B6-2'!E14 -> 138 | F14: ='B6-1'!F14+'B6-2'!F14 -> 110 | G14: ='B6-1'!G14+'B6-2'!G14 -> 123 | H14: ='B6-1'!H14+'B6-2'!H14 -> 100 | I14: ='B6-1'!I14+'B6-2'!I14 -> 114 | J14: ='B6-1'!J14+'B6-2'!J14 -> 101 | K14: ='B6-1'!K14+'B6-2'!K14 -> 136 | ... O14: ='B6-1'!O14+'B6-2'!O14 -> 118 | P14: إناث
B15: Total | C15: =SUM(D15:O15) -> 2765 | D15: ='B6-1'!D15+'B6-2'!D15 -> 245 | E15: ='B6-1'!E15+'B6-2'!E15 -> 264 | F15: ='B6-1'!F15+'B6-2'!F15 -> 229 | G15: ='B6-1'!G15+'B6-2'!G15 -> 245 | H15: ='B6-1'!H15+'B6-2'!H15 -> 225 | I15: ='B6-1'!I15+'B6-2'!I15 -> 236 | J15: ='B6-1'!J15+'B6-2'!J15 -> 226 | K15: ='B6-1'!K15+'B6-2'!K15 -> 245 | ... O15: ='B6-1'!O15+'B6-2'!O15 -> 217 | P15: المجموع
A16: Umm Salal | B16: Males | C16: =SUM(D16:O16) -> 716 | D16: ='B6-1'!D16+'B6-2'!D16 -> 66 | E16: ='B6-1'!E16+'B6-2'!E16 -> 54 | F16: ='B6-1'!F16+'B6-2'!F16 -> 55 | G16: ='B6-1'!G16+'B6-2'!G16 -> 58 | H16: ='B6-1'!H16+'B6-2'!H16 -> 61 | I16: ='B6-1'!I16+'B6-2'!I16 -> 68 | J16: ='B6-1'!J16+'B6-2'!J16 -> 68 | K16: ='B6-1'!K16+'B6-2'!K16 -> 52 | ... O16: ='B6-1'!O16+'B6-2'!O16 -> 56 | P16: ذكور | Q16: ام صلال
B17: Females | C17: =SUM(D17:O17) -> 771 | D17: ='B6-1'!D17+'B6-2'!D17 -> 86 | E17: ='B6-1'!E17+'B6-2'!E17 -> 72 | F17: ='B6-1'!F17+'B6-2'!F17 -> 66 | G17: ='B6-1'!G17+'B6-2'!G17 -> 65 | H17: ='B6-1'!H17+'B6-2'!H17 -> 64 | I17: ='B6-1'!I17+'B6-2'!I17 -> 66 | J17: ='B6-1'!J17+'B6-2'!J17 -> 61 | K17: ='B6-1'!K17+'B6-2'!K17 -> 61 | ... O17: ='B6-1'!O17+'B6-2'!O17 -> 57 | P17: إناث
B18: Total | C18: =SUM(D18:O18) -> 1487 | D18: ='B6-1'!D18+'B6-2'!D18 -> 152 | E18: ='B6-1'!E18+'B6-2'!E18 -> 126 | F18: ='B6-1'!F18+'B6-2'!F18 -> 121 | G18: ='B6-1'!G18+'B6-2'!G18 -> 123 | H18: ='B6-1'!H18+'B6-2'!H18 -> 125 | I18: ='B6-1'!I18+'B6-2'!I18 -> 134 | J18: ='B6-1'!J18+'B6-2'!J18 -> 129 | K18: ='B6-1'!K18+'B6-2'!K18 -> 113 | ... O18: ='B6-1'!O18+'B6-2'!O18 -> 113 | P18: المجموع
A19: Al Khor | B19: Males | C19: =SUM(D19:O19) -> 416 | D19: ='B6-1'!D19+'B6-2'!D19 -> 41 | E19: ='B6-1'!E19+'B6-2'!E19 -> 33 | F19: ='B6-1'!F19+'B6-2'!F19 -> 35 | G19: ='B6-1'!G19+'B6-2'!G19 -> 42 | H19: ='B6-1'!H19+'B6-2'!H19 -> 42 | I19: ='B6-1'!I19+'B6-2'!I19 -> 37 | J19: ='B6-1'!J19+'B6-2'!J19 -> 37 | K19: ='B6-1'!K19+'B6-2'!K19 -> 31 | ... O19: ='B6-1'!O19+'B6-2'!O19 -> 27 | P19: ذكور | Q19: الخور
B20: Females | C20: =SUM(D20:O20) -> 388 | D20: ='B6-1'!D20+'B6-2'!D20 -> 40 | E20: ='B6-1'!E20+'B6-2'!E20 -> 34 | F20: ='B6-1'!F20+'B6-2'!F20 -> 35 | G20: ='B6-1'!G20+'B6-2'!G20 -> 34 | H20: ='B6-1'!H20+'B6-2'!H20 -> 40 | I20: ='B6-1'!I20+'B6-2'!I20 -> 26 | J20: ='B6-1'!J20+'B6-2'!J20 -> 20 | K20: ='B6-1'!K20+'B6-2'!K20 -> 35 | ... O20: ='B6-1'!O20+'B6-2'!O20 -> 34 | P20: إناث
B21: Total | C21: =SUM(D21:O21) -> 804 | D21: ='B6-1'!D21+'B6-2'!D21 -> 81 | E21: ='B6-1'!E21+'B6-2'!E21 -> 67 | F21: ='B6-1'!F21+'B6-2'!F21 -> 70 | G21: ='B6-1'!G21+'B6-2'!G21 -> 76 | H21: ='B6-1'!H21+'B6-2'!H21 -> 82 | I21: ='B6-1'!I21+'B6-2'!I21 -> 63 | J21: ='B6-1'!J21+'B6-2'!J21 -> 57 | K21: ='B6-1'!K21+'B6-2'!K21 -> 66 | ... O21: ='B6-1'!O21+'B6-2'!O21 -> 61 | P21: المجموع
A22: Al Shamal | B22: Males | C22: =SUM(D22:O22) -> 30 | D22: ='B6-1'!D22+'B6-2'!D22 -> 2 | E22: ='B6-1'!E22+'B6-2'!E22 -> 4 | F22: ='B6-1'!F22+'B6-2'!F22 -> 1 | G22: ='B6-1'!G22+'B6-2'!G22 -> 1 | H22: ='B6-1'!H22+'B6-2'!H22 -> 2 | I22: ='B6-1'!I22+'B6-2'!I22 -> 4 | J22: ='B6-1'!J22+'B6-2'!J22 -> 2 | K22: ='B6-1'!K22+'B6-2'!K22 -> 2 | ... O22: ='B6-1'!O22+'B6-2'!O22 -> 3 | P22: ذكور | Q22: الشمال
B23: Females | C23: =SUM(D23:O23) -> 40 | D23: ='B6-1'!D23+'B6-2'!D23 -> 2 | E23: ='B6-1'!E23+'B6-2'!E23 -> 5 | F23: ='B6-1'!F23+'B6-2'!F23 -> 4 | G23: ='B6-1'!G23+'B6-2'!G23 -> 3 | H23: ='B6-1'!H23+'B6-2'!H23 -> 1 | I23: ='B6-1'!I23+'B6-2'!I23 -> 6 | J23: ='B6-1'!J23+'B6-2'!J23 -> 5 | K23: ='B6-1'!K23+'B6-2'!K23 -> 4 | ... O23: ='B6-1'!O23+'B6-2'!O23 -> 2 | P23: إناث
B24: Total | C24: =SUM(D24:O24) -> 70 | D24: ='B6-1'!D24+'B6-2'!D24 -> 4 | E24: ='B6-1'!E24+'B6-2'!E24 -> 9 | F24: ='B6-1'!F24+'B6-2'!F24 -> 5 | G24: ='B6-1'!G24+'B6-2'!G24 -> 4 | H24: ='B6-1'!H24+'B6-2'!H24 -> 3 | I24: ='B6-1'!I24+'B6-2'!I24 -> 10 | J24: ='B6-1'!J24+'B6-2'!J24 -> 7 | K24: ='B6-1'!K24+'B6-2'!K24 -> 6 | ... O24: ='B6-1'!O24+'B6-2'!O24 -> 5 | P24: المجموع
A25: Al Dhaayen | B25: Males | C25: =SUM(D25:O25) -> 678 | D25: ='B6-1'!D25+'B6-2'!D25 -> 54 | E25: ='B6-1'!E25+'B6-2'!E25 -> 64 | F25: ='B6-1'!F25+'B6-2'!F25 -> 55 | G25: ='B6-1'!G25+'B6-2'!G25 -> 59 | H25: ='B6-1'!H25+'B6-2'!H25 -> 56 | I25: ='B6-1'!I25+'B6-2'!I25 -> 61 | J25: ='B6-1'!J25+'B6-2'!J25 -> 55 | K25: ='B6-1'!K25+'B6-2'!K25 -> 51 | ... O25: ='B6-1'!O25+'B6-2'!O25 -> 59 | P25: ذكور | Q25: الظعاين
B26: Females | C26: =SUM(D26:O26) -> 654 | D26: ='B6-1'!D26+'B6-2'!D26 -> 44 | E26: ='B6-1'!E26+'B6-2'!E26 -> 57 | F26: ='B6-1'!F26+'B6-2'!F26 -> 59 | G26: ='B6-1'!G26+'B6-2'!G26 -> 54 | H26: ='B6-1'!H26+'B6-2'!H26 -> 49 | I26: ='B6-1'!I26+'B6-2'!I26 -> 53 | J26: ='B6-1'!J26+'B6-2'!J26 -> 58 | K26: ='B6-1'!K26+'B6-2'!K26 -> 57 | ... O26: ='B6-1'!O26+'B6-2'!O26 -> 51 | P26: إناث
B27: Total | C27: =SUM(D27:O27) -> 1332 | D27: ='B6-1'!D27+'B6-2'!D27 -> 98 | E27: ='B6-1'!E27+'B6-2'!E27 -> 121 | F27: ='B6-1'!F27+'B6-2'!F27 -> 114 | G27: ='B6-1'!G27+'B6-2'!G27 -> 113 | H27: ='B6-1'!H27+'B6-2'!H27 -> 105 | I27: ='B6-1'!I27+'B6-2'!I27 -> 114 | J27: ='B6-1'!J27+'B6-2'!J27 -> 113 | K27: ='B6-1'!K27+'B6-2'!K27 -> 108 | ... O27: ='B6-1'!O27+'B6-2'!O27 -> 110 | P27: المجموع
A28: Al Sheehaniya | B28: Males | C28: =SUM(D28:O28) -> 266 | D28: ='B6-1'!D28+'B6-2'!D28 -> 19 | E28: ='B6-1'!E28+'B6-2'!E28 -> 18 | F28: ='B6-1'!F28+'B6-2'!F28 -> 27 | G28: ='B6-1'!G28+'B6-2'!G28 -> 23 | H28: ='B6-1'!H28+'B6-2'!H28 -> 33 | I28: ='B6-1'!I28+'B6-2'!I28 -> 29 | J28: ='B6-1'!J28+'B6-2'!J28 -> 19 | K28: ='B6-1'!K28+'B6-2'!K28 -> 24 | ... O28: ='B6-1'!O28+'B6-2'!O28 -> 16 | P28: ذكور | Q28: الشيحانية
B29: Females | C29: =SUM(D29:O29) -> 219 | D29: ='B6-1'!D29+'B6-2'!D29 -> 14 | E29: ='B6-1'!E29+'B6-2'!E29 -> 15 | F29: ='B6-1'!F29+'B6-2'!F29 -> 17 | G29: ='B6-1'!G29+'B6-2'!G29 -> 15 | H29: ='B6-1'!H29+'B6-2'!H29 -> 21 | I29: ='B6-1'!I29+'B6-2'!I29 -> 18 | J29: ='B6-1'!J29+'B6-2'!J29 -> 17 | K29: ='B6-1'!K29+'B6-2'!K29 -> 28 | ... O29: ='B6-1'!O29+'B6-2'!O29 -> 20 | P29: إناث
B30: Total | C30: =SUM(D30:O30) -> 485 | D30: ='B6-1'!D30+'B6-2'!D30 -> 33 | E30: ='B6-1'!E30+'B6-2'!E30 -> 33 | F30: ='B6-1'!F30+'B6-2'!F30 -> 44 | G30: ='B6-1'!G30+'B6-2'!G30 -> 38 | H30: ='B6-1'!H30+'B6-2'!H30 -> 54 | I30: ='B6-1'!I30+'B6-2'!I30 -> 47 | J30: ='B6-1'!J30+'B6-2'!J30 -> 36 | K30: ='B6-1'!K30+'B6-2'!K30 -> 52 | ... O30: ='B6-1'!O30+'B6-2'!O30 -> 36 | P30: المجموع
A31: Outside Qatar | B31: Males | C31: =SUM(D31:O31) -> 68 | D31: ='B6-1'!D31+'B6-2'!D31 -> 8 | E31: ='B6-1'!E31+'B6-2'!E31 -> 2 | F31: ='B6-1'!F31+'B6-2'!F31 -> 4 | G31: ='B6-1'!G31+'B6-2'!G31 -> 9 | H31: ='B6-1'!H31+'B6-2'!H31 -> 5 | I31: ='B6-1'!I31+'B6-2'!I31 -> 4 | J31: ='B6-1'!J31+'B6-2'!J31 -> 9 | K31: ='B6-1'!K31+'B6-2'!K31 -> 9 | ... O31: ='B6-1'!O31+'B6-2'!O31 -> 5 | P31: ذكور | Q31: خارج قطر
B32: Females | C32: =SUM(D32:O32) -> 77 | D32: ='B6-1'!D32+'B6-2'!D32 -> 3 | E32: ='B6-1'!E32+'B6-2'!E32 -> 10 | F32: ='B6-1'!F32+'B6-2'!F32 -> 6 | G32: ='B6-1'!G32+'B6-2'!G32 -> 4 | H32: ='B6-1'!H32+'B6-2'!H32 -> 13 | I32: ='B6-1'!I32+'B6-2'!I32 -> 8 | J32: ='B6-1'!J32+'B6-2'!J32 -> 4 | K32: ='B6-1'!K32+'B6-2'!K32 -> 6 | ... O32: ='B6-1'!O32+'B6-2'!O32 -> 7 | P32: إناث
B33: Total | C33: =SUM(D33:O33) -> 145 | D33: ='B6-1'!D33+'B6-2'!D33 -> 11 | E33: ='B6-1'!E33+'B6-2'!E33 -> 12 | F33: ='B6-1'!F33+'B6-2'!F33 -> 10 | G33: ='B6-1'!G33+'B6-2'!G33 -> 13 | H33: ='B6-1'!H33+'B6-2'!H33 -> 18 | I33: ='B6-1'!I33+'B6-2'!I33 -> 12 | J33: ='B6-1'!J33+'B6-2'!J33 -> 13 | K33: ='B6-1'!K33+'B6-2'!K33 -> 15 | ... O33: ='B6-1'!O33+'B6-2'!O33 -> 12 | P33: المجموع
A34: Total | B34: Males | C34: =C7+C10+C13+C16+C19+C22+C25+C28+C31 -> 13396 | D34: =D7+D10+D13+D16+D19+D22+D25+D28+D31 -> 1194 | E34: =E7+E10+E13+E16+E19+E22+E25+E28+E31 -> 1191 | F34: =F7+F10+F13+F16+F19+F22+F25+F28+F31 -> 1183 | G34: =G7+G10+G13+G16+G19+G22+G25+G28+G31 -> 1131 | H34: =H7+H10+H13+H16+H19+H22+H25+H28+H31 -> 1184 | I34: =I7+I10+I13+I16+I19+I22+I25+I28+I31 -> 1103 | J34: =J7+J10+J13+J16+J19+J22+J25+J28+J31 -> 1168 | ... O34: =O7+O10+O13+O16+O19+O22+O25+O28+O31 -> 979 | P34: ذكور | Q34: المجموع
B35: Females | C35: =C8+C11+C14+C17+C20+C23+C26+C29+C32 -> 12920 | D35: =D8+D11+D14+D17+D20+D23+D26+D29+D32 -> 1122 | E35: =E8+E11+E14+E17+E20+E23+E26+E29+E32 -> 1207 | F35: =F8+F11+F14+F17+F20+F23+F26+F29+F32 -> 1158 | G35: =G8+G11+G14+G17+G20+G23+G26+G29+G32 -> 1113 | H35: =H8+H11+H14+H17+H20+H23+H26+H29+H32 -> 1120 | I35: =I8+I11+I14+I17+I20+I23+I26+I29+I32 -> 1111 | J35: =J8+J11+J14+J17+J20+J23+J26+J29+J32 -> 1038 | ... O35: =O8+O11+O14+O17+O20+O23+O26+O29+O32 -> 999 | P35: إناث
B36: Total | C36: =C34+C35 -> 26316 | D36: =D34+D35 -> 2316 | E36: =E34+E35 -> 2398 | F36: =F34+F35 -> 2341 | G36: =G34+G35 -> 2244 | H36: =H34+H35 -> 2304 | I36: =I34+I35 -> 2214 | J36: =J34+J35 -> 2206 | ... O36: =O34+O35 -> 1978 | P36: المجموع
G40: ذكور Males | H40: إناث Females
B41: Qataris قطريون | C41: Non-Qataris غير قطريين | F41: يناير Jan. | G41: =O34 -> 979 | H41: =O35 -> 999
A42: الدوحة Doha | B42: ='B6-1'!C9 -> 1343 | C42: ='B6-2'!C9 -> 8532 | F42: فبراير Feb. | G42: =N34 -> 1007 | H42: =N35 -> 930
A43: الريان Al Rayyan | B43: ='B6-1'!C12 -> 3376 | C43: ='B6-2'!C12 -> 5977 | F43: مارس Mar. | G43: =M34 -> 1041 | H43: =M35 -> 965
A44: الوكرة Al Wakra | B44: ='B6-1'!C15 -> 592 | C44: ='B6-2'!C15 -> 2173 | F44: ابريل Apr. | G44: =L34 -> 1127 | H44: =L35 -> 1016
A45: ام صلال Umm Salal | B45: ='B6-1'!C18 -> 604 | C45: ='B6-2'!C18 -> 883 | F45: مايو May. | G45: =K34 -> 1088 | H45: =K35 -> 1141
A46: الخور Al Khor | B46: ='B6-1'!C21 -> 184 | C46: ='B6-2'!C21 -> 620 | F46: يونيو Jun. | G46: =J34 -> 1168 | H46: =J35 -> 1038
A47: الشمال Al Shamal | B47: ='B6-1'!C24 -> 25 | C47: ='B6-2'!C24 -> 45 | F47: يوليو Jul. | G47: =I34 -> 1103 | H47: =I35 -> 1111
A48: الظعاين Al Dhaayen | B48: ='B6-1'!C27 -> 667 | C48: ='B6-2'!C27 -> 665 | F48: اغسطس Aug. | G48: =H34 -> 1184 | H48: =H35 -> 1120
A49: الشيحانية Al Sheehaniya | B49: ='B6-1'!C30 -> 213 | C49: ='B6-2'!C30 -> 272 | F49: سبتمبر Sep. | G49: =G34 -> 1131 | H49: =G35 -> 1113
B50: =SUM(B42:B49) -> 7004 | C50: =SUM(C42:C49) -> 19167 | F50: اكتوبر Oct. | G50: =F34 -> 1183 | H50: =F35 -> 1158
A51: خارج قطر | B51: ='B6-1'!C33 -> 145 | C51: ='B6-2'!C33 -> 0 | F51: نوفمبر Nov. | G51: =E34 -> 1191 | H51: =E35 -> 1207
B52: =SUM(B50:B51) -> 7149 | C52: =SUM(C50:C51) -> 19167 | D52: =SUM(B52:C52) -> 26316 | F52: ديسمبر Dec. | G52: =D34 -> 1194 | H52: =D35 -> 1122
D53: =C36-D52 -> 0 | G53: =SUM(G41:G52) -> 13396 | H53: =SUM(H41:H52) -> 12920 | I53: =SUM(G53:H53) -> 26316
I54: =I53-C36 -> 0

Sheet B7
A1: المواليد الأحياء المسجلون حسب الجنسية ونوع الولادة والبلدية
A2: REGISTERED LIVE BIRTHS BY NATIONALITY, TYPE OF BIRTH AND MUNICIPALITY
A3: 2022
A4: Table No. (7) | N4: جدول رقم (7)
A5: Nationality & Type of Birth Municipality | B5: المجموع Total | F5: Non-Qataris غير قطريين | J5: Qataris قطريون | N5: الجنسية ونوع الولادة البلدية
B6: المجموع Total | C6: + ثلاثية Triplet+ | D6: توامية Twin | E6: فردية Single | F6: المجموع Total | G6: + ثلاثية Triplet+ | H6: توامية Twin | I6: فردية Single | J6: المجموع Total | K6: + ثلاثية Triplet+ | L6: توامية Twin | M6: فردية Single
A7: Doha | B7: =SUM(C7:E7) -> 9875 | C7: =K7+G7 -> 60 | D7: =L7+H7 -> 870 | E7: =M7+I7 -> 8945 | F7: =I7+H7+G7 -> 8532 | G7: 31 | H7: 584 | I7: 7917 | J7: =M7+L7+K7 -> 1343 | K7: 29 | L7: 286 | M7: 1028 | N7: الدوحة
A8: Al Rayyan | B8: =SUM(C8:E8) -> 9353 | C8: =K8+G8 -> 6 | D8: =L8+H8 -> 50 | E8: =M8+I8 -> 9297 | F8: =I8+H8+G8 -> 5977 | G8: 0 | H8: 12 | I8: 5965 | J8: =M8+L8+K8 -> 3376 | K8: 6 | L8: 38 | M8: 3332 | N8: الريان
A9: Al Wakra | B9: =SUM(C9:E9) -> 2765 | C9: =K9+G9 -> 0 | D9: =L9+H9 -> 4 | E9: =M9+I9 -> 2761 | F9: =I9+H9+G9 -> 2173 | G9: 0 | H9: 0 | I9: 2173 | J9: =M9+L9+K9 -> 592 | K9: 0 | L9: 4 | M9: 588 | N9: الوكرة
A10: Umm Salal | B10: =SUM(C10:E10) -> 1487 | C10: =K10+G10 -> 0 | D10: =L10+H10 -> 14 | E10: =M10+I10 -> 1473 | F10: =I10+H10+G10 -> 883 | G10: 0 | H10: 6 | I10: 877 | J10: =M10+L10+K10 -> 604 | K10: 0 | L10: 8 | M10: 596 | N10: أم صلال
A11: Al Khor | B11: =SUM(C11:E11) -> 804 | C11: =K11+G11 -> 0 | D11: =L11+H11 -> 10 | E11: =M11+I11 -> 794 | F11: =I11+H11+G11 -> 620 | G11: 0 | H11: 8 | I11: 612 | J11: =M11+L11+K11 -> 184 | K11: 0 | L11: 2 | M11: 182 | N11: الخور
A12: Al Shamal | B12: =SUM(C12:E12) -> 70 | C12: =K12+G12 -> 0 | D12: =L12+H12 -> 0 | E12: =M12+I12 -> 70 | F12: =I12+H12+G12 -> 45 | G12: 0 | H12: 0 | I12: 45 | J12: =M12+L12+K12 -> 25 | K12: 0 | L12: 0 | M12: 25 | N12: الشمال
A13: Al Dhaayen | B13: =SUM(C13:E13) -> 1332 | C13: =K13+G13 -> 0 | D13: =L13+H13 -> 4 | E13: =M13+I13 -> 1328 | F13: =I13+H13+G13 -> 665 | G13: 0 | H13: 0 | I13: 665 | J13: =M13+L13+K13 -> 667 | K13: 0 | L13: 4 | M13: 663 | N13: الظعاين
A14: Al Sheehaniya | B14: =SUM(C14:E14) -> 485 | C14: =K14+G14 -> 0 | D14: =L14+H14 -> 14 | E14: =M14+I14 -> 471 | F14: =I14+H14+G14 -> 272 | G14: 0 | H14: 6 | I14: 266 | J14: =M14+L14+K14 -> 213 | K14: 0 | L14: 8 | M14: 205 | N14: الشيحانية
A15: Outside Qatar | B15: =SUM(C15:E15) -> 145 | C15: =K15+G15 -> 0 | D15: =L15+H15 -> 14 | E15: =M15+I15 -> 131 | F15: =I15+H15+G15 -> 0 | G15: 0 | H15: 0 | I15: 0 | J15: =M15+L15+K15 -> 145 | K15: 0 | L15: 14 | M15: 131 | N15: خارج قطر
A16: Total | B16: =SUM(B7:B15) -> 26316 | C16: =SUM(C7:C15) -> 66 | D16: =SUM(D7:D15) -> 980 | E16: =SUM(E7:E15) -> 25270 | F16: =SUM(F7:F15) -> 19167 | G16: =SUM(G7:G15) -> 31 | H16: =SUM(H7:H15) -> 616 | I16: =SUM(I7:I15) -> 18520 | ... M16: =SUM(M7:M15) -> 6750 | N16: المجموع

Sheet B8
A1: المواليد الأحياء المسجلون حسب الجنسية وصفة القائم بالتوليد ومكان الولادة والبلدية
A2: REGISTERED LIVE BIRTHS BY NATIONALITY, DELIVERY ATTENDENT, PLACE OF BIRTH AND MUNICIPALITY
A3: 2022
A4: Table No. (8) | M4: جدول رقم (8)
A5: Municipality | B5: Place of Birth | C5: المجموع Total | F5: غير قطريين Non-Qataris | I5: Qataris قطريون | L5: مكان الولادة | M5: البلدية
C6: المجموع Total | D6: أخرى Others | E6: طبيب Physician | F6: المجموع Total | G6: أخرى Others | H6: طبيب Physician | I6: المجموع Total | J6: أخرى Others | K6: طبيب Physician
A7: Doha | B7: Hospital | C7: =SUM(I7+F7) -> 9875 | D7: =J7+G7 -> 0 | E7: =K7+H7 -> 9875 | F7: =H7+G7 -> 8532 | G7: 0 | H7: 8532 | I7: =K7+J7 -> 1343 | J7: 0 | K7: 1343 | L7: مستشفى | M7: الدوحة
B8: House | C8: =SUM(I8+F8) -> 0 | D8: =J8+G8 -> 0 | E8: =K8+H8 -> 0 | F8: =H8+G8 -> 0 | G8: 0 | H8: 0 | I8: =K8+J8 -> 0 | J8: 0 | K8: 0 | L8: منزل
B9: Total | C9: =C7+C8 -> 9875 | D9: =D7+D8 -> 0 | E9: =E7+E8 -> 9875 | F9: =F7+F8 -> 8532 | G9: =G7+G8 -> 0 | H9: =H7+H8 -> 8532 | I9: =I7+I8 -> 1343 | J9: 0 | K9: =K7+K8 -> 1343 | L9: المجموع
A10: Al Rayyan | B10: Hospital | C10: =SUM(I10+F10) -> 9353 | D10: =J10+G10 -> 0 | E10: =K10+H10 -> 9353 | F10: =H10+G10 -> 5977 | G10: 0 | H10: 5977 | I10: =K10+J10 -> 3376 | J10: 0 | K10: 3376 | L10: مستشفى | M10: الريان
B11: House | C11: =SUM(I11+F11) -> 0 | D11: =J11+G11 -> 0 | E11: =K11+H11 -> 0 | F11: =H11+G11 -> 0 | G11: 0 | H11: 0 | I11: =K11+J11 -> 0 | J11: 0 | K11: 0 | L11: منزل
B12: Total | C12: =C10+C11 -> 9353 | D12: =D10+D11 -> 0 | E12: =E10+E11 -> 9353 | F12: =F10+F11 -> 5977 | G12: =G10+G11 -> 0 | H12: =H10+H11 -> 5977 | I12: =I10+I11 -> 3376 | J12: 0 | K12: =K10+K11 -> 3376 | L12: المجموع
A13: Al Wakra | B13: Hospital | C13: =SUM(I13+F13) -> 2765 | D13: =J13+G13 -> 0 | E13: =K13+H13 -> 2765 | F13: =H13+G13 -> 2173 | G13: 0 | H13: 2173 | I13: =K13+J13 -> 592 | J13: 0 | K13: 592 | L13: مستشفى | M13: الوكرة
B14: House | C14: =SUM(I14+F14) -> 0 | D14: =J14+G14 -> 0 | E14: =K14+H14 -> 0 | F14: =H14+G14 -> 0 | G14: 0 | H14: 0 | I14: =K14+J14 -> 0 | J14: 0 | K14: 0 | L14: منزل
B15: Total | C15: =C13+C14 -> 2765 | D15: =D13+D14 -> 0 | E15: =E13+E14 -> 2765 | F15: =F13+F14 -> 2173 | G15: =G13+G14 -> 0 | H15: =H13+H14 -> 2173 | I15: =I13+I14 -> 592 | J15: =J13+J14 -> 0 | K15: =K13+K14 -> 592 | L15: المجموع
A16: Umm Salal | B16: Hospital | C16: =SUM(I16+F16) -> 1487 | D16: =J16+G16 -> 0 | E16: =K16+H16 -> 1487 | F16: =H16+G16 -> 883 | G16: 0 | H16: 883 | I16: =K16+J16 -> 604 | J16: 0 | K16: 604 | L16: مستشفى | M16: أم صلال
B17: House | C17: =SUM(I17+F17) -> 0 | D17: =J17+G17 -> 0 | E17: =K17+H17 -> 0 | F17: =H17+G17 -> 0 | G17: 0 | H17: 0 | I17: =K17+J17 -> 0 | J17: 0 | K17: 0 | L17: منزل
B18: Total | C18: =C16+C17 -> 1487 | D18: =D16+D17 -> 0 | E18: =E16+E17 -> 1487 | F18: =F16+F17 -> 883 | G18: =G16+G17 -> 0 | H18: =H16+H17 -> 883 | I18: =I16+I17 -> 604 | J18: =J16+J17 -> 0 | K18: =K16+K17 -> 604 | L18: المجموع
A19: Al Khor | B19: Hospital | C19: =SUM(I19+F19) -> 804 | D19: =J19+G19 -> 0 | E19: =K19+H19 -> 804 | F19: =H19+G19 -> 620 | G19: 0 | H19: 620 | I19: =K19+J19 -> 184 | J19: 0 | K19: 184 | L19: مستشفى | M19: الخور
B20: House | C20: =SUM(I20+F20) -> 0 | D20: =J20+G20 -> 0 | E20: =K20+H20 -> 0 | F20: =H20+G20 -> 0 | G20: 0 | H20: 0 | I20: =K20+J20 -> 0 | J20: 0 | K20: 0 | L20: منزل
B21: Total | C21: =C19+C20 -> 804 | D21: =D19+D20 -> 0 | E21: =E19+E20 -> 804 | F21: =F19+F20 -> 620 | G21: 0 | H21: =H19+H20 -> 620 | I21: =I19+I20 -> 184 | J21: =J19+J20 -> 0 | K21: =K19+K20 -> 184 | L21: المجموع
A22: Al Shamal | B22: Hospital | C22: =SUM(I22+F22) -> 70 | D22: =J22+G22 -> 0 | E22: =K22+H22 -> 70 | F22: =H22+G22 -> 45 | G22: 0 | H22: 45 | I22: =K22+J22 -> 25 | J22: 0 | K22: 25 | L22: مستشفى | M22: الشمال
B23: House | C23: =SUM(I23+F23) -> 0 | D23: =J23+G23 -> 0 | E23: =K23+H23 -> 0 | F23: =H23+G23 -> 0 | G23: 0 | H23: 0 | I23: =K23+J23 -> 0 | J23: 0 | K23: 0 | L23: منزل
B24: Total | C24: =C22+C23 -> 70 | D24: =D22+D23 -> 0 | E24: =E22+E23 -> 70 | F24: =F22+F23 -> 45 | G24: =G22+G23 -> 0 | H24: =H22+H23 -> 45 | I24: =I22+I23 -> 25 | J24: =J22+J23 -> 0 | K24: =K22+K23 -> 25 | L24: المجموع
A25: Al Dhaayen | B25: Hospital | C25: =SUM(I25+F25) -> 1332 | D25: =J25+G25 -> 0 | E25: =K25+H25 -> 1332 | F25: =H25+G25 -> 665 | G25: 0 | H25: 665 | I25: =K25+J25 -> 667 | J25: 0 | K25: 667 | L25: مستشفى | M25: الظعاين
B26: House | C26: =SUM(I26+F26) -> 0 | D26: =J26+G26 -> 0 | E26: =K26+H26 -> 0 | F26: =H26+G26 -> 0 | G26: 0 | H26: 0 | I26: =K26+J26 -> 0 | J26: 0 | K26: 0 | L26: منزل
B27: Total | C27: =C25+C26 -> 1332 | D27: =D25+D26 -> 0 | E27: =E25+E26 -> 1332 | F27: =F25+F26 -> 665 | G27: =G25+G26 -> 0 | H27: =H25+H26 -> 665 | I27: =I25+I26 -> 667 | J27: =J25+J26 -> 0 | K27: =K25+K26 -> 667 | L27: المجموع
A28: Al Sheehaniya | B28: Hospital | C28: =SUM(I28+F28) -> 485 | D28: =J28+G28 -> 0 | E28: =K28+H28 -> 485 | F28: =H28+G28 -> 272 | G28: 0 | H28: 272 | I28: =K28+J28 -> 213 | J28: 0 | K28: 213 | L28: مستشفى | M28: الشيحانية
B29: House | C29: =SUM(I29+F29) -> 0 | D29: =J29+G29 -> 0 | E29: =K29+H29 -> 0 | F29: =H29+G29 -> 0 | G29: 0 | H29: 0 | I29: =K29+J29 -> 0 | J29: 0 | K29: 0 | L29: منزل
B30: Total | C30: =C28+C29 -> 485 | D30: =D28+D29 -> 0 | E30: =E28+E29 -> 485 | F30: =F28+F29 -> 272 | G30: =G28+G29 -> 0 | H30: =H28+H29 -> 272 | I30: =I28+I29 -> 213 | J30: =J28+J29 -> 0 | K30: =K28+K29 -> 213 | L30: المجموع
A31: Outside Qatar | B31: Hospital | C31: =SUM(I31+F31) -> 145 | D31: =J31+G31 -> 0 | E31: =K31+H31 -> 145 | F31: =H31+G31 -> 0 | G31: 0 | H31: 0 | I31: =K31+J31 -> 145 | J31: 0 | K31: 145 | L31: مستشفى | M31: خارج قطر
B32: House | C32: =SUM(I32+F32) -> 0 | D32: =J32+G32 -> 0 | E32: =K32+H32 -> 0 | F32: =H32+G32 -> 0 | G32: 0 | H32: 0 | I32: =K32+J32 -> 0 | J32: 0 | K32: 0 | L32: منزل
B33: Total | C33: =C31+C32 -> 145 | D33: =D31+D32 -> 0 | E33: =E31+E32 -> 145 | F33: =F31+F32 -> 0 | G33: =G31+G32 -> 0 | H33: =H31+H32 -> 0 | I33: =I31+I32 -> 145 | J33: =J31+J32 -> 0 | K33: =K31+K32 -> 145 | L33: المجموع
A34: Total | B34: Hospital | C34: =C7+C10+C13+C16+C19+C22+C25+C28+C31 -> 26316 | D34: =D7+D10+D13+D16+D19+D22+D25+D28+D31 -> 0 | E34: =E7+E10+E13+E16+E19+E22+E25+E28+E31 -> 26316 | F34: =F7+F10+F13+F16+F19+F22+F25+F28+F31 -> 19167 | G34: =G7+G10+G13+G16+G19+G22+G25+G28+G31 -> 0 | H34: =H7+H10+H13+H16+H19+H22+H25+H28+H31 -> 19167 | I34: =I7+I10+I13+I16+I19+I22+I25+I28+I31 -> 7149 | J34: =J7+J10+J13+J16+J19+J22+J25+J28+J31 -> 0 | K34: =K7+K10+K13+K16+K19+K22+K25+K28+K31 -> 7149 | L34: مستشفى | M34: المجموع
B35: House | C35: =C8+C11+C14+C17+C20+C23+C26+C29+C32 -> 0 | D35: =D8+D11+D14+D17+D20+D23+D26+D29+D32 -> 0 | E35: =E8+E11+E14+E17+E20+E23+E26+E29+E32 -> 0 | F35: =F8+F11+F14+F17+F20+F23+F26+F29+F32 -> 0 | G35: =G8+G11+G14+G17+G20+G23+G26+G29+G32 -> 0 | H35: =H8+H11+H14+H17+H20+H23+H26+H29+H32 -> 0 | I35: =I8+I11+I14+I17+I20+I23+I26+I29+I32 -> 0 | J35: =J8+J11+J14+J17+J20+J23+J26+J29+J32 -> 0 | K35: =K8+K11+K14+K17+K20+K23+K26+K29+K32 -> 0 | L35: منزل
B36: Total | C36: =C9+C12+C15+C18+C21+C24+C27+C30+C33 -> 26316 | D36: =D9+D12+D15+D18+D21+D24+D27+D30+D33 -> 0 | E36: =E9+E12+E15+E18+E21+E24+E27+E30+E33 -> 26316 | F36: =F9+F12+F15+F18+F21+F24+F27+F30+F33 -> 19167 | G36: =G9+G12+G15+G18+G21+G24+G27+G30+G33 -> 0 | H36: =H9+H12+H15+H18+H21+H24+H27+H30+H33 -> 19167 | I36: =I9+I12+I15+I18+I21+I24+I27+I30+I33 -> 7149 | J36: =J9+J12+J15+J18+J21+J24+J27+J30+J33 -> 0 | K36: =K9+K12+K15+K18+K21+K24+K27+K30+K33 -> 7149 | L36: المجموع

Sheet B9
A1: المواليد الأحياء المسجلون حسب النوع والجنسية
A2: REGISTERED LIVE BIRTHS BY GENDER AND NATIONALITY
A3: 2018 - 2022
A4: Table No. (9) | Q4: جدول رقم (9)
A5: Nationality | B5: 2022 | E5: 2021 | H5: 2020 | K5: 2019 | N5: 2018 | Q5: الجنسية
B6: المجموع Total | C6: إناث Females | D6: ذكور Males | E6: المجموع Total | F6: إناث Females | G6: ذكور Males | H6: المجموع Total | I6: إناث Females | J6: ذكور Males | K6: المجموع Total | L6: إناث Females | M6: ذكور Males | N6: المجموع Total | O6: إناث Females | P6: ذكور Males
A7: Qatar | B7: =D7+C7 -> 7149 | C7: 3512 | D7: 3637 | E7: =G7+F7 -> 7814 | F7: 3749 | G7: 4065 | H7: =J7+I7 -> 7098 | I7: 3521 | J7: 3577 | K7: =M7+L7 -> 7496 | L7: 3700 | M7: 3796 | N7: =P7+O7 -> 7803 | O7: 3854 | P7: 3949 | Q7: قطر
A8: Other GCC Countries | B8: =D8+C8 -> 429 | C8: 224 | D8: 205 | E8: =G8+F8 -> 444 | F8: 207 | G8: 237 | H8: =J8+I8 -> 449 | I8: 220 | J8: 229 | K8: =M8+L8 -> 479 | L8: 214 | M8: 265 | N8: =P8+O8 -> 486 | O8: 240 | P8: 246 | Q8: بقية دول مجلس التعاون
A9: Other Arab Countries | B9: =D9+C9 -> 8735 | C9: 4316 | D9: 4419 | E9: =G9+F9 -> 8360 | F9: 4062 | G9: 4298 | H9: =J9+I9 -> 10241 | I9: 5029 | J9: 5212 | K9: =M9+L9 -> 10067 | L9: 4832 | M9: 5235 | N9: =P9+O9 -> 9905 | O9: 4856 | P9: 5049 | Q9: بقية الدول العربية
A10: Asian Countries | B10: =D10+C10 -> 8500 | C10: 4104 | D10: 4396 | E10: =G10+F10 -> 8189 | F10: 3947 | G10: 4242 | H10: =J10+I10 -> 9577 | I10: 4664 | J10: 4913 | K10: =M10+L10 -> 8839 | L10: 4351 | M10: 4488 | N10: =P10+O10 -> 8411 | O10: 4205 | P10: 4206 | Q10: دول أسيوية
A11: European Countries | B11: =D11+C11 -> 464 | C11: 245 | D11: 219 | E11: =G11+F11 -> 497 | F11: 273 | G11: 224 | H11: =J11+I11 -> 532 | I11: 257 | J11: 275 | K11: =M11+L11 -> 523 | L11: 263 | M11: 260 | N11: =P11+O11 -> 533 | O11: 269 | P11: 264 | Q11: دول اوربية
A12: Other Countries | B12: =D12+C12 -> 1039 | C12: 519 | D12: 520 | E12: =G12+F12 -> 1015 | F12: 488 | G12: 527 | H12: =J12+I12 -> 1117 | I12: 523 | J12: 594 | K12: =M12+L12 -> 1008 | L12: 497 | M12: 511 | N12: =P12+O12 -> 931 | O12: 462 | P12: 469 | Q12: دول أخرى
A13: Total | B13: =SUM(B7:B12) -> 26316 | C13: =SUM(C7:C12) -> 12920 | D13: =SUM(D7:D12) -> 13396 | E13: =SUM(E7:E12) -> 26319 | F13: =SUM(F7:F12) -> 12726 | G13: =SUM(G7:G12) -> 13593 | H13: =SUM(H7:H12) -> 29014 | I13: =SUM(I7:I12) -> 14214 | ... P13: =SUM(P7:P12) -> 14183 | Q13: المجموع
A22: قطر Qatar | B22: =B7 -> 7149 | C22: =B22/$B$28% -> 27.165983
A23: بقية دول مجلس التعاون Other CCASG Countries | B23: =B8 -> 429 | C23: =B23/$B$28% -> 1.630187
A24: بقية الدول العربية Other Arab Countries | B24: =B9 -> 8735 | C24: =B24/$B$28% -> 33.192734
A25: دول أسيوية Asian Countries | B25: =B10 -> 8500 | C25: =B25/$B$28% -> 32.299742
A26: دول اوروبية European Countries | B26: =B11 -> 464 | C26: =B26/$B$28% -> 1.7631859
A27: دول أخرى Other Countries | B27: =B12 -> 1039 | C27: =B27/$B$28% -> 3.9481684
B28: =SUM(B22:B27) -> 26316 | C28: =SUM(C22:C27) -> 100

Sheet B10
A1: المواليد الأحياء المسجلون حسب الجنسية والنوع وفئة عمر الأم
A2: REGISTERED LIVE BIRTHS BY NATIONALITY, GENDER AND MOTHER'S AGE GROUP
A3: 2022
A4: Table No. (10) | K4: جدول رقم (10)
A5: Nationality & Gender Mother's Age Group (in Years) | B5: المجموع Total | E5: غير قطريين Non-Qataris | H5: قطريون Qataris | K5: الجنسية والنوع فئة عمر الأم (بالسنوات)
B6: المجموع Total | C6: إناث Females | D6: ذكور Males | E6: المجموع Total | F6: إناث Females | G6: ذكور Males | H6: المجموع Total | I6: إناث Females | J6: ذكور Males
A7: Less than 20 | B7: =D7+C7 -> 186 | C7: =I7+F7 -> 88 | D7: =J7+G7 -> 98 | E7: =G7+F7 -> 151 | F7: 72 | G7: 79 | H7: =J7+I7 -> 35 | I7: 16 | J7: 19 | K7: أقل من 20
A8: 20-24 | B8: =D8+C8 -> 2768 | C8: =I8+F8 -> 1338 | D8: =J8+G8 -> 1430 | E8: =G8+F8 -> 1783 | F8: 846 | G8: 937 | H8: =J8+I8 -> 985 | I8: 492 | J8: 493 | K8: 20 - 24
A9: 25-29 | B9: =D9+C9 -> 7367 | C9: =I9+F9 -> 3647 | D9: =J9+G9 -> 3720 | E9: =G9+F9 -> 5096 | F9: 2514 | G9: 2582 | H9: =J9+I9 -> 2271 | I9: 1133 | J9: 1138 | K9: 25 - 29
A10: 30-34 | B10: =D10+C10 -> 9098 | C10: =I10+F10 -> 4529 | D10: =J10+G10 -> 4569 | E10: =G10+F10 -> 7056 | F10: 3518 | G10: 3538 | H10: =J10+I10 -> 2042 | I10: 1011 | J10: 1031 | K10: 30 - 34
A11: 35-39 | B11: =D11+C11 -> 5379 | C11: =I11+F11 -> 2580 | D11: =J11+G11 -> 2799 | E11: =G11+F11 -> 4071 | F11: 1959 | G11: 2112 | H11: =J11+I11 -> 1308 | I11: 621 | J11: 687 | K11: 35 - 39
A12: 40-44 | B12: =D12+C12 -> 1407 | C12: =I12+F12 -> 671 | D12: =J12+G12 -> 736 | E12: =G12+F12 -> 931 | F12: 450 | G12: 481 | H12: =J12+I12 -> 476 | I12: 221 | J12: 255 | K12: 40 - 44
A13: 45-49 | B13: =D13+C13 -> 92 | C13: =I13+F13 -> 56 | D13: =J13+G13 -> 36 | E13: =G13+F13 -> 61 | F13: 38 | G13: 23 | H13: =J13+I13 -> 31 | I13: 18 | J13: 13 | K13: 45 - 49
A14: 50 + | B14: =D14+C14 -> 6 | C14: =I14+F14 -> 3 | D14: =J14+G14 -> 3 | E14: =G14+F14 -> 5 | F14: 3 | G14: 2 | H14: =J14+I14 -> 1 | I14: 0 | J14: 1 | K14: 50 +
A15: Not Stated | B15: =D15+C15 -> 13 | C15: =I15+F15 -> 8 | D15: =J15+G15 -> 5 | E15: =G15+F15 -> 13 | F15: 8 | G15: 5 | H15: =J15+I15 -> 0 | I15: 0 | J15: 0 | K15: غير مبين
A16: Total | B16: =SUM(B7:B15) -> 26316 | C16: =SUM(C7:C15) -> 12920 | D16: =SUM(D7:D15) -> 13396 | E16: =SUM(E7:E15) -> 19167 | F16: =SUM(F7:F15) -> 9408 | G16: =SUM(G7:G15) -> 9759 | H16: =SUM(H7:H15) -> 7149 | I16: =SUM(I7:I15) -> 3512 | J16: =SUM(J7:J15) -> 3637 | K16: المجموع
B19: قطريون Qataris | C19: غير قطريين Non-Qataris
A20: أقل من 20 Less than 20 | B20: =H7 -> 35 | C20: =E7 -> 151
A21: =A8 -> 20-24 | B21: =H8 -> 985 | C21: =E8 -> 1783
A22: =A9 -> 25-29 | B22: =H9 -> 2271 | C22: =E9 -> 5096
A23: =A10 -> 30-34 | B23: =H10 -> 2042 | C23: =E10 -> 7056
A24: =A11 -> 35-39 | B24: =H11 -> 1308 | C24: =E11 -> 4071
A25: =A12 -> 40-44 | B25: =H12 -> 476 | C25: =E12 -> 931
A26: =A13 -> 45-49 | B26: =H13 -> 31 | C26: =E13 -> 61
A27: 50+ | B27: =H14 -> 1 | C27: =E14 -> 5
B28: =SUM(B20:B27) -> 7149 | C28: =E16 -> 19167

Sheet B11
A1: المواليد الأحياء المسجلون حسب جنسية الأم وفئة عمرها ونوع المولود
A2: REGISTERED LIVE BIRTHS BY GENDER AND MOTHER'S NATIONALITY AND AGE GROUP
A3: 2022
A4: Table No. (11) | K4: جدول رقم (11)
A5: Nationality & Gender Mother's Age Group (in Years) | B5: المجموع Total | E5: غير قطريات Non-Qataris | H5: قطريات Qataris | K5: الجنسية والنوع فئة عمر الأم (بالسنوات)
B6: المجموع Total | C6: إناث Females | D6: ذكور Males | E6: المجموع Total | F6: إناث Females | G6: ذكور Males | H6: المجموع Total | I6: إناث Females | J6: ذكور Males
A7: Less than 20 | B7: =D7+C7 -> 186 | C7: =I7+F7 -> 88 | D7: =J7+G7 -> 98 | E7: =G7+F7 -> 163 | F7: 78 | G7: 85 | H7: =J7+I7 -> 23 | I7: 10 | J7: 13 | K7: أقل من 20
A8: 20-24 | B8: =D8+C8 -> 2768 | C8: =I8+F8 -> 1338 | D8: =J8+G8 -> 1430 | E8: =G8+F8 -> 1954 | F8: 937 | G8: 1017 | H8: =J8+I8 -> 814 | I8: 401 | J8: 413 | K8: 20 - 24
A9: 25-29 | B9: =D9+C9 -> 7367 | C9: =I9+F9 -> 3647 | D9: =J9+G9 -> 3720 | E9: =G9+F9 -> 5487 | F9: 2704 | G9: 2783 | H9: =J9+I9 -> 1880 | I9: 943 | J9: 937 | K9: 25 - 29
A10: 30-34 | B10: =D10+C10 -> 9098 | C10: =I10+F10 -> 4529 | D10: =J10+G10 -> 4569 | E10: =G10+F10 -> 7385 | F10: 3674 | G10: 3711 | H10: =J10+I10 -> 1713 | I10: 855 | J10: 858 | K10: 30 - 34
A11: 35-39 | B11: =D11+C11 -> 5379 | C11: =I11+F11 -> 2580 | D11: =J11+G11 -> 2799 | E11: =G11+F11 -> 4221 | F11: 2038 | G11: 2183 | H11: =J11+I11 -> 1158 | I11: 542 | J11: 616 | K11: 35 - 39
A12: 40-44 | B12: =D12+C12 -> 1407 | C12: =I12+F12 -> 671 | D12: =J12+G12 -> 736 | E12: =G12+F12 -> 974 | F12: 470 | G12: 504 | H12: =J12+I12 -> 433 | I12: 201 | J12: 232 | K12: 40 - 44
A13: 45-49 | B13: =D13+C13 -> 92 | C13: =I13+F13 -> 56 | D13: =J13+G13 -> 36 | E13: =G13+F13 -> 61 | F13: 39 | G13: 22 | H13: =J13+I13 -> 31 | I13: 17 | J13: 14 | K13: 45 - 49
A14: 50 + | B14: =D14+C14 -> 6 | C14: =I14+F14 -> 3 | D14: =J14+G14 -> 3 | E14: =G14+F14 -> 5 | F14: 3 | G14: 2 | H14: =J14+I14 -> 1 | I14: 0 | J14: 1 | K14: 50 +
A15: Not Stated | B15: =D15+C15 -> 13 | C15: =I15+F15 -> 8 | D15: =J15+G15 -> 5 | E15: =G15+F15 -> 13 | F15: 8 | G15: 5 | H15: =J15+I15 -> 0 | I15: 0 | J15: 0 | K15: غير مبين
A16: Total | B16: =SUM(B7:B15) -> 26316 | C16: =SUM(C7:C15) -> 12920 | D16: =SUM(D7:D15) -> 13396 | E16: =SUM(E7:E15) -> 20263 | F16: =SUM(F7:F15) -> 9951 | G16: =SUM(G7:G15) -> 10312 | H16: =SUM(H7:H15) -> 6053 | I16: =SUM(I7:I15) -> 2969 | J16: =SUM(J7:J15) -> 3084 | K16: المجموع
B18: قطريات Qataris | C18: غير قطريات Non-Qataris
A19: أقل من 20 Less than 20 | B19: =H7 -> 23 | C19: =E7 -> 163
A20: 20-24 | B20: =H8 -> 814 | C20: =E8 -> 1954
A21: 25-29 | B21: =H9 -> 1880 | C21: =E9 -> 5487
A22: 30-34 | B22: =H10 -> 1713 | C22: =E10 -> 7385
A23: 35-39 | B23: =H11 -> 1158 | C23: =E11 -> 4221
A24: 40-44 | B24: =H12 -> 433 | C24: =E12 -> 974
A25: 45-49 | B25: =H13 -> 31 | C25: =E13 -> 61
A26: 50 + | B26: =H14 -> 1 | C26: =E14 -> 5
B27: =SUM(B19:B26) -> 6053 | C27: =SUM(C19:C26) -> 20250

Sheet B12-1
A1: المواليد الأحياء المسجلون حسب مدة الحياة الزواجية وفئة عمر الأم
A2: REGISTERED LIVE BIRTHS BY DURATION OF MARRIAGE AND MOTHER'S AGE GROUP
A3: 2022
A4: قطريون QATARIS
A5: Table No. (12-1) | M5: جدول رقم (12-1)
A6: Mother's Age Group (in Years) | B6: Duration of Marriage (in Years) مدة الحياة الزواجية بالسنوات | M6: فئة عمر الأم (بالسنوات)
B7: المجموع Total | C7: غير مبين Not Stated | D7: 25 + | E7: 20 - 24 | F7: 15 - 19 | G7: 10 - 14 | H7: 5 - 9 | I7: 4 | J7: 3 | K7: 2 | L7: 1
A8: Less than 20 | B8: =SUM(C8:L8) -> 35 | C8: 0 | D8: 0 | E8: 0 | F8: 0 | G8: 0 | H8: 0 | I8: 2 | J8: 5 | K8: 10 | L8: 18 | M8: أقل من 20
A9: 20-24 | B9: =SUM(C9:L9) -> 985 | C9: 0 | D9: 0 | E9: 0 | F9: 0 | G9: 0 | H9: 146 | I9: 100 | J9: 155 | K9: 366 | L9: 218 | M9: 20-24
A10: 25-29 | B10: =SUM(C10:L10) -> 2271 | C10: 10 | D10: 0 | E10: 0 | F10: 0 | G10: 157 | H10: 838 | I10: 226 | J10: 314 | K10: 468 | L10: 258 | M10: 25-29
A11: 30-34 | B11: =SUM(C11:L11) -> 2042 | C11: 113 | D11: 0 | E11: 0 | F11: 97 | G11: 670 | H11: 737 | I11: 118 | J11: 113 | K11: 127 | L11: 67 | M11: 30-34
A12: 35-39 | B12: =SUM(C12:L12) -> 1308 | C12: 156 | D12: 3 | E12: 39 | F12: 335 | G12: 358 | H12: 275 | I12: 36 | J12: 41 | K12: 46 | L12: 19 | M12: 35-39
A13: 40-44 | B13: =SUM(C13:L13) -> 476 | C13: 63 | D13: 11 | E13: 90 | F13: 127 | G13: 99 | H13: 56 | I13: 10 | J13: 8 | K13: 7 | L13: 5 | M13: 40-44
A14: 45-49 | B14: =SUM(C14:L14) -> 31 | C14: 7 | D14: 1 | E14: 6 | F14: 3 | G14: 6 | H14: 4 | I14: 1 | J14: 0 | K14: 3 | L14: 0 | M14: 45-49
A15: 50 + | B15: =SUM(C15:L15) -> 1 | C15: 0 | D15: 1 | E15: 0 | F15: 0 | G15: 0 | H15: 0 | I15: 0 | J15: 0 | K15: 0 | L15: 0 | M15: 50 +
A16: Not Stated | B16: =SUM(C16:L16) -> 0 | C16: 0 | D16: 0 | E16: 0 | F16: 0 | G16: 0 | H16: 0 | I16: 0 | J16: 0 | K16: 0 | L16: 0 | M16: غير مبين
A17: Total | B17: =SUM(B8:B16) -> 7149 | C17: =SUM(C8:C16) -> 349 | D17: =SUM(D8:D16) -> 16 | E17: =SUM(E8:E16) -> 135 | F17: =SUM(F8:F16) -> 562 | G17: =SUM(G8:G16) -> 1290 | H17: =SUM(H8:H16) -> 2056 | I17: =SUM(I8:I16) -> 493 | ... L17: =SUM(L8:L16) -> 585 | M17: المجموع

Sheet B12-2
A1: المواليد الأحياء المسجلون حسب مدة الحياة الزواجية وفئة عمر الأم
A2: REGISTERED LIVE BIRTHS BY DURATION OF MARRIAGE AND MOTHER'S AGE GROUP
A3: 2022
A4: غير قطريين NON-QATARIS
A5: Table No. (12-2) | M5: جدول رقم (12-2)
A6: Mother's Age Group (in Years) | B6: Duration of Marriage (in Years) مدة الحياة الزواجية بالسنوات | M6: فئة عمر الأم (بالسنوات)
B7: المجموع Total | C7: غير مبين Not Stated | D7: 25 + | E7: 20 - 24 | F7: 15 - 19 | G7: 10 - 14 | H7: 5 - 9 | I7: 4 | J7: 3 | K7: 2 | L7: 1
A8: Less than 20 | B8: =SUM(C8:L8) -> 151 | C8: 0 | D8: 0 | E8: 0 | F8: 0 | G8: 0 | H8: 1 | I8: 9 | J8: 36 | K8: 52 | L8: 53 | M8: أقل من 20
A9: 20-24 | B9: =SUM(C9:L9) -> 1783 | C9: 0 | D9: 0 | E9: 0 | F9: 0 | G9: 0 | H9: 476 | I9: 278 | J9: 310 | K9: 425 | L9: 294 | M9: 20-24
A10: 25-29 | B10: =SUM(C10:L10) -> 5096 | C10: 5 | D10: 0 | E10: 0 | F10: 0 | G10: 426 | H10: 2069 | I10: 526 | J10: 628 | K10: 816 | L10: 626 | M10: 25-29
A11: 30-34 | B11: =SUM(C11:L11) -> 7056 | C11: 97 | D11: 0 | E11: 0 | F11: 249 | G11: 1635 | H11: 3128 | I11: 490 | J11: 474 | K11: 513 | L11: 470 | M11: 30-34
A12: 35-39 | B12: =SUM(C12:L12) -> 4071 | C12: 119 | D12: 7 | E12: 111 | F12: 590 | G12: 1407 | H12: 1197 | I12: 151 | J12: 167 | K12: 165 | L12: 157 | M12: 35-39
A13: 40-44 | B13: =SUM(C13:L13) -> 931 | C13: 42 | D13: 33 | E13: 132 | F13: 188 | G13: 231 | H13: 177 | I13: 38 | J13: 24 | K13: 32 | L13: 34 | M13: 40-44
A14: 45-49 | B14: =SUM(C14:L14) -> 61 | C14: 2 | D14: 11 | E14: 6 | F14: 6 | G14: 9 | H14: 17 | I14: 1 | J14: 4 | K14: 2 | L14: 3 | M14: 45-49
A15: 50 + | B15: =SUM(C15:L15) -> 5 | C15: 0 | D15: 2 | E15: 0 | F15: 0 | G15: 0 | H15: 2 | I15: 0 | J15: 0 | K15: 1 | L15: 0 | M15: 50 +
A16: Not Stated | B16: =SUM(C16:L16) -> 13 | C16: 7 | D16: 0 | E16: 0 | F16: 0 | G16: 0 | H16: 2 | I16: 0 | J16: 2 | K16: 1 | L16: 1 | M16: غير مبين
A17: Total | B17: =SUM(B8:B16) -> 19167 | C17: =SUM(C8:C16) -> 272 | D17: =SUM(D8:D16) -> 53 | E17: =SUM(E8:E16) -> 249 | F17: =SUM(F8:F16) -> 1033 | G17: =SUM(G8:G16) -> 3708 | H17: =SUM(H8:H16) -> 7069 | I17: =SUM(I8:I16) -> 1493 | ... L17: =SUM(L8:L16) -> 1638 | M17: المجموع

Sheet B12-3
A1: المواليد الأحياء المسجلون حسب مدة الحياة الزواجية وفئة عمر الأم
A2: REGISTERED LIVE BIRTHS BY DURATION OF MARRIAGE AND MOTHER'S AGE GROUP
A3: 2022
A4: المجموع TOTAL
A5: Table No. (12-3) | M5: جدول رقم (12-3)
A6: Mother's Age Group (in Years) | B6: Duration of Marriage (in Years) مدة الحياة الزواجية بالسنوات | M6: فئة عمر الأم (بالسنوات)
B7: المجموع Total | C7: غير مبين Not Stated | D7: 25 + | E7: 20 - 24 | F7: 15 - 19 | G7: 10 - 14 | H7: 5 - 9 | I7: 4 | J7: 3 | K7: 2 | L7: 1
A8: Less than 20 | B8: =SUM(C8:L8) -> 186 | C8: ='B12-1'!C8+'B12-2'!C8 -> 0 | D8: ='B12-1'!D8+'B12-2'!D8 -> 0 | E8: ='B12-1'!E8+'B12-2'!E8 -> 0 | F8: ='B12-1'!F8+'B12-2'!F8 -> 0 | G8: ='B12-1'!G8+'B12-2'!G8 -> 0 | H8: ='B12-1'!H8+'B12-2'!H8 -> 1 | I8: ='B12-1'!I8+'B12-2'!I8 -> 11 | J8: ='B12-1'!J8+'B12-2'!J8 -> 41 | ... L8: ='B12-1'!L8+'B12-2'!L8 -> 71 | M8: أقل من 20
A9: 20-24 | B9: =SUM(C9:L9) -> 2768 | C9: ='B12-1'!C9+'B12-2'!C9 -> 0 | D9: ='B12-1'!D9+'B12-2'!D9 -> 0 | E9: ='B12-1'!E9+'B12-2'!E9 -> 0 | F9: ='B12-1'!F9+'B12-2'!F9 -> 0 | G9: ='B12-1'!G9+'B12-2'!G9 -> 0 | H9: ='B12-1'!H9+'B12-2'!H9 -> 622 | I9: ='B12-1'!I9+'B12-2'!I9 -> 378 | J9: ='B12-1'!J9+'B12-2'!J9 -> 465 | ... L9: ='B12-1'!L9+'B12-2'!L9 -> 512 | M9: 20-24
A10: 25-29 | B10: =SUM(C10:L10) -> 7367 | C10: ='B12-1'!C10+'B12-2'!C10 -> 15 | D10: ='B12-1'!D10+'B12-2'!D10 -> 0 | E10: ='B12-1'!E10+'B12-2'!E10 -> 0 | F10: ='B12-1'!F10+'B12-2'!F10 -> 0 | G10: ='B12-1'!G10+'B12-2'!G10 -> 583 | H10: ='B12-1'!H10+'B12-2'!H10 -> 2907 | I10: ='B12-1'!I10+'B12-2'!I10 -> 752 | J10: ='B12-1'!J10+'B12-2'!J10 -> 942 | ... L10: ='B12-1'!L10+'B12-2'!L10 -> 884 | M10: 25-29
A11: 30-34 | B11: =SUM(C11:L11) -> 9098 | C11: ='B12-1'!C11+'B12-2'!C11 -> 210 | D11: ='B12-1'!D11+'B12-2'!D11 -> 0 | E11: ='B12-1'!E11+'B12-2'!E11 -> 0 | F11: ='B12-1'!F11+'B12-2'!F11 -> 346 | G11: ='B12-1'!G11+'B12-2'!G11 -> 2305 | H11: ='B12-1'!H11+'B12-2'!H11 -> 3865 | I11: ='B12-1'!I11+'B12-2'!I11 -> 608 | J11: ='B12-1'!J11+'B12-2'!J11 -> 587 | ... L11: ='B12-1'!L11+'B12-2'!L11 -> 537 | M11: 30-34
A12: 35-39 | B12: =SUM(C12:L12) -> 5379 | C12: ='B12-1'!C12+'B12-2'!C12 -> 275 | D12: ='B12-1'!D12+'B12-2'!D12 -> 10 | E12: ='B12-1'!E12+'B12-2'!E12 -> 150 | F12: ='B12-1'!F12+'B12-2'!F12 -> 925 | G12: ='B12-1'!G12+'B12-2'!G12 -> 1765 | H12: ='B12-1'!H12+'B12-2'!H12 -> 1472 | I12: ='B12-1'!I12+'B12-2'!I12 -> 187 | J12: ='B12-1'!J12+'B12-2'!J12 -> 208 | ... L12: ='B12-1'!L12+'B12-2'!L12 -> 176 | M12: 35-39
A13: 40-44 | B13: =SUM(C13:L13) -> 1407 | C13: ='B12-1'!C13+'B12-2'!C13 -> 105 | D13: ='B12-1'!D13+'B12-2'!D13 -> 44 | E13: ='B12-1'!E13+'B12-2'!E13 -> 222 | F13: ='B12-1'!F13+'B12-2'!F13 -> 315 | G13: ='B12-1'!G13+'B12-2'!G13 -> 330 | H13: ='B12-1'!H13+'B12-2'!H13 -> 233 | I13: ='B12-1'!I13+'B12-2'!I13 -> 48 | J13: ='B12-1'!J13+'B12-2'!J13 -> 32 | ... L13: ='B12-1'!L13+'B12-2'!L13 -> 39 | M13: 40-44
A14: 45-49 | B14: =SUM(C14:L14) -> 92 | C14: ='B12-1'!C14+'B12-2'!C14 -> 9 | D14: ='B12-1'!D14+'B12-2'!D14 -> 12 | E14: ='B12-1'!E14+'B12-2'!E14 -> 12 | F14: ='B12-1'!F14+'B12-2'!F14 -> 9 | G14: ='B12-1'!G14+'B12-2'!G14 -> 15 | H14: ='B12-1'!H14+'B12-2'!H14 -> 21 | I14: ='B12-1'!I14+'B12-2'!I14 -> 2 | J14: ='B12-1'!J14+'B12-2'!J14 -> 4 | ... L14: ='B12-1'!L14+'B12-2'!L14 -> 3 | M14: 45-49
A15: 50 + | B15: =SUM(C15:L15) -> 6 | C15: ='B12-1'!C15+'B12-2'!C15 -> 0 | D15: ='B12-1'!D15+'B12-2'!D15 -> 3 | E15: ='B12-1'!E15+'B12-2'!E15 -> 0 | F15: ='B12-1'!F15+'B12-2'!F15 -> 0 | G15: ='B12-1'!G15+'B12-2'!G15 -> 0 | H15: ='B12-1'!H15+'B12-2'!H15 -> 2 | I15: ='B12-1'!I15+'B12-2'!I15 -> 0 | J15: ='B12-1'!J15+'B12-2'!J15 -> 0 | ... L15: ='B12-1'!L15+'B12-2'!L15 -> 0 | M15: 50 +
A16: Not Stated | B16: ='B12-1'!B16+'B12-2'!B16 -> 13 | C16: ='B12-1'!C16+'B12-2'!C16 -> 7 | D16: ='B12-1'!D16+'B12-2'!D16 -> 0 | E16: ='B12-1'!E16+'B12-2'!E16 -> 0 | F16: ='B12-1'!F16+'B12-2'!F16 -> 0 | G16: ='B12-1'!G16+'B12-2'!G16 -> 0 | H16: ='B12-1'!H16+'B12-2'!H16 -> 2 | I16: ='B12-1'!I16+'B12-2'!I16 -> 0 | ... L16: ='B12-1'!L16+'B12-2'!L16 -> 1 | M16: غير مبين
A17: Total | B17: =SUM(B8:B16) -> 26316 | C17: =SUM(C8:C16) -> 621 | D17: =SUM(D8:D16) -> 69 | E17: =SUM(E8:E16) -> 384 | F17: =SUM(F8:F16) -> 1595 | G17: =SUM(G8:G16) -> 4998 | H17: =SUM(H8:H16) -> 9125 | I17: =SUM(I8:I16) -> 1986 | ... L17: =SUM(L8:L16) -> 2223 | M17: المجموع

Sheet B13-1
A1: المواليد الأحياء المسجلون حسب فئة عمر الأم وترتيب المولود
A2: REGISTERED LIVE BIRTHS BY MOTHER'S AGE GROUP AND BIRTH ORDER
A3: 2022
A4: قطريون QATARIS
A5: Table No. (13-1) | L5: جدول رقم (13-1)
A6: Birth Order | B6: Mother's Age Group (in Years) (فئة عمر الأم (بالسنوات | L6: ترتيب المولود
B7: المجموع Total | C7: غير مبين Unknown | D7: 50 + | E7: 45-49 | F7: 40-44 | G7: 35-39 | H7: 30-34 | I7: 25-29 | J7: 20-24 | K7: اقل من 20 Less than 20
A8: First | B8: =SUM(D8:K8) -> 1870 | C8: 0 | D8: 0 | E8: 6 | F8: 26 | G8: 113 | H8: 291 | I8: 782 | J8: 627 | K8: 25 | L8: الأول
A9: Second | B9: =SUM(D9:K9) -> 1463 | C9: 0 | D9: 0 | E9: 3 | F9: 30 | G9: 133 | H9: 334 | I9: 700 | J9: 254 | K9: 9 | L9: الثاني
A10: Third | B10: =SUM(D10:K10) -> 1194 | C10: 0 | D10: 1 | E10: 2 | F10: 36 | G10: 169 | H10: 461 | I10: 439 | J10: 85 | K10: 1 | L10: الثالث
A11: Fourth | B11: =SUM(D11:K11) -> 1045 | C11: 0 | D11: 0 | E11: 2 | F11: 55 | G11: 268 | H11: 466 | I11: 242 | J11: 12 | K11: 0 | L11: الرابع
A12: Fifth | B12: =SUM(D12:K12) -> 733 | C12: 0 | D12: 0 | E12: 4 | F12: 84 | G12: 267 | H12: 297 | I12: 74 | J12: 7 | K12: 0 | L12: الخامس
A13: Sixth | B13: =SUM(D13:K13) -> 448 | C13: 0 | D13: 0 | E13: 2 | F13: 101 | G13: 189 | H13: 137 | I13: 19 | J13: 0 | K13: 0 | L13: السادس
A14: Seventh | B14: =SUM(D14:K14) -> 215 | C14: 0 | D14: 0 | E14: 6 | F14: 72 | G14: 96 | H14: 35 | I14: 6 | J14: 0 | K14: 0 | L14: السابع
A15: Eighth | B15: =SUM(D15:K15) -> 105 | C15: 0 | D15: 0 | E15: 3 | F15: 38 | G15: 41 | H15: 15 | I15: 8 | J15: 0 | K15: 0 | L15: الثامن
A16: Ninth | B16: =SUM(D16:K16) -> 41 | C16: 0 | D16: 0 | E16: 1 | F16: 20 | G16: 17 | H16: 2 | I16: 1 | J16: 0 | K16: 0 | L16: التاسع
A17: Tenth & More | B17: =SUM(D17:K17) -> 35 | C17: 0 | D17: 0 | E17: 2 | F17: 14 | G17: 15 | H17: 4 | I17: 0 | J17: 0 | K17: 0 | L17: العاشر فاكثر
A18: Not Stated | B18: =SUM(D18:K18) -> 0 | C18: 0 | D18: 0 | E18: 0 | F18: 0 | G18: 0 | H18: 0 | I18: 0 | J18: 0 | K18: 0 | L18: غير مبين
A19: Total | B19: =SUM(B8:B18) -> 7149 | C19: =SUM(C8:C18) -> 0 | D19: =SUM(D8:D18) -> 1 | E19: =SUM(E8:E18) -> 31 | F19: =SUM(F8:F18) -> 476 | G19: =SUM(G8:G18) -> 1308 | H19: =SUM(H8:H18) -> 2042 | I19: =SUM(I8:I18) -> 2271 | ... K19: =SUM(K8:K18) -> 35 | L19: المجموع

Sheet B13-2
A1: المواليد الأحياء المسجلون حسب فئة عمر الأم وترتيب المولود
A2: REGISTERED LIVE BIRTHS BY MOTHER'S AGE GROUP AND BIRTH ORDER
A3: 2022
A4: غير قطريين NON-QATARIS
A5: Table No. (13-2) | L5: جدول رقم (13-2)
A6: Birth Order | B6: Mother's Age Group (in Years) (فئة عمر الأم (بالسنوات | L6: ترتيب المولود
B7: المجموع Total | C7: غير مبين Unknown | D7: 50 + | E7: 45-49 | F7: 40-44 | G7: 35-39 | H7: 30-34 | I7: 25-29 | J7: 20-24 | K7: اقل من 20 Less than 20
A8: First | B8: =SUM(C8:K8) -> 6613 | C8: 8 | D8: 2 | E8: 17 | F8: 183 | G8: 863 | H8: 2152 | I8: 2302 | J8: 968 | K8: 118 | L8: الأول
A9: Second | B9: =SUM(C9:K9) -> 5246 | C9: 2 | D9: 1 | E9: 9 | F9: 156 | G9: 887 | H9: 2120 | I9: 1493 | J9: 548 | K9: 30 | L9: الثاني
A10: Third | B10: =SUM(C10:K10) -> 3674 | C10: 0 | D10: 0 | E10: 4 | F10: 157 | G10: 962 | H10: 1553 | I10: 795 | J10: 201 | K10: 2 | L10: الثالث
A11: Fourth | B11: =SUM(C11:K11) -> 1948 | C11: 3 | D11: 0 | E11: 10 | F11: 144 | G11: 692 | H11: 726 | I11: 326 | J11: 46 | K11: 1 | L11: الرابع
A12: Fifth | B12: =SUM(C12:K12) -> 944 | C12: 0 | D12: 0 | E12: 5 | F12: 125 | G12: 372 | H12: 303 | I12: 122 | J12: 17 | K12: 0 | L12: الخامس
A13: Sixth | B13: =SUM(C13:K13) -> 394 | C13: 0 | D13: 2 | E13: 3 | F13: 64 | G13: 158 | H13: 125 | I13: 39 | J13: 3 | K13: 0 | L13: السادس
A14: Seventh | B14: =SUM(C14:K14) -> 161 | C14: 0 | D14: 0 | E14: 4 | F14: 43 | G14: 60 | H14: 42 | I14: 12 | J14: 0 | K14: 0 | L14: السابع
A15: Eighth | B15: =SUM(C15:K15) -> 90 | C15: 0 | D15: 0 | E15: 5 | F15: 20 | G15: 40 | H15: 23 | I15: 2 | J15: 0 | K15: 0 | L15: الثامن
A16: Ninth | B16: =SUM(C16:K16) -> 51 | C16: 0 | D16: 0 | E16: 1 | F16: 18 | G16: 20 | H16: 9 | I16: 3 | J16: 0 | K16: 0 | L16: التاسع
A17: Tenth & More | B17: =SUM(C17:K17) -> 46 | C17: 0 | D17: 0 | E17: 3 | F17: 21 | G17: 17 | H17: 3 | I17: 2 | J17: 0 | K17: 0 | L17: العاشر فاكثر
A18: Not Stated | B18: =SUM(C18:K18) -> 0 | C18: 0 | D18: 0 | E18: 0 | F18: 0 | G18: 0 | H18: 0 | I18: 0 | J18: 0 | K18: 0 | L18: غير مبين
A19: Total | B19: =SUM(B8:B18) -> 19167 | C19: =SUM(C8:C18) -> 13 | D19: =SUM(D8:D18) -> 5 | E19: =SUM(E8:E18) -> 61 | F19: =SUM(F8:F18) -> 931 | G19: =SUM(G8:G18) -> 4071 | H19: =SUM(H8:H18) -> 7056 | I19: =SUM(I8:I18) -> 5096 | ... K19: =SUM(K8:K18) -> 151 | L19: المجموع

Sheet B13-3
A1: المواليد الأحياء المسجلون حسب فئة عمر الأم وترتيب المولود
A2: REGISTERED LIVE BIRTHS BY MOTHER'S AGE GROUP AND BIRTH ORDER
A3: 2022
A4: الذكور MALES
A5: Table No. (13-3) | L5: جدول رقم (13-3)
A6: Birth Order | B6: Mother's Age Group (in Years) (فئة عمر الأم (بالسنوات | L6: ترتيب المولود
B7: المجموع Total | C7: غير مبين Unknown | D7: 50 + | E7: 45-49 | F7: 40-44 | G7: 35-39 | H7: 30-34 | I7: 25-29 | J7: 20-24 | K7: اقل من 20 Less than 20
A8: First | B8: =SUM(C8:K8) -> 4361 | C8: 4 | D8: 1 | E8: 5 | F8: 115 | G8: 505 | H8: 1254 | I8: 1561 | J8: 840 | K8: 76 | L8: الأول
A9: Second | B9: =SUM(C9:K9) -> 3412 | C9: 1 | D9: 0 | E9: 5 | F9: 101 | G9: 566 | H9: 1203 | I9: 1119 | J9: 397 | K9: 20 | L9: الثاني
A10: Third | B10: =SUM(C10:K10) -> 2421 | C10: 0 | D10: 1 | E10: 2 | F10: 95 | G10: 573 | H10: 1004 | I10: 596 | J10: 149 | K10: 1 | L10: الثالث
A11: Fourth | B11: =SUM(C11:K11) -> 1529 | C11: 0 | D11: 0 | E11: 6 | F11: 103 | G11: 474 | H11: 626 | I11: 289 | J11: 30 | K11: 1 | L11: الرابع
A12: Fifth | B12: =SUM(C12:K12) -> 881 | C12: 0 | D12: 0 | E12: 4 | F12: 113 | G12: 345 | H12: 296 | I12: 110 | J12: 13 | K12: 0 | L12: الخامس
A13: Sixth | B13: =SUM(C13:K13) -> 423 | C13: 0 | D13: 1 | E13: 3 | F13: 79 | G13: 185 | H13: 125 | I13: 29 | J13: 1 | K13: 0 | L13: السادس
A14: Seventh | B14: =SUM(C14:K14) -> 183 | C14: 0 | D14: 0 | E14: 5 | F14: 58 | G14: 79 | H14: 36 | I14: 5 | J14: 0 | K14: 0 | L14: السابع
A15: Eighth | B15: =SUM(C15:K15) -> 102 | C15: 0 | D15: 0 | E15: 4 | F15: 32 | G15: 43 | H15: 17 | I15: 6 | J15: 0 | K15: 0 | L15: الثامن
A16: Ninth | B16: =SUM(C16:K16) -> 46 | C16: 0 | D16: 0 | E16: 1 | F16: 20 | G16: 17 | H16: 5 | I16: 3 | J16: 0 | K16: 0 | L16: التاسع
A17: Tenth & More | B17: =SUM(C17:K17) -> 38 | C17: 0 | D17: 0 | E17: 1 | F17: 20 | G17: 12 | H17: 3 | I17: 2 | J17: 0 | K17: 0 | L17: العاشر فاكثر
A18: Not Stated | B18: =SUM(C18:K18) -> 0 | C18: 0 | D18: 0 | E18: 0 | F18: 0 | G18: 0 | H18: 0 | I18: 0 | J18: 0 | K18: 0 | L18: غير مبين
A19: Total | B19: =SUM(B8:B18) -> 13396 | C19: =SUM(C8:C18) -> 5 | D19: =SUM(D8:D18) -> 3 | E19: =SUM(E8:E18) -> 36 | F19: =SUM(F8:F18) -> 736 | G19: =SUM(G8:G18) -> 2799 | H19: =SUM(H8:H18) -> 4569 | I19: =SUM(I8:I18) -> 3720 | ... K19: =SUM(K8:K18) -> 98 | L19: المجموع

Sheet B13-4
A1: المواليد الأحياء المسجلون حسب فئة عمر الأم وترتيب المولود
A2: REGISTERED LIVE BIRTHS BY MOTHER'S AGE GROUP AND BIRTH ORDER
A3: 2022
A4: الإناث FEMALES
A5: Table No. (13-4) | L5: جدول رقم (13-4)
A6: Birth Order | B6: Mother's Age Group (in Years) (فئة عمر الأم (بالسنوات | L6: ترتيب المولود
B7: المجموع Total | C7: غير مبين Unknown | D7: 50 + | E7: 45-49 | F7: 40-44 | G7: 35-39 | H7: 30-34 | I7: 25-29 | J7: 20-24 | K7: اقل من 20 Less than 20
A8: First | B8: =SUM(C8:K8) -> 4122 | C8: 4 | D8: 1 | E8: 18 | F8: 94 | G8: 471 | H8: 1189 | I8: 1523 | J8: 755 | K8: 67 | L8: الأول
A9: Second | B9: =SUM(C9:K9) -> 3297 | C9: 1 | D9: 1 | E9: 7 | F9: 85 | G9: 454 | H9: 1251 | I9: 1074 | J9: 405 | K9: 19 | L9: الثاني
A10: Third | B10: =SUM(C10:K10) -> 2447 | C10: 0 | D10: 0 | E10: 4 | F10: 98 | G10: 558 | H10: 1010 | I10: 638 | J10: 137 | K10: 2 | L10: الثالث
A11: Fourth | B11: =SUM(C11:K11) -> 1464 | C11: 3 | D11: 0 | E11: 6 | F11: 96 | G11: 486 | H11: 566 | I11: 279 | J11: 28 | K11: 0 | L11: الرابع
A12: Fifth | B12: =SUM(C12:K12) -> 796 | C12: 0 | D12: 0 | E12: 5 | F12: 96 | G12: 294 | H12: 304 | I12: 86 | J12: 11 | K12: 0 | L12: الخامس
A13: Sixth | B13: =SUM(C13:K13) -> 419 | C13: 0 | D13: 1 | E13: 2 | F13: 86 | G13: 162 | H13: 137 | I13: 29 | J13: 2 | K13: 0 | L13: السادس
A14: Seventh | B14: =SUM(C14:K14) -> 193 | C14: 0 | D14: 0 | E14: 5 | F14: 57 | G14: 77 | H14: 41 | I14: 13 | J14: 0 | K14: 0 | L14: السابع
A15: Eighth | B15: =SUM(C15:K15) -> 93 | C15: 0 | D15: 0 | E15: 4 | F15: 26 | G15: 38 | H15: 21 | I15: 4 | J15: 0 | K15: 0 | L15: الثامن
A16: Ninth | B16: =SUM(C16:K16) -> 46 | C16: 0 | D16: 0 | E16: 1 | F16: 18 | G16: 20 | H16: 6 | I16: 1 | J16: 0 | K16: 0 | L16: التاسع
A17: Tenth & More | B17: =SUM(C17:K17) -> 43 | C17: 0 | D17: 0 | E17: 4 | F17: 15 | G17: 20 | H17: 4 | I17: 0 | J17: 0 | K17: 0 | L17: العاشر فاكثر
A18: Not Stated | B18: =SUM(C18:K18) -> 0 | C18: 0 | D18: 0 | E18: 0 | F18: 0 | G18: 0 | H18: 0 | I18: 0 | J18: 0 | K18: 0 | L18: غير مبين
A19: Total | B19: =SUM(B8:B18) -> 12920 | C19: =SUM(C8:C18) -> 8 | D19: =SUM(D8:D18) -> 3 | E19: =SUM(E8:E18) -> 56 | F19: =SUM(F8:F18) -> 671 | G19: =SUM(G8:G18) -> 2580 | H19: =SUM(H8:H18) -> 4529 | I19: =SUM(I8:I18) -> 3647 | ... K19: =SUM(K8:K18) -> 88 | L19: المجموع

Sheet B13-5
A1: المواليد الأحياء المسجلون حسب فئة عمر الأم وترتيب المولود
A2: REGISTERED LIVE BIRTHS BY MOTHER'S AGE GROUP AND BIRTH ORDER
A3: 2022
A4: المجموع TOTAL
A5: Table No. (13-5) | L5: جدول رقم (13-5)
A6: Birth Order | B6: Mother's Age Group (in Years) (فئة عمر الأم (بالسنوات | L6: ترتيب المولود
B7: المجموع Total | C7: غير مبين Unknown | D7: 50 + | E7: 45-49 | F7: 40-44 | G7: 35-39 | H7: 30-34 | I7: 25-29 | J7: 20-24 | K7: اقل من 20 Less than 20
A8: First | B8: =SUM(C8:K8) -> 8483 | C8: ='B13-1'!C8+'B13-2'!C8 -> 8 | D8: =SUM('B13-1'!D8+'B13-2'!D8) -> 2 | E8: =SUM('B13-1'!E8+'B13-2'!E8) -> 23 | F8: =SUM('B13-1'!F8+'B13-2'!F8) -> 209 | G8: =SUM('B13-1'!G8+'B13-2'!G8) -> 976 | H8: =SUM('B13-1'!H8+'B13-2'!H8) -> 2443 | I8: =SUM('B13-1'!I8+'B13-2'!I8) -> 3084 | J8: =SUM('B13-1'!J8+'B13-2'!J8) -> 1595 | K8: =SUM('B13-1'!K8+'B13-2'!K8) -> 143 | L8: الأول
A9: Second | B9: =SUM(C9:K9) -> 6709 | C9: ='B13-1'!C9+'B13-2'!C9 -> 2 | D9: =SUM('B13-1'!D9+'B13-2'!D9) -> 1 | E9: =SUM('B13-1'!E9+'B13-2'!E9) -> 12 | F9: =SUM('B13-1'!F9+'B13-2'!F9) -> 186 | G9: =SUM('B13-1'!G9+'B13-2'!G9) -> 1020 | H9: =SUM('B13-1'!H9+'B13-2'!H9) -> 2454 | I9: =SUM('B13-1'!I9+'B13-2'!I9) -> 2193 | J9: =SUM('B13-1'!J9+'B13-2'!J9) -> 802 | K9: =SUM('B13-1'!K9+'B13-2'!K9) -> 39 | L9: الثاني
A10: Third | B10: =SUM(C10:K10) -> 4868 | C10: ='B13-1'!C10+'B13-2'!C10 -> 0 | D10: =SUM('B13-1'!D10+'B13-2'!D10) -> 1 | E10: =SUM('B13-1'!E10+'B13-2'!E10) -> 6 | F10: =SUM('B13-1'!F10+'B13-2'!F10) -> 193 | G10: =SUM('B13-1'!G10+'B13-2'!G10) -> 1131 | H10: =SUM('B13-1'!H10+'B13-2'!H10) -> 2014 | I10: =SUM('B13-1'!I10+'B13-2'!I10) -> 1234 | J10: =SUM('B13-1'!J10+'B13-2'!J10) -> 286 | K10: =SUM('B13-1'!K10+'B13-2'!K10) -> 3 | L10: الثالث
A11: Fourth | B11: =SUM(C11:K11) -> 2993 | C11: ='B13-1'!C11+'B13-2'!C11 -> 3 | D11: =SUM('B13-1'!D11+'B13-2'!D11) -> 0 | E11: =SUM('B13-1'!E11+'B13-2'!E11) -> 12 | F11: =SUM('B13-1'!F11+'B13-2'!F11) -> 199 | G11: =SUM('B13-1'!G11+'B13-2'!G11) -> 960 | H11: =SUM('B13-1'!H11+'B13-2'!H11) -> 1192 | I11: =SUM('B13-1'!I11+'B13-2'!I11) -> 568 | J11: =SUM('B13-1'!J11+'B13-2'!J11) -> 58 | K11: =SUM('B13-1'!K11+'B13-2'!K11) -> 1 | L11: الرابع
A12: Fifth | B12: =SUM(C12:K12) -> 1677 | C12: ='B13-1'!C12+'B13-2'!C12 -> 0 | D12: =SUM('B13-1'!D12+'B13-2'!D12) -> 0 | E12: =SUM('B13-1'!E12+'B13-2'!E12) -> 9 | F12: =SUM('B13-1'!F12+'B13-2'!F12) -> 209 | G12: =SUM('B13-1'!G12+'B13-2'!G12) -> 639 | H12: =SUM('B13-1'!H12+'B13-2'!H12) -> 600 | I12: =SUM('B13-1'!I12+'B13-2'!I12) -> 196 | J12: =SUM('B13-1'!J12+'B13-2'!J12) -> 24 | K12: =SUM('B13-1'!K12+'B13-2'!K12) -> 0 | L12: الخامس
A13: Sixth | B13: =SUM(C13:K13) -> 842 | C13: ='B13-1'!C13+'B13-2'!C13 -> 0 | D13: =SUM('B13-1'!D13+'B13-2'!D13) -> 2 | E13: =SUM('B13-1'!E13+'B13-2'!E13) -> 5 | F13: =SUM('B13-1'!F13+'B13-2'!F13) -> 165 | G13: =SUM('B13-1'!G13+'B13-2'!G13) -> 347 | H13: =SUM('B13-1'!H13+'B13-2'!H13) -> 262 | I13: =SUM('B13-1'!I13+'B13-2'!I13) -> 58 | J13: =SUM('B13-1'!J13+'B13-2'!J13) -> 3 | K13: =SUM('B13-1'!K13+'B13-2'!K13) -> 0 | L13: السادس
A14: Seventh | B14: =SUM(C14:K14) -> 376 | C14: ='B13-1'!C14+'B13-2'!C14 -> 0 | D14: =SUM('B13-1'!D14+'B13-2'!D14) -> 0 | E14: =SUM('B13-1'!E14+'B13-2'!E14) -> 10 | F14: =SUM('B13-1'!F14+'B13-2'!F14) -> 115 | G14: =SUM('B13-1'!G14+'B13-2'!G14) -> 156 | H14: =SUM('B13-1'!H14+'B13-2'!H14) -> 77 | I14: =SUM('B13-1'!I14+'B13-2'!I14) -> 18 | J14: =SUM('B13-1'!J14+'B13-2'!J14) -> 0 | K14: =SUM('B13-1'!K14+'B13-2'!K14) -> 0 | L14: السابع
A15: Eighth | B15: =SUM(C15:K15) -> 195 | C15: ='B13-1'!C15+'B13-2'!C15 -> 0 | D15: =SUM('B13-1'!D15+'B13-2'!D15) -> 0 | E15: =SUM('B13-1'!E15+'B13-2'!E15) -> 8 | F15: =SUM('B13-1'!F15+'B13-2'!F15) -> 58 | G15: =SUM('B13-1'!G15+'B13-2'!G15) -> 81 | H15: =SUM('B13-1'!H15+'B13-2'!H15) -> 38 | I15: =SUM('B13-1'!I15+'B13-2'!I15) -> 10 | J15: =SUM('B13-1'!J15+'B13-2'!J15) -> 0 | K15: =SUM('B13-1'!K15+'B13-2'!K15) -> 0 | L15: الثامن
A16: Ninth | B16: =SUM(C16:K16) -> 92 | C16: ='B13-1'!C16+'B13-2'!C16 -> 0 | D16: =SUM('B13-1'!D16+'B13-2'!D16) -> 0 | E16: =SUM('B13-1'!E16+'B13-2'!E16) -> 2 | F16: =SUM('B13-1'!F16+'B13-2'!F16) -> 38 | G16: =SUM('B13-1'!G16+'B13-2'!G16) -> 37 | H16: =SUM('B13-1'!H16+'B13-2'!H16) -> 11 | I16: =SUM('B13-1'!I16+'B13-2'!I16) -> 4 | J16: =SUM('B13-1'!J16+'B13-2'!J16) -> 0 | K16: =SUM('B13-1'!K16+'B13-2'!K16) -> 0 | L16: التاسع
A17: Tenth & More | B17: =SUM(D17:K17) -> 81 | C17: ='B13-1'!C17+'B13-2'!C17 -> 0 | D17: =SUM('B13-1'!D17+'B13-2'!D17) -> 0 | E17: =SUM('B13-1'!E17+'B13-2'!E17) -> 5 | F17: =SUM('B13-1'!F17+'B13-2'!F17) -> 35 | G17: =SUM('B13-1'!G17+'B13-2'!G17) -> 32 | H17: =SUM('B13-1'!H17+'B13-2'!H17) -> 7 | I17: =SUM('B13-1'!I17+'B13-2'!I17) -> 2 | J17: =SUM('B13-1'!J17+'B13-2'!J17) -> 0 | K17: =SUM('B13-1'!K17+'B13-2'!K17) -> 0 | L17: العاشر فاكثر
A18: Not Stated | B18: ='B13-1'!B18+'B13-2'!B18 -> 0 | C18: ='B13-1'!C18+'B13-2'!C18 -> 0 | D18: ='B13-1'!D18+'B13-2'!D18 -> 0 | E18: ='B13-1'!E18+'B13-2'!E18 -> 0 | F18: ='B13-1'!F18+'B13-2'!F18 -> 0 | G18: ='B13-1'!G18+'B13-2'!G18 -> 0 | H18: ='B13-1'!H18+'B13-2'!H18 -> 0 | I18: ='B13-1'!I18+'B13-2'!I18 -> 0 | ... K18: ='B13-1'!K18+'B13-2'!K18 -> 0 | L18: غير مبين
A19: Total | B19: =SUM(B8:B18) -> 26316 | C19: =SUM(C8:C18) -> 13 | D19: =SUM(D8:D18) -> 6 | E19: =SUM(E8:E18) -> 92 | F19: =SUM(F8:F18) -> 1407 | G19: =SUM(G8:G18) -> 5379 | H19: =SUM(H8:H18) -> 9098 | I19: =SUM(I8:I18) -> 7367 | ... K19: =SUM(K8:K18) -> 186 | L19: المجموع

Sheet B14-1
A1: المواليد الأحياء المسجلون حسب مدة الحياة الزواجية وترتيب المولود
A2: REGISTERED LIVE BIRTHS BY DURATION OF MARRIAGE AND BIRTH ORDER
A3: 2022
A4: قطريون QATARIS
A5: Table No. (14-1) | M5: جدول رقم (14-1)
A6: Birth Order | B6: Duration of Marriage (in Years) (مدة الحياة الزواجية (بالسنوات | M6: ترتيب المولود
B7: المجموع Total | C7: غير مبين Not Stated | D7: 25 + | E7: 20 - 24 | F7: 15 - 19 | G7: 10 - 14 | H7: 5 - 9 | I7: 4 | J7: 3 | K7: 2 | L7: 1
A8: First | B8: =SUM(C8:L8) -> 1870 | C8: 47 | D8: 0 | E8: 2 | F8: 6 | G8: 32 | H8: 136 | I8: 93 | J8: 194 | K8: 781 | L8: 579 | M8: الأول
A9: Second | B9: =SUM(C9:L9) -> 1463 | C9: 48 | D9: 0 | E9: 1 | F9: 6 | G9: 47 | H9: 507 | I9: 257 | J9: 348 | K9: 243 | L9: 6 | M9: الثاني
A10: Third | B10: =SUM(C10:L10) -> 1194 | C10: 48 | D10: 1 | E10: 5 | F10: 25 | G10: 179 | H10: 756 | I10: 92 | J10: 85 | K10: 3 | L10: 0 | M10: الثالث
A11: Fourth | B11: =SUM(C11:L11) -> 1045 | C11: 58 | D11: 2 | E11: 6 | F11: 71 | G11: 424 | H11: 436 | I11: 41 | J11: 7 | K11: 0 | L11: 0 | M11: الرابع
A12: Fifth | B12: =SUM(C12:L12) -> 733 | C12: 56 | D12: 0 | E12: 24 | F12: 137 | G12: 354 | H12: 150 | I12: 10 | J12: 2 | K12: 0 | L12: 0 | M12: الخامس
A13: Sixth | B13: =SUM(C13:L13) -> 448 | C13: 39 | D13: 2 | E13: 32 | F13: 160 | G13: 167 | H13: 48 | I13: 0 | J13: 0 | K13: 0 | L13: 0 | M13: السادس
A14: Seventh | B14: =SUM(C14:L14) -> 215 | C14: 27 | D14: 1 | E14: 33 | F14: 90 | G14: 46 | H14: 18 | I14: 0 | J14: 0 | K14: 0 | L14: 0 | M14: السابع
A15: Eighth | B15: =SUM(C15:L15) -> 105 | C15: 13 | D15: 4 | E15: 14 | F15: 45 | G15: 25 | H15: 4 | I15: 0 | J15: 0 | K15: 0 | L15: 0 | M15: الثامن
A16: Ninth | B16: =SUM(C16:L16) -> 41 | C16: 8 | D16: 5 | E16: 9 | F16: 12 | G16: 6 | H16: 1 | I16: 0 | J16: 0 | K16: 0 | L16: 0 | M16: التاسع
A17: Tenth & More | B17: =SUM(C17:L17) -> 35 | C17: 5 | D17: 1 | E17: 9 | F17: 10 | G17: 10 | H17: 0 | I17: 0 | J17: 0 | K17: 0 | L17: 0 | M17: العاشر فاكثر
A18: Not Stated | B18: =SUM(C18:L18) -> 0 | C18: 0 | D18: 0 | E18: 0 | F18: 0 | G18: 0 | H18: 0 | I18: 0 | J18: 0 | K18: 0 | L18: 0 | M18: غير مبين
A19: Total | B19: =SUM(B8:B18) -> 7149 | C19: =SUM(C8:C18) -> 349 | D19: =SUM(D8:D18) -> 16 | E19: =SUM(E8:E18) -> 135 | F19: =SUM(F8:F18) -> 562 | G19: =SUM(G8:G18) -> 1290 | H19: =SUM(H8:H18) -> 2056 | I19: =SUM(I8:I18) -> 493 | ... L19: =SUM(L8:L18) -> 585 | M19: المجموع

Sheet B14-2
A1: المواليد الأحياء المسجلون حسب مدة الحياة الزواجية وترتيب المولود
A2: REGISTERED LIVE BIRTHS BY DURATION OF MARRIAGE AND BIRTH ORDER
A3: 2022
A4: غير قطريين NON-QATARIS
A5: Table No. (14-2) | M5: جدول رقم (14-2)
A6: Birth Order | B6: Duration of Marriage (in Years) (مدة الحياة الزواجية (بالسنوات | M6: ترتيب المولود
B7: المجموع Total | C7: غير مبين Not Stated | D7: 25 + | E7: 20 - 24 | F7: 15 - 19 | G7: 10 - 14 | H7: 5 - 9 | I7: 4 | J7: 3 | K7: 2 | L7: 1
A8: First | B8: =SUM(C8:L8) -> 6613 | C8: 62 | D8: 2 | E8: 11 | F8: 72 | G8: 336 | H8: 1325 | I8: 547 | J8: 956 | K8: 1682 | L8: 1620 | M8: الأول
A9: Second | B9: =SUM(C9:L9) -> 5246 | C9: 53 | D9: 0 | E9: 11 | F9: 49 | G9: 513 | H9: 2906 | I9: 778 | J9: 595 | K9: 325 | L9: 16 | M9: الثاني
A10: Third | B10: =SUM(C10:L10) -> 3674 | C10: 54 | D10: 1 | E10: 19 | F10: 135 | G10: 1182 | H10: 2076 | I10: 121 | J10: 84 | K10: 0 | L10: 2 | M10: الثالث
A11: Fourth | B11: =SUM(C11:L11) -> 1948 | C11: 41 | D11: 4 | E11: 20 | F11: 265 | G11: 992 | H11: 579 | I11: 39 | J11: 8 | K11: 0 | L11: 0 | M11: الرابع
A12: Fifth | B12: =SUM(C12:L12) -> 944 | C12: 20 | D12: 8 | E12: 57 | F12: 259 | G12: 452 | H12: 138 | I12: 8 | J12: 2 | K12: 0 | L12: 0 | M12: الخامس
A13: Sixth | B13: =SUM(C13:L13) -> 394 | C13: 19 | D13: 11 | E13: 49 | F13: 119 | G13: 166 | H13: 30 | I13: 0 | J13: 0 | K13: 0 | L13: 0 | M13: السادس
A14: Seventh | B14: =SUM(C14:L14) -> 161 | C14: 10 | D14: 5 | E14: 36 | F14: 64 | G14: 35 | H14: 11 | I14: 0 | J14: 0 | K14: 0 | L14: 0 | M14: السابع
A15: Eighth | B15: =SUM(C15:L15) -> 90 | C15: 6 | D15: 7 | E15: 17 | F15: 42 | G15: 15 | H15: 3 | I15: 0 | J15: 0 | K15: 0 | L15: 0 | M15: الثامن
A16: Ninth | B16: =SUM(C16:L16) -> 51 | C16: 2 | D16: 6 | E16: 15 | F16: 16 | G16: 11 | H16: 1 | I16: 0 | J16: 0 | K16: 0 | L16: 0 | M16: التاسع
A17: Tenth & More | B17: =SUM(C17:L17) -> 46 | C17: 5 | D17: 9 | E17: 14 | F17: 12 | G17: 6 | H17: 0 | I17: 0 | J17: 0 | K17: 0 | L17: 0 | M17: العاشر فاكثر
A18: Not Stated | B18: =SUM(C18:L18) -> 0 | C18: 0 | D18: 0 | E18: 0 | F18: 0 | G18: 0 | H18: 0 | I18: 0 | J18: 0 | K18: 0 | L18: 0 | M18: غير مبين
A19: Total | B19: =SUM(B8:B18) -> 19167 | C19: =SUM(C8:C18) -> 272 | D19: =SUM(D8:D18) -> 53 | E19: =SUM(E8:E18) -> 249 | F19: =SUM(F8:F18) -> 1033 | G19: =SUM(G8:G18) -> 3708 | H19: =SUM(H8:H18) -> 7069 | I19: =SUM(I8:I17) -> 1493 | J19: =SUM(J8:J17) -> 1645 | K19: =SUM(K8:K17) -> 2007 | L19: =SUM(L8:L17) -> 1638 | M19: المجموع

Sheet B14-3
A1: المواليد الأحياء المسجلون حسب مدة الحياة الزواجية وترتيب المولود
A2: REGISTERED LIVE BIRTHS BY DURATION OF MARRIAGE AND BIRTH ORDER
A3: 2022
A4: المجموع TOTAL
A5: Table No. (14-3) | M5: جدول رقم (14-3)
A6: Birth Order | B6: Duration of Marriage (in Years) (مدة الحياة الزواجية (بالسنوات | M6: ترتيب المولود
B7: المجموع Total | C7: غير مبين Not Stated | D7: 25 + | E7: 20 - 24 | F7: 15 - 19 | G7: 10 - 14 | H7: 5 - 9 | I7: 4 | J7: 3 | K7: 2 | L7: 1
A8: First | B8: =SUM(C8:L8) -> 8483 | C8: ='B14-1'!C8+'B14-2'!C8 -> 109 | D8: ='B14-1'!D8+'B14-2'!D8 -> 2 | E8: ='B14-1'!E8+'B14-2'!E8 -> 13 | F8: ='B14-1'!F8+'B14-2'!F8 -> 78 | G8: ='B14-1'!G8+'B14-2'!G8 -> 368 | H8: ='B14-1'!H8+'B14-2'!H8 -> 1461 | I8: ='B14-1'!I8+'B14-2'!I8 -> 640 | J8: ='B14-1'!J8+'B14-2'!J8 -> 1150 | ... L8: ='B14-1'!L8+'B14-2'!L8 -> 2199 | M8: الأول
A9: Second | B9: =SUM(C9:L9) -> 6709 | C9: ='B14-1'!C9+'B14-2'!C9 -> 101 | D9: ='B14-1'!D9+'B14-2'!D9 -> 0 | E9: ='B14-1'!E9+'B14-2'!E9 -> 12 | F9: ='B14-1'!F9+'B14-2'!F9 -> 55 | G9: ='B14-1'!G9+'B14-2'!G9 -> 560 | H9: ='B14-1'!H9+'B14-2'!H9 -> 3413 | I9: ='B14-1'!I9+'B14-2'!I9 -> 1035 | J9: ='B14-1'!J9+'B14-2'!J9 -> 943 | ... L9: ='B14-1'!L9+'B14-2'!L9 -> 22 | M9: الثاني
A10: Third | B10: =SUM(C10:L10) -> 4868 | C10: ='B14-1'!C10+'B14-2'!C10 -> 102 | D10: ='B14-1'!D10+'B14-2'!D10 -> 2 | E10: ='B14-1'!E10+'B14-2'!E10 -> 24 | F10: ='B14-1'!F10+'B14-2'!F10 -> 160 | G10: ='B14-1'!G10+'B14-2'!G10 -> 1361 | H10: ='B14-1'!H10+'B14-2'!H10 -> 2832 | I10: ='B14-1'!I10+'B14-2'!I10 -> 213 | J10: ='B14-1'!J10+'B14-2'!J10 -> 169 | ... L10: ='B14-1'!L10+'B14-2'!L10 -> 2 | M10: الثالث
A11: Fourth | B11: =SUM(C11:L11) -> 2993 | C11: ='B14-1'!C11+'B14-2'!C11 -> 99 | D11: ='B14-1'!D11+'B14-2'!D11 -> 6 | E11: ='B14-1'!E11+'B14-2'!E11 -> 26 | F11: ='B14-1'!F11+'B14-2'!F11 -> 336 | G11: ='B14-1'!G11+'B14-2'!G11 -> 1416 | H11: ='B14-1'!H11+'B14-2'!H11 -> 1015 | I11: ='B14-1'!I11+'B14-2'!I11 -> 80 | J11: ='B14-1'!J11+'B14-2'!J11 -> 15 | ... L11: ='B14-1'!L11+'B14-2'!L11 -> 0 | M11: الرابع
A12: Fifth | B12: =SUM(C12:L12) -> 1677 | C12: ='B14-1'!C12+'B14-2'!C12 -> 76 | D12: ='B14-1'!D12+'B14-2'!D12 -> 8 | E12: ='B14-1'!E12+'B14-2'!E12 -> 81 | F12: ='B14-1'!F12+'B14-2'!F12 -> 396 | G12: ='B14-1'!G12+'B14-2'!G12 -> 806 | H12: ='B14-1'!H12+'B14-2'!H12 -> 288 | I12: ='B14-1'!I12+'B14-2'!I12 -> 18 | J12: ='B14-1'!J12+'B14-2'!J12 -> 4 | ... L12: ='B14-1'!L12+'B14-2'!L12 -> 0 | M12: الخامس
A13: Sixth | B13: =SUM(C13:L13) -> 842 | C13: ='B14-1'!C13+'B14-2'!C13 -> 58 | D13: ='B14-1'!D13+'B14-2'!D13 -> 13 | E13: ='B14-1'!E13+'B14-2'!E13 -> 81 | F13: ='B14-1'!F13+'B14-2'!F13 -> 279 | G13: ='B14-1'!G13+'B14-2'!G13 -> 333 | H13: ='B14-1'!H13+'B14-2'!H13 -> 78 | I13: ='B14-1'!I13+'B14-2'!I13 -> 0 | J13: ='B14-1'!J13+'B14-2'!J13 -> 0 | ... L13: ='B14-1'!L13+'B14-2'!L13 -> 0 | M13: السادس
A14: Seventh | B14: =SUM(C14:L14) -> 376 | C14: ='B14-1'!C14+'B14-2'!C14 -> 37 | D14: ='B14-1'!D14+'B14-2'!D14 -> 6 | E14: ='B14-1'!E14+'B14-2'!E14 -> 69 | F14: ='B14-1'!F14+'B14-2'!F14 -> 154 | G14: ='B14-1'!G14+'B14-2'!G14 -> 81 | H14: ='B14-1'!H14+'B14-2'!H14 -> 29 | I14: ='B14-1'!I14+'B14-2'!I14 -> 0 | J14: ='B14-1'!J14+'B14-2'!J14 -> 0 | ... L14: ='B14-1'!L14+'B14-2'!L14 -> 0 | M14: السابع
A15: Eighth | B15: =SUM(C15:L15) -> 195 | C15: ='B14-1'!C15+'B14-2'!C15 -> 19 | D15: ='B14-1'!D15+'B14-2'!D15 -> 11 | E15: ='B14-1'!E15+'B14-2'!E15 -> 31 | F15: ='B14-1'!F15+'B14-2'!F15 -> 87 | G15: ='B14-1'!G15+'B14-2'!G15 -> 40 | H15: ='B14-1'!H15+'B14-2'!H15 -> 7 | I15: ='B14-1'!I15+'B14-2'!I15 -> 0 | J15: ='B14-1'!J15+'B14-2'!J15 -> 0 | ... L15: ='B14-1'!L15+'B14-2'!L15 -> 0 | M15: الثامن
A16: Ninth | B16: =SUM(C16:L16) -> 92 | C16: ='B14-1'!C16+'B14-2'!C16 -> 10 | D16: ='B14-1'!D16+'B14-2'!D16 -> 11 | E16: ='B14-1'!E16+'B14-2'!E16 -> 24 | F16: ='B14-1'!F16+'B14-2'!F16 -> 28 | G16: ='B14-1'!G16+'B14-2'!G16 -> 17 | H16: ='B14-1'!H16+'B14-2'!H16 -> 2 | I16: ='B14-1'!I16+'B14-2'!I16 -> 0 | J16: ='B14-1'!J16+'B14-2'!J16 -> 0 | ... L16: ='B14-1'!L16+'B14-2'!L16 -> 0 | M16: التاسع
A17: Tenth & More | B17: =SUM(C17:L17) -> 81 | C17: ='B14-1'!C17+'B14-2'!C17 -> 10 | D17: ='B14-1'!D17+'B14-2'!D17 -> 10 | E17: ='B14-1'!E17+'B14-2'!E17 -> 23 | F17: ='B14-1'!F17+'B14-2'!F17 -> 22 | G17: ='B14-1'!G17+'B14-2'!G17 -> 16 | H17: ='B14-1'!H17+'B14-2'!H17 -> 0 | I17: ='B14-1'!I17+'B14-2'!I17 -> 0 | J17: ='B14-1'!J17+'B14-2'!J17 -> 0 | ... L17: ='B14-1'!L17+'B14-2'!L17 -> 0 | M17: العاشر فاكثر
A18: Not Stated | B18: ='B14-1'!B18+'B14-2'!B18 -> 0 | C18: ='B14-1'!C18+'B14-2'!C18 -> 0 | D18: ='B14-1'!D18+'B14-2'!D18 -> 0 | E18: ='B14-1'!E18+'B14-2'!E18 -> 0 | F18: ='B14-1'!F18+'B14-2'!F18 -> 0 | G18: ='B14-1'!G18+'B14-2'!G18 -> 0 | H18: ='B14-1'!H18+'B14-2'!H18 -> 0 | I18: ='B14-1'!I18+'B14-2'!I18 -> 0 | ... L18: ='B14-1'!L18+'B14-2'!L18 -> 0 | M18: غير مبين
A19: Total | B19: =SUM(B8:B18) -> 26316 | C19: =SUM(C8:C18) -> 621 | D19: =SUM(D8:D18) -> 69 | E19: =SUM(E8:E18) -> 384 | F19: =SUM(F8:F18) -> 1595 | G19: =SUM(G8:G18) -> 4998 | H19: =SUM(H8:H18) -> 9125 | I19: =SUM(I8:I18) -> 1986 | ... L19: =SUM(L8:L18) -> 2223 | M19: المجموع

Sheet B15-1
A1: المواليد الأحياء المسجلون حسب الحالة التعليمية للأب والأم
A2: REGISTERED LIVE BIRTHS BY EDUCATIONAL STATUS OF FATHER AND MOTHER
A3: 2022
A4: قطريون QATARIS
A5: Table No. (15-1) | L5: جدول رقم (15-1)
A6: Educational Status of Mother | B6: نسبة الحالة التعليمية للأم Percentage Educational Status of Mother | C6: الحالة التعليمية للأب Educational Status of Father | L6: الحالة التعليمية للأم
C7: المجموع Total | D7: غير مبين Not Stated | E7: جامعة فما فوق University & Above | F7: دون الجامعة Pre-University | G7: ثانوية Secondary | H7: إعدادية Preparatory | I7: إبتدائية Primary | J7: يقرأ ويكتب Read & Write | K7: أمى Illiterate
A8: Illiterate | B8: =C8/$C$16% -> 0.27975941 | C8: =SUM(D8:K8) -> 20 | D8: 0 | E8: 6 | F8: 0 | G8: 4 | H8: 1 | I8: 7 | J8: 0 | K8: 2 | L8: أمية
A9: Read & Write | B9: =C9/$C$16% -> 0 | C9: =SUM(D9:K9) -> 0 | D9: 0 | E9: 0 | F9: 0 | G9: 0 | H9: 0 | I9: 0 | J9: 0 | K9: 0 | L9: تقرأ وتكتب
A10: Primary | B10: =C10/$C$16% -> 3.6648482 | C10: =SUM(D10:K10) -> 262 | D10: 0 | E10: 58 | F10: 14 | G10: 95 | H10: 29 | I10: 59 | J10: 0 | K10: 7 | L10: ابتدائية
A11: Preparatory | B11: =C11/$C$16% -> 3.4410407 | C11: =SUM(D11:K11) -> 246 | D11: 1 | E11: 45 | F11: 6 | G11: 103 | H11: 56 | I11: 35 | J11: 0 | K11: 0 | L11: إعدادية
A12: Secondary | B12: =C12/$C$16% -> 34.634215 | C12: =SUM(D12:K12) -> 2476 | D12: 7 | E12: 949 | F12: 211 | G12: 1007 | H12: 167 | I12: 130 | J12: 0 | K12: 5 | L12: ثانوية
A13: Pre-University | B13: =C13/$C$16% -> 4.6160302 | C13: =SUM(D13:K13) -> 330 | D13: 3 | E13: 163 | F13: 48 | G13: 87 | H13: 14 | I13: 15 | J13: 0 | K13: 0 | L13: دون الجامعة
A14: University & Above | B14: =C14/$C$16% -> 49.195692 | C14: =SUM(D14:K14) -> 3517 | D14: 22 | E14: 2368 | F14: 246 | G14: 723 | H14: 89 | I14: 67 | J14: 0 | K14: 2 | L14: جامعة فما فوق
A15: Not Stated | B15: =C15/$C$16% -> 4.1684152 | C15: =SUM(D15:K15) -> 298 | D15: 103 | E15: 135 | F15: 17 | G15: 39 | H15: 1 | I15: 3 | J15: 0 | K15: 0 | L15: غير مبين
A16: Total | B16: =SUM(B8:B15) -> 100 | C16: =SUM(C8:C15) -> 7149 | D16: =SUM(D8:D15) -> 136 | E16: =SUM(E8:E15) -> 3724 | F16: =SUM(F8:F15) -> 542 | G16: =SUM(G8:G15) -> 2058 | H16: =SUM(H8:H15) -> 357 | I16: =SUM(I8:I15) -> 316 | ... K16: =SUM(K8:K15) -> 16 | L16: المجموع
A17: Percentage Educational Status of Father | C17: =SUM(D17:K17) -> 100 | D17: =D16/$C$16% -> 1.902364 | E17: =E16/$C$16% -> 52.091202 | F17: =F16/$C$16% -> 7.5814799 | G17: =G16/$C$16% -> 28.787243 | H17: =H16/$C$16% -> 4.9937054 | I17: =I16/$C$16% -> 4.4201986 | J17: =J16/$C$16% -> 0 | K17: =K16/$C$16% -> 0.22380753 | L17: نسبة الحالة التعليمية للأب

Sheet B15-2
A1: المواليد الأحياء المسجلون حسب الحالة التعليمية للأب والأم
A2: REGISTERED LIVE BIRTHS BY EDUCATIONAL STATUS OF FATHER AND MOTHER
A3: 2022
A4: غير قطريين NON-QATARIS
A5: Table No. (15-2) | L5: جدول رقم (15-2)
A6: Educational Status of Mother | B6: نسبة الحالة التعليمية للأم Percentage Educational Status of Mother | C6: الحالة التعليمية للأب Educational Status of Father | L6: الحالة التعليمية للأم
C7: المجموع Total | D7: غير مبين Not Stated | E7: جامعة فما فوق University & Above | F7: دون الجامعة Pre-University | G7: ثانوية Secondary | H7: إعدادية Preparatory | I7: إبتدائية Primary | J7: يقرأ ويكتب Read & Write | K7: أمى Illiterate
A8: Illiterate | B8: =C8/$C$16% -> 1.0382428 | C8: =SUM(D8:K8) -> 199 | D8: 2 | E8: 12 | F8: 8 | G8: 79 | H8: 13 | I8: 66 | J8: 0 | K8: 19 | L8: أمية
A9: Read & Write | B9: =C9/$C$16% -> 0 | C9: =SUM(D9:K9) -> 0 | D9: 0 | E9: 0 | F9: 0 | G9: 0 | H9: 0 | I9: 0 | J9: 0 | K9: 0 | L9: تقرأ وتكتب
A10: Primary | B10: =C10/$C$16% -> 6.4068451 | C10: =SUM(D10:K10) -> 1228 | D10: 10 | E10: 138 | F10: 79 | G10: 567 | H10: 52 | I10: 381 | J10: 0 | K10: 1 | L10: ابتدائية
A11: Preparatory | B11: =C11/$C$16% -> 1.5182345 | C11: =SUM(D11:K11) -> 291 | D11: 3 | E11: 42 | F11: 10 | G11: 119 | H11: 87 | I11: 27 | J11: 0 | K11: 3 | L11: إعدادية
A12: Secondary | B12: =C12/$C$16% -> 20.33182 | C12: =SUM(D12:K12) -> 3897 | D12: 47 | E12: 1154 | F12: 517 | G12: 1898 | H12: 103 | I12: 168 | J12: 0 | K12: 10 | L12: ثانوية
A13: Pre-University | B13: =C13/$C$16% -> 9.6467888 | C13: =SUM(D13:K13) -> 1849 | D13: 33 | E13: 827 | F13: 614 | G13: 329 | H13: 11 | I13: 35 | J13: 0 | K13: 0 | L13: دون الجامعة
A14: University & Above | B14: =C14/$C$16% -> 57.03553 | C14: =SUM(D14:K14) -> 10932 | D14: 151 | E14: 8596 | F14: 1164 | G14: 933 | H14: 28 | I14: 58 | J14: 0 | K14: 2 | L14: جامعة فما فوق
A15: Not Stated | B15: =C15/$C$16% -> 4.0225387 | C15: =SUM(D15:K15) -> 771 | D15: 414 | E15: 221 | F15: 58 | G15: 58 | H15: 10 | I15: 9 | J15: 0 | K15: 1 | L15: غير مبين
A16: Total | B16: =SUM(B8:B15) -> 100 | C16: =SUM(C8:C15) -> 19167 | D16: =SUM(D8:D15) -> 660 | E16: =SUM(E8:E15) -> 10990 | F16: =SUM(F8:F15) -> 2450 | G16: =SUM(G8:G15) -> 3983 | H16: =SUM(H8:H15) -> 304 | I16: =SUM(I8:I15) -> 744 | ... K16: =SUM(K8:K15) -> 36 | L16: المجموع
A17: Percentage Educational Status of Father | C17: =SUM(D17:K17) -> 100 | D17: =D16/$C$16% -> 3.4434184 | E17: =E16/$C$16% -> 57.338133 | F17: =F16/$C$16% -> 12.782386 | G17: =G16/$C$16% -> 20.780508 | H17: =H16/$C$16% -> 1.5860594 | I17: =I16/$C$16% -> 3.8816716 | J17: =J16/$C$16% -> 0 | K17: =K16/$C$16% -> 0.18782282 | L17: نسبة الحالة التعليمية للأب
B20: قطريون Qataris | C20: غير قطريين NON-QATARIS
A21: غير مبين Not Stated | B21: ='B15-1'!C15 -> 298 | C21: =C15 -> 771
A22: أمية Illiterate | B22: ='B15-1'!C8 -> 20 | C22: =C8 -> 199
A23: تقرأ وتكتب Read & Write | B23: ='B15-1'!C9 -> 0 | C23: =C9 -> 0
A24: ابتدائية Primary | B24: ='B15-1'!C10 -> 262 | C24: =C10 -> 1228
A25: إعدادية Preparatory | B25: ='B15-1'!C11 -> 246 | C25: =C11 -> 291
A26: ثانوية Secondary | B26: ='B15-1'!C12 -> 2476 | C26: =C12 -> 3897
A27: دون الجامعة Pre-University | B27: ='B15-1'!C13 -> 330 | C27: =C13 -> 1849
A28: جامعة فما فوق University & Above | B28: ='B15-1'!C14 -> 3517 | C28: =C14 -> 10932
B29: =SUM(B21:B28) -> 7149 | C29: =SUM(C21:C28) -> 19167

Sheet B15-3
A1: المواليد الأحياء المسجلون حسب الحالة التعليمية للأب والأم
A2: REGISTERED LIVE BIRTHS BY EDUCATIONAL STATUS OF FATHER AND MOTHER
A3: 2022
A4: المجموع TOTAL
A5: Table No. (15-3) | L5: جدول رقم (15-3)
A6: Educational Status of Mother | B6: نسبة الحالة التعليمية للأم Percentage Educational Status of Mother | C6: الحالة التعليمية للأب Educational Status of Father | L6: الحالة التعليمية للأم
C7: المجموع Total | D7: غير مبين Not Stated | E7: جامعة فما فوق University & Above | F7: دون الجامعة Pre-University | G7: ثانوية Secondary | H7: إعدادية Preparatory | I7: إبتدائية Primary | J7: يقرأ ويكتب Read & Write | K7: أمى Illiterate
A8: Illiterate | B8: =C8/$C$16% -> 0.83219334 | C8: =SUM(D8:K8) -> 219 | D8: ='B15-1'!D8+'B15-2'!D8 -> 2 | E8: ='B15-1'!E8+'B15-2'!E8 -> 18 | F8: ='B15-1'!F8+'B15-2'!F8 -> 8 | G8: ='B15-1'!G8+'B15-2'!G8 -> 83 | H8: ='B15-1'!H8+'B15-2'!H8 -> 14 | I8: ='B15-1'!I8+'B15-2'!I8 -> 73 | J8: ='B15-1'!J8+'B15-2'!J8 -> 0 | K8: ='B15-1'!K8+'B15-2'!K8 -> 21 | L8: أمية
A9: Read & Write | B9: =C9/$C$16% -> 0 | C9: =SUM(D9:K9) -> 0 | D9: ='B15-1'!D9+'B15-2'!D9 -> 0 | E9: ='B15-1'!E9+'B15-2'!E9 -> 0 | F9: ='B15-1'!F9+'B15-2'!F9 -> 0 | G9: ='B15-1'!G9+'B15-2'!G9 -> 0 | H9: ='B15-1'!H9+'B15-2'!H9 -> 0 | I9: ='B15-1'!I9+'B15-2'!I9 -> 0 | J9: ='B15-1'!J9+'B15-2'!J9 -> 0 | K9: ='B15-1'!K9+'B15-2'!K9 -> 0 | L9: تقرأ وتكتب
A10: Primary | B10: =C10/$C$16% -> 5.6619547 | C10: =SUM(D10:K10) -> 1490 | D10: ='B15-1'!D10+'B15-2'!D10 -> 10 | E10: ='B15-1'!E10+'B15-2'!E10 -> 196 | F10: ='B15-1'!F10+'B15-2'!F10 -> 93 | G10: ='B15-1'!G10+'B15-2'!G10 -> 662 | H10: ='B15-1'!H10+'B15-2'!H10 -> 81 | I10: ='B15-1'!I10+'B15-2'!I10 -> 440 | J10: ='B15-1'!J10+'B15-2'!J10 -> 0 | K10: ='B15-1'!K10+'B15-2'!K10 -> 8 | L10: ابتدائية
A11: Preparatory | B11: =C11/$C$16% -> 2.0405837 | C11: =SUM(D11:K11) -> 537 | D11: ='B15-1'!D11+'B15-2'!D11 -> 4 | E11: ='B15-1'!E11+'B15-2'!E11 -> 87 | F11: ='B15-1'!F11+'B15-2'!F11 -> 16 | G11: ='B15-1'!G11+'B15-2'!G11 -> 222 | H11: ='B15-1'!H11+'B15-2'!H11 -> 143 | I11: ='B15-1'!I11+'B15-2'!I11 -> 62 | J11: ='B15-1'!J11+'B15-2'!J11 -> 0 | K11: ='B15-1'!K11+'B15-2'!K11 -> 3 | L11: إعدادية
A12: Secondary | B12: =C12/$C$16% -> 24.217206 | C12: =SUM(D12:K12) -> 6373 | D12: ='B15-1'!D12+'B15-2'!D12 -> 54 | E12: ='B15-1'!E12+'B15-2'!E12 -> 2103 | F12: ='B15-1'!F12+'B15-2'!F12 -> 728 | G12: ='B15-1'!G12+'B15-2'!G12 -> 2905 | H12: ='B15-1'!H12+'B15-2'!H12 -> 270 | I12: ='B15-1'!I12+'B15-2'!I12 -> 298 | J12: ='B15-1'!J12+'B15-2'!J12 -> 0 | K12: ='B15-1'!K12+'B15-2'!K12 -> 15 | L12: ثانوية
A13: Pre-University | B13: =C13/$C$16% -> 8.2801338 | C13: =SUM(D13:K13) -> 2179 | D13: ='B15-1'!D13+'B15-2'!D13 -> 36 | E13: ='B15-1'!E13+'B15-2'!E13 -> 990 | F13: ='B15-1'!F13+'B15-2'!F13 -> 662 | G13: ='B15-1'!G13+'B15-2'!G13 -> 416 | H13: ='B15-1'!H13+'B15-2'!H13 -> 25 | I13: ='B15-1'!I13+'B15-2'!I13 -> 50 | J13: ='B15-1'!J13+'B15-2'!J13 -> 0 | K13: ='B15-1'!K13+'B15-2'!K13 -> 0 | L13: دون الجامعة
A14: University & Above | B14: =C14/$C$16% -> 54.905761 | C14: =SUM(D14:K14) -> 14449 | D14: ='B15-1'!D14+'B15-2'!D14 -> 173 | E14: ='B15-1'!E14+'B15-2'!E14 -> 10964 | F14: ='B15-1'!F14+'B15-2'!F14 -> 1410 | G14: ='B15-1'!G14+'B15-2'!G14 -> 1656 | H14: ='B15-1'!H14+'B15-2'!H14 -> 117 | I14: ='B15-1'!I14+'B15-2'!I14 -> 125 | J14: ='B15-1'!J14+'B15-2'!J14 -> 0 | K14: ='B15-1'!K14+'B15-2'!K14 -> 4 | L14: جامعة فما فوق
A15: Not Stated | B15: =C15/$C$16% -> 4.0621675 | C15: =SUM(D15:K15) -> 1069 | D15: ='B15-1'!D15+'B15-2'!D15 -> 517 | E15: ='B15-1'!E15+'B15-2'!E15 -> 356 | F15: ='B15-1'!F15+'B15-2'!F15 -> 75 | G15: ='B15-1'!G15+'B15-2'!G15 -> 97 | H15: ='B15-1'!H15+'B15-2'!H15 -> 11 | I15: ='B15-1'!I15+'B15-2'!I15 -> 12 | J15: ='B15-1'!J15+'B15-2'!J15 -> 0 | K15: ='B15-1'!K15+'B15-2'!K15 -> 1 | L15: غير مبين
A16: Total | B16: =SUM(B8:B15) -> 100 | C16: =SUM(C8:C15) -> 26316 | D16: =SUM(D8:D15) -> 796 | E16: =SUM(E8:E15) -> 14714 | F16: =SUM(F8:F15) -> 2992 | G16: =SUM(G8:G15) -> 6041 | H16: =SUM(H8:H15) -> 661 | I16: =SUM(I8:I15) -> 1060 | ... K16: =SUM(K8:K15) -> 52 | L16: المجموع
A17: Percentage Educational Status of Father | C17: =SUM(D17:K17) -> 100 | D17: =D16/$C$16% -> 3.0247758 | E17: =E16/$C$16% -> 55.912753 | F17: =F16/$C$16% -> 11.369509 | G17: =G16/$C$16% -> 22.955616 | H17: =H16/$C$16% -> 2.5117799 | I17: =I16/$C$16% -> 4.0279678 | J17: =J16/$C$16% -> 0 | K17: =K16/$C$16% -> 0.19759842 | L17: نسبة الحالة التعليمية للأب

Sheet B16-1
A1: المواليد الأحياء المسجلون حسب فئة عمر الأم وحالتها التعليمية
A2: REGISTERED LIVE BIRTHS BY MOTHER'S AGE GROUP AND EDUCATIONAL STATUS
A3: 2022
A4: قطريات QATARIS
A5: Table No. (16-1) | L5: جدول رقم (16-1)
A6: Educational Status | B6: Mother's Age Group (in Years) (فئة عمر الأم (بالسنوات | L6: الحالة التعليمية
B7: المجموع Total | C7: غير مبين Unknown | D7: 50+ | E7: 45-49 | F7: 40-44 | G7: 35-39 | H7: 30-34 | I7: 25-29 | J7: 20-24 | K7: اقل من 20 Less than 20
A8: Illiterate | B8: =SUM(D8:K8) -> 12 | C8: 0 | D8: 0 | E8: 0 | F8: 3 | G8: 5 | H8: 2 | I8: 2 | J8: 0 | K8: 0 | L8: أمية
A9: Read & Write | B9: =SUM(D9:K9) -> 0 | C9: 0 | D9: 0 | E9: 0 | F9: 0 | G9: 0 | H9: 0 | I9: 0 | J9: 0 | K9: 0 | L9: تقرأ وتكتب
A10: Primary | B10: =SUM(D10:K10) -> 177 | C10: 0 | D10: 0 | E10: 2 | F10: 22 | G10: 44 | H10: 51 | I10: 38 | J10: 19 | K10: 1 | L10: إبتدائية
A11: Preparatory | B11: =SUM(D11:K11) -> 188 | C11: 0 | D11: 0 | E11: 0 | F11: 16 | G11: 31 | H11: 41 | I11: 57 | J11: 38 | K11: 5 | L11: إعدادية
A12: Secondary | B12: =SUM(D12:K12) -> 2030 | C12: 0 | D12: 1 | E12: 10 | F12: 112 | G12: 379 | H12: 577 | I12: 575 | J12: 359 | K12: 17 | L12: ثانوية
A13: Pre-University | B13: =SUM(D13:K13) -> 271 | C13: 0 | D13: 0 | E13: 2 | F13: 25 | G13: 55 | H13: 84 | I13: 72 | J13: 33 | K13: 0 | L13: دون الجامعة
A14: University & Above | B14: =SUM(D14:K14) -> 3109 | C14: 0 | D14: 0 | E14: 16 | F14: 240 | G14: 583 | H14: 872 | I14: 1062 | J14: 336 | K14: 0 | L14: جامعة فما فوق
A15: Not Stated | B15: =SUM(D15:K15) -> 266 | C15: 0 | D15: 0 | E15: 1 | F15: 15 | G15: 61 | H15: 86 | I15: 74 | J15: 29 | K15: 0 | L15: غير مبين
A16: Total | B16: =SUM(B8:B15) -> 6053 | C16: =SUM(C8:C15) -> 0 | D16: =SUM(D8:D15) -> 1 | E16: =SUM(E8:E15) -> 31 | F16: =SUM(F8:F15) -> 433 | G16: =SUM(G8:G15) -> 1158 | H16: =SUM(H8:H15) -> 1713 | I16: =SUM(I8:I15) -> 1880 | ... K16: =SUM(K8:K15) -> 23 | L16: المجموع

Sheet B16-2
A1: المواليد الأحياء المسجلون حسب فئة عمر الأم وحالتها التعليمية
A2: REGISTERED LIVE BIRTHS BY MOTHER'S AGE GROUP AND EDUCATIONAL STATUS
A3: 2022
A4: غير قطريات NON-QATARIS
A5: Table No. (16-2) | L5: جدول رقم (16-2)
A6: Educational Status | B6: Mother's Age Group (in Years) (فئة عمر الأم (بالسنوات | L6: الحالة التعليمية
B7: المجموع Total | C7: غير مبين Unknown | D7: 50+ | E7: 45-49 | F7: 40-44 | G7: 35-39 | H7: 30-34 | I7: 25-29 | J7: 20-24 | K7: اقل من 20 Less than 20
A8: Illiterate | B8: =SUM(C8:K8) -> 207 | C8: 0 | D8: 0 | E8: 1 | F8: 12 | G8: 42 | H8: 59 | I8: 47 | J8: 43 | K8: 3 | L8: أمية
A9: Read & Write | B9: =SUM(C9:K9) -> 0 | C9: 0 | D9: 0 | E9: 0 | F9: 0 | G9: 0 | H9: 0 | I9: 0 | J9: 0 | K9: 0 | L9: تقرأ وتكتب
A10: Primary | B10: =SUM(C10:K10) -> 1313 | C10: 2 | D10: 2 | E10: 11 | F10: 97 | G10: 237 | H10: 308 | I10: 327 | J10: 289 | K10: 40 | L10: إبتدائية
A11: Preparatory | B11: =SUM(C11:K11) -> 349 | C11: 2 | D11: 0 | E11: 2 | F11: 20 | G11: 41 | H11: 92 | I11: 88 | J11: 84 | K11: 20 | L11: إعدادية
A12: Secondary | B12: =SUM(C12:K12) -> 4343 | C12: 2 | D12: 1 | E12: 20 | F12: 193 | G12: 654 | H12: 1214 | I12: 1295 | J12: 879 | K12: 85 | L12: ثانوية
A13: Pre-University | B13: =SUM(C13:K13) -> 1908 | C13: 1 | D13: 0 | E13: 8 | F13: 119 | G13: 421 | H13: 714 | I13: 493 | J13: 144 | K13: 8 | L13: دون الجامعة
A14: University & Above | B14: =SUM(C14:K14) -> 11340 | C14: 5 | D14: 2 | E14: 15 | F14: 496 | G14: 2651 | H14: 4728 | I14: 3037 | J14: 406 | K14: 0 | L14: جامعة فما فوق
A15: Not Stated | B15: =SUM(C15:K15) -> 803 | C15: 1 | D15: 0 | E15: 4 | F15: 37 | G15: 175 | H15: 270 | I15: 200 | J15: 109 | K15: 7 | L15: غير مبين
A16: Total | B16: =SUM(B8:B15) -> 20263 | C16: =SUM(C8:C15) -> 13 | D16: =SUM(D8:D15) -> 5 | E16: =SUM(E8:E15) -> 61 | F16: =SUM(F8:F15) -> 974 | G16: =SUM(G8:G15) -> 4221 | H16: =SUM(H8:H15) -> 7385 | I16: =SUM(I8:I15) -> 5487 | ... K16: =SUM(K8:K15) -> 163 | L16: المجموع

Sheet B16-3
A1: المواليد الأحياء المسجلون حسب فئة عمر الأم وحالتها التعليمية
A2: REGISTERED LIVE BIRTHS BY MOTHER'S AGE GROUP AND EDUCATIONAL STATUS
A3: 2022
A4: المجموع TOTAL
A5: Table No. (16-3) | L5: جدول رقم (16-3)
A6: Educational Status | B6: Mother's Age Group (in Years) (فئة عمر الأم (بالسنوات | L6: الحالة التعليمية
B7: المجموع Total | C7: غير مبين Unknown | D7: 50+ | E7: 45-49 | F7: 40-44 | G7: 35-39 | H7: 30-34 | I7: 25-29 | J7: 20-24 | K7: اقل من 20 Less than 20
A8: Illiterate | B8: =SUM(C8:K8) -> 219 | C8: ='B16-1'!C8+'B16-2'!C8 -> 0 | D8: ='B16-1'!D8+'B16-2'!D8 -> 0 | E8: ='B16-1'!E8+'B16-2'!E8 -> 1 | F8: ='B16-1'!F8+'B16-2'!F8 -> 15 | G8: ='B16-1'!G8+'B16-2'!G8 -> 47 | H8: ='B16-1'!H8+'B16-2'!H8 -> 61 | I8: ='B16-1'!I8+'B16-2'!I8 -> 49 | J8: ='B16-1'!J8+'B16-2'!J8 -> 43 | K8: ='B16-1'!K8+'B16-2'!K8 -> 3 | L8: أمية
A9: Read & Write | B9: =SUM(C9:K9) -> 0 | C9: ='B16-1'!C9+'B16-2'!C9 -> 0 | D9: ='B16-1'!D9+'B16-2'!D9 -> 0 | E9: ='B16-1'!E9+'B16-2'!E9 -> 0 | F9: ='B16-1'!F9+'B16-2'!F9 -> 0 | G9: ='B16-1'!G9+'B16-2'!G9 -> 0 | H9: ='B16-1'!H9+'B16-2'!H9 -> 0 | I9: ='B16-1'!I9+'B16-2'!I9 -> 0 | J9: ='B16-1'!J9+'B16-2'!J9 -> 0 | K9: ='B16-1'!K9+'B16-2'!K9 -> 0 | L9: تقرأ وتكتب
A10: Primary | B10: =SUM(C10:K10) -> 1490 | C10: ='B16-1'!C10+'B16-2'!C10 -> 2 | D10: ='B16-1'!D10+'B16-2'!D10 -> 2 | E10: ='B16-1'!E10+'B16-2'!E10 -> 13 | F10: ='B16-1'!F10+'B16-2'!F10 -> 119 | G10: ='B16-1'!G10+'B16-2'!G10 -> 281 | H10: ='B16-1'!H10+'B16-2'!H10 -> 359 | I10: ='B16-1'!I10+'B16-2'!I10 -> 365 | J10: ='B16-1'!J10+'B16-2'!J10 -> 308 | K10: ='B16-1'!K10+'B16-2'!K10 -> 41 | L10: إبتدائية
A11: Preparatory | B11: =SUM(C11:K11) -> 537 | C11: ='B16-1'!C11+'B16-2'!C11 -> 2 | D11: ='B16-1'!D11+'B16-2'!D11 -> 0 | E11: ='B16-1'!E11+'B16-2'!E11 -> 2 | F11: ='B16-1'!F11+'B16-2'!F11 -> 36 | G11: ='B16-1'!G11+'B16-2'!G11 -> 72 | H11: ='B16-1'!H11+'B16-2'!H11 -> 133 | I11: ='B16-1'!I11+'B16-2'!I11 -> 145 | J11: ='B16-1'!J11+'B16-2'!J11 -> 122 | K11: ='B16-1'!K11+'B16-2'!K11 -> 25 | L11: إعدادية
A12: Secondary | B12: =SUM(C12:K12) -> 6373 | C12: ='B16-1'!C12+'B16-2'!C12 -> 2 | D12: ='B16-1'!D12+'B16-2'!D12 -> 2 | E12: ='B16-1'!E12+'B16-2'!E12 -> 30 | F12: ='B16-1'!F12+'B16-2'!F12 -> 305 | G12: ='B16-1'!G12+'B16-2'!G12 -> 1033 | H12: ='B16-1'!H12+'B16-2'!H12 -> 1791 | I12: ='B16-1'!I12+'B16-2'!I12 -> 1870 | J12: ='B16-1'!J12+'B16-2'!J12 -> 1238 | K12: ='B16-1'!K12+'B16-2'!K12 -> 102 | L12: ثانوية
A13: Pre-University | B13: =SUM(C13:K13) -> 2179 | C13: ='B16-1'!C13+'B16-2'!C13 -> 1 | D13: ='B16-1'!D13+'B16-2'!D13 -> 0 | E13: ='B16-1'!E13+'B16-2'!E13 -> 10 | F13: ='B16-1'!F13+'B16-2'!F13 -> 144 | G13: ='B16-1'!G13+'B16-2'!G13 -> 476 | H13: ='B16-1'!H13+'B16-2'!H13 -> 798 | I13: ='B16-1'!I13+'B16-2'!I13 -> 565 | J13: ='B16-1'!J13+'B16-2'!J13 -> 177 | K13: ='B16-1'!K13+'B16-2'!K13 -> 8 | L13: دون الجامعة
A14: University & Above | B14: =SUM(C14:K14) -> 14449 | C14: ='B16-1'!C14+'B16-2'!C14 -> 5 | D14: ='B16-1'!D14+'B16-2'!D14 -> 2 | E14: ='B16-1'!E14+'B16-2'!E14 -> 31 | F14: ='B16-1'!F14+'B16-2'!F14 -> 736 | G14: ='B16-1'!G14+'B16-2'!G14 -> 3234 | H14: ='B16-1'!H14+'B16-2'!H14 -> 5600 | I14: ='B16-1'!I14+'B16-2'!I14 -> 4099 | J14: ='B16-1'!J14+'B16-2'!J14 -> 742 | K14: ='B16-1'!K14+'B16-2'!K14 -> 0 | L14: جامعة فما فوق
A15: Not Stated | B15: =SUM(C15:K15) -> 1069 | C15: ='B16-1'!C15+'B16-2'!C15 -> 1 | D15: ='B16-1'!D15+'B16-2'!D15 -> 0 | E15: ='B16-1'!E15+'B16-2'!E15 -> 5 | F15: ='B16-1'!F15+'B16-2'!F15 -> 52 | G15: ='B16-1'!G15+'B16-2'!G15 -> 236 | H15: ='B16-1'!H15+'B16-2'!H15 -> 356 | I15: ='B16-1'!I15+'B16-2'!I15 -> 274 | J15: ='B16-1'!J15+'B16-2'!J15 -> 138 | K15: ='B16-1'!K15+'B16-2'!K15 -> 7 | L15: غير مبين
A16: Total | B16: =SUM(B8:B15) -> 26316 | C16: =SUM(C8:C15) -> 13 | D16: =SUM(D8:D15) -> 6 | E16: =SUM(E8:E15) -> 92 | F16: =SUM(F8:F15) -> 1407 | G16: =SUM(G8:G15) -> 5379 | H16: =SUM(H8:H15) -> 9098 | I16: =SUM(I8:I15) -> 7367 | ... K16: =SUM(K8:K15) -> 186 | L16: المجموع

Sheet B17
A1: المواليد الأحياء المسجلون حسب الجنسية والنوع ووزن المولود
A2: REGISTERED LIVE BIRTHS BY NATIONALITY, GENDER AND BIRTH WEIGHT
A3: 2022
A4: Table No. (17) | K4: جدول رقم (17)
A5: Nationality & Gender Birth Weight (in Grams) | B5: Total المجموع | E5: Non-Qataris غير قطريين | H5: Qataris قطريون | K5: الجنسية والنوع وزن المولود (بالجرام)
B6: المجموع العام G.T | C6: إناث Females | D6: ذكور Males | E6: المجموع Total | F6: إناث Females | G6: ذكور Males | H6: المجموع Total | I6: إناث Females | J6: ذكور Males
A7: Less than 1000 | B7: =D7+C7 -> 112 | C7: =I7+F7 -> 49 | D7: =J7+G7 -> 63 | E7: =G7+F7 -> 80 | F7: 33 | G7: 47 | H7: =J7+I7 -> 32 | I7: 16 | J7: 16 | K7: أقل من 1000
A8: 1000-1499 | B8: =D8+C8 -> 232 | C8: =I8+F8 -> 106 | D8: =J8+G8 -> 126 | E8: =G8+F8 -> 157 | F8: 75 | G8: 82 | H8: =J8+I8 -> 75 | I8: 31 | J8: 44 | K8: 1000-1499
A9: 1500-1999 | B9: =D9+C9 -> 518 | C9: =I9+F9 -> 248 | D9: =J9+G9 -> 270 | E9: =G9+F9 -> 320 | F9: 146 | G9: 174 | H9: =J9+I9 -> 198 | I9: 102 | J9: 96 | K9: 1500 - 1999
A10: 2000-2499 | B10: =D10+C10 -> 1789 | C10: =I10+F10 -> 997 | D10: =J10+G10 -> 792 | E10: =G10+F10 -> 1206 | F10: 665 | G10: 541 | H10: =J10+I10 -> 583 | I10: 332 | J10: 251 | K10: 2000 - 2499
A11: Total births are less than 2500 gms | B11: =SUM(B7:B10) -> 2651 | C11: =SUM(C7:C10) -> 1400 | D11: =SUM(D7:D10) -> 1251 | E11: =SUM(E7:E10) -> 1763 | F11: =SUM(F7:F10) -> 919 | G11: =SUM(G7:G10) -> 844 | H11: =SUM(H7:H10) -> 888 | I11: =SUM(I7:I10) -> 481 | J11: =SUM(J7:J10) -> 407 | K11: مجموع المواليد الذين هم أقل من 2500 جرام
A12: 2500-2999 | B12: =D12+C12 -> 6743 | C12: =I12+F12 -> 3607 | D12: =J12+G12 -> 3136 | E12: =G12+F12 -> 4617 | F12: 2450 | G12: 2167 | H12: =J12+I12 -> 2126 | I12: 1157 | J12: 969 | K12: 2500 - 2999
A13: 3000-3499 | B13: =D13+C13 -> 10894 | C13: =I13+F13 -> 5450 | D13: =J13+G13 -> 5444 | E13: =G13+F13 -> 8015 | F13: 4049 | G13: 3966 | H13: =J13+I13 -> 2879 | I13: 1401 | J13: 1478 | K13: 3000-3499
A14: 3500-3999 | B14: =D14+C14 -> 5071 | C14: =I14+F14 -> 2118 | D14: =J14+G14 -> 2953 | E14: =G14+F14 -> 3983 | F14: 1700 | G14: 2283 | H14: =J14+I14 -> 1088 | I14: 418 | J14: 670 | K14: 3500-3999
A15: 4000-4499 | B15: =D15+C15 -> 876 | C15: =I15+F15 -> 314 | D15: =J15+G15 -> 562 | E15: =G15+F15 -> 723 | F15: 263 | G15: 460 | H15: =J15+I15 -> 153 | I15: 51 | J15: 102 | K15: 4000-4499
A16: 4500-4999 | B16: =D16+C16 -> 68 | C16: =I16+F16 -> 25 | D16: =J16+G16 -> 43 | E16: =G16+F16 -> 59 | F16: 24 | G16: 35 | H16: =J16+I16 -> 9 | I16: 1 | J16: 8 | K16: 4500-4999
A17: 5000 + | B17: =D17+C17 -> 13 | C17: =I17+F17 -> 6 | D17: =J17+G17 -> 7 | E17: =G17+F17 -> 7 | F17: 3 | G17: 4 | H17: =J17+I17 -> 6 | I17: 3 | J17: 3 | K17: 5000 +
A18: Total births are 2500 gms and more | B18: =SUM(B12:B17) -> 23665 | C18: =SUM(C12:C17) -> 11520 | D18: =SUM(D12:D17) -> 12145 | E18: =SUM(E12:E17) -> 17404 | F18: =SUM(F12:F17) -> 8489 | G18: =SUM(G12:G17) -> 8915 | H18: =SUM(H12:H17) -> 6261 | I18: =SUM(I12:I17) -> 3031 | J18: =SUM(J12:J17) -> 3230 | K18: مجموع المواليد الذين هم 2500 جرام فأكثر
A19: Grand Total | B19: =+B11+B18 -> 26316 | C19: =+C11+C18 -> 12920 | D19: =+D11+D18 -> 13396 | E19: =+E11+E18 -> 19167 | F19: =+F11+F18 -> 9408 | G19: =+G11+G18 -> 9759 | H19: =+H11+H18 -> 7149 | I19: =+I11+I18 -> 3512 | J19: =+J11+J18 -> 3637 | K19: المجموع الكلي
A21: Percentage births are less than 2500 gms | B21: =B11/B19*100 -> 10.073719 | C21: =C11/C19*100 -> 10.835913 | D21: =D11/D19*100 -> 9.3386085 | E21: =E11/E19*100 -> 9.1981009 | F21: =F11/F19*100 -> 9.7682823 | G21: =G11/G19*100 -> 8.6484271 | H21: =H11/H19*100 -> 12.421318 | I21: =I11/I19*100 -> 13.6959 | J21: =J11/J19*100 -> 11.190542 | K21: نسبة المواليد الذين هم أقل من 2500 جرام
A22: Percentage births are (2500 gms) and more | B22: =B18/B19*100 -> 89.926281 | C22: =C18/C19*100 -> 89.164087 | D22: =D18/D19*100 -> 90.661391 | E22: =E18/E19*100 -> 90.801899 | F22: =F18/F19*100 -> 90.231718 | G22: =G18/G19*100 -> 91.351573 | H22: =H18/H19*100 -> 87.578682 | I22: =I18/I19*100 -> 86.3041 | J22: =J18/J19*100 -> 88.809458 | K22: نسبة المواليد (2500 جرم) فأكثر

Sheet B18
A1: المواليد الأحياء المسجلون حسب فئة عمر الأم وجنسيتها ومهنتها
A2: REGISTERED LIVE BIRTHS BY MOTEHR'S AGE GROUP, NATIONALITY AND OCCUPATION
A3: 2022
A4: Table No. (18) | N4: جدول رقم (18)
A5: Mother's Occupation | B5: Nationality | C5: Mother's Age Group (in Years) (فئة عمر الأم (بالسنوات | M5: الجنسية | N5: مهنة الأم
C6: المجموع Total | D6: غير مبين Unknown | E6: 50 + | F6: 45 - 49 | G6: 40 - 44 | H6: 35 - 39 | I6: 30 - 34 | J6: 25 - 29 | K6: 20 - 24 | L6: اقل من 20 Less than 20
A7: Legislators, Senior Officials and Managers | B7: Qatari | C7: =SUM(D7:L7) -> 54 | D7: 0 | E7: 0 | F7: 1 | G7: 10 | H7: 15 | I7: 18 | J7: 6 | K7: 4 | L7: 0 | M7: قطريات | N7: المشرعون وموظفو الإدارة العليا والمديرون
B8: Non-Qatari | C8: =SUM(D8:L8) -> 178 | D8: 0 | E8: 0 | F8: 1 | G8: 15 | H8: 57 | I8: 75 | J8: 25 | K8: 5 | L8: 0 | M8: غير قطريات
B9: Total | C9: =SUM(D9:L9) -> 232 | D9: 0 | E9: =E7+E8 -> 0 | F9: =F7+F8 -> 2 | G9: =G7+G8 -> 25 | H9: =H7+H8 -> 72 | I9: =I7+I8 -> 93 | J9: =J7+J8 -> 31 | K9: =K7+K8 -> 9 | L9: =L7+L8 -> 0 | M9: المجموع
A10: Professionals | B10: Qatari | C10: =SUM(D10:L10) -> 2144 | D10: 0 | E10: 0 | F10: 12 | G10: 158 | H10: 421 | I10: 707 | J10: 683 | K10: 163 | L10: 0 | M10: قطريات | N10: الاختصـاصيون
B11: Non-Qatari | C11: =SUM(D11:L11) -> 2725 | D11: 0 | E11: 1 | F11: 4 | G11: 153 | H11: 733 | I11: 1078 | J11: 674 | K11: 77 | L11: 5 | M11: غير قطريات
B12: Total | C12: =SUM(D12:L12) -> 4869 | D12: 0 | E12: =E10+E11 -> 1 | F12: =F10+F11 -> 16 | G12: =G10+G11 -> 311 | H12: =H10+H11 -> 1154 | I12: =I10+I11 -> 1785 | J12: =J10+J11 -> 1357 | K12: =K10+K11 -> 240 | L12: =L10+L11 -> 5 | M12: المجموع
A13: Technicians And Associate Professionals | B13: Qatari | C13: =SUM(D13:L13) -> 638 | D13: 0 | E13: 0 | F13: 5 | G13: 48 | H13: 158 | I13: 190 | J13: 198 | K13: 37 | L13: 2 | M13: قطريات | N13: الفنيـون والاختصاصيون المساعدون
B14: Non-Qatari | C14: =SUM(D14:L14) -> 2710 | D14: 0 | E14: 1 | F14: 7 | G14: 113 | H14: 715 | I14: 1272 | J14: 534 | K14: 65 | L14: 3 | M14: غير قطريات
B15: Total | C15: =SUM(D15:L15) -> 3348 | D15: 0 | E15: =E13+E14 -> 1 | F15: =F13+F14 -> 12 | G15: =G13+G14 -> 161 | H15: =H13+H14 -> 873 | I15: =I13+I14 -> 1462 | J15: =J13+J14 -> 732 | K15: =K13+K14 -> 102 | L15: =L13+L14 -> 5 | M15: المجموع
A16: Clerks | B16: Qatari | C16: =SUM(D16:L16) -> 1073 | D16: 0 | E16: 0 | F16: 5 | G16: 120 | H16: 269 | I16: 348 | J16: 290 | K16: 41 | L16: 0 | M16: قطريات | N16: الكتــبة
B17: Non-Qatari | C17: =SUM(D17:L17) -> 693 | D17: 0 | E17: 1 | F17: 6 | G17: 45 | H17: 168 | I17: 277 | J17: 168 | K17: 27 | L17: 1 | M17: غير قطريات
B18: Total | C18: =SUM(D18:L18) -> 1766 | D18: 0 | E18: =E16+E17 -> 1 | F18: =F16+F17 -> 11 | G18: =G16+G17 -> 165 | H18: =H16+H17 -> 437 | I18: =I16+I17 -> 625 | J18: =J16+J17 -> 458 | K18: =K16+K17 -> 68 | L18: =L16+L17 -> 1 | M18: المجموع
A19: Service Workers And Shop And Market Sales Workers | B19: Qatari | C19: =SUM(D19:L19) -> 48 | D19: 0 | E19: 0 | F19: 0 | G19: 1 | H19: 12 | I19: 11 | J19: 16 | K19: 8 | L19: 0 | M19: قطريات | N19: العاملون في الخدمات والباعة في المحلات التجارية والأسواق
B20: Non-Qatari | C20: =SUM(D20:L20) -> 593 | D20: 1 | E20: 0 | F20: 4 | G20: 22 | H20: 115 | I20: 237 | J20: 158 | K20: 51 | L20: 5 | M20: غير قطريات
B21: Total | C21: =SUM(D21:L21) -> 640 | D21: 0 | E21: =SUM(E19:E20) -> 0 | F21: =F19+F20 -> 4 | G21: =G19+G20 -> 23 | H21: =H19+H20 -> 127 | I21: =I19+I20 -> 248 | J21: =J19+J20 -> 174 | K21: =K19+K20 -> 59 | L21: =L19+L20 -> 5 | M21: المجموع
A22: Skilled Agricultural And Fishery Workers | B22: Qatari | C22: =SUM(D22:L22) -> 0 | D22: 0 | E22: 0 | F22: 0 | G22: 0 | H22: 0 | I22: 0 | J22: 0 | K22: 0 | L22: 0 | M22: قطريات | N22: العمال المهرة في الزراعة وصيد الاسماك
B23: Non-Qatari | C23: =SUM(D23:L23) -> 0 | D23: 0 | E23: 0 | F23: 0 | G23: 0 | H23: 0 | I23: 0 | J23: 0 | K23: 0 | L23: 0 | M23: غير قطريات
B24: Total | C24: =SUM(D24:L24) -> 0 | D24: 0 | E24: =SUM(E22:E23) -> 0 | F24: =F22+F23 -> 0 | G24: =G22+G23 -> 0 | H24: =H22+H23 -> 0 | I24: =I22+I23 -> 0 | J24: =J22+J23 -> 0 | K24: =K22+K23 -> 0 | L24: =L22+L23 -> 0 | M24: المجموع
A25: Craft And Related-Trades Workers | B25: Qatari | C25: =SUM(D25:L25) -> 0 | D25: 0 | E25: 0 | F25: 0 | G25: 0 | H25: 0 | I25: 0 | J25: 0 | K25: 0 | L25: 0 | M25: قطريات | N25: العاملون في الحرف وما إليها من المهن
B26: Non-Qatari | C26: =SUM(D26:L26) -> 10 | D26: 0 | E26: 0 | F26: 2 | G26: 0 | H26: 1 | I26: 4 | J26: 3 | K26: 0 | L26: 0 | M26: غير قطريات
B27: Total | C27: =SUM(D27:L27) -> 10 | D27: 0 | E27: =SUM(E25:E26) -> 0 | F27: =F25+F26 -> 2 | G27: =G25+G26 -> 0 | H27: =H25+H26 -> 1 | I27: =I25+I26 -> 4 | J27: =J25+J26 -> 3 | K27: =K25+K26 -> 0 | L27: =L25+L26 -> 0 | M27: المجموع
A28: Plant And Machine Operators And Assemblers | B28: Qatari | C28: =SUM(D28:L28) -> 0 | D28: 0 | E28: 0 | F28: 0 | G28: 0 | H28: 0 | I28: 0 | J28: 0 | K28: 0 | L28: 0 | M28: قطريات | N28: مشغلو الالات والمعدات ومجمعوها
B29: Non-Qatari | C29: =SUM(D29:L29) -> 6 | D29: 0 | E29: 0 | F29: 0 | G29: 1 | H29: 2 | I29: 2 | J29: 1 | K29: 0 | L29: 0 | M29: غير قطريات
B30: Total | C30: =SUM(D30:L30) -> 6 | D30: 0 | E30: =SUM(E28:E29) -> 0 | F30: =F28+F29 -> 0 | G30: =G28+G29 -> 1 | H30: =H28+H29 -> 2 | I30: =I28+I29 -> 2 | J30: =J28+J29 -> 1 | K30: =K28+K29 -> 0 | L30: =L28+L29 -> 0 | M30: المجموع
A31: Elementary Occupations | B31: Qatari | C31: =SUM(D31:L31) -> 18 | D31: 0 | E31: 0 | F31: 0 | G31: 2 | H31: 2 | I31: 5 | J31: 3 | K31: 6 | L31: 0 | M31: قطريات | N31: المهن العادية
B32: Non-Qatari | C32: =SUM(D32:L32) -> 1404 | D32: 0 | E32: 0 | F32: 7 | G32: 62 | H32: 275 | I32: 541 | J32: 388 | K32: 122 | L32: 9 | M32: غير قطريات
B33: Total | C33: =SUM(D33:L33) -> 1422 | D33: 0 | E33: =SUM(E31:E32) -> 0 | F33: =F31+F32 -> 7 | G33: =G31+G32 -> 64 | H33: =H31+H32 -> 277 | I33: =I31+I32 -> 546 | J33: =J31+J32 -> 391 | K33: =K31+K32 -> 128 | L33: =L31+L32 -> 9 | M33: المجموع
A34: Those Who Have Not Been Classified by Occupation | B34: Qatari | C34: =SUM(D34:L34) -> 45 | D34: 0 | E34: 0 | F34: 0 | G34: 2 | H34: 8 | I34: 15 | J34: 15 | K34: 5 | L34: 0 | M34: قطريات | N34: الأفراد الذين لم يصنفوا حسب المهنة
B35: Non-Qatari | C35: =SUM(D35:L35) -> 65 | D35: 0 | E35: 0 | F35: 0 | G35: 5 | H35: 9 | I35: 17 | J35: 20 | K35: 12 | L35: 2 | M35: غير قطريات
B36: Total | C36: =SUM(D36:L36) -> 110 | D36: 0 | E36: =SUM(E34:E35) -> 0 | F36: =F34+F35 -> 0 | G36: =G34+G35 -> 7 | H36: =H34+H35 -> 17 | I36: =I34+I35 -> 32 | J36: =J34+J35 -> 35 | K36: =K34+K35 -> 17 | L36: =L34+L35 -> 2 | M36: المجموع
A37: Total Workers | B37: Qatari | C37: =SUM(D37:L37) -> 4020 | D37: =D7+D10+D13+D16+D19+D22+D25+D28+D31+D34 -> 0 | E37: =E7+E10+E13+E16+E19+E22+E25+E28+E31+E34 -> 0 | F37: =SUM(F7,F10,F13,F16,F19,F22,F25,F28,F31,F34) -> 23 | G37: =SUM(G7,G10,G13,G16,G19,G22,G25,G28,G31,G34) -> 341 | H37: =SUM(H7,H10,H13,H16,H19,H22,H25,H28,H31,H34) -> 885 | I37: =SUM(I7,I10,I13,I16,I19,I22,I25,I28,I31,I34) -> 1294 | J37: =SUM(J7,J10,J13,J16,J19,J22,J25,J28,J31,J34) -> 1211 | K37: =SUM(K7,K10,K13,K16,K19,K22,K25,K28,K31,K34) -> 264 | L37: =SUM(L7,L10,L13,L16,L19,L22,L25,L28,L31,L34) -> 2 | M37: قطريات | N37: مجموع المشتغلات
B38: Non-Qatari | C38: =SUM(D38:L38) -> 8384 | D38: =D8+D11+D14+D17+D20+D23+D26+D29+D32+D35 -> 1 | E38: =SUM(E8,E11,E14,E17,E20,E23,E26,E29,E32,E35) -> 3 | F38: =SUM(F8,F11,F14,F17,F20,F23,F26,F29,F32,F35) -> 31 | G38: =SUM(G8,G11,G14,G17,G20,G23,G26,G29,G32,G35) -> 416 | H38: =SUM(H8,H11,H14,H17,H20,H23,H26,H29,H32,H35) -> 2075 | I38: =SUM(I8,I11,I14,I17,I20,I23,I26,I29,I32,I35) -> 3503 | J38: =SUM(J8,J11,J14,J17,J20,J23,J26,J29,J32,J35) -> 1971 | K38: =SUM(K8,K11,K14,K17,K20,K23,K26,K29,K32,K35) -> 359 | L38: =SUM(L8,L11,L14,L17,L20,L23,L26,L29,L32,L35) -> 25 | M38: غير قطريات
B39: Total | C39: =SUM(D39:L39) -> 12404 | D39: =D37+D38 -> 1 | E39: =SUM(E37:E38) -> 3 | F39: =SUM(F37:F38) -> 54 | G39: =SUM(G37:G38) -> 757 | H39: =SUM(H37:H38) -> 2960 | I39: =SUM(I37:I38) -> 4797 | J39: =SUM(J37:J38) -> 3182 | K39: =SUM(K37:K38) -> 623 | L39: =SUM(L37:L38) -> 27 | M39: المجموع
A40: No Occupation (1) | B40: Qatari | C40: =SUM(D40:L40) -> 2033 | D40: 0 | E40: 1 | F40: 8 | G40: 92 | H40: 273 | I40: 419 | J40: 669 | K40: 550 | L40: 21 | M40: قطريات | N40: بدون مهنة (1)
B41: Non-Qatari | C41: =SUM(D41:L41) -> 11879 | D41: 12 | E41: 2 | F41: 30 | G41: 558 | H41: 2146 | I41: 3882 | J41: 3516 | K41: 1595 | L41: 138 | M41: غير قطريات
B42: Total | C42: =SUM(D42:L42) -> 13912 | D42: =D40+D41 -> 12 | E42: =SUM(E40:E41) -> 3 | F42: =SUM(F40:F41) -> 38 | G42: =SUM(G40:G41) -> 650 | H42: =SUM(H40:H41) -> 2419 | I42: =SUM(I40:I41) -> 4301 | J42: =SUM(J40:J41) -> 4185 | K42: =SUM(K40:K41) -> 2145 | L42: =SUM(L40:L41) -> 159 | M42: المجموع
A43: Grand Total | B43: Qatari | C43: =SUM(D43:L43) -> 6053 | D43: =D37+D40 -> 0 | E43: =SUM(E37+E40) -> 1 | F43: =SUM(F37+F40) -> 31 | G43: =SUM(G37+G40) -> 433 | H43: =SUM(H37+H40) -> 1158 | I43: =SUM(I37+I40) -> 1713 | J43: =SUM(J37+J40) -> 1880 | K43: =SUM(K37+K40) -> 814 | L43: =SUM(L37+L40) -> 23 | M43: قطريات | N43: المجموع العام
B44: Non-Qatari | C44: =SUM(D44:L44) -> 20263 | D44: =D38+D41 -> 13 | E44: =SUM(E38+E41) -> 5 | F44: =SUM(F38+F41) -> 61 | G44: =SUM(G38+G41) -> 974 | H44: =SUM(H38+H41) -> 4221 | I44: =SUM(I38+I41) -> 7385 | J44: =SUM(J38+J41) -> 5487 | K44: =SUM(K38+K41) -> 1954 | L44: =SUM(L38+L41) -> 163 | M44: غير قطريات
B45: Total | C45: =SUM(D45:L45) -> 26316 | D45: =D43+D44 -> 13 | E45: =SUM(E39+E42) -> 6 | F45: =SUM(F39+F42) -> 92 | G45: =SUM(G39+G42) -> 1407 | H45: =SUM(H39+H42) -> 5379 | I45: =SUM(I39+I42) -> 9098 | J45: =SUM(J39+J42) -> 7367 | K45: =SUM(K39+K42) -> 2768 | L45: =SUM(L39+L42) -> 186 | M45: المجموع
A46: (1) Including mothers who are seeking work and economically non-active. | L46: (1) تشمل الامهات اللائى يبحثن عن عمل وغير النشطات اقتصاديا.

Sheet B19
A1: المواليد الأحياء المسجلون حسب فئة عمر الأب وجنسيته ومهنته
A2: REGISTERED LIVE BIRTHS BY FATHER'S AGE GROUP, NATIONALITY AND OCCUPATION
A3: 2022
A4: Table No. (19) | N4: جدول رقم (19)
A5: Father's Occupation | B5: Nationality | C5: Father's Age Group (in Years) (فئة عمر الأب (بالسنوات | M5: الجنسية | N5: مهنة الأب
C6: المجموع Total | D6: غير مبين Not Stated | E6: 50 + | F6: 45 - 49 | G6: 40 - 44 | H6: 35 - 39 | I6: 30 - 34 | J6: 25 - 29 | K6: 20 - 24 | L6: اقل من 20 Less than 20
A7: Legislators, Senior Officials And Managers | B7: Qatari | C7: =SUM(D7:L7) -> 276 | D7: 0 | E7: 29 | F7: 37 | G7: 56 | H7: 75 | I7: 56 | J7: 23 | K7: 0 | L7: 0 | M7: قطريون | N7: المشرعون وموظفو الإدارة العليا والمديرون
B8: Non-Qatari | C8: =SUM(D8:L8) -> 1270 | D8: 0 | E8: 40 | F8: 78 | G8: 244 | H8: 457 | I8: 358 | J8: 90 | K8: 3 | L8: 0 | M8: غير قطريين
B9: Total | C9: =SUM(D9:L9) -> 1546 | D9: 0 | E9: =E7+E8 -> 69 | F9: =F7+F8 -> 115 | G9: =G7+G8 -> 300 | H9: =H7+H8 -> 532 | I9: =I7+I8 -> 414 | J9: =J7+J8 -> 113 | K9: =K7+K8 -> 3 | L9: =L7+L8 -> 0 | M9: المجموع
A10: Professionals | B10: Qatari | C10: =SUM(D10:L10) -> 1712 | D10: 0 | E10: 62 | F10: 120 | G10: 256 | H10: 443 | I10: 525 | J10: 296 | K10: 10 | L10: 0 | M10: قطريون | N10: الاختصـاصيون
B11: Non-Qatari | C11: =SUM(D11:L11) -> 5664 | D11: 3 | E11: 135 | F11: 333 | G11: 1000 | H11: 1981 | I11: 1762 | J11: 433 | K11: 17 | L11: 0 | M11: غير قطريين
B12: Total | C12: =SUM(D12:L12) -> 7376 | D12: =D10+D11 -> 3 | E12: =E10+E11 -> 197 | F12: =F10+F11 -> 453 | G12: =G10+G11 -> 1256 | H12: =H10+H11 -> 2424 | I12: =I10+I11 -> 2287 | J12: =J10+J11 -> 729 | K12: =K10+K11 -> 27 | L12: =L10+L11 -> 0 | M12: المجموع
A13: Technicians And Associate Professionals | B13: Qatari | C13: =SUM(D13:L13) -> 1430 | D13: 0 | E13: 53 | F13: 92 | G13: 215 | H13: 359 | I13: 418 | J13: 268 | K13: 25 | L13: 0 | M13: قطريون | N13: الفنيـون والاختصاصيون المساعدون
B14: Non-Qatari | C14: =SUM(D14:L14) -> 7274 | D14: 0 | E14: 146 | F14: 370 | G14: 1184 | H14: 2476 | I14: 2277 | J14: 741 | K14: 79 | L14: 1 | M14: غير قطريين
B15: Total | C15: =SUM(D15:L15) -> 8704 | D15: 0 | E15: =E13+E14 -> 199 | F15: =F13+F14 -> 462 | G15: =G13+G14 -> 1399 | H15: =H13+H14 -> 2835 | I15: =I13+I14 -> 2695 | J15: =J13+J14 -> 1009 | K15: =K13+K14 -> 104 | L15: =L13+L14 -> 1 | M15: المجموع
A16: Clerks | B16: Qatari | C16: =SUM(D16:L16) -> 330 | D16: 0 | E16: 20 | F16: 31 | G16: 57 | H16: 84 | I16: 90 | J16: 42 | K16: 6 | L16: 0 | M16: قطريون | N16: الكتــبة
B17: Non-Qatari | C17: =SUM(D17:L17) -> 1094 | D17: 0 | E17: 19 | F17: 45 | G17: 186 | H17: 351 | I17: 304 | J17: 139 | K17: 50 | L17: 0 | M17: غير قطريين
B18: Total | C18: =SUM(D18:L18) -> 1424 | D18: 0 | E18: =E16+E17 -> 39 | F18: =F16+F17 -> 76 | G18: =G16+G17 -> 243 | H18: =H16+H17 -> 435 | I18: =I16+I17 -> 394 | J18: =J16+J17 -> 181 | K18: =K16+K17 -> 56 | L18: =L16+L17 -> 0 | M18: المجموع
A19: Service Workers And Shop And Market Sales Workers | B19: Qatari | C19: =SUM(D19:L19) -> 3023 | D19: 0 | E19: 42 | F19: 65 | G19: 235 | H19: 591 | I19: 979 | J19: 946 | K19: 165 | L19: 0 | M19: قطريون | N19: العاملون في الخدمات والباعة في المحلات التجارية والأسواق
B20: Non-Qatari | C20: =SUM(D20:L20) -> 2281 | D20: 0 | E20: 33 | F20: 83 | G20: 285 | H20: 659 | I20: 720 | J20: 404 | K20: 97 | L20: 0 | M20: غير قطريين
B21: Total | C21: =SUM(D21:L21) -> 5304 | D21: 0 | E21: =SUM(E19:E20) -> 75 | F21: =F19+F20 -> 148 | G21: =G19+G20 -> 520 | H21: =H19+H20 -> 1250 | I21: =I19+I20 -> 1699 | J21: =J19+J20 -> 1350 | K21: =K19+K20 -> 262 | L21: =L19+L20 -> 0 | M21: المجموع
A22: Skilled Agricultural And Fishery Workers | B22: Qatari | C22: =SUM(D22:L22) -> 0 | D22: 0 | E22: 0 | F22: 0 | G22: 0 | H22: 0 | I22: 0 | J22: 0 | K22: 0 | L22: 0 | M22: قطريون | N22: العمال المهرة في الزراعة وصيد الاسماك
B23: Non-Qatari | C23: =SUM(D23:L23) -> 0 | D23: 0 | E23: 0 | F23: 0 | G23: 0 | H23: 0 | I23: 0 | J23: 0 | K23: 0 | L23: 0 | M23: غير قطريين
B24: Total | C24: =SUM(D24:L24) -> 0 | D24: 0 | E24: 0 | F24: =F22+F23 -> 0 | G24: =G22+G23 -> 0 | H24: =H22+H23 -> 0 | I24: =I22+I23 -> 0 | J24: =J22+J23 -> 0 | K24: =K22+K23 -> 0 | L24: =L22+L23 -> 0 | M24: المجموع
A25: Craft And Related Trades Workers | B25: Qatari | C25: =SUM(D25:L25) -> 8 | D25: 0 | E25: 1 | F25: 1 | G25: 2 | H25: 1 | I25: 2 | J25: 0 | K25: 1 | L25: 0 | M25: قطريون | N25: العاملون في الحرف وما إليها من المهن
B26: Non-Qatari | C26: =SUM(D26:L26) -> 435 | D26: 0 | E26: 11 | F26: 21 | G26: 78 | H26: 152 | I26: 131 | J26: 37 | K26: 4 | L26: 1 | M26: غير قطريين
B27: Total | C27: =SUM(D27:L27) -> 443 | D27: 0 | E27: =E25+E26 -> 12 | F27: =F25+F26 -> 22 | G27: =G25+G26 -> 80 | H27: =H25+H26 -> 153 | I27: =I25+I26 -> 133 | J27: =J25+J26 -> 37 | K27: =K25+K26 -> 5 | L27: =L25+L26 -> 1 | M27: المجموع
A28: Plant And Machine Operators And Assemblers | B28: Qatari | C28: =SUM(D28:L28) -> 16 | D28: 0 | E28: 0 | F28: 3 | G28: 3 | H28: 4 | I28: 3 | J28: 2 | K28: 1 | L28: 0 | M28: قطريون | N28: مشغلو الالات والمعدات ومجمعوها
B29: Non-Qatari | C29: =SUM(D29:L29) -> 448 | D29: 0 | E29: 14 | F29: 35 | G29: 95 | H29: 127 | I29: 128 | J29: 44 | K29: 5 | L29: 0 | M29: غير قطريين
B30: Total | C30: =SUM(D30:L30) -> 464 | D30: 0 | E30: =SUM(E28:E29) -> 14 | F30: =F28+F29 -> 38 | G30: =G28+G29 -> 98 | H30: =H28+H29 -> 131 | I30: =I28+I29 -> 131 | J30: =J28+J29 -> 46 | K30: =K28+K29 -> 6 | L30: 0 | M30: المجموع
A31: Elementary Occupations | B31: Qatari | C31: =SUM(D31:L31) -> 45 | D31: 0 | E31: 7 | F31: 9 | G31: 10 | H31: 4 | I31: 7 | J31: 5 | K31: 3 | L31: 0 | M31: قطريون | N31: المهن العادية
B32: Non-Qatari | C32: =SUM(D32:L32) -> 235 | D32: 0 | E32: 13 | F32: 13 | G32: 46 | H32: 61 | I32: 67 | J32: 30 | K32: 5 | L32: 0 | M32: غير قطريين
B33: Total | C33: =SUM(D33:L33) -> 280 | D33: 0 | E33: =SUM(E31:E32) -> 20 | F33: =F31+F32 -> 22 | G33: =G31+G32 -> 56 | H33: =H31+H32 -> 65 | I33: =I31+I32 -> 74 | J33: =J31+J32 -> 35 | K33: =K31+K32 -> 8 | L33: =L31+L32 -> 0 | M33: المجموع
A34: Those Who Have Not Been Classified by Occupation | B34: Qatari | C34: =SUM(D34:L34) -> 73 | D34: 0 | E34: 6 | F34: 8 | G34: 5 | H34: 14 | I34: 21 | J34: 18 | K34: 1 | L34: 0 | M34: قطريون | N34: الأفراد الذين لم يصنفوا حسب المهنة
B35: Non-Qatari | C35: =SUM(D35:L35) -> 94 | D35: 2 | E35: 3 | F35: 4 | G35: 12 | H35: 26 | I35: 34 | J35: 9 | K35: 4 | L35: 0 | M35: غير قطريين
B36: Total | C36: =SUM(D36:L36) -> 167 | D36: =D34+D35 -> 2 | E36: =SUM(E34:E35) -> 9 | F36: =F34+F35 -> 12 | G36: =G34+G35 -> 17 | H36: =H34+H35 -> 40 | I36: =I34+I35 -> 55 | J36: =J34+J35 -> 27 | K36: =K34+K35 -> 5 | L36: =L34+L35 -> 0 | M36: المجموع
A37: Total Workers | B37: Qatari | C37: =SUM(D37:L37) -> 6914 | D37: =D7+D10+D13+D16+D19+D22+D25+D28+D31+D34 -> 0 | E37: =SUM(E7,E10,E13,E16,E19,E22,E25,E28,E31,E34) -> 220 | F37: =SUM(F7,F10,F13,F16,F19,F22,F25,F28,F31,F34) -> 366 | G37: =SUM(G7,G10,G13,G16,G19,G22,G25,G28,G31,G34) -> 839 | H37: =SUM(H7,H10,H13,H16,H19,H22,H25,H28,H31,H34) -> 1575 | I37: 2102 | J37: =SUM(J7,J10,J13,J16,J19,J22,J25,J28,J31,J34) -> 1600 | K37: =SUM(K7,K10,K13,K16,K19,K22,K25,K28,K31,K34) -> 212 | L37: =SUM(L7,L10,L13,L16,L19,L22,L25,L28,L31,L34) -> 0 | M37: قطريون | N37: مجموع المشتغلين
B38: Non-Qatari | C38: =SUM(D38:L38) -> 18805 | D38: =D8+D11+D14+D17+D20+D23+D26+D29+D32+D35 -> 5 | E38: 414 | F38: 983 | G38: 3131 | H38: 6296 | I38: 5783 | J38: =SUM(J8,J11,J14,J17,J20,J23,J26,J29,J32,J35) -> 1927 | K38: =SUM(K8,K11,K14,K17,K20,K23,K26,K29,K32,K35) -> 264 | L38: =SUM(L8,L11,L14,L17,L20,L23,L26,L29,L32,L35) -> 2 | M38: غير قطريين
B39: Total | C39: =SUM(D39:L39) -> 25719 | D39: =D37+D38 -> 5 | E39: =SUM(E37:E38) -> 634 | F39: =SUM(F37:F38) -> 1349 | G39: =SUM(G37:G38) -> 3970 | H39: =SUM(H37:H38) -> 7871 | I39: =SUM(I37:I38) -> 7885 | J39: =SUM(J37:J38) -> 3527 | K39: =SUM(K37:K38) -> 476 | L39: =SUM(L37:L38) -> 2 | M39: المجموع
A40: No Occupation(1) | B40: Qatari | C40: =SUM(D40:L40) -> 235 | D40: 0 | E40: 75 | F40: 20 | G40: 38 | H40: 34 | I40: 31 | J40: 30 | K40: 6 | L40: 1 | M40: قطريون | N40: بدون مهنة (1)
B41: Non-Qatari | C41: =SUM(D41:L41) -> 362 | D41: 6 | E41: 8 | F41: 11 | G41: 45 | H41: 93 | I41: 92 | J41: 78 | K41: 27 | L41: 2 | M41: غير قطريين
B42: Total | C42: =SUM(D42:L42) -> 597 | D42: =D40+D41 -> 6 | E42: =E40+E41 -> 83 | F42: =F40+F41 -> 31 | G42: =G40+G41 -> 83 | H42: =H40+H41 -> 127 | I42: =I40+I41 -> 123 | J42: =J40+J41 -> 108 | K42: =K40+K41 -> 33 | L42: =L40+L41 -> 3 | M42: المجموع
A43: Total | B43: Qatari | C43: =SUM(D43:L43) -> 7149 | D43: =D37+D40 -> 0 | E43: =SUM(E37+E40) -> 295 | F43: =SUM(F37+F40) -> 386 | G43: =SUM(G37+G40) -> 877 | H43: =SUM(H37+H40) -> 1609 | I43: =SUM(I37+I40) -> 2133 | J43: =SUM(J37+J40) -> 1630 | K43: =SUM(K37+K40) -> 218 | L43: =SUM(L37+L40) -> 1 | M43: قطريون | N43: المجموع
B44: Non-Qatari | C44: =SUM(D44:L44) -> 19167 | D44: =D38+D41 -> 11 | E44: =SUM(E38+E41) -> 422 | F44: =SUM(F38+F41) -> 994 | G44: =SUM(G38+G41) -> 3176 | H44: =SUM(H38+H41) -> 6389 | I44: =SUM(I38+I41) -> 5875 | J44: =SUM(J38+J41) -> 2005 | K44: =SUM(K38+K41) -> 291 | L44: =SUM(L38+L41) -> 4 | M44: غير قطريين
B45: Total | C45: =SUM(D45:L45) -> 26316 | D45: =D43+D44 -> 11 | E45: =SUM(E39+E42) -> 717 | F45: =SUM(F39+F42) -> 1380 | G45: =SUM(G39+G42) -> 4053 | H45: =SUM(H39+H42) -> 7998 | I45: =SUM(I39+I42) -> 8008 | J45: =SUM(J39+J42) -> 3635 | K45: =SUM(K39+K42) -> 509 | L45: =SUM(L39+L42) -> 5 | M45: المجموع
A46: (1) Including mothers who are seeking work and economically non-active. | K46: (1) تشمل الأباء الذين يبحثون عن عمل وغير النشطين اقتصاديا.

Sheet chapter3
A1: الباب الثالث: المواليد موتى
A2: CHAPTER THREE: FOETAL DEATHS

Sheet F1
A1: واقعات الولادة الميتة المسجلة حسب الجنسية والنوع
A2: REGISTERED FOETAL DEATHS BY NATIONALITY AND GENDER
A3: 2013 - 2022
A4: Table No.(1) | N4: جدول رقم (1)
A5: Nationality & Gender Year | B5: المجموع العام G.T | F5: Non-Qataris غير قطريين | J5: Qataris قطريون | N5: الجنسية والجنس السنوات
B6: مجموع T | C6: غير مبين N. S. | D6: اناث F | E6: ذكور M | F6: مجموع T | G6: غير مبين N. S. | H6: اناث F | I6: ذكور M | J6: مجموع T | K6: غير مبين N. S. | L6: اناث F | M6: ذكور M
A7: 2013 | B7: =J7+F7 -> 134 | C7: =K7+G7 -> 1 | D7: =L7+H7 -> 69 | E7: =M7+I7 -> 64 | F7: =I7+H7+G7 -> 95 | G7: 0 | H7: 48 | I7: 47 | J7: =M7+L7+K7 -> 39 | K7: 1 | L7: 21 | M7: 17 | N7: 2013
A8: 2014 | B8: =J8+F8 -> 137 | C8: =K8+G8 -> 2 | D8: =L8+H8 -> 63 | E8: =M8+I8 -> 72 | F8: =I8+H8+G8 -> 99 | G8: 2 | H8: 49 | I8: 48 | J8: =M8+L8+K8 -> 38 | K8: 0 | L8: 14 | M8: 24 | N8: 2014
A9: 2015 | B9: =J9+F9 -> 158 | C9: =K9+G9 -> 3 | D9: =L9+H9 -> 75 | E9: =M9+I9 -> 80 | F9: =I9+H9+G9 -> 120 | G9: 3 | H9: 55 | I9: 62 | J9: =M9+L9+K9 -> 38 | K9: 0 | L9: 20 | M9: 18 | N9: 2015
A10: 2016 | B10: =J10+F10 -> 103 | C10: =K10+G10 -> 1 | D10: =L10+H10 -> 47 | E10: =M10+I10 -> 55 | F10: =I10+H10+G10 -> 71 | G10: 1 | H10: 28 | I10: 42 | J10: =M10+L10+K10 -> 32 | K10: 0 | L10: 19 | M10: 13 | N10: 2016
A11: 2017 | B11: =J11+F11 -> 120 | C11: =K11+G11 -> 2 | D11: =L11+H11 -> 56 | E11: =M11+I11 -> 62 | F11: =I11+H11+G11 -> 91 | G11: 2 | H11: 46 | I11: 43 | J11: =M11+L11+K11 -> 29 | K11: 0 | L11: 10 | M11: 19 | N11: 2017
A12: 2018 | B12: =J12+F12 -> 109 | C12: =K12+G12 -> 1 | D12: =L12+H12 -> 40 | E12: =M12+I12 -> 68 | F12: =I12+H12+G12 -> 87 | G12: 1 | H12: 28 | I12: 58 | J12: =M12+L12+K12 -> 22 | K12: 0 | L12: 12 | M12: 10 | N12: 2018
A13: 2019 | B13: =J13+F13 -> 80 | C13: =K13+G13 -> 1 | D13: =L13+H13 -> 26 | E13: =M13+I13 -> 53 | F13: =I13+H13+G13 -> 53 | G13: 0 | H13: 15 | I13: 38 | J13: =M13+L13+K13 -> 27 | K13: 1 | L13: 11 | M13: 15 | N13: 2019
A14: 2020 | B14: =J14+F14 -> 106 | C14: =K14+G14 -> 2 | D14: =L14+H14 -> 49 | E14: =M14+I14 -> 55 | F14: =I14+H14+G14 -> 77 | G14: 2 | H14: 32 | I14: 43 | J14: =M14+L14+K14 -> 29 | K14: 0 | L14: 17 | M14: 12 | N14: 2020
A15: 2021 | B15: =J15+F15 -> 98 | C15: =K15+G15 -> 2 | D15: =L15+H15 -> 45 | E15: =M15+I15 -> 51 | F15: =I15+H15+G15 -> 71 | G15: 1 | H15: 33 | I15: 37 | J15: =M15+L15+K15 -> 27 | K15: 1 | L15: 12 | M15: 14 | N15: 2021
A16: 2022 | B16: =J16+F16 -> 60 | C16: =K16+G16 -> 1 | D16: =L16+H16 -> 26 | E16: =M16+I16 -> 33 | F16: =I16+H16+G16 -> 45 | G16: 0 | H16: 19 | I16: 26 | J16: =M16+L16+K16 -> 15 | K16: 1 | L16: 7 | M16: 7 | N16: 2022

Sheet F2
A1: واقعات الولادة الميتة المسجلة حسب الجنسية والنوع والبلدية
A2: REGISTERED FOETAL DEATHS BY NATIONALITY, GENDER AND MUNICIPALITY
A3: 2022
A4: Table No.(2) | H4: ` | R4: جدول رقم (2)
A5: Nationality & Gender Municipality | B5: المجموع العام G.T | H5: Non-Qataris غير قطريين | M5: Qataris قطريون | R5: الجنسية والنوع البلدية
B6: المجموع العام G.T | C6: غير مبين N. S. | D6: نسبة الإناث % F | E6: اناث F | F6: نسبة الذكور % M | G6: ذكور M | H6: % | I6: مجموع T | J6: غير مبين N. S. | K6: اناث F | L6: ذكور M | M6: % | N6: مجموع T | O6: غير مبين N. S. | P6: اناث F | Q6: ذكور M
A7: DOHA | B7: =SUM(N7+I7) -> 0 | C7: =0 -> 0 | D7: =E7/$E$16% -> #DIV/0! | E7: =SUM(P7+K7) -> 0 | F7: =G7/$G$16% -> #DIV/0! | G7: =SUM(Q7+L7) -> 0 | H7: =I7/$I$16% -> #DIV/0! | I7: =L7+K7 -> 0 | M7: =N7/$N$16% -> #DIV/0! | N7: =Q7+P7 -> 0 | R7: الدوحة
A8: AL RAYYAN | B8: =SUM(N8+I8) -> 0 | C8: =0 -> 0 | D8: =E8/$E$16% -> #DIV/0! | E8: =SUM(P8+K8) -> 0 | F8: =G8/$G$16% -> #DIV/0! | G8: =SUM(Q8+L8) -> 0 | H8: =I8/$I$16% -> #DIV/0! | I8: =L8+K8 -> 0 | M8: =N8/$N$16% -> #DIV/0! | N8: =Q8+P8 -> 0 | R8: الريان
A9: AL WAKRA | B9: =SUM(N9+I9) -> 0 | C9: =0 -> 0 | D9: =E9/$E$16% -> #DIV/0! | E9: =SUM(P9+K9) -> 0 | F9: =G9/$G$16% -> #DIV/0! | G9: =SUM(Q9+L9) -> 0 | H9: =I9/$I$16% -> #DIV/0! | I9: =L9+K9 -> 0 | M9: =N9/$N$16% -> #DIV/0! | N9: =Q9+P9 -> 0 | R9: الوكرة
A10: UMM SALAL | B10: =SUM(N10+I10) -> 0 | C10: =0 -> 0 | D10: =E10/$E$16% -> #DIV/0! | E10: =SUM(P10+K10) -> 0 | F10: =G10/$G$16% -> #DIV/0! | G10: =SUM(Q10+L10) -> 0 | H10: =I10/$I$16% -> #DIV/0! | I10: =L10+K10 -> 0 | M10: =N10/$N$16% -> #DIV/0! | N10: =Q10+P10 -> 0 | R10: ام صلال
A11: AL KHOR | B11: =SUM(N11+I11) -> 0 | C11: =0 -> 0 | D11: =E11/$E$16% -> #DIV/0! | E11: =SUM(P11+K11) -> 0 | F11: =G11/$G$16% -> #DIV/0! | G11: =SUM(Q11+L11) -> 0 | H11: =I11/$I$16% -> #DIV/0! | I11: =L11+K11 -> 0 | M11: =N11/$N$16% -> #DIV/0! | N11: =Q11+P11 -> 0 | R11: الخور
A12: AL SHAMAL | B12: =SUM(N12+I12) -> 0 | C12: =0 -> 0 | D12: =E12/$E$16% -> #DIV/0! | E12: =SUM(P12+K12) -> 0 | F12: =G12/$G$16% -> #DIV/0! | G12: =SUM(Q12+L12) -> 0 | H12: =I12/$I$16% -> #DIV/0! | I12: =L12+K12 -> 0 | M12: =N12/$N$16% -> #DIV/0! | N12: =Q12+P12 -> 0 | R12: الشمال
A13: AL DAYYEN | B13: =SUM(N13+I13) -> 0 | C13: =0 -> 0 | D13: =E13/$E$16% -> #DIV/0! | E13: =SUM(P13+K13) -> 0 | F13: =G13/$G$16% -> #DIV/0! | G13: =SUM(Q13+L13) -> 0 | H13: =I13/$I$16% -> #DIV/0! | I13: =L13+K13 -> 0 | M13: =N13/$N$16% -> #DIV/0! | N13: =Q13+P13 -> 0 | R13: الظعاين
A14: AL-SHAHANIYA | B14: =SUM(N14+I14) -> 0 | C14: =0 -> 0 | D14: =E14/$E$16% -> #DIV/0! | E14: =SUM(P14+K14) -> 0 | F14: =G14/$G$16% -> #DIV/0! | G14: =SUM(Q14+L14) -> 0 | H14: =I14/$I$16% -> #DIV/0! | I14: =L14+K14 -> 0 | M14: =N14/$N$16% -> #DIV/0! | N14: =Q14+P14 -> 0 | R14: الشحانية
A15: UNKNOWN | B15: =SUM(N15+I15) -> 0 | C15: =0 -> 0 | D15: =E15/$E$16% -> #DIV/0! | E15: =SUM(P15+K15) -> 0 | F15: =G15/$G$16% -> #DIV/0! | G15: =SUM(Q15+L15) -> 0 | H15: =I15/$I$16% -> #DIV/0! | I15: =L15+K15 -> 0 | M15: =N15/$N$16% -> #DIV/0! | N15: =Q15+P15 -> 0 | R15: غير معرف
A16: Total | B16: =SUM(B7:B15) -> 0 | C16: =0 -> 0 | D16: =SUM(D7:D15) -> #DIV/0! | E16: =SUM(E7:E15) -> 0 | F16: =SUM(F7:F15) -> #DIV/0! | G16: =SUM(G7:G15) -> 0 | H16: =SUM(H7:H15) -> #DIV/0! | I16: =SUM(I7:I15) -> 0 | J16: =0 -> 0 | K16: =SUM(K7:K15) -> 0 | L16: =SUM(L7:L15) -> 0 | M16: =SUM(M7:M15) -> #DIV/0! | N16: =SUM(N7:N15) -> 0 | O16: =0 -> 0 | P16: =SUM(P7:P15) -> 0 | Q16: =SUM(Q7:Q15) -> 0 | R16: المجموع

Sheet F3
A1: واقعات الولادة الميتة المسجلة حسب الجنسية والنوع والشهر
A2: REGISTERED FOETAL DEATHS BY NATIONALITY, GENDER AND MONTH
A3: 2022
A4: Table No.(3) | H4: ` | R4: جدول رقم (3)
A5: Nationality & Gender Month | B5: المجموع العام G.T | H5: Non-Qataris غير قطريين | M5: Qataris قطريون | R5: الجنسية والنوع الشهر
B6: المجموع العام G.T | C6: غير مبين N. S. | D6: نسبة الإناث % F | E6: اناث F | F6: نسبة الذكور % M | G6: ذكور M | H6: % | I6: مجموع T | J6: غير مبين N. S. | K6: اناث F | L6: ذكور M | M6: % | N6: مجموع T | O6: غير مبين N. S. | P6: اناث F | Q6: ذكور M
A7: JANUARY | B7: =SUM(N7+I7) -> 0 | C7: =0 -> 0 | D7: =E7/$E$19% -> #DIV/0! | E7: =SUM(P7+K7) -> 0 | F7: =G7/$G$19% -> #DIV/0! | G7: =SUM(Q7+L7) -> 0 | H7: =I7/$I$19% -> #DIV/0! | I7: =L7+K7 -> 0 | M7: =N7/$N$19% -> #DIV/0! | N7: =Q7+P7 -> 0 | R7: يناير
A8: FEBRUARY | B8: =SUM(N8+I8) -> 0 | C8: =0 -> 0 | D8: =E8/$E$19% -> #DIV/0! | E8: =SUM(P8+K8) -> 0 | F8: =G8/$G$19% -> #DIV/0! | G8: =SUM(Q8+L8) -> 0 | H8: =I8/$I$19% -> #DIV/0! | I8: =L8+K8 -> 0 | M8: =N8/$N$19% -> #DIV/0! | N8: =Q8+P8 -> 0 | R8: فبراير
A9: MARCH | B9: =SUM(N9+I9) -> 0 | C9: =0 -> 0 | D9: =E9/$E$19% -> #DIV/0! | E9: =SUM(P9+K9) -> 0 | F9: =G9/$G$19% -> #DIV/0! | G9: =SUM(Q9+L9) -> 0 | H9: =I9/$I$19% -> #DIV/0! | I9: =L9+K9 -> 0 | M9: =N9/$N$19% -> #DIV/0! | N9: =Q9+P9 -> 0 | R9: مارس
A10: APRIL | B10: =SUM(N10+I10) -> 0 | C10: =0 -> 0 | D10: =E10/$E$19% -> #DIV/0! | E10: =SUM(P10+K10) -> 0 | F10: =G10/$G$19% -> #DIV/0! | G10: =SUM(Q10+L10) -> 0 | H10: =I10/$I$19% -> #DIV/0! | I10: =L10+K10 -> 0 | M10: =N10/$N$19% -> #DIV/0! | N10: =Q10+P10 -> 0 | R10: ابريل
A11: MAY | B11: =SUM(N11+I11) -> 0 | C11: =0 -> 0 | D11: =E11/$E$19% -> #DIV/0! | E11: =SUM(P11+K11) -> 0 | F11: =G11/$G$19% -> #DIV/0! | G11: =SUM(Q11+L11) -> 0 | H11: =I11/$I$19% -> #DIV/0! | I11: =L11+K11 -> 0 | M11: =N11/$N$19% -> #DIV/0! | N11: =Q11+P11 -> 0 | R11: مايو
A12: JUNE | B12: =SUM(N12+I12) -> 0 | C12: =0 -> 0 | D12: =E12/$E$19% -> #DIV/0! | E12: =SUM(P12+K12) -> 0 | F12: =G12/$G$19% -> #DIV/0! | G12: =SUM(Q12+L12) -> 0 | H12: =I12/$I$19% -> #DIV/0! | I12: =L12+K12 -> 0 | M12: =N12/$N$19% -> #DIV/0! | N12: =Q12+P12 -> 0 | R12: يونيو
A13: JULY | B13: =SUM(N13+I13) -> 0 | C13: =0 -> 0 | D13: =E13/$E$19% -> #DIV/0! | E13: =SUM(P13+K13) -> 0 | F13: =G13/$G$19% -> #DIV/0! | G13: =SUM(Q13+L13) -> 0 | H13: =I13/$I$19% -> #DIV/0! | I13: =L13+K13 -> 0 | M13: =N13/$N$19% -> #DIV/0! | N13: =Q13+P13 -> 0 | R13: يوليو
A14: AUGUST | B14: =SUM(N14+I14) -> 0 | C14: =0 -> 0 | D14: =E14/$E$19% -> #DIV/0! | E14: =SUM(P14+K14) -> 0 | F14: =G14/$G$19% -> #DIV/0! | G14: =SUM(Q14+L14) -> 0 | H14: =I14/$I$19% -> #DIV/0! | I14: =L14+K14 -> 0 | M14: =N14/$N$19% -> #DIV/0! | N14: =Q14+P14 -> 0 | R14: اغسطس
A15: SEPTEMBER | B15: =SUM(N15+I15) -> 0 | C15: =0 -> 0 | D15: =E15/$E$19% -> #DIV/0! | E15: =SUM(P15+K15) -> 0 | F15: =G15/$G$19% -> #DIV/0! | G15: =SUM(Q15+L15) -> 0 | H15: =I15/$I$19% -> #DIV/0! | I15: =L15+K15 -> 0 | M15: =N15/$N$19% -> #DIV/0! | N15: =Q15+P15 -> 0 | R15: سبتمبر
A16: OCTOBER | B16: =SUM(N16+I16) -> 0 | C16: =0 -> 0 | D16: =E16/$E$19% -> #DIV/0! | E16: =SUM(P16+K16) -> 0 | F16: =G16/$G$19% -> #DIV/0! | G16: =SUM(Q16+L16) -> 0 | H16: =I16/$I$19% -> #DIV/0! | I16: =L16+K16 -> 0 | M16: =N16/$N$19% -> #DIV/0! | N16: =Q16+P16 -> 0 | R16: اكتوبر
A17: NOVEMBER | B17: =SUM(N17+I17) -> 0 | C17: =0 -> 0 | D17: =E17/$E$19% -> #DIV/0! | E17: =SUM(P17+K17) -> 0 | F17: =G17/$G$19% -> #DIV/0! | G17: =SUM(Q17+L17) -> 0 | H17: =I17/$I$19% -> #DIV/0! | I17: =L17+K17 -> 0 | M17: =N17/$N$19% -> #DIV/0! | N17: =Q17+P17 -> 0 | R17: نوفمبر
A18: DECEMBER | B18: =SUM(N18+I18) -> 0 | C18: =0 -> 0 | D18: =E18/$E$19% -> #DIV/0! | E18: =SUM(P18+K18) -> 0 | F18: =G18/$G$19% -> #DIV/0! | G18: =SUM(Q18+L18) -> 0 | H18: =I18/$I$19% -> #DIV/0! | I18: =L18+K18 -> 0 | M18: =N18/$N$19% -> #DIV/0! | N18: =Q18+P18 -> 0 | R18: ديسمبر
A19: Total | B19: =SUM(B7:B18) -> 0 | C19: =0 -> 0 | D19: =SUM(D7:D18) -> #DIV/0! | E19: =SUM(E7:E18) -> 0 | F19: =SUM(F7:F18) -> #DIV/0! | G19: =SUM(G7:G18) -> 0 | H19: =SUM(H7:H18) -> #DIV/0! | I19: =SUM(I7:I18) -> 0 | J19: =0 -> 0 | K19: =SUM(K7:K18) -> 0 | L19: =SUM(L7:L18) -> 0 | M19: =SUM(M7:M18) -> #DIV/0! | N19: =SUM(N7:N18) -> 0 | O19: =0 -> 0 | P19: =SUM(P7:P18) -> 0 | Q19: =SUM(Q7:Q18) -> 0 | R19: المجموع

Sheet F4
A1: واقعات الولادة الميتة المسجلة حسب الجنسية والنوع وفئة عمر الأم
A2: REGISTERED FOETAL DEATHS BY NATIONALITY, GENDER AND AGE GROUP OF MOTHER
A3: 2022
A4: Table No.(4) | H4: ` | R4: جدول رقم (4)
A5: Nationality & Gender Mother Age group | B5: المجموع العام G.T | H5: Non-Qataris غير قطريين | M5: Qataris قطريون | R5: الجنسية والنوع فئات عمر الأم
B6: المجموع العام G.T | C6: غير مبين N. S. | D6: نسبة الإناث % F | E6: اناث F | F6: نسبة الذكور % M | G6: ذكور M | H6: % | I6: مجموع T | J6: غير مبين N. S. | K6: اناث F | L6: ذكور M | M6: % | N6: مجموع T | O6: غير مبين N. S. | P6: اناث F | Q6: ذكور M
A7: 15 - 19 | B7: =SUM(N7+I7) -> 0 | C7: =0 -> 0 | D7: =E7/$E$15% -> #DIV/0! | E7: =SUM(P7+K7) -> 0 | F7: =G7/$G$15% -> #DIV/0! | G7: =SUM(Q7+L7) -> 0 | H7: =I7/$I$15% -> #DIV/0! | I7: =L7+K7 -> 0 | M7: =N7/$N$15% -> #DIV/0! | N7: =Q7+P7 -> 0 | R7: 15 - 19
A8: 20 - 24 | B8: =SUM(N8+I8) -> 0 | C8: =0 -> 0 | D8: =E8/$E$15% -> #DIV/0! | E8: =SUM(P8+K8) -> 0 | F8: =G8/$G$15% -> #DIV/0! | G8: =SUM(Q8+L8) -> 0 | H8: =I8/$I$15% -> #DIV/0! | I8: =L8+K8 -> 0 | M8: =N8/$N$15% -> #DIV/0! | N8: =Q8+P8 -> 0 | R8: 20 - 24
A9: 25 - 29 | B9: =SUM(N9+I9) -> 0 | C9: =0 -> 0 | D9: =E9/$E$15% -> #DIV/0! | E9: =SUM(P9+K9) -> 0 | F9: =G9/$G$15% -> #DIV/0! | G9: =SUM(Q9+L9) -> 0 | H9: =I9/$I$15% -> #DIV/0! | I9: =L9+K9 -> 0 | M9: =N9/$N$15% -> #DIV/0! | N9: =Q9+P9 -> 0 | R9: 25 - 29
A10: 30 - 34 | B10: =SUM(N10+I10) -> 0 | C10: =0 -> 0 | D10: =E10/$E$15% -> #DIV/0! | E10: =SUM(P10+K10) -> 0 | F10: =G10/$G$15% -> #DIV/0! | G10: =SUM(Q10+L10) -> 0 | H10: =I10/$I$15% -> #DIV/0! | I10: =L10+K10 -> 0 | M10: =N10/$N$15% -> #DIV/0! | N10: =Q10+P10 -> 0 | R10: 30 - 34
A11: 35 - 39 | B11: =SUM(N11+I11) -> 0 | C11: =0 -> 0 | D11: =E11/$E$15% -> #DIV/0! | E11: =SUM(P11+K11) -> 0 | F11: =G11/$G$15% -> #DIV/0! | G11: =SUM(Q11+L11) -> 0 | H11: =I11/$I$15% -> #DIV/0! | I11: =L11+K11 -> 0 | M11: =N11/$N$15% -> #DIV/0! | N11: =Q11+P11 -> 0 | R11: 35 - 39
A12: 40 - 44 | B12: =SUM(N12+I12) -> 0 | C12: =0 -> 0 | D12: =E12/$E$15% -> #DIV/0! | E12: =SUM(P12+K12) -> 0 | F12: =G12/$G$15% -> #DIV/0! | G12: =SUM(Q12+L12) -> 0 | H12: =I12/$I$15% -> #DIV/0! | I12: =L12+K12 -> 0 | M12: =N12/$N$15% -> #DIV/0! | N12: =Q12+P12 -> 0 | R12: 40 - 44
A13: 45+ | B13: =SUM(N13+I13) -> 0 | C13: =0 -> 0 | D13: =E13/$E$15% -> #DIV/0! | E13: =SUM(P13+K13) -> 0 | F13: =G13/$G$15% -> #DIV/0! | G13: =SUM(Q13+L13) -> 0 | H13: =I13/$I$15% -> #DIV/0! | I13: =L13+K13 -> 0 | M13: =N13/$N$15% -> #DIV/0! | N13: =Q13+P13 -> 0 | R13: 45 +
A14: Not Stated | B14: =SUM(N14+I14) -> 0 | C14: =0 -> 0 | D14: =E14/$E$15% -> #DIV/0! | E14: =SUM(P14+K14) -> 0 | F14: =G14/$G$15% -> #DIV/0! | G14: =SUM(Q14+L14) -> 0 | H14: =I14/$I$15% -> #DIV/0! | I14: =L14+K14 -> 0 | M14: =N14/$N$15% -> #DIV/0! | N14: =Q14+P14 -> 0 | R14: غير مبين
A15: Total | B15: =SUM(B7:B14) -> 0 | C15: =0 -> 0 | D15: =SUM(D7:D14) -> #DIV/0! | E15: =SUM(E7:E14) -> 0 | F15: =SUM(F7:F14) -> #DIV/0! | G15: =SUM(G7:G14) -> 0 | H15: =SUM(H7:H14) -> #DIV/0! | I15: =SUM(I7:I14) -> 0 | J15: =0 -> 0 | K15: =SUM(K7:K14) -> 0 | L15: =SUM(L7:L14) -> 0 | M15: =SUM(M7:M14) -> #DIV/0! | N15: =SUM(N7:N14) -> 0 | O15: =0 -> 0 | P15: =SUM(P7:P14) -> 0 | Q15: =SUM(Q7:Q14) -> 0 | R15: المجموع

Sheet F5
A1: واقعات الولادة الميتة المسجلة حسب الجنسية والنوع والعمر الرحمى بالاسابيع
A2: REGISTERED FOETAL DEATHS BY NATIONALITY, GENDER AND GESTATIONAL AGE IN WEEKS
A3: 2022
A4: Table No.(5) | H4: ` | R4: جدول رقم (5)
A5: Nationality & Gender Gestational Age (In Weeks) | B5: المجموع العام G.T | H5: Non-Qataris غير قطريين | M5: Qataris قطريون | R5: الجنسية والنوع (العمرالرحمى بالأسابيع)
B6: المجموع العام G.T | C6: غير مبين N. S. | D6: نسبة الإناث % F | E6: اناث F | F6: نسبة الذكور % M | G6: ذكور M | H6: % | I6: مجموع T | J6: غير مبين N. S. | K6: اناث F | L6: ذكور M | M6: % | N6: مجموع T | O6: غير مبين N. S. | P6: اناث F | Q6: ذكور M
A7: 28 | B7: =SUM(N7+I7) -> 0 | C7: =0 -> 0 | D7: =E7/$E$21% -> 0 | E7: =SUM(P7+K7) -> 0 | F7: =G7/$G$21% -> 0 | G7: =SUM(Q7+L7) -> 0 | H7: =I7/$I$21% -> 0 | I7: =L7+K7 -> 0 | J7: 0 | K7: 0 | L7: 0 | M7: =N7/$N$21% -> 0 | N7: =Q7+P7 -> 0 | O7: 0 | P7: 0 | Q7: 0 | R7: 28
A8: 29 | B8: =SUM(N8+I8) -> 6 | C8: =0 -> 0 | D8: =E8/$E$21% -> 15.384615 | E8: =SUM(P8+K8) -> 4 | F8: =G8/$G$21% -> 6.0606061 | G8: =SUM(Q8+L8) -> 2 | H8: =I8/$I$21% -> 11.111111 | I8: =L8+K8 -> 5 | J8: 0 | K8: 3 | L8: 2 | M8: =N8/$N$21% -> 6.6666667 | N8: =Q8+P8 -> 1 | O8: 0 | P8: 1 | Q8: 0 | R8: 29
A9: 30 | B9: =SUM(N9+I9) -> 4 | C9: =0 -> 0 | D9: =E9/$E$21% -> 11.538462 | E9: =SUM(P9+K9) -> 3 | F9: =G9/$G$21% -> 0 | G9: =SUM(Q9+L9) -> 0 | H9: =I9/$I$21% -> 4.4444444 | I9: =L9+K9 -> 2 | J9: 0 | K9: 2 | L9: 0 | M9: =N9/$N$21% -> 13.333333 | N9: =Q9+P9+O9 -> 2 | O9: 1 | P9: 1 | Q9: 0 | R9: 30
A10: 31 | B10: =SUM(N10+I10) -> 3 | C10: =0 -> 0 | D10: =E10/$E$21% -> 7.6923077 | E10: =SUM(P10+K10) -> 2 | F10: =G10/$G$21% -> 3.030303 | G10: =SUM(Q10+L10) -> 1 | H10: =I10/$I$21% -> 6.6666667 | I10: =L10+K10 -> 3 | J10: 0 | K10: 2 | L10: 1 | M10: =N10/$N$21% -> 0 | N10: =Q10+P10 -> 0 | O10: 0 | P10: 0 | Q10: 0 | R10: 31
A11: 32 | B11: =SUM(N11+I11) -> 7 | C11: =0 -> 0 | D11: =E11/$E$21% -> 7.6923077 | E11: =SUM(P11+K11) -> 2 | F11: =G11/$G$21% -> 15.151515 | G11: =SUM(Q11+L11) -> 5 | H11: =I11/$I$21% -> 11.111111 | I11: =L11+K11 -> 5 | J11: 0 | K11: 1 | L11: 4 | M11: =N11/$N$21% -> 13.333333 | N11: =Q11+P11 -> 2 | O11: 0 | P11: 1 | Q11: 1 | R11: 32
A12: 33 | B12: =SUM(N12+I12) -> 6 | C12: =0 -> 0 | D12: =E12/$E$21% -> 7.6923077 | E12: =SUM(P12+K12) -> 2 | F12: =G12/$G$21% -> 12.121212 | G12: =SUM(Q12+L12) -> 4 | H12: =I12/$I$21% -> 13.333333 | I12: =L12+K12 -> 6 | J12: 0 | K12: 2 | L12: 4 | M12: =N12/$N$21% -> 0 | N12: =Q12+P12 -> 0 | O12: 0 | P12: 0 | Q12: 0 | R12: 33
A13: 34 | B13: =SUM(N13+I13) -> 7 | C13: =0 -> 0 | D13: =E13/$E$21% -> 15.384615 | E13: =SUM(P13+K13) -> 4 | F13: =G13/$G$21% -> 9.0909091 | G13: =SUM(Q13+L13) -> 3 | H13: =I13/$I$21% -> 8.8888889 | I13: =L13+K13 -> 4 | J13: 0 | K13: 3 | L13: 1 | M13: =N13/$N$21% -> 20 | N13: =Q13+P13 -> 3 | O13: 0 | P13: 1 | Q13: 2 | R13: 34
A14: 35 | B14: =SUM(N14+I14) -> 4 | C14: =0 -> 0 | D14: =E14/$E$21% -> 7.6923077 | E14: =SUM(P14+K14) -> 2 | F14: =G14/$G$21% -> 6.0606061 | G14: =SUM(Q14+L14) -> 2 | H14: =I14/$I$21% -> 8.8888889 | I14: =L14+K14 -> 4 | J14: 0 | K14: 2 | L14: 2 | M14: =N14/$N$21% -> 0 | N14: =Q14+P14 -> 0 | O14: 0 | P14: 0 | Q14: 0 | R14: 35
A15: 36 | B15: =SUM(N15+I15) -> 10 | C15: =0 -> 0 | D15: =E15/$E$21% -> 11.538462 | E15: =SUM(P15+K15) -> 3 | F15: =G15/$G$21% -> 21.212121 | G15: =SUM(Q15+L15) -> 7 | H15: =I15/$I$21% -> 15.555556 | I15: =L15+K15 -> 7 | J15: 0 | K15: 2 | L15: 5 | M15: =N15/$N$21% -> 20 | N15: =Q15+P15 -> 3 | O15: 0 | P15: 1 | Q15: 2 | R15: 36
A16: 37 | B16: =SUM(N16+I16) -> 6 | C16: =0 -> 0 | D16: =E16/$E$21% -> 7.6923077 | E16: =SUM(P16+K16) -> 2 | F16: =G16/$G$21% -> 12.121212 | G16: =SUM(Q16+L16) -> 4 | H16: =I16/$I$21% -> 8.8888889 | I16: =L16+K16 -> 4 | J16: 0 | K16: 1 | L16: 3 | M16: =N16/$N$21% -> 13.333333 | N16: =Q16+P16 -> 2 | O16: 0 | P16: 1 | Q16: 1 | R16: 37
A17: 38 | B17: =SUM(N17+I17) -> 2 | C17: =0 -> 0 | D17: =E17/$E$21% -> 3.8461538 | E17: =SUM(P17+K17) -> 1 | F17: =G17/$G$21% -> 3.030303 | G17: =SUM(Q17+L17) -> 1 | H17: =I17/$I$21% -> 0 | I17: =L17+K17 -> 0 | J17: 0 | K17: 0 | L17: 0 | M17: =N17/$N$21% -> 13.333333 | N17: =Q17+P17 -> 2 | O17: 0 | P17: 1 | Q17: 1 | R17: 38
A18: 39 | B18: =SUM(N18+I18) -> 4 | C18: =0 -> 0 | D18: =E18/$E$21% -> 0 | E18: =SUM(P18+K18) -> 0 | F18: =G18/$G$21% -> 12.121212 | G18: =SUM(Q18+L18) -> 4 | H18: =I18/$I$21% -> 8.8888889 | I18: =L18+K18 -> 4 | J18: 0 | K18: 0 | L18: 4 | M18: =N18/$N$21% -> 0 | N18: =Q18+P18 -> 0 | O18: 0 | P18: 0 | Q18: 0 | R18: 39
A19: 40+ | B19: =SUM(N19+I19) -> 1 | C19: =0 -> 0 | D19: =E19/$E$21% -> 3.8461538 | E19: =SUM(P19+K19) -> 1 | F19: =G19/$G$21% -> 0 | G19: =SUM(Q19+L19) -> 0 | H19: =I19/$I$21% -> 2.2222222 | I19: =L19+K19 -> 1 | J19: 0 | K19: 1 | L19: 0 | M19: =N19/$N$21% -> 0 | N19: =Q19+P19 -> 0 | O19: 0 | P19: 0 | Q19: 0 | R19: 40+
A20: Not stated | B20: =SUM(N20+I20) -> 0 | C20: =0 -> 0 | D20: =E20/$E$21% -> 0 | E20: =SUM(P20+K20) -> 0 | F20: =G20/$G$21% -> 0 | G20: =SUM(Q20+L20) -> 0 | H20: =I20/$I$21% -> 0 | I20: =L20+K20 -> 0 | J20: 0 | K20: 0 | L20: 0 | M20: =N20/$N$21% -> 0 | N20: =Q20+P20 -> 0 | O20: 0 | P20: 0 | Q20: 0 | R20: غير مبين
A21: Total | B21: =SUM(B7:B20) -> 60 | C21: =0 -> 0 | D21: =SUM(D7:D20) -> 100 | E21: =SUM(E7:E20) -> 26 | F21: =SUM(F7:F20) -> 100 | G21: =SUM(G7:G20) -> 33 | H21: =SUM(H7:H20) -> 100 | I21: =SUM(I7:I20) -> 45 | J21: =0 -> 0 | K21: =SUM(K7:K20) -> 19 | L21: =SUM(L7:L20) -> 26 | M21: =SUM(M7:M20) -> 100 | N21: =SUM(N7:N20) -> 15 | O21: =SUM(O7:O20) -> 1 | P21: =SUM(P7:P20) -> 7 | Q21: =SUM(Q7:Q20) -> 7 | R21: المجموع

Sheet F6
A1: واقعات الولادة الميتة المسجلة حسب الجنسية والنوع والحالة التعليمية للأم
A2: REGISTERED FOETAL DEATHS BY NATIONALITY, GENDER AND EDUCATIONAL STATUS OF MOTHER
A3: 2022
A4: Table No.(6) | H4: ` | R4: جدول رقم (6)
A5: Nationality & Gender Educational Status | B5: المجموع العام G.T | H5: Non-Qataris غير قطريين | M5: Qataris قطريون | R5: الجنسية والنوع الحالة التعليمية
B6: المجموع العام G.T | C6: غير مبين N. S. | D6: نسبة الإناث % F | E6: اناث F | F6: نسبة الذكور % M | G6: ذكور M | H6: % | I6: مجموع T | J6: غير مبين N. S. | K6: اناث F | L6: ذكور M | M6: % | N6: مجموع T | O6: غير مبين N. S. | P6: اناث F | Q6: ذكور M
A7: llliterate | B7: =SUM(N7+I7) -> 0 | C7: =0 -> 0 | D7: =E7/$E$14% -> #DIV/0! | E7: =SUM(P7+K7) -> 0 | F7: =G7/$G$14% -> #DIV/0! | G7: =SUM(Q7+L7) -> 0 | H7: =I7/$I$14% -> #DIV/0! | I7: =L7+K7 -> 0 | M7: =N7/$N$14% -> #DIV/0! | N7: =Q7+P7 -> 0 | R7: أمي
A8: Primary | B8: =SUM(N8+I8) -> 0 | C8: =0 -> 0 | D8: =E8/$E$14% -> #DIV/0! | E8: =SUM(P8+K8) -> 0 | F8: =G8/$G$14% -> #DIV/0! | G8: =SUM(Q8+L8) -> 0 | H8: =I8/$I$14% -> #DIV/0! | I8: =L8+K8 -> 0 | M8: =N8/$N$14% -> #DIV/0! | N8: =Q8+P8 -> 0 | R8: إبتدائي
A9: Preparatory | B9: =SUM(N9+I9) -> 0 | C9: =0 -> 0 | D9: =E9/$E$14% -> #DIV/0! | E9: =SUM(P9+K9) -> 0 | F9: =G9/$G$14% -> #DIV/0! | G9: =SUM(Q9+L9) -> 0 | H9: =I9/$I$14% -> #DIV/0! | I9: =L9+K9 -> 0 | M9: =N9/$N$14% -> #DIV/0! | N9: =Q9+P9 -> 0 | R9: إعدادي
A10: Secondary | B10: =SUM(N10+I10) -> 0 | C10: =0 -> 0 | D10: =E10/$E$14% -> #DIV/0! | E10: =SUM(P10+K10) -> 0 | F10: =G10/$G$14% -> #DIV/0! | G10: =SUM(Q10+L10) -> 0 | H10: =I10/$I$14% -> #DIV/0! | I10: =L10+K10 -> 0 | M10: =N10/$N$14% -> #DIV/0! | N10: =Q10+P10 -> 0 | R10: ثانوي
A11: Pre University | B11: =SUM(N11+I11) -> 0 | C11: =0 -> 0 | D11: =E11/$E$14% -> #DIV/0! | E11: =SUM(P11+K11) -> 0 | F11: =G11/$G$14% -> #DIV/0! | G11: =SUM(Q11+L11) -> 0 | H11: =I11/$I$14% -> #DIV/0! | I11: =L11+K11 -> 0 | M11: =N11/$N$14% -> #DIV/0! | N11: =Q11+P11 -> 0 | R11: قبل الجامعة
A12: Univ & Above | B12: =SUM(N12+I12) -> 0 | C12: =0 -> 0 | D12: =E12/$E$14% -> #DIV/0! | E12: =SUM(P12+K12) -> 0 | F12: =G12/$G$14% -> #DIV/0! | G12: =SUM(Q12+L12) -> 0 | H12: =I12/$I$14% -> #DIV/0! | I12: =L12+K12 -> 0 | M12: =N12/$N$14% -> #DIV/0! | N12: =Q12+P12 -> 0 | R12: جامعي فما فوق
A13: Not stated | B13: =SUM(N13+I13) -> 0 | C13: =0 -> 0 | D13: =E13/$E$14% -> #DIV/0! | E13: =SUM(P13+K13) -> 0 | F13: =G13/$G$14% -> #DIV/0! | G13: =SUM(Q13+L13) -> 0 | H13: =I13/$I$14% -> #DIV/0! | I13: =L13+K13 -> 0 | M13: =N13/$N$14% -> #DIV/0! | N13: =Q13+P13 -> 0 | R13: غير مبين
A14: Total | B14: =SUM(B7:B13) -> 0 | C14: =0 -> 0 | D14: =SUM(D7:D13) -> #DIV/0! | E14: =SUM(E7:E13) -> 0 | F14: =SUM(F7:F13) -> #DIV/0! | G14: =SUM(G7:G13) -> 0 | H14: =SUM(H7:H13) -> #DIV/0! | I14: =SUM(I7:I13) -> 0 | J14: =0 -> 0 | K14: =SUM(K7:K13) -> 0 | L14: =SUM(L7:L13) -> 0 | M14: =SUM(M7:M13) -> #DIV/0! | N14: =SUM(N7:N13) -> 0 | O14: =0 -> 0 | P14: =SUM(P7:P13) -> 0 | Q14: =SUM(Q7:Q13) -> 0 | R14: المجموع

Sheet F7
A1: واقعات الولادة الميتة المسجلة حسب النوع والجنسية
A2: REGISTERED FOETAL DEATHS BY GENDER AND NATIONALITY
A3: 2022
A4: Table No.(7) | F4: جدول رقم (7)
A5: Nationality | B5: مجموع Total | C5: غير معرف Unknown | D5: اناث Females | E5: ذكور Males | F5: الجنسية
A6: QATAR | B6: =SUM(C6:E6) -> 15 | C6: 1 | D6: 7 | E6: 7 | F6: قطر
A7: Other CCASG Countries | B7: =SUM(C7:E7) -> 3 | C7: 0 | D7: 1 | E7: 2 | F7: بقية دول مجلس التعاون
A8: Other Arabs Countries | B8: =SUM(C8:E8) -> 20 | C8: 0 | D8: 9 | E8: 11 | F8: بقية الدول العربية
A9: Asian Countries | B9: =SUM(C9:E9) -> 18 | C9: 0 | D9: 7 | E9: 11 | F9: دول أسيوية
A10: Africon Countries | B10: =SUM(C10:E10) -> 4 | C10: 0 | D10: 2 | E10: 2 | F10: دول افريقية
A11: North American Countries | B11: =SUM(C11:E11) -> 0 | C11: 0 | D11: 0 | E11: 0 | F11: دول امريكا الشمالية
A12: Other Countries | B12: =SUM(C12:E12) -> 0 | C12: 0 | D12: 0 | E12: 0 | F12: الدول الأخرى
A13: Total | B13: =SUM(B6:B12) -> 60 | C13: =SUM(C6:C12) -> 1 | D13: =SUM(D6:D12) -> 26 | E13: =SUM(E6:E12) -> 33 | F13: المجموع

Sheet F8-1 
A1: واقعات الولادة الميتة المسجلة حسب فئة عمر الام وترتيب المولود
A2: REGISTERED FOETAL DEATHS BY AGE GROUP OF MOTHER AND CHILD ORDER
A3: QATARIS قطريون
A4: 2022
A5: Table No (8 - 1) | L5: جدول رقم (8 - 1)
A6: Child Order | B6: Age Group of Mother(In Years) (فئة عمر الأم (بالسنوات | L6: ترتيب المولود
B7: المجموع Total | C7: غير مبين Not Stated | D7: 50+ | E7: 45-49 | F7: 40-44 | G7: 35-39 | H7: 30-34 | I7: 25-29 | J7: 20-24 | K7: 15-19
A8: First | B8: =SUM(C8:K8) -> 0 | L8: الأول
A9: Second | B9: =SUM(C9:K9) -> 0 | L9: الثانى
A10: Third | B10: =SUM(C10:K10) -> 0 | L10: الثالث
A11: Fourth | B11: =SUM(C11:K11) -> 0 | L11: الرابع
A12: Fifth | B12: =SUM(C12:K12) -> 0 | L12: الخامس
A13: Sixth | B13: =SUM(C13:K13) -> 0 | L13: السادس
A14: Seventh | B14: =SUM(C14:K14) -> 0 | L14: السابع
A15: Eighth | B15: =SUM(C15:K15) -> 0 | L15: الثامن
A16: Ninth | B16: =SUM(C16:K16) -> 0 | L16: التاسع
A17: Tenth & More | B17: =SUM(C17:K17) -> 0 | L17: العاشر فاكثر
A18: Not Stated | B18: =SUM(C18:K18) -> 0 | L18: غير مبين
A19: Total | B19: =SUM(B8:B18) -> 0 | C19: =SUM(C8:C18) -> 0 | D19: =SUM(D8:D18) -> 0 | E19: =SUM(E8:E18) -> 0 | F19: =SUM(F8:F18) -> 0 | G19: =G8+G9+G10+G11+G12+G13+G14+G15+G16+G17+G18 -> 0 | H19: =SUM(H8:H18) -> 0 | I19: =SUM(I8:I18) -> 0 | J19: =SUM(J8:J18) -> 0 | K19: =SUM(K8:K18) -> 0 | L19: المجموع

Sheet F8-2
A1: واقعات الولادة الميتة المسجلة حسب فئة عمر الام وترتيب المولود
A2: REGISTERED FOETAL DEATHS BY AGE GROUP OF MOTHER AND CHILD ORDER
A3: NON-ATARIS غير قطريين
A4: 2022
A5: Table No (8 - 2) | L5: جدول رقم (8 - 2)
A6: Child Order | B6: Age Group of Mother(In Years) (فئة عمر الأم (بالسنوات | L6: ترتيب المولود
B7: المجموع Total | C7: غير مبين Not Stated | D7: 50+ | E7: 45-49 | F7: 40-44 | G7: 35-39 | H7: 30-34 | I7: 25-29 | J7: 20-24 | K7: 15-19
A8: First | B8: =SUM(C8:K8) -> 0 | L8: الأول
A9: Second | B9: =SUM(C9:K9) -> 0 | L9: الثانى
A10: Third | B10: =SUM(C10:K10) -> 0 | L10: الثالث
A11: Fourth | B11: =SUM(C11:K11) -> 0 | L11: الرابع
A12: Fifth | B12: =SUM(C12:K12) -> 0 | L12: الخامس
A13: Sixth | B13: =SUM(C13:K13) -> 0 | L13: السادس
A14: Seventh | B14: =SUM(C14:K14) -> 0 | L14: السابع
A15: Eighth | B15: =SUM(C15:K15) -> 0 | L15: الثامن
A16: Ninth | B16: =SUM(C16:K16) -> 0 | L16: التاسع
A17: Tenth & More | B17: =SUM(C17:K17) -> 0 | L17: العاشر فاكثر
A18: Not Stated | B18: =SUM(C18:K18) -> 0 | L18: غير مبين
A19: Total | B19: =SUM(B8:B18) -> 0 | C19: =SUM(C8:C18) -> 0 | D19: =SUM(D8:D18) -> 0 | E19: =SUM(E8:E18) -> 0 | F19: =SUM(F8:F18) -> 0 | G19: =G8+G9+G10+G11+G12+G13+G14+G15+G16+G17+G18 -> 0 | H19: =SUM(H8:H18) -> 0 | I19: =SUM(I8:I18) -> 0 | J19: =SUM(J8:J18) -> 0 | K19: =SUM(K8:K18) -> 0 | L19: المجموع

Sheet F8-3
A1: واقعات الولادة الميتة المسجلة حسب فئة عمر الام وترتيب المولود
A2: REGISTERED FOETAL DEATHS BY AGE GROUP OF MOTHER AND CHILD ORDER
A3: TOTAL المجموع
A4: 2022
A5: Table No (8 - 3) | L5: جدول رقم (8 - 3)
A6: Child Order | B6: Age Group of Mother(In Years) (فئة عمر الأم (بالسنوات | L6: ترتيب المولود
B7: المجموع Total | C7: غير مبين Not Stated | D7: 50+ | E7: 45-49 | F7: 40-44 | G7: 35-39 | H7: 30-34 | I7: 25-29 | J7: 20-24 | K7: 15-19
A8: First | B8: =SUM(C8:K8) -> 0 | C8: ='F8-1 '!C8+'F8-2'!C8 -> 0 | D8: ='F8-1 '!D8+'F8-2'!D8 -> 0 | E8: ='F8-1 '!E8+'F8-2'!E8 -> 0 | F8: ='F8-1 '!F8+'F8-2'!F8 -> 0 | G8: ='F8-1 '!G8+'F8-2'!G8 -> 0 | H8: ='F8-1 '!H8+'F8-2'!H8 -> 0 | I8: ='F8-1 '!I8+'F8-2'!I8 -> 0 | J8: ='F8-1 '!J8+'F8-2'!J8 -> 0 | K8: ='F8-1 '!K8+'F8-2'!K8 -> 0 | L8: الأول
A9: Second | B9: =SUM(C9:K9) -> 0 | C9: ='F8-1 '!C9+'F8-2'!C9 -> 0 | D9: ='F8-1 '!D9+'F8-2'!D9 -> 0 | E9: ='F8-1 '!E9+'F8-2'!E9 -> 0 | F9: ='F8-1 '!F9+'F8-2'!F9 -> 0 | G9: ='F8-1 '!G9+'F8-2'!G9 -> 0 | H9: ='F8-1 '!H9+'F8-2'!H9 -> 0 | I9: ='F8-1 '!I9+'F8-2'!I9 -> 0 | J9: ='F8-1 '!J9+'F8-2'!J9 -> 0 | K9: ='F8-1 '!K9+'F8-2'!K9 -> 0 | L9: الثانى
A10: Third | B10: =SUM(C10:K10) -> 0 | C10: ='F8-1 '!C10+'F8-2'!C10 -> 0 | D10: ='F8-1 '!D10+'F8-2'!D10 -> 0 | E10: ='F8-1 '!E10+'F8-2'!E10 -> 0 | F10: ='F8-1 '!F10+'F8-2'!F10 -> 0 | G10: ='F8-1 '!G10+'F8-2'!G10 -> 0 | H10: ='F8-1 '!H10+'F8-2'!H10 -> 0 | I10: ='F8-1 '!I10+'F8-2'!I10 -> 0 | J10: ='F8-1 '!J10+'F8-2'!J10 -> 0 | K10: ='F8-1 '!K10+'F8-2'!K10 -> 0 | L10: الثالث
A11: Fourth | B11: =SUM(C11:K11) -> 0 | C11: ='F8-1 '!C11+'F8-2'!C11 -> 0 | D11: ='F8-1 '!D11+'F8-2'!D11 -> 0 | E11: ='F8-1 '!E11+'F8-2'!E11 -> 0 | F11: ='F8-1 '!F11+'F8-2'!F11 -> 0 | G11: ='F8-1 '!G11+'F8-2'!G11 -> 0 | H11: ='F8-1 '!H11+'F8-2'!H11 -> 0 | I11: ='F8-1 '!I11+'F8-2'!I11 -> 0 | J11: ='F8-1 '!J11+'F8-2'!J11 -> 0 | K11: ='F8-1 '!K11+'F8-2'!K11 -> 0 | L11: الرابع
A12: Fifth | B12: =SUM(C12:K12) -> 0 | C12: ='F8-1 '!C12+'F8-2'!C12 -> 0 | D12: ='F8-1 '!D12+'F8-2'!D12 -> 0 | E12: ='F8-1 '!E12+'F8-2'!E12 -> 0 | F12: ='F8-1 '!F12+'F8-2'!F12 -> 0 | G12: ='F8-1 '!G12+'F8-2'!G12 -> 0 | H12: ='F8-1 '!H12+'F8-2'!H12 -> 0 | I12: ='F8-1 '!I12+'F8-2'!I12 -> 0 | J12: ='F8-1 '!J12+'F8-2'!J12 -> 0 | K12: ='F8-1 '!K12+'F8-2'!K12 -> 0 | L12: الخامس
A13: Sixth | B13: =SUM(C13:K13) -> 0 | C13: ='F8-1 '!C13+'F8-2'!C13 -> 0 | D13: ='F8-1 '!D13+'F8-2'!D13 -> 0 | E13: ='F8-1 '!E13+'F8-2'!E13 -> 0 | F13: ='F8-1 '!F13+'F8-2'!F13 -> 0 | G13: ='F8-1 '!G13+'F8-2'!G13 -> 0 | H13: ='F8-1 '!H13+'F8-2'!H13 -> 0 | I13: ='F8-1 '!I13+'F8-2'!I13 -> 0 | J13: ='F8-1 '!J13+'F8-2'!J13 -> 0 | K13: ='F8-1 '!K13+'F8-2'!K13 -> 0 | L13: السادس
A14: Seventh | B14: =SUM(C14:K14) -> 0 | C14: ='F8-1 '!C14+'F8-2'!C14 -> 0 | D14: ='F8-1 '!D14+'F8-2'!D14 -> 0 | E14: ='F8-1 '!E14+'F8-2'!E14 -> 0 | F14: ='F8-1 '!F14+'F8-2'!F14 -> 0 | G14: ='F8-1 '!G14+'F8-2'!G14 -> 0 | H14: ='F8-1 '!H14+'F8-2'!H14 -> 0 | I14: ='F8-1 '!I14+'F8-2'!I14 -> 0 | J14: ='F8-1 '!J14+'F8-2'!J14 -> 0 | K14: ='F8-1 '!K14+'F8-2'!K14 -> 0 | L14: السابع
A15: Eighth | B15: =SUM(C15:K15) -> 0 | C15: ='F8-1 '!C15+'F8-2'!C15 -> 0 | D15: ='F8-1 '!D15+'F8-2'!D15 -> 0 | E15: ='F8-1 '!E15+'F8-2'!E15 -> 0 | F15: ='F8-1 '!F15+'F8-2'!F15 -> 0 | G15: ='F8-1 '!G15+'F8-2'!G15 -> 0 | H15: ='F8-1 '!H15+'F8-2'!H15 -> 0 | I15: ='F8-1 '!I15+'F8-2'!I15 -> 0 | J15: ='F8-1 '!J15+'F8-2'!J15 -> 0 | K15: ='F8-1 '!K15+'F8-2'!K15 -> 0 | L15: الثامن
A16: Ninth | B16: =SUM(C16:K16) -> 0 | C16: ='F8-1 '!C16+'F8-2'!C16 -> 0 | D16: ='F8-1 '!D16+'F8-2'!D16 -> 0 | E16: ='F8-1 '!E16+'F8-2'!E16 -> 0 | F16: ='F8-1 '!F16+'F8-2'!F16 -> 0 | G16: ='F8-1 '!G16+'F8-2'!G16 -> 0 | H16: ='F8-1 '!H16+'F8-2'!H16 -> 0 | I16: ='F8-1 '!I16+'F8-2'!I16 -> 0 | J16: ='F8-1 '!J16+'F8-2'!J16 -> 0 | K16: ='F8-1 '!K16+'F8-2'!K16 -> 0 | L16: التاسع
A17: Tenth & More | B17: =SUM(C17:K17) -> 0 | C17: ='F8-1 '!C17+'F8-2'!C17 -> 0 | D17: ='F8-1 '!D17+'F8-2'!D17 -> 0 | E17: ='F8-1 '!E17+'F8-2'!E17 -> 0 | F17: ='F8-1 '!F17+'F8-2'!F17 -> 0 | G17: ='F8-1 '!G17+'F8-2'!G17 -> 0 | H17: ='F8-1 '!H17+'F8-2'!H17 -> 0 | I17: ='F8-1 '!I17+'F8-2'!I17 -> 0 | J17: ='F8-1 '!J17+'F8-2'!J17 -> 0 | K17: ='F8-1 '!K17+'F8-2'!K17 -> 0 | L17: العاشر فاكثر
A18: Not Stated | B18: =SUM(C18:K18) -> 0 | C18: ='F8-1 '!C18+'F8-2'!C18 -> 0 | D18: ='F8-1 '!D18+'F8-2'!D18 -> 0 | E18: ='F8-1 '!E18+'F8-2'!E18 -> 0 | F18: ='F8-1 '!F18+'F8-2'!F18 -> 0 | G18: ='F8-1 '!G18+'F8-2'!G18 -> 0 | H18: ='F8-1 '!H18+'F8-2'!H18 -> 0 | I18: ='F8-1 '!I18+'F8-2'!I18 -> 0 | J18: ='F8-1 '!J18+'F8-2'!J18 -> 0 | K18: ='F8-1 '!K18+'F8-2'!K18 -> 0 | L18: غير مبين
A19: Total | B19: =SUM(B8:B18) -> 0 | C19: =SUM(C8:C18) -> 0 | D19: =SUM(D8:D18) -> 0 | E19: =SUM(E8:E18) -> 0 | F19: =SUM(F8:F18) -> 0 | G19: =G8+G9+G10+G11+G12+G13+G14+G15+G16+G17+G18 -> 0 | H19: =SUM(H8:H18) -> 0 | I19: =SUM(I8:I18) -> 0 | J19: =SUM(J8:J18) -> 0 | K19: =SUM(K8:K18) -> 0 | L19: المجموع

Sheet chapter-3
A1: الباب الثالث: الوفيــات
A2: CHAPTER THREE: DEATHS

Sheet Map Deaths

Sheet D-1
A1: الوفيات المسجلة حسب الجنسية والنوع
A2: REGISTERED DEATHS BY NATIONALITY AND GENDER
A3: 2013 - 2022
A4: Table No. (1) | P4: جدول رقم (1)
A5: Nationality &Gender Year | B5: المجموع Total | F5: Non-Qataris غير قطريين | K5: Qataris قطريون | P5: الجنسية والنوع السنة
B6: المجموع Total | C6: غير محدد Not stated | D6: إناث Females | E6: ذكور Males | F6: % | G6: المجموع Total | H6: غير محدد Not stated | I6: إناث Females | J6: ذكور Males | K6: % | L6: المجموع Total | M6: غير محدد Not stated | N6: إناث Females | O6: ذكور Males
A7: 2013 | B7: =E7+D7+C7 -> 2133 | C7: =M7+H7 -> 0 | D7: =N7+I7 -> 529 | E7: =O7+J7 -> 1604 | F7: =G7/B7% -> 67.276137 | G7: =J7+I7+H7 -> 1435 | H7: 0 | I7: 278 | J7: 1157 | K7: =L7/B7% -> 32.723863 | L7: =O7+N7+M7 -> 698 | M7: 0 | N7: 251 | O7: 447 | P7: 2013
A8: 2014 | B8: =E8+D8+C8 -> 2366 | C8: =M8+H8 -> 0 | D8: =N8+I8 -> 640 | E8: =O8+J8 -> 1726 | F8: =G8/B8% -> 68.681319 | G8: =J8+I8+H8 -> 1625 | H8: 0 | I8: 338 | J8: 1287 | K8: =L8/B8% -> 31.318681 | L8: =O8+N8+M8 -> 741 | M8: 0 | N8: 302 | O8: 439 | P8: 2014
A9: 2015 | B9: =E9+D9+C9 -> 2317 | C9: =M9+H9 -> 0 | D9: =N9+I9 -> 611 | E9: =O9+J9 -> 1706 | F9: =G9/B9% -> 70.651705 | G9: =J9+I9+H9 -> 1637 | H9: 0 | I9: 328 | J9: 1309 | K9: =L9/B9% -> 29.348295 | L9: =O9+N9+M9 -> 680 | M9: 0 | N9: 283 | O9: 397 | P9: 2015
A10: 2016 | B10: =E10+D10+C10 -> 2347 | C10: =M10+H10 -> 0 | D10: =N10+I10 -> 600 | E10: =O10+J10 -> 1747 | F10: =G10/B10% -> 70.387729 | G10: =J10+I10+H10 -> 1652 | H10: 0 | I10: 337 | J10: 1315 | K10: =L10/B10% -> 29.612271 | L10: =O10+N10+M10 -> 695 | M10: 0 | N10: 263 | O10: 432 | P10: 2016
A11: 2017 | B11: =E11+D11+C11 -> 2294 | C11: =M11+H11 -> 0 | D11: =N11+I11 -> 625 | E11: =O11+J11 -> 1669 | F11: =G11/B11% -> 69.267655 | G11: =J11+I11+H11 -> 1589 | H11: 0 | I11: 345 | J11: 1244 | K11: =L11/B11% -> 30.732345 | L11: =O11+N11+M11 -> 705 | M11: 0 | N11: 280 | O11: 425 | P11: 2017
A12: 2018 | B12: =E12+D12+C12 -> 2385 | C12: =M12+H12 -> 0 | D12: =N12+I12 -> 660 | E12: =O12+J12 -> 1725 | F12: =G12/B12% -> 68.301887 | G12: =J12+I12+H12 -> 1629 | H12: 0 | I12: 359 | J12: 1270 | K12: =L12/B12% -> 31.698113 | L12: =O12+N12+M12 -> 756 | M12: 0 | N12: 301 | O12: 455 | P12: 2018
A13: 2019 | B13: =E13+D13+C13 -> 2200 | C13: =M13+H13 -> 0 | D13: =N13+I13 -> 684 | E13: =O13+J13 -> 1516 | F13: =G13/B13% -> 68.590909 | G13: =J13+I13+H13 -> 1509 | H13: 0 | I13: 389 | J13: 1120 | K13: =L13/B13% -> 31.409091 | L13: =O13+N13+M13 -> 691 | M13: 0 | N13: 295 | O13: 396 | P13: 2019
A14: 2020 | B14: =E14+D14+C14 -> 2811 | C14: =M14+H14 -> 0 | D14: =N14+I14 -> 775 | E14: =O14+J14 -> 2036 | F14: =G14/B14% -> 73.99502 | G14: =J14+I14+H14 -> 2080 | H14: 0 | I14: 473 | J14: 1607 | K14: =L14/B14% -> 26.00498 | L14: =O14+N14+M14 -> 731 | M14: 0 | N14: 302 | O14: 429 | P14: 2020
A15: 2021 | B15: =E15+D15+C15 -> 2841 | C15: =M15+H15 -> 0 | D15: =N15+I15 -> 810 | E15: =O15+J15 -> 2031 | F15: =G15/B15% -> 70.432946 | G15: =J15+I15+H15 -> 2001 | H15: 0 | I15: 432 | J15: 1569 | K15: =L15/B15% -> 29.567054 | L15: =O15+N15+M15 -> 840 | M15: 0 | N15: 378 | O15: 462 | P15: 2021
A16: 2022 | B16: =E16+D16+C16 -> 2792 | C16: =M16+H16 -> 1 | D16: =N16+I16 -> 850 | E16: =O16+J16 -> 1941 | F16: =G16/B16% -> 66.153295 | G16: =J16+I16+H16 -> 1847 | H16: 1 | I16: 427 | J16: 1419 | K16: =L16/B16% -> 33.846705 | L16: =O16+N16+M16 -> 945 | M16: 0 | N16: 423 | O16: 522 | P16: 2022

Sheet D-2
A1: الوفيات المسجلة حسب الجنسية والنوع والبلدية
A2: REGISTERED DEATHS BY NATIONALITY, GENDER AND MUNICIPALITY
A3: 2022
A4: Table No. (2) | R4: جدول رقم (2)
A5: Nationality &Gender Year | B5: المجموع Total | H5: غير قطريين Non-Qataris | M5: قطريون Qataris | R5: الجنسية والنوع البلدية
B6: المجموع Total | C6: غير محدد Not stated | D6: نسبة الإناث % Females | E6: إناث Females | F6: نسبة الذكور % Males | G6: ذكور Males | H6: % | I6: المجموع Total | J6: غير محدد Not stated | K6: إناث Females | L6: ذكور Males | M6: % | N6: المجموع Total | O6: غير محدد Not stated | P6: إناث Females | Q6: ذكور Males
A7: Doha | B7: =N7+I7 -> 1887 | C7: =O7+J7 -> 1 | D7: =(E7/$E$16)*100 -> 60.588235 | E7: =P7+K7 -> 515 | F7: =(G7/$G$16)*100 -> 70.633694 | G7: =Q7+L7 -> 1371 | H7: =(I7/$I$16)*100 -> 79.696806 | I7: =L7+K7+J7 -> 1472 | J7: 1 | K7: 330 | L7: 1141 | M7: =(N7/$N$16)*100 -> 43.915344 | N7: =Q7+P7+O7 -> 415 | O7: 0 | P7: 185 | Q7: 230 | R7: الدوحة
A8: Al Rayyan | B8: =N8+I8 -> 453 | C8: 0 | D8: =(E8/$E$16)*100 -> 19.294118 | E8: =P8+K8 -> 164 | F8: =(G8/$G$16)*100 -> 14.889232 | G8: =Q8+L8 -> 289 | H8: =(I8/$I$16)*100 -> 11.478073 | I8: =L8+K8+J8 -> 212 | J8: 0 | K8: 51 | L8: 161 | M8: =(N8/$N$16)*100 -> 25.502646 | N8: =Q8+P8+O8 -> 241 | O8: 0 | P8: 113 | Q8: 128 | R8: الريان
A9: Al Wakra | B9: =N9+I9 -> 96 | C9: 0 | D9: =(E9/$E$16)*100 -> 4 | E9: =P9+K9 -> 34 | F9: =(G9/$G$16)*100 -> 3.1942298 | G9: =Q9+L9 -> 62 | H9: =(I9/$I$16)*100 -> 3.8440715 | I9: =L9+K9+J9 -> 71 | J9: 0 | K9: 24 | L9: 47 | M9: =(N9/$N$16)*100 -> 2.6455026 | N9: =Q9+P9+O9 -> 25 | O9: 0 | P9: 10 | Q9: 15 | R9: الوكرة
A10: Umm Salal | B10: =N10+I10 -> 65 | C10: 0 | D10: =(E10/$E$16)*100 -> 2.8235294 | E10: =P10+K10 -> 24 | F10: =(G10/$G$16)*100 -> 2.1123132 | G10: =Q10+L10 -> 41 | H10: =(I10/$I$16)*100 -> 1.6783974 | I10: =L10+K10+J10 -> 31 | J10: 0 | K10: 8 | L10: 23 | M10: =(N10/$N$16)*100 -> 3.5978836 | N10: =Q10+P10+O10 -> 34 | O10: 0 | P10: 16 | Q10: 18 | R10: ام صلال
A11: Al Khor | B11: =N11+I11 -> 63 | C11: 0 | D11: =(E11/$E$16)*100 -> 2.1176471 | E11: =P11+K11 -> 18 | F11: =(G11/$G$16)*100 -> 2.3183926 | G11: =Q11+L11 -> 45 | H11: =(I11/$I$16)*100 -> 1.7325393 | I11: =L11+K11+J11 -> 32 | J11: 0 | K11: 6 | L11: 26 | M11: =(N11/$N$16)*100 -> 3.2804233 | N11: =Q11+P11+O11 -> 31 | O11: 0 | P11: 12 | Q11: 19 | R11: الخور
A12: Al Shamal | B12: =N12+I12 -> 10 | C12: 0 | D12: =(E12/$E$16)*100 -> 0.58823529 | E12: =P12+K12 -> 5 | F12: =(G12/$G$16)*100 -> 0.25759918 | G12: =Q12+L12 -> 5 | H12: =(I12/$I$16)*100 -> 0.27070926 | I12: =L12+K12+J12 -> 5 | J12: 0 | K12: 2 | L12: 3 | M12: =(N12/$N$16)*100 -> 0.52910053 | N12: =Q12+P12+O12 -> 5 | O12: 0 | P12: 3 | Q12: 2 | R12: الشمال
A13: Al Dhayyen | B13: =N13+I13 -> 29 | C13: 0 | D13: =(E13/$E$16)*100 -> 1.2941176 | E13: =P13+K13 -> 11 | F13: =(G13/$G$16)*100 -> 0.92735703 | G13: =Q13+L13 -> 18 | H13: =(I13/$I$16)*100 -> 0.43313481 | I13: =L13+K13+J13 -> 8 | J13: 0 | K13: 4 | L13: 4 | M13: =(N13/$N$16)*100 -> 2.2222222 | N13: =Q13+P13+O13 -> 21 | O13: 0 | P13: 7 | Q13: 14 | R13: الظعاين
A14: Al Sheehaniya | B14: =N14+I14 -> 42 | C14: 0 | D14: =(E14/$E$16)*100 -> 1.7647059 | E14: =P14+K14 -> 15 | F14: =(G14/$G$16)*100 -> 1.3910355 | G14: =Q14+L14 -> 27 | H14: =(I14/$I$16)*100 -> 0.81212777 | I14: =L14+K14+J14 -> 15 | J14: 0 | K14: 2 | L14: 13 | M14: =(N14/$N$16)*100 -> 2.8571429 | N14: =Q14+P14+O14 -> 27 | O14: 0 | P14: 13 | Q14: 14 | R14: الشيحانية
A15: Outside Qatar | B15: =N15+I15 -> 147 | C15: 0 | D15: =(E15/$E$16)*100 -> 7.5294118 | E15: =P15+K15 -> 64 | F15: =(G15/$G$16)*100 -> 4.2761463 | G15: =Q15+L15 -> 83 | H15: =(I15/$I$16)*100 -> 0.054141852 | I15: =L15+K15+J15 -> 1 | J15: 0 | K15: 0 | L15: 1 | M15: =(N15/$N$16)*100 -> 15.449735 | N15: =Q15+P15+O15 -> 146 | O15: 0 | P15: 64 | Q15: 82 | R15: خارج قطر
A16: Total | B16: =SUM(B7:B15) -> 2792 | C16: =SUM(C7:C15) -> 1 | D16: =SUM(D7:D15) -> 100 | E16: =SUM(E7:E15) -> 850 | F16: =SUM(F7:F15) -> 100 | G16: =SUM(G7:G15) -> 1941 | H16: =SUM(H7:H15) -> 100 | I16: =SUM(I7:I15) -> 1847 | ... Q16: =SUM(Q7:Q15) -> 522 | R16: المجموع

Sheet D-3
A1: الوفيات المسجلة حسب الجنسية والنوع والشهر
A2: REGISTERED DEATHS BY NATIONALITY, GENDER AND MONTH
A3: 2022
A4: Table No. (3) | N4: جدول رقم (3)
A5: Nationality & Gender Month | B5: المجموع Total | F5: غير قطريين Non-Qataris | J5: قطريون Qataris | N5: الجنسية والنوع الشهر
B6: المجموع Total | C6: غير محدد Not stated | D6: إناث Females | E6: ذكور Males | F6: المجموع Total | G6: غير محدد Not stated | H6: إناث Females | I6: ذكور Males | J6: المجموع Total | K6: غير محدد Not stated | L6: إناث Females | M6: ذكور Males
A7: January | B7: =E7+D7+C7 -> 301 | C7: 0 | D7: =H7+L7 -> 90 | E7: =M7+I7 -> 211 | F7: =I7+H7+G7 -> 197 | G7: 0 | H7: 43 | I7: 154 | J7: =M7+L7+K7 -> 104 | K7: 0 | L7: 47 | M7: 57 | N7: يناير
A8: February | B8: =E8+D8+C8 -> 237 | C8: 0 | D8: =H8+L8 -> 63 | E8: =M8+I8 -> 174 | F8: =I8+H8+G8 -> 157 | G8: 0 | H8: 35 | I8: 122 | J8: =M8+L8+K8 -> 80 | K8: 0 | L8: 28 | M8: 52 | N8: فبراير
A9: March | B9: =E9+D9+C9 -> 232 | C9: 0 | D9: =H9+L9 -> 79 | E9: =M9+I9 -> 153 | F9: =I9+H9+G9 -> 156 | G9: 0 | H9: 38 | I9: 118 | J9: =M9+L9+K9 -> 76 | K9: 0 | L9: 41 | M9: 35 | N9: مارس
A10: April | B10: =E10+D10+C10 -> 225 | C10: 0 | D10: =H10+L10 -> 78 | E10: =M10+I10 -> 147 | F10: =I10+H10+G10 -> 132 | G10: 0 | H10: 31 | I10: 101 | J10: =M10+L10+K10 -> 93 | K10: 0 | L10: 47 | M10: 46 | N10: ابريل
A11: May | B11: =E11+D11+C11 -> 211 | C11: 0 | D11: =H11+L11 -> 66 | E11: =M11+I11 -> 145 | F11: =I11+H11+G11 -> 140 | G11: 0 | H11: 35 | I11: 105 | J11: =M11+L11+K11 -> 71 | K11: 0 | L11: 31 | M11: 40 | N11: مايو
A12: June | B12: =E12+D12+C12 -> 183 | C12: 0 | D12: =H12+L12 -> 51 | E12: =M12+I12 -> 132 | F12: =I12+H12+G12 -> 124 | G12: 0 | H12: 25 | I12: 99 | J12: =M12+L12+K12 -> 59 | K12: 0 | L12: 26 | M12: 33 | N12: يونيو
A13: July | B13: =E13+D13+C13 -> 219 | C13: 0 | D13: =H13+L13 -> 51 | E13: =M13+I13 -> 168 | F13: =I13+H13+G13 -> 145 | G13: 0 | H13: 19 | I13: 126 | J13: =M13+L13+K13 -> 74 | K13: 0 | L13: 32 | M13: 42 | N13: يوليو
