Workbook

Sheet Cover

Sheet المحتويات
A1: المحتـويــــــــات Contents

Sheet Cont
A1: Contents | D1: المحتويات
A2: Tables | B2: رقم الصفحة Page No. | C2: رقم الجدول Table No. | D2: الجداول
A3: CHAPTER ONE : VITAL INDICATORS | D3: الباب الأول : المؤشرات الحيوية
A4: General Fertility, Total Fertility and Gross Reproduction Rate, and Average Age of Child Bearing by Nationality (2019-2023) | B4: 1 | C4: 1 | D4: معدل الخصوبة العام والخصوبة الكلية والإحلال الإجمالى ومتوسط عمر المرأة عند الإنجاب حسب الجنسية (2019-2023)
A5: Crude Birth and Death Rate, Natural Increase Rate, Maternal Mortality Rate and Rate Of Deliveries Under Medical Supervision (2014-2023) | B5: 2 | C5: 2 | D5: معدل المواليد والوفيات الخام ومعدل الزيادة الطبيعية ومعدل وفيات الأمهات ونسبة الولادات التي تجري تحت إشراف صحي (2014-2023)
A6: Neonatal Mortality Rate (per 1000 live births) (2014-2023) | B6: 3 | C6: 3 | D6: معدل وفيات حديثي الولادة (لكل ألف مولود حي)(2014-2023)
A7: Infant Mortality Rate by Nationality and Gender (per 1000 live births) (2014-2023) | B7: 4 | C7: 4 | D7: معدل وفيات الأطفال الرضع حسب الجنسية والنوع (لكل ألف مولود حي) (2014-2023)
A8: Child Mortality Rate (Less Than 5 Years) by Nationality and Gender (per 1000 live births) (2014-2023) | B8: 5 | C8: 5 | D8: معدل وفيات الأطفال (أقل من 5 سنوات) حسب الجنسية والنوع (لكل ألف مولود حي) (2014-2023)
A9: Child Mortality Rate (1 - 4 years) by Nationality and Gender(per 1000 live births) (2014-2023) | B9: 7 | C9: 6 | D9: معدل وفيات الأطفال (1 - 4 سنوات) حسب الجنسية والنوع (لكل ألف مولود حي) (2014-2023)
A11: CHAPTER TWO : LIVE BIRTHS | D11: الباب الثاني : المواليــــد الأحياء
A12: Registered Vital Events (2014-2023) | B12: 12 | C12: 1 | D12: الواقعات الحيوية المسجلة (2014-2023)
A13: Non-Registered Live Births by Nationality and Gender (2014-2023) | B13: 14 | C13: 2 | D13: المواليد الأحياء فاقدو القيد حسب الجنسية والنوع (2014-2023)
A14: Registered Live Births by Nationality, Gender and Gender Ratio at birth (2014-2023) | B14: 15 | C14: 3 | D14: المواليد الأحياء المسجلون حسب الجنسية والنوع ونسبة النوع عند الميلاد (2014-2023)
A15: Registerd Live Births by Nationality and Gender (2014-2023) | B15: 16 | C15: 4 | D15: المواليد الأحياء المسجلون حسب الجنسية والنوع (2014-2023)
A16: Registered Live Births by Nationality, Gender and Municipality (2023) | B16: 17 | C16: 5 | D16: المواليد الأحياء المسجلون حسب الجنسية والنوع والبلدية (2023)
A17: Registered Live Births by Month, Gender and Municipality, Qataris (2023) | B17: 19 | C17: 6-1 | D17: المواليد الأحياء المسجلون حسب الشهر والنوع والبلدية، قطريون (2023)
A18: Registered Live Births by Month, Gender and Municipality, Non-Qataris (2023) | B18: 20 | C18: 6-2 | D18: المواليد الأحياء المسجلون حسب الشهر والنوع والبلدية، غير قطريين (2023)
A19: Registered Live Births by Month, Gender and Municipality, Total (2023) | B19: 21 | C19: 6-3 | D19: المواليد الأحياء المسجلون حسب الشهر والنوع والبلدية، المجموع (2023)
A20: Registered Live Births by Nationality, Type of Births and Municipality (2023) | B20: 23 | C20: 7 | D20: المواليد الأحياء المسجلون حسب الجنسية ونوع الولادة والبلدية (2023)
A21: Registered Live Births by Nationality, Delivery Attendant, Place of Birth and Municipality (2023) | B21: 24 | C21: 8 | D21: المواليد الأحياء المسجلون حسب الجنسية وصفة القائم بالتوليد ومكان الولادة والبلدية (2023)
A22: Registered Live Births by Gender and Nationality (2019-2023) | B22: 25 | C22: 9 | D22: المواليد الأحياء المسجلون حسب النوع والجنسية (2019-2023)
A23: Registered Live Births by Nationality, Gender and Mother's Age Group (2023) | B23: 27 | C23: 10 | D23: المواليد الأحياء المسجلون حسب الجنسية والنوع وفئة عمر الأم (2023)
... A44: Registered Live Births by Father's Age Group, Nationality and Occupation (2023) | B44: 51 | C44: 19 | D44: المواليد الأحياء المسجلون حسب فئة عمر الأب وجنسيته ومهنته (2023)
A45: CHAPTER THREE : FOETAL DEATHS | D45: الباب الثالث : المواليــــد موتى
A46: REGISTERED FOETAL DEATHS BY NATIONALITY AND GENDER (2013-2022) | C46: 1 | D46: واقعات الولادة الميتة المسجلة حسب الجنسية والنوع (2013-2022)
A47: REGISTERED FOETAL DEATHS BY NATIONALITY, GENDER AND MUNICIPALITY (2022) | C47: 2 | D47: واقعات الولادة الميتة المسجلة حسب الجنسية والنوع والبلدية (2022)
A48: REGISTERED FOETAL DEATHS BY NATIONALITY, GENDER AND MONTH (2022) | C48: 3 | D48: واقعات الولادة الميتة المسجلة حسب الجنسية والنوع والشهر (2022)
A49: REGISTERED FOETAL DEATHS BY NATIONALITY, GENDER AND AGE GROUP OF MOTHER, (2022) | C49: 4 | D49: واقعات الولادة الميتة المسجلة حسب الجنسية والنوع وفئة عمر الأم (2022)
A50: REGISTERED FOETAL DEATHS BY NATIONALITY, GENDER AND GESTATIONAL AGE IN WEEKS (2022) | C50: 5 | D50: واقعات الولادة الميتة المسجلة حسب الجنسية والنوع والعمر الرحمى بالاسابيع (2022)
A51: REGISTERED FOETAL DEATHS BY NATIONALITY, GENDER AND EDUCATIONAL STATUS OF MOTHER (2022) | C51: 6 | D51: واقعات الولادة الميتة المسجلة حسب الجنسية والنوع والحالة التعليمية للأم (2022)
A52: REGISTERED FOETAL DEATHS BY GENDER AND NATIONALITY (2022) | C52: 7 | D52: واقعات الولادة الميتة المسجلة حسب النوع والجنسية (2022)
A53: REGISTERED FOETAL DEATHS BY AGE GROUP OF MOTHER AND CHILD ORDER (Qataris) (2022) | C53: 8-1 | D53: واقعات الولادة الميتة المسجلة حسب فئة عمر الام وترتيب المولود، قطريون (2022)
A54: REGISTERED FOETAL DEATHS BY AGE GROUP OF MOTHER AND CHILD ORDER (Non-Qataris) (2022) | C54: 8-2 | D54: واقعات الولادة الميتة المسجلة حسب فئة عمر الام وترتيب المولود، غير قطريين (2022)
A55: REGISTERED FOETAL DEATHS BY AGE GROUP OF MOTHER AND CHILD ORDER (Total) (2022) | C55: 8-3 | D55: واقعات الولادة الميتة المسجلة حسب فئة عمر الام وترتيب المولود، المجموع (2022)
A57: CHAPTER THREE : DEATHS | D57: الباب الثالث: الوفيات
A58: Registered Deaths by Nationality and Gender (2014-2023) | B58: 56 | C58: 1 | D58: الوفيات المسجلة حسب الجنسية والنوع (2014-2023)
A59: Registered Deaths by Nationality, Gender and Municipality (2023) | B59: 57 | C59: 2 | D59: الوفيات المسجلة حسب الجنسية والنوع والبلدية (2023)
A60: Registered Deaths by Nationality, Gender and Month (2023) | B60: 58 | C60: 3 | D60: الوفيات المسجلة حسب الجنسية والنوع والشهر (2023)
A61: Registered Deaths by Nationality, Gender and Age (2023) | B61: 60 | C61: 4 | D61: الوفيات المسجلة حسب الجنسية والنوع والعمر (2023)
A62: Registered Qatari Deaths by Place of Death, Gender and Age Groups (2023) | B62: 62 | C62: 5 | D62: الوفيات المسجلة للقطريين حسب مكان الوفاة والنوع والفئات العمرية (2023)
A63: Registered Qatari Deaths by Gender and Place of Death (2023) | B63: 63 | C63: 6 | D63: الوفيات المسجلة للقطريين حسب النوع ومكان الوفاة (2023)
A64: Registered Deaths by Nationality, Gender and Single Year of Age (2023) | B64: 65 | C64: 7 | D64: الوفيات المسجلة حسب الجنسية والنوع وآحاد العمر (2023)
A65: Registered Deaths (15 years old and over) by Marital Status, Gender and Age Groups (Qataris) (2023) | B65: 68 | C65: 8-1 | D65: الوفيات المسجلة (15 سنة فأكثر) حسب الحالة الزواجية والنوع والفئات العمرية، قطريون (2023)
A66: Registered Deaths (15 years old and over) by Marital Status, Gender and Age Groups (Non-Qataris) (2023) | B66: 70 | C66: 8-2 | D66: الوفيات المسجلة (15 سنة فأكثر) حسب الحالة الزواجية والنوع والفئات العمرية، غير قطريين (2023)
A67: Registered Deaths (15 years old and over) by Marital Status, Gender and Age Groups (Total) (2023) | B67: 72 | C67: 8-3 | D67: الوفيات المسجلة (15 سنة فأكثر) حسب الحالة الزواجية والنوع والفئات العمرية، المجموع (2023)
A68: Registered Deaths by Gender and Nationality (2019-2023) | B68: 74 | C68: 9 | D68: الوفيات المسجلة حسب النوع والجنسية (2019-2023)
A69: Registered Deaths (15 years and over) by Age Groups, Gender and Occupation (Qataris) (2023) | B69: 76 | C69: 10-1 | D69: الوفيات المسجلة (15 سنة فأكثر) حسب الفئات العمرية والنوع والمهنة، قطريون (2023)
... A75: Deaths by Age groups, Gender and Cause of Death (ICD-10 Basic List) (Total) (2023) | B75: 92 | C75: 12-3 | D75: الوفيات حسب الفئات العمرية والنوع و سبب الوفاة، (المراجعة العاشرة القائمة الأساسية)، المجموع (2023)
A77: CHAPTER FOUR : INFANT DEATHS | D77: الباب الرابع: وفيات الأطفال الرضع
A78: Registered Infant Deaths by Nationality and Gender (2014-2023) | B78: 102 | C78: 1 | D78: وفيات الأطفال الرضع المسجلة حسب الجنسية والنوع (2014-2023)
A79: Registered Infant Deaths by Nationality, Gender and Municipality (2023) | B79: 104 | C79: 2 | D79: وفيات الأطفال الرضع المسجلة حسب الجنسية والنوع والبلدية (2023)
A80: Registered Infant Deaths by Nationality, Gender and Month (2023) | B80: 105 | C80: 3 | D80: وفيات الأطفال الرضع المسجلة حسب الجنسية والنوع والشهر (2023)
A81: Registered Infant Deaths by Nationality, Gender and Age (2023) | B81: 106 | C81: 4 | D81: وفيات الأطفال الرضع المسجلة حسب الجنسية والنوع والعمر (2023)
A82: Registered Infant Deaths by Month and Age (Qataris) (2023) | B82: 107 | C82: 5-1 | D82: وفيات الأطفال الرضع المسجلة حسب الشهر والعمر، قطريون (2023)
A83: Registered Infant Deaths by Month and Age (Non-Qataris) (2023) | B83: 108 | C83: 5-2 | D83: وفيات الأطفال الرضع المسجلة حسب الشهر والعمر، غير قطريين (2023)
A84: Registered Infant Deaths by Month and Age (Total) (2023) | B84: 109 | C84: 5-3 | D84: وفيات الأطفال الرضع المسجلة حسب الشهر والعمر، المجموع (2023)
A85: Registered Infant Deaths by Gender and Nationality (2023) | B85: 110 | C85: 6 | D85: وفيات الأطفال الرضع المسجلة حسب النوع والجنسية (2023)
A86: Registered Infant Deaths by Nationality, Gender and Cause of Death (ICD-10 Basic List) (2023) | B86: 112 | C86: 7 | D86: وفيات الأطفال الرضع المسجلة حسب الجنسية والنوع وسبب الوفاة، (المراجعة العاشرة القائمة الأساسية) (2023)
A88: CHAPTER FIVE : REGISTERED DEATHS BY CAUSE OF DEATH | D88: الباب الخامس: الوفيات المسجلة حسب سبب الوفاة
A89: Percentage of Registered Deaths by Nationality,Gender and Cause of Death (ICD 10 Basic list) (2023) | B89: 117 | C89: 1 | D89: نسبة الوفيات المسجلة حسب الجنسية والنوع وسبب الوفاة، (المراجعة العاشرة القائمة الأساسية) (2023)
A90: Percentage of Registered Deaths by Nationality,Gender and Cause of Death (ICD 10 Basic list) (2022) | B90: 118 | C90: 2 | D90: نسبة الوفيات المسجلة حسب الجنسية والنوع وسبب الوفاة، (المراجعة العاشرة القائمة الأساسية) (2022)
A91: Percentage of Registered Deaths by Nationality,Gender and Cause of Death (ICD 10 Basic list) (2021) | B91: 119 | C91: 3 | D91: نسبة الوفيات المسجلة حسب الجنسية والنوع وسبب الوفاة، (المراجعة العاشرة القائمة الأساسية)، (2021)
A93: Appendices: | D93: ملاحـــــــق :
A95: 1. Notification of Live Birth | B95: 123 | D95: 1 - استمارة بلاغ عن مولود حي
A96: 2. Notification of Death | B96: 124 | D96: 2 - استمارة بلاغ عن وفاة

Sheet Con-GR
A1: List of Figures | D1: فهرس الرسوم البيانية
A2: Figure | B2: رقم الصفحة Page No. | C2: رقم الشكل Figure No. | D2: الشكل
A4: CHAPTER ONE : VITAL INDICATORS | D4: الباب الأول : المؤشرات الحيوية
A5: Child Mortality Rate (Less Than 5 Years) by Gender (per 1000 live births) (2014-2023) | B5: 6 | C5: 1 | D5: معدل وفيات الأطفال (أقل من 5 سنوات) حسب النوع (لكل ألف مولود حي) (2014 - 2023)
A7: CHAPTER TWO : LIVE BIRTHS | D7: الباب الثاني : المواليــــد الأحياء
A8: Registered Vital Events (2014-2023) | B8: 13 | C8: 2 | D8: الواقعات الحيوية المسجلة (2014 -2023)
A9: Registered Live Births by Nationality and Municipality (2023) | B9: 18 | C9: 3 | D9: المواليد الأحياء المسجلون حسب الجنسية والبلدية (2023)
A10: Registered Live Births by Gender and Month (2023) | B10: 22 | C10: 4 | D10: المواليد الأحياء المسجلون حسب النوع والشهر (2023)
A11: Registered Live Births by Nationality (2023) | B11: 26 | C11: 5 | D11: المواليد الأحياء المسجلون حسب الجنسية (2023)
A12: Registered Live Births by Nationality and Mother's Age Group (2023) | B12: 28 | C12: 6 | D12: المواليد الأحياء المسجلون حسب الجنسية و فئة عمر الأم (2023)
A13: Registered Live Births by Mother's Nationality and Age Group (2023) | B13: 30 | C13: 7 | D13: المواليد الأحياء المسجلون حسب جنسية الأم وفئة عمرها (2023)
A14: Registered Live Births by Mother's Educational Status (2023) | B14: 45 | C14: 8 | D14: المواليد الأحياء المسجلون حسب الحالة التعليمية للأم (2023)
A16: CHAPTER THREE : DEATHS | D16: الباب الثالث: الوفيات
A17: Registered Deaths by Gender and Month (2023) | B17: 59 | C17: 9 | D17: الوفيات المسجلة حسب النوع والشهر (2023)
A18: Registered Deaths by Nationality and Age Groups (2023) | B18: 61 | C18: 10 | D18: الوفيات المسجلة حسب الجنسية والفئات العمرية (2023)
A19: Registered Qatari Deaths by Place of Death (2023) | B19: 64 | C19: 11 | D19: الوفيات المسجلة للقطريين حسب مكان الوفاة (2023)
A20: Registered Deaths by Nationality (2023) | B20: 75 | C20: 12 | D20: الوفيات المسجلة حسب الجنسية (2023)
A22: CHAPTER FOUR : INFANT DEATHS | D22: الباب الرابع: وفيات الأطفال الرضع
A23: Registered Infant Deaths by Nationality (2014-2023) | B23: 104 | C23: 13 | D23: وفيات الأطفال الرضع المسجلة حسب الجنسية (2014 - 2023)
A24: Registered Infant Deaths by Gender and Nationality (2023) | B24: 111 | C24: 14 | D24: وفيات الأطفال الرضع المسجلة حسب النوع والجنسية (2023)

Sheet chapter1
A1: الباب الأول: المؤشرات الحيوية CHAPTER ONE: VITAL INDICATORS

Sheet 1
A1: معدل الخصوبة العام والخصوبة الكلية والإحلال الإجمالى ومتوسط عمر المرأة عند الإنجاب حسب الجنسية
A2: GENERAL FERTILITY, TOTAL FERTILITY AND GROSS REPRODUCTION RATE, AND AVERAGE AGE OF CHILD BEARING BY NATIONALITY
A3: 2019 - 2023
A4: Table No. (1) | I4: جدول رقم (1)
A5: Year Rate & Nationality | C5: 2023 | D5: 2022 | E5: 2021 | F5: 2020 | G5: 2019 | H5: السنة المعدل والجنسية
A6: General Fertility Rate Per 1000 Women | B6: Qataris | C6: 65.42 | D6: 69.67 | E6: 77.67 | F6: 72.42 | G6: 76.92 | H6: قطريات | I6: معدل الخصوبة العام لكل ألف امرأة
B7: Non-Qataris | C7: 45.25 | D7: 46.28 | E7: 49.52 | F7: 53.2 | G7: 56.26 | H7: غير قطريات
B8: Total | C8: 48.38 | D8: 50.15 | E8: 54.49 | F8: 56.27 | G8: 59.72 | H8: المجموع
A9: Total Fertility Rate Per Woman | B9: Qataris | C9: 2.25 | D9: 2.38 | E9: 2.65 | F9: 2.48 | G9: 2.62 | H9: قطريات | I9: معدل الخصوبة الكلية لكل امرأة
B10: Non-Qataris | C10: 1.38 | D10: 1.4 | E10: 1.45 | F10: 1.59 | G10: 1.63 | H10: غير قطريات
B11: Total | C11: 1.46 | D11: 1.51 | E11: 1.6 | F11: 1.67 | G11: 1.73 | H11: المجموع
A12: Gross Reproduction Rate | B12: Qataris | C12: 1.11 | D12: 1.17 | E12: 1.28 | F12: 1.23 | G12: 1.287 | H12: قطريات | I12: معدل الإحلال الإجمالي
B13: Non-Qataris | C13: 0.67 | D13: 0.69 | E13: 0.7 | F13: 0.77 | G13: 0.79 | H13: غير قطريات
B14: Total | C14: 0.71 | D14: 0.74 | E14: 0.78 | F14: 0.82 | G14: 0.84 | H14: المجموع
A15: Average Age Of Child Bearing | B15: Qataris | C15: 32.06 | D15: 31.93 | E15: 31.93 | F15: 32.05 | G15: 31.77 | H15: قطريات | I15: متوسط عمر المرأة عند الإنجاب
B16: Non-Qataris | C16: 29.85 | D16: 29.75 | E16: 30.16 | F16: 29.66 | G16: 29.67 | H16: غير قطريات
B17: Total | C17: 30.33 | D17: 30.25 | E17: 30.57 | F17: 30.19 | G17: 30.2 | H17: المجموع
A18: Values representing rates are not calculated as the sum of sub-values; rather, they are calculated at the overall leve | F18: القيم التي تمثل معدلات لا تُحتسب كمجموع للقيم الفرعية، وإنما هي معدلات محسوبة على مستوى الإجمالي

Sheet 2
A1: معدل المواليد والوفيات الخام ومعدل الزيادة الطبيعية ومعدل وفيات الأمهات ونسبة الولادات التي تجري تحت إشراف صحي
A2: CRUDE BIRTH AND DEATH RATE, NATURAL INCREASE RATE, MATERNAL MORTALITY RATE AND RATE OF DELIVERIES UNDER MEDICAL SUPERVISION
A3: 2014 - 2023
A4: Table No. (2) | G4: جدول رقم (2)
A5: Year | B5: نسبة الولادات التي تجري تحت إشراف صحي | C5: نسبة وفيات الأمهات لكل 100000 من المواليد أحياء | D5: الزيادة الطبيعية لكل 1000 من السكان | E5: معدل الوفيات الخام لكل 1000 من السكان | F5: معدل المواليد الخام لكل 1000 من السكان | G5: السنة
B6: Rate Of Deliveries Under Medical Supervision | C6: Maternal Mortality Rate Per 100000 Live Birth | D6: Natural Increase Per 1000 Population | E6: Crude Death Rate Per 1000 Population | F6: Crude Birth Rate Per 1000 Population
A7: 2014 | B7: 100 | C7: 3.93 | D7: 10.41 | E7: 1.1 | F7: 11.48 | G7: 2014
A8: 2015 | B8: 100 | C8: 11.27 | D8: 9.97 | E8: 0.95 | F8: 10.920547 | G8: 2015
A9: 2016 | B9: 100 | C9: 0 | D9: 9.35 | E9: 0.9 | F9: 10.244366 | G9: 2016
A10: 2017 | B10: 100 | C10: 0 | D10: 9.4 | E10: 0.84 | F10: 10.242215 | G10: 2017
A11: 2018 | B11: 100 | C11: 3.56 | D11: 9.31 | E11: 0.86 | F11: 10.169301 | G11: 2018
A12: 2019 | B12: 100 | C12: 3.52 | D12: 9.36 | E12: 0.79 | F12: 10.150036 | G12: 2019
A13: 2020 | B13: 100 | C13: 3.45 | D13: 9.25 | E13: 0.99 | F13: 10.238986 | G13: 2020
A14: 2021 | B14: 100 | C14: 7.6 | D14: 8.54 | E14: 1.03 | F14: 9.5769463 | G14: 2021
A15: 2022 | B15: 100 | C15: 7.6 | D15: 8.02 | E15: 0.95 | F15: 8.9747057 | G15: 2022
A16: 2023 | B16: 100 | C16: 3.66 | D16: 8.03 | E16: 0.89 | F16: 8.9199985 | G16: 2023

Sheet 3
A1: معدل وفيات حديثي الولادة (لكل ألف مولود حي)
A2: NEONATAL MORTALITY RATE (PER 1,000 LIVE BIRTHS)
A3: 2014 - 2023
A4: Table No. (3) | N4: جدول رقم (3)
A5: Year Rate & Nationality | C5: 2023 | D5: 2022 | E5: 2021 | F5: 2020 | G5: 2019 | H5: 2018 | I5: 2017 | J5: 2016 | K5: 2015 | L5: 2014 | M5: السنة المعدل والجنسية
A6: Early Neonatal Mortality Rate (0-7) Days | B6: Qataris | C6: 1.86 | D6: 4.62 | E6: 4.22 | F6: 3.66 | G6: 2.53 | H6: 3.2 | I6: 3.27 | J6: 3.15 | K6: 3.52 | L6: 2.01 | M6: قطريون | N6: معدل وفيات حديثي الولادة الباكرة (0 - 7) يوم
B7: Non-Qataris | C7: 3.34 | D7: 2.97 | E7: 2.22 | F7: 2.56 | G7: 2.77 | H7: 2.66 | I7: 2.66 | J7: 2.07 | K7: 3.21 | L7: 2.29 | M7: غير قطريين
B8: Total | C8: 2.96 | D8: 3.42 | E8: 2.81 | F8: 2.83 | G8: 2.71 | H8: 2.81 | I8: 2.83 | J8: 2.39 | K8: 3.31 | L8: 2.2 | M8: المجموع
A9: Late Neonatal Mortality Rate (7-28) Days | B9: Qataris | C9: 1.43 | D9: 0.56 | E9: 0.9 | F9: 0.7 | G9: 0.27 | H9: 1.03 | I9: 1.01 | J9: 0.76 | K9: 1.58 | L9: 1.26 | M9: قطريون | N9: معدل وفيات حديثي الولادة المتأخرة (7 - 28) يوم
B10: Non-Qataris | C10: 0.54 | D10: 1.25 | E10: 0.7 | F10: 0.5 | G10: 0.86 | H10: 0.99 | I10: 1 | J10: 0.74 | K10: 1.14 | L10: 1.54 | M10: غير قطريين
B11: Total | C11: 0.77 | D11: 1.06 | E11: 0.76 | F11: 0.55 | G11: 0.7 | H11: 1 | I11: 1 | J11: 0.75 | K11: 1.28 | L11: 1.45 | M11: المجموع
A12: Neonatal Mortality Rate (0-28) Days | B12: Qataris | C12: 3.3 | D12: 5.18 | E12: 5.12 | F12: 4.37 | G12: 2.8 | H12: 4.23 | I12: 4.28 | J12: 3.91 | K12: 5.09 | L12: 3.27 | M12: قطريون | N12: معدل وفيات حديثي الولادة (0 - 28) يوم
B13: Non-Qataris | C13: 3.88 | D13: 4.23 | E13: 2.92 | F13: 3.06 | G13: 3.63 | H13: 3.65 | I13: 3.66 | J13: 2.81 | K13: 4.35 | L13: 3.83 | M13: غير قطريين
B14: Total | C14: 3.73 | D14: 4.48 | E14: 3.57 | F14: 3.38 | G14: 3.41 | H14: 3.81 | I14: 3.83 | J14: 3.13 | K14: 4.58 | L14: 3.66 | M14: المجموع
A15: Post-Neonatal Mortality Rate (28 - 264) Days | B15: Qataris | C15: 1.72 | D15: 2.1 | E15: 1.41 | F15: 1.13 | G15: 0.93 | H15: 2.82 | I15: 1.26 | J15: 2.77 | K15: 3.28 | L15: 3.9 | M15: قطريون | N15: معدل وفيات الأطفال بعد حديثي الولادة من (28 - 364) يوم
B16: Non-Qataris | C16: 1.28 | D16: 2.03 | E16: 1.46 | F16: 2.14 | G16: 1.58 | H16: 2.12 | I16: 1.7 | J16: 2.91 | K16: 2.61 | L16: 2.52 | M16: غير قطريين
B17: Total | C17: 1.39 | D17: 2.05 | E17: 1.44 | F17: 1.9 | G17: 1.41 | H17: 2.32 | I17: 1.58 | J17: 2.87 | K17: 2.82 | L17: 2.95 | M17: المجموع
A18: Values representing rates are not calculated as the sum of sub-values; rather, they are calculated at the overall leve | I18: القيم التي تمثل معدلات لا تُحتسب كمجموع للقيم الفرعية، وإنما هي معدلات محسوبة على مستوى الإجمالي

Sheet 4
A1: معدل وفيات الأطفال الرضع حسب الجنسية والنوع (لكل ألف مولود حي)
A2: INFANT MORTALITY RATE BY NATIONALITY AND GENDER (PER 1,000 LIVE BIRTHS)
A3: 2014 - 2023
A4: Table No. (4) | K4: جدول رقم (4)
A5: Nationality & Gender Year | B5: المجموع Total | E5: غير قطريين Non-Qataris | H5: قطريون Qataris | K5: الجنسية والنوع السنة
B6: المجموع Total | C6: إناث Females | D6: ذكور Males | E6: المجموع Total | F6: إناث Females | G6: ذكور Males | H6: المجموع Total | I6: إناث Females | J6: ذكور Males
A7: 2014 | B7: 6.6 | C7: 6.7 | D7: 6.6 | E7: 6.3 | F7: 6 | G7: 6.5 | H7: 7.3 | I7: 8 | J7: 6.6 | K7: 2014
A8: 2015 | B8: 7.4 | C8: 7.3 | D8: 7.5 | E8: 7 | F8: 6.7 | G8: 7.2 | H8: 8.4 | I8: 8.7 | J8: 8.1 | K8: 2015
A9: 2016 | B9: 6 | C9: 6 | D9: 6 | E9: 5.7 | F9: 5.8 | G9: 5.6 | H9: 6.7 | I9: 6.4 | J9: 7 | K9: 2016
A10: 2017 | B10: 5.4 | C10: 5 | D10: 5.8 | E10: 5.4 | F10: 5.4 | G10: 5.3 | H10: 5.5 | I10: 3.9 | J10: 7.1 | K10: 2017
A11: 2018 | B11: 6.1 | C11: 6.4 | D11: 5.9 | E11: 5.8 | F11: 5.9 | G11: 5.7 | H11: 7 | I11: 7.8 | J11: 6.3 | K11: 2018
A12: 2019 | B12: 4.8 | C12: 5.1 | D12: 4.6 | E12: 5.2 | F12: 5.8 | G12: 4.6 | H12: 3.7 | I12: 3 | J12: 4.5 | K12: 2019
A13: 2020 | B13: 5.3 | C13: 4.9 | D13: 5.6 | E13: 5.2 | F13: 5 | G13: 5.4 | H13: 5.5 | I13: 4.8 | J13: 6.2 | K13: 2020
A14: 2021 | B14: 5 | C14: 4.5 | D14: 5.5 | E14: 4.4 | F14: 4.2 | G14: 4.5 | H14: 6.5 | I14: 5.1 | J14: 7.9 | K14: 2021
A15: 2022 | B15: 6.5 | C15: 6.6 | D15: 6.4 | E15: 6.3 | F15: 6.1 | G15: 6.4 | H15: 7.3 | I15: 8 | J15: 6.6 | K15: 2022
A16: 2023 | B16: 5.5 | C16: 4.7 | D16: 6.2 | E16: 5.6 | F16: 4.3 | G16: 6.6 | H16: 5.5 | I16: 5.8 | J16: 5.1 | K16: 2023
A17: Values representing rates are not calculated as the sum of sub-values; rather, they are calculated at the overall leve | G17: القيم التي تمثل معدلات لا تُحتسب كمجموع للقيم الفرعية، وإنما هي معدلات محسوبة على مستوى الإجمالي

Sheet 5
A1: معدل وفيات الأطفال (أقل من 5 سنوات) حسب الجنسية والنوع (لكل ألف مولود حي)
A2: CHILD MORTALITY RATE (LESS THAN 5 YEARS) BY NATIONALITY AND GENDER (PER 1,000 LIVE BIRTHS)
A3: 2014 - 2023
A4: Table No. (5) | K4: جدول رقم (5)
A5: Nationality & Gender Year | B5: المجموع Total | E5: غير قطريين Non-Qataris | H5: قطريون Qataris | K5: الجنسية والنوع السنة
B6: المجموع Total | C6: إناث Females | D6: ذكور Males | E6: المجموع Total | F6: إناث Females | G6: ذكور Males | H6: المجموع Total | I6: إناث Females | J6: ذكور Males
A7: 2014 | B7: 8.1 | C7: 7.7 | D7: 8.4 | E7: 7.9 | F7: 7.2 | G7: 8.7 | H7: 8.3 | I7: 8.8 | J7: 7.8 | K7: 2014
A8: 2015 | B8: 9 | C8: 8.8 | D8: 9.3 | E8: 8.6 | F8: 7.9 | G8: 9.3 | H8: 9.9 | I8: 10.7 | J8: 9.3 | K8: 2015
A9: 2016 | B9: 7.1 | C9: 7 | D9: 7.2 | E9: 7 | F9: 7 | G9: 7.1 | H9: 7.2 | I9: 6.9 | J9: 7.5 | K9: 2016
A10: 2017 | B10: 6.7 | C10: 6.1 | D10: 7.2 | E10: 6.6 | F10: 6.5 | G10: 6.8 | H10: 6.8 | I10: 5.2 | J10: 8.3 | K10: 2017
A11: 2018 | B11: 7.6 | C11: 7.4 | D11: 7.8 | E11: 7.4 | F11: 7.3 | G11: 7.5 | H11: 8.1 | I11: 7.8 | J11: 8.4 | K11: 2018
A12: 2019 | B12: 5.9 | C12: 6.1 | D12: 5.7 | E12: 6.3 | F12: 7 | G12: 5.7 | H12: 4.8 | I12: 3.8 | J12: 5.8 | K12: 2019
A13: 2020 | B13: 6.1 | C13: 5.4 | D13: 6.7 | E13: 6.1 | F13: 5.5 | G13: 6.6 | H13: 6.1 | I13: 5.1 | J13: 7 | K13: 2020
A14: 2021 | B14: 6.4 | C14: 5.7 | D14: 7.1 | E14: 5.7 | F14: 5.6 | G14: 5.8 | H14: 8.2 | I14: 6.1 | J14: 10.1 | K14: 2021
A15: 2022 | B15: 8 | C15: 8.5 | D15: 7.5 | E15: 7.7 | F15: 8.1 | G15: 7.4 | H15: 8.7 | I15: 9.7 | J15: 7.7 | K15: 2022
A16: 2023 | B16: 7.1 | C16: 5.7 | D16: 8.3 | E16: 7.2 | F16: 5.1 | G16: 8.9 | H16: 7 | I16: 7.5 | J16: 6.5 | K16: 2023
A17: Values representing rates are not calculated as the sum of sub-values; rather, they are calculated at the overall leve | G17: القيم التي تمثل معدلات لا تُحتسب كمجموع للقيم الفرعية، وإنما هي معدلات محسوبة على مستوى الإجمالي

Sheet 6
A1: معدل وفيات الأطفال(1 - 4 سنوات) حسب الجنسية والنوع (لكل ألف مولود حي)
A2: CHILD MORTALITY RATE (1 - 4 YEARS) BY NATIONALITY AND GENDER (PER 1,000 LIVE BIRTHS)
A3: 2014 - 2023
A4: Table No. (6) | K4: جدول رقم (6)
A5: Nationality & Gender Year | B5: المجموع Total | E5: غير قطريين Non-Qataris | H5: قطريون Qataris | K5: الجنسية والنوع السنة
B6: المجموع Total | C6: إناث Females | D6: ذكور Males | E6: المجموع Total | F6: إناث Females | G6: ذكور Males | H6: المجموع Total | I6: إناث Females | J6: ذكور Males
A7: 2014 | B7: 1.6 | C7: 1 | D7: 2.1 | E7: 1.7 | F7: 1.2 | G7: 2.3 | H7: 1.3 | I7: 0.8 | J7: 1.7 | K7: 2014
A8: 2015 | B8: 1.6 | C8: 1.5 | D8: 1.8 | E8: 1.6 | F8: 1.2 | G8: 2 | H8: 1.6 | I8: 2 | J8: 1.2 | K8: 2015
A9: 2016 | B9: 1.1 | C9: 1 | D9: 1.2 | E9: 1.3 | F9: 1.2 | G9: 1.5 | H9: 0.5 | I9: 0.5 | J9: 0.5 | K9: 2016
A10: 2017 | B10: 1.3 | C10: 1.1 | D10: 1.4 | E10: 1.3 | F10: 1 | G10: 1.5 | H10: 1.3 | I10: 1.3 | J10: 1.2 | K10: 2017
A11: 2018 | B11: 1.5 | C11: 1 | D11: 1.9 | E11: 1.6 | F11: 1.4 | G11: 1.9 | H11: 1 | I11: 0 | J11: 2 | K11: 2018
A12: 2019 | B12: 1.1 | C12: 1.1 | D12: 1.1 | E12: 1.1 | F12: 1.2 | G12: 1 | H12: 1.1 | I12: 0.8 | J12: 1.3 | K12: 2019
A13: 2020 | B13: 0.8 | C13: 0.5 | D13: 1.1 | E13: 0.9 | F13: 0.6 | G13: 1.2 | H13: 0.6 | I13: 0.3 | J13: 0.8 | K13: 2020
A14: 2021 | B14: 1.4 | C14: 1.3 | D14: 1.5 | E14: 1.3 | F14: 1.3 | G14: 1.3 | H14: 1.7 | I14: 1.1 | J14: 2.2 | K14: 2021
A15: 2022 | B15: 1.5 | C15: 1.9 | D15: 1 | E15: 1.5 | F15: 2 | G15: 1 | H15: 1.4 | I15: 1.7 | J15: 1.1 | K15: 2022
A16: 2023 | B16: 1.6 | C16: 1.1 | D16: 2.1 | E16: 1.6 | F16: 0.8 | G16: 2.4 | H16: 1.6 | I16: 1.7 | J16: 1.4 | K16: 2023
A17: Values representing rates are not calculated as the sum of sub-values; rather, they are calculated at the overall leve | G17: القيم التي تمثل معدلات لا تُحتسب كمجموع للقيم الفرعية، وإنما هي معدلات محسوبة على مستوى الإجمالي

Sheet chapter2
A1: الباب الثاني: المواليد الأحياء
A2: CHAPTER TWO: LIVE BIRTHS

Sheet Map Births

Sheet B1
A1: الواقعات الحيوية المسجلة
A2: REGISTERED VITAL EVENTS
A3: 2014 - 2023
A4: Table No. (1) | E4: جدول رقم (1)
A5: Year | B5: الزيادة الطبيعية Natural Increase | C5: الوفيات Deaths | D5: المواليد أحياء Live Births | E5: السنة
A6: 2014 | B6: =D6-C6 -> 23077 | C6: 2366 | D6: 25443 | E6: 2014
A7: 2015 | B7: =D7-C7 -> 24305 | C7: 2317 | D7: 26622 | E7: 2015
A8: 2016 | B8: =D8-C8 -> 24469 | C8: 2347 | D8: 26816 | E8: 2016
A9: 2017 | B9: =D9-C9 -> 25612 | C9: 2294 | D9: 27906 | E9: 2017
A10: 2018 | B10: =D10-C10 -> 25684 | C10: 2385 | D10: 28069 | E10: 2018
A11: 2019 | B11: =D11-C11 -> 26212 | C11: 2200 | D11: 28412 | E11: 2019
A12: 2020 | B12: =D12-C12 -> 26203 | C12: 2811 | D12: 29014 | E12: 2020
A13: 2021 | B13: =D13-C13 -> 23478 | C13: 2841 | D13: 26319 | E13: 2021
A14: 2022 | B14: =D14-C14 -> 23524 | C14: 2792 | D14: 26316 | E14: 2022
A15: 2023 | B15: =D15-C15 -> 24608 | C15: 2714 | D15: 27322 | E15: 2023

Sheet B2
A1: المواليد الأحياء فاقدو القيد حسب الجنسية والنوع
A2: NON-REGISTERED LIVE BIRTHS BY NATIONALITY AND GENDER
A3: 2014 - 2023
A4: Table No. (2) | K4: جدول رقم (2)
A5: Nationality & Gender Year | B5: المجموع Total | E5: غير قطريين Non-Qataris | H5: قطريون Qataris | K5: الجنسية والنوع السنة
B6: المجموع Total | C6: إناث Females | D6: ذكور Males | E6: المجموع Total | F6: إناث Females | G6: ذكور Males | H6: المجموع Total | I6: إناث Females | J6: ذكور Males
A7: 2014 | B7: =D7+C7 -> 53 | C7: =I7+F7 -> 27 | D7: =J7+G7 -> 26 | E7: =SUM(G7)+(F7) -> 37 | F7: 19 | G7: 18 | H7: =SUM(J7)+(I7) -> 16 | I7: 8 | J7: 8 | K7: 2014
A8: 2015 | B8: =D8+C8 -> 24 | C8: =I8+F8 -> 13 | D8: =J8+G8 -> 11 | E8: =SUM(G8)+(F8) -> 16 | F8: 10 | G8: 6 | H8: =SUM(J8)+(I8) -> 8 | I8: 3 | J8: 5 | K8: 2015
A9: 2016 | B9: =D9+C9 -> 22 | C9: =I9+F9 -> 12 | D9: =J9+G9 -> 10 | E9: =SUM(G9)+(F9) -> 10 | F9: 6 | G9: 4 | H9: =SUM(J9)+(I9) -> 12 | I9: 6 | J9: 6 | K9: 2016
A10: 2017 | B10: =D10+C10 -> 210 | C10: =I10+F10 -> 100 | D10: =J10+G10 -> 110 | E10: =SUM(G10)+(F10) -> 92 | F10: 37 | G10: 55 | H10: =SUM(J10)+(I10) -> 118 | I10: 63 | J10: 55 | K10: 2017
A11: 2018 | B11: =D11+C11 -> 209 | C11: =I11+F11 -> 116 | D11: =J11+G11 -> 93 | E11: =SUM(G11)+(F11) -> 109 | F11: 59 | G11: 50 | H11: =SUM(J11)+(I11) -> 100 | I11: 57 | J11: 43 | K11: 2018
A12: 2019 | B12: =D12+C12 -> 401 | C12: =I12+F12 -> 194 | D12: =J12+G12 -> 207 | E12: =SUM(G12)+(F12) -> 174 | F12: 79 | G12: 95 | H12: =SUM(J12)+(I12) -> 227 | I12: 115 | J12: 112 | K12: 2019
A13: 2020 | B13: =D13+C13 -> 329 | C13: =I13+F13 -> 161 | D13: =J13+G13 -> 168 | E13: =SUM(G13)+(F13) -> 169 | F13: 80 | G13: 89 | H13: =SUM(J13)+(I13) -> 160 | I13: 81 | J13: 79 | K13: 2020
A14: 2021 | B14: =D14+C14 -> 36 | C14: =I14+F14 -> 20 | D14: =J14+G14 -> 16 | E14: =SUM(G14)+(F14) -> 11 | F14: 8 | G14: 3 | H14: =SUM(J14)+(I14) -> 25 | I14: 12 | J14: 13 | K14: 2021
A15: 2022 | B15: =H15+E15 -> 205 | C15: =I15+F15 -> 116 | D15: =J15+G15 -> 89 | E15: =SUM(G15)+(F15) -> 163 | F15: 90 | G15: 73 | H15: =SUM(J15)+(I15) -> 42 | I15: 26 | J15: 16 | K15: 2022
A16: Historical data for the years 2014–2021 have been updated based on the source | K16: تم تحديث البيانات للسنوات السابقة 2014-2021 من المصدر

Sheet B3
A1: *المواليد الأحياء المسجلون حسب الجنسية والنوع ونسبة النوع عند الميلاد
A2: REGISTERED LIVE BIRTHS BY NATIONALITY, GENDER AND GENDER RATIO AT BIRTH*
A3: 2014 - 2023
A4: Table No. (3) | N4: جدول رقم (3)
A5: Nationality & Gender Year | B5: المجموع Total | F5: غير قطريين Non-Qataris | J5: قطريون Qataris | N5: الجنسية والنوع السنة
B6: نسبة النوع Gender Ratio | C6: المجموع Total | D6: إناث Females | E6: ذكور Males | F6: نسبة النوع Gender Ratio | G6: المجموع Total | H6: إناث Females | I6: ذكور Males | J6: نسبة النوع Gender Ratio | K6: المجموع Total | L6: إناث Females | M6: ذكور Males
A7: 2014 | B7: =E7/D7*100 -> 104.04962 | C7: =E7+D7 -> 25496 | D7: =L7+H7 -> 12495 | E7: =M7+I7 -> 13001 | F7: =I7/H7*100 -> 103.12935 | G7: =I7+H7 -> 17526 | H7: 8628 | I7: 8898 | J7: =M7/L7*100 -> 106.10292 | K7: =M7+L7 -> 7970 | L7: 3867 | M7: 4103 | N7: 2014
A8: 2015 | B8: =E8/D8*100 -> 104.57582 | C8: =E8+D8 -> 26646 | D8: =L8+H8 -> 13025 | E8: =M8+I8 -> 13621 | F8: =I8/H8*100 -> 104.51412 | G8: =I8+H8 -> 18394 | H8: 8994 | I8: 9400 | J8: =M8/L8*100 -> 104.71347 | K8: =M8+L8 -> 8252 | L8: 4031 | M8: 4221 | N8: 2015
A9: 2016 | B9: =E9/D9*100 -> 102.74987 | C9: =SUM(E9)+(D9) -> 26838 | D9: =L9+H9 -> 13237 | E9: =M9+I9 -> 13601 | F9: =I9/H9*100 -> 102.90042 | G9: =SUM(I9)+(H9) -> 18888 | H9: 9309 | I9: 9579 | J9: =M9/L9*100 -> 102.39308 | K9: =M9+L9 -> 7950 | L9: 3928 | M9: 4022 | N9: 2016
A10: 2017 | B10: =E10/D10*100 -> 104.97193 | C10: =SUM(E10)+(D10) -> 28116 | D10: =L10+H10 -> 13717 | E10: =M10+I10 -> 14399 | F10: =I10/H10*100 -> 104.71621 | G10: =SUM(I10)+(H10) -> 20054 | H10: 9796 | I10: 10258 | J10: =M10/L10*100 -> 105.61081 | K10: =M10+L10 -> 8062 | L10: 3921 | M10: 4141 | N10: 2017
A11: 2018 | B11: =E11/D11*100 -> 101.95686 | C11: =E11+D11 -> 28278 | D11: =L11+H11 -> 14002 | E11: =M11+I11 -> 14276 | F11: =I11/H11*100 -> 101.9126 | G11: =SUM(I11)+(H11) -> 20375 | H11: 10091 | I11: 10284 | J11: =M11/L11*100 -> 102.07108 | K11: =M11+L11 -> 7903 | L11: 3911 | M11: 3992 | N11: 2018
A12: 2019 | B12: =E12/D12*100 -> 105.06014 | C12: =SUM(E12)+(D12) -> 28813 | D12: =L12+H12 -> 14051 | E12: =M12+I12 -> 14762 | F12: =I12/H12*100 -> 106.03751 | G12: =SUM(I12)+(H12) -> 21090 | H12: 10236 | I12: 10854 | J12: =M12/L12*100 -> 102.43775 | K12: =M12+L12 -> 7723 | L12: 3815 | M12: 3908 | N12: 2019
A13: 2020 | B13: =E13/D13*100 -> 104.12522 | C13: =SUM(E13)+(D13) -> 29343 | D13: =L13+H13 -> 14375 | E13: =M13+I13 -> 14968 | F13: =I13/H13*100 -> 105.00325 | G13: =SUM(I13)+(H13) -> 22085 | H13: 10773 | I13: 11312 | J13: =M13/L13*100 -> 101.49917 | K13: =M13+L13 -> 7258 | L13: 3602 | M13: 3656 | N13: 2020
A14: 2021 | B14: =E14/D14*100 -> 106.8032 | C14: =SUM(E14)+(D14) -> 26355 | D14: =L14+H14 -> 12744 | E14: =M14+I14 -> 13611 | F14: =I14/H14*100 -> 106.12268 | G14: =SUM(I14)+(H14) -> 18516 | H14: 8983 | I14: 9533 | J14: =M14/L14*100 -> 108.42861 | K14: =M14+L14 -> 7839 | L14: 3761 | M14: 4078 | N14: 2021
A15: 2022 | B15: =E15/D15*100 -> 103.44431 | C15: =SUM(E15)+(D15) -> 26521 | D15: =L15+H15 -> 13036 | E15: =M15+I15 -> 13485 | F15: =I15/H15*100 -> 103.51653 | G15: =SUM(I15)+(H15) -> 19330 | H15: 9498 | I15: 9832 | J15: =M15/L15*100 -> 103.25042 | K15: =M15+L15 -> 7191 | L15: 3538 | M15: 3653 | N15: 2022
A16: * This table includes non-registered live births data. | L16: * تم اضافة بيانات فاقدي القيد على هذا الجدول.
A17: Historical data for the years 2014–2021 have been updated based on the source | L17: تم تحديث البيانات للسنوات السابقة 2014-2021 من المصدر

Sheet B4
A1: المواليد الأحياء المسجلون حسب الجنسية والنوع
A2: REGISTERED LIVE BIRTHS BY NATIONALITY AND GENDER
A3: 2014 - 2023
A4: Table No. (4) | O4: جدول رقم (4)
A5: Nationality & Gender Year | B5: المجموع Total | G5: غير قطريين Non-Qataris | K5: قطريون Qataris | O5: الجنسية والنوع السنة
B6: المجموع Total | C6: نسبة الإناث Females % | D6: إناث Females | E6: نسبة الذكور Males % | F6: ذكور Males | G6: % | H6: المجموع Total | I6: إناث Females | J6: ذكور Males | K6: % | L6: المجموع Total | M6: إناث Females | N6: ذكور Males
A7: 2014 | B7: =SUM(L7+H7) -> 25443 | C7: =SUM(D7/B7*100) -> 49.003655 | D7: =SUM(M7+I7) -> 12468 | E7: =SUM(F7/B7*100) -> 50.996345 | F7: =SUM(N7+J7) -> 12975 | G7: =SUM(H7/B7*100) -> 68.737963 | H7: =SUM(I7:J7) -> 17489 | I7: 8609 | J7: 8880 | K7: =SUM(L7/B7*100) -> 31.262037 | L7: =SUM(M7:N7) -> 7954 | M7: 3859 | N7: 4095 | O7: 2014
A8: 2015 | B8: =SUM(L8+H8) -> 26622 | C8: =SUM(D8/B8*100) -> 48.876869 | D8: =SUM(M8+I8) -> 13012 | E8: =SUM(F8/B8*100) -> 51.123131 | F8: =SUM(N8+J8) -> 13610 | G8: =SUM(H8/B8*100) -> 69.03313 | H8: =SUM(I8:J8) -> 18378 | I8: 8984 | J8: 9394 | K8: =SUM(L8/B8*100) -> 30.96687 | L8: =SUM(M8:N8) -> 8244 | M8: 4028 | N8: 4216 | O8: 2015
A9: 2016 | B9: =SUM(L9+H9) -> 26816 | C9: =SUM(D9/B9*100) -> 49.317572 | D9: =SUM(M9+I9) -> 13225 | E9: =SUM(F9/B9*100) -> 50.682428 | F9: =SUM(N9+J9) -> 13591 | G9: =SUM(H9/B9*100) -> 70.39827 | H9: =SUM(I9:J9) -> 18878 | I9: 9303 | J9: 9575 | K9: =SUM(L9/B9*100) -> 29.60173 | L9: =SUM(M9:N9) -> 7938 | M9: 3922 | N9: 4016 | O9: 2016
A10: 2017 | B10: =SUM(L10+H10) -> 27906 | C10: =SUM(D10/B10*100) -> 48.795958 | D10: =SUM(M10+I10) -> 13617 | E10: =SUM(F10/B10*100) -> 51.204042 | F10: =SUM(N10+J10) -> 14289 | G10: =SUM(H10/B10*100) -> 71.533004 | H10: =SUM(I10:J10) -> 19962 | I10: 9759 | J10: 10203 | K10: =SUM(L10/B10*100) -> 28.466996 | L10: =SUM(M10:N10) -> 7944 | M10: 3858 | N10: 4086 | O10: 2017
A11: 2018 | B11: =SUM(L11+H11) -> 28069 | C11: =SUM(D11/B11*100) -> 49.470947 | D11: =SUM(M11+I11) -> 13886 | E11: =SUM(F11/B11*100) -> 50.529053 | F11: =SUM(N11+J11) -> 14183 | G11: =SUM(H11/B11*100) -> 72.200648 | H11: =SUM(I11:J11) -> 20266 | I11: 10032 | J11: 10234 | K11: =SUM(L11/B11*100) -> 27.799352 | L11: =SUM(M11:N11) -> 7803 | M11: 3854 | N11: 3949 | O11: 2018
A12: 2019 | B12: =SUM(L12+H12) -> 28412 | C12: =SUM(D12/B12*100) -> 48.771646 | D12: =SUM(M12+I12) -> 13857 | E12: =SUM(F12/B12*100) -> 51.228354 | F12: =SUM(N12+J12) -> 14555 | G12: =SUM(H12/B12*100) -> 73.616782 | H12: =SUM(I12:J12) -> 20916 | I12: 10157 | J12: 10759 | K12: =SUM(L12/B12*100) -> 26.383218 | L12: =SUM(M12:N12) -> 7496 | M12: 3700 | N12: 3796 | O12: 2019
A13: 2020 | B13: =SUM(L13+H13) -> 29014 | C13: =SUM(D13/B13*100) -> 48.990143 | D13: =SUM(M13+I13) -> 14214 | E13: =SUM(F13/B13*100) -> 51.009857 | F13: =SUM(N13+J13) -> 14800 | G13: =SUM(H13/B13*100) -> 75.535948 | H13: =SUM(I13:J13) -> 21916 | I13: 10693 | J13: 11223 | K13: =SUM(L13/B13*100) -> 24.464052 | L13: =SUM(M13:N13) -> 7098 | M13: 3521 | N13: 3577 | O13: 2020
A14: 2021 | B14: =SUM(L14+H14) -> 26319 | C14: =SUM(D14/B14*100) -> 48.352901 | D14: =SUM(M14+I14) -> 12726 | E14: =SUM(F14/B14*100) -> 51.647099 | F14: =SUM(N14+J14) -> 13593 | G14: =SUM(H14/B14*100) -> 70.310422 | H14: =SUM(I14:J14) -> 18505 | I14: 8977 | J14: 9528 | K14: =SUM(L14/B14*100) -> 29.689578 | L14: =SUM(M14:N14) -> 7814 | M14: 3749 | N14: 4065 | O14: 2021
A15: 2022 | B15: =SUM(L15+H15) -> 26316 | C15: =SUM(D15/B15*100) -> 49.095607 | D15: =SUM(M15+I15) -> 12920 | E15: =SUM(F15/B15*100) -> 50.904393 | F15: =SUM(N15+J15) -> 13396 | G15: =SUM(H15/B15*100) -> 72.834017 | H15: =SUM(I15:J15) -> 19167 | I15: 9408 | J15: 9759 | K15: =SUM(L15/B15*100) -> 27.165983 | L15: =SUM(M15:N15) -> 7149 | M15: 3512 | N15: 3637 | O15: 2022
A16: 2023 | B16: =SUM(L16+H16) -> 27322 | C16: =SUM(D16/B16*100) -> 48.609179 | D16: =SUM(M16+I16) -> 13281 | E16: =SUM(F16/B16*100) -> 51.390821 | F16: =SUM(N16+J16) -> 14041 | G16: =SUM(H16/B16*100) -> 74.485762 | H16: =SUM(I16:J16) -> 20351 | I16: 9827 | J16: 10524 | K16: =SUM(L16/B16*100) -> 25.514238 | L16: =SUM(M16:N16) -> 6971 | M16: 3454 | N16: 3517 | O16: 2023

Sheet B5
A1: المواليد الأحياء المسجلون حسب الجنسية والنوع والبلدية
A2: REGISTERED LIVE BIRTHS BY NATIONALITY, GENDER AND MUNICIPALITY
A3: 2023
A4: Table No. (5) | K4: جدول رقم (5)
A5: Nationality & Gender Year | B5: المجموع Total | E5: غير قطريين Non-Qataris | H5: قطريون Qataris | K5: الجنسية والنوع البلدية
B6: المجموع Total | C6: إناث Females | D6: ذكور Males | E6: المجموع Total | F6: إناث Females | G6: ذكور Males | H6: المجموع Total | I6: إناث Females | J6: ذكور Males
A7: Doha | B7: =D7+C7 -> 10353 | C7: =I7+F7 -> 5027 | D7: =J7+G7 -> 5326 | E7: =G7+F7 -> 9186 | F7: 4451 | G7: 4735 | H7: =J7+I7 -> 1167 | I7: 576 | J7: 591 | K7: الدوحة
A8: Al Rayyan | B8: =D8+C8 -> 10000 | C8: =I8+F8 -> 4909 | D8: =J8+G8 -> 5091 | E8: =G8+F8 -> 6516 | F8: 3162 | G8: 3354 | H8: =J8+I8 -> 3484 | I8: 1747 | J8: 1737 | K8: الريان
A9: Al Wakra | B9: =D9+C9 -> 2610 | C9: =I9+F9 -> 1226 | D9: =J9+G9 -> 1384 | E9: =G9+F9 -> 2079 | F9: 975 | G9: 1104 | H9: =J9+I9 -> 531 | I9: 251 | J9: 280 | K9: الوكرة
A10: Umm Salal | B10: =D10+C10 -> 1552 | C10: =I10+F10 -> 747 | D10: =J10+G10 -> 805 | E10: =G10+F10 -> 918 | F10: 438 | G10: 480 | H10: =J10+I10 -> 634 | I10: 309 | J10: 325 | K10: ام صلال
A11: Al Khor | B11: =D11+C11 -> 811 | C11: =I11+F11 -> 387 | D11: =J11+G11 -> 424 | E11: =G11+F11 -> 635 | F11: 308 | G11: 327 | H11: =J11+I11 -> 176 | I11: 79 | J11: 97 | K11: الخور
A12: Al Shamal | B12: =D12+C12 -> 80 | C12: =I12+F12 -> 35 | D12: =J12+G12 -> 45 | E12: =G12+F12 -> 47 | F12: 19 | G12: 28 | H12: =J12+I12 -> 33 | I12: 16 | J12: 17 | K12: الشمال
A13: Al Dhaayen | B13: =D13+C13 -> 1359 | C13: =I13+F13 -> 680 | D13: =J13+G13 -> 679 | E13: =G13+F13 -> 731 | F13: 355 | G13: 376 | H13: =J13+I13 -> 628 | I13: 325 | J13: 303 | K13: الظعاين
A14: Al Sheehaniya | B14: =D14+C14 -> 446 | C14: =I14+F14 -> 212 | D14: =J14+G14 -> 234 | E14: =G14+F14 -> 239 | F14: 119 | G14: 120 | H14: =J14+I14 -> 207 | I14: 93 | J14: 114 | K14: الشيحانية
A15: Outside Qatar | B15: =D15+C15 -> 111 | C15: =I15+F15 -> 58 | D15: =J15+G15 -> 53 | E15: =G15+F15 -> 0 | F15: 0 | G15: 0 | H15: =J15+I15 -> 111 | I15: 58 | J15: 53 | K15: خارج قطر
A16: Total | B16: =SUM(B7:B15) -> 27322 | C16: =SUM(C7:C15) -> 13281 | D16: =SUM(D7:D15) -> 14041 | E16: =SUM(E7:E15) -> 20351 | F16: =SUM(F7:F15) -> 9827 | G16: =SUM(G7:G15) -> 10524 | H16: =SUM(H7:H15) -> 6971 | I16: =SUM(I7:I15) -> 3454 | J16: =SUM(J7:J15) -> 3517 | K16: المجموع

Sheet B6-1
A1: المواليد الأحياء المسجلون حسب الشهر والنوع والبلدية
A2: REGISTERED LIVE BIRTHS BY MONTH, GENDER AND MUNICIPALITY
A3: 2023
A4: QATARIS قطريون
A5: Table No. (6-1) | Q5: جدول رقم (6-1)
A6: Municipality | B6: Gender | C6: المجموع Total | D6: ديسمبر Dec. | E6: نوفمبر Nov. | F6: اكتوبر Oct. | G6: سبتمبر Sep. | H6: اغسطس Aug. | I6: يوليو Jul. | J6: يونيو Jun. | K6: مايو May. | L6: ابريل Apr. | M6: مارس Mar. | N6: فبراير Feb. | O6: يناير Jan. | P6: النوع | Q6: البلدية
A7: Doha | B7: Males | C7: =SUM(D7:O7) -> 591 | D7: 49 | E7: 53 | F7: 49 | G7: 46 | H7: 49 | I7: 53 | J7: 48 | K7: 51 | L7: 55 | M7: 44 | N7: 44 | O7: 50 | P7: ذكور | Q7: الدوحة
B8: Females | C8: =SUM(D8:O8) -> 576 | D8: 52 | E8: 57 | F8: 58 | G8: 40 | H8: 38 | I8: 41 | J8: 45 | K8: 44 | L8: 49 | M8: 44 | N8: 44 | O8: 64 | P8: إناث
B9: Total | C9: =SUM(D9:O9) -> 1167 | D9: =D7+D8 -> 101 | E9: =E7+E8 -> 110 | F9: =F7+F8 -> 107 | G9: =G7+G8 -> 86 | H9: =H7+H8 -> 87 | I9: =I7+I8 -> 94 | J9: =J7+J8 -> 93 | K9: =K7+K8 -> 95 | ... O9: =O7+O8 -> 114 | P9: المجموع
A10: Al Rayyan | B10: Males | C10: =SUM(D10:O10) -> 1737 | D10: 136 | E10: 145 | F10: 152 | G10: 149 | H10: 126 | I10: 142 | J10: 148 | K10: 164 | L10: 178 | M10: 137 | N10: 125 | O10: 135 | P10: ذكور | Q10: الريان
B11: Females | C11: =SUM(D11:O11) -> 1747 | D11: 134 | E11: 162 | F11: 164 | G11: 140 | H11: 134 | I11: 148 | J11: 151 | K11: 158 | L11: 137 | M11: 135 | N11: 147 | O11: 137 | P11: إناث
B12: Total | C12: =SUM(D12:O12) -> 3484 | D12: =SUM(D10:D11) -> 270 | E12: =E10+E11 -> 307 | F12: =F10+F11 -> 316 | G12: =G10+G11 -> 289 | H12: =H10+H11 -> 260 | I12: =I10+I11 -> 290 | J12: =J10+J11 -> 299 | K12: =K10+K11 -> 322 | L12: =L10+L11 -> 315 | ... O12: =O10+O11 -> 272 | P12: المجموع
A13: Al Wakra | B13: Males | C13: =SUM(D13:O13) -> 280 | D13: 25 | E13: 23 | F13: 26 | G13: 30 | H13: 12 | I13: 27 | J13: 20 | K13: 18 | L13: 23 | M13: 18 | N13: 28 | O13: 30 | P13: ذكور | Q13: الوكرة
B14: Females | C14: =SUM(D14:O14) -> 251 | D14: 17 | E14: 17 | F14: 22 | G14: 23 | H14: 24 | I14: 24 | J14: 16 | K14: 23 | L14: 21 | M14: 27 | N14: 17 | O14: 20 | P14: إناث
B15: Total | C15: =SUM(D15:O15) -> 531 | D15: =SUM(D13:D14) -> 42 | E15: =E13+E14 -> 40 | F15: =F13+F14 -> 48 | G15: =G13+G14 -> 53 | H15: =H13+H14 -> 36 | I15: =I13+I14 -> 51 | J15: =J13+J14 -> 36 | K15: =K13+K14 -> 41 | L15: =L13+L14 -> 44 | ... O15: =O13+O14 -> 50 | P15: المجموع
A16: Umm Salal | B16: Males | C16: =SUM(D16:O16) -> 325 | D16: 29 | E16: 28 | F16: 26 | G16: 17 | H16: 29 | I16: 27 | J16: 28 | K16: 35 | L16: 24 | M16: 25 | N16: 23 | O16: 34 | P16: ذكور | Q16: ام صلال
B17: Females | C17: =SUM(D17:O17) -> 309 | D17: 23 | E17: 29 | F17: 24 | G17: 24 | H17: 33 | I17: 22 | J17: 26 | K17: 22 | L17: 28 | M17: 19 | N17: 34 | O17: 25 | P17: إناث
B18: Total | C18: =SUM(D18:O18) -> 634 | D18: =D16+D17 -> 52 | E18: =E16+E17 -> 57 | F18: =F16+F17 -> 50 | G18: =G16+G17 -> 41 | H18: =H16+H17 -> 62 | I18: =I16+I17 -> 49 | J18: =J16+J17 -> 54 | K18: =K16+K17 -> 57 | ... O18: =O16+O17 -> 59 | P18: المجموع
A19: Al Khor | B19: Males | C19: =SUM(D19:O19) -> 97 | D19: 9 | E19: 5 | F19: 9 | G19: 6 | H19: 8 | I19: 9 | J19: 6 | K19: 9 | L19: 10 | M19: 5 | N19: 11 | O19: 10 | P19: ذكور | Q19: الخور
B20: Females | C20: =SUM(D20:O20) -> 79 | D20: 6 | E20: 7 | F20: 11 | G20: 7 | H20: 7 | I20: 4 | J20: 6 | K20: 7 | L20: 5 | M20: 8 | N20: 7 | O20: 4 | P20: إناث
B21: Total | C21: =SUM(D21:O21) -> 176 | D21: =D19+D20 -> 15 | E21: =E19+E20 -> 12 | F21: =F19+F20 -> 20 | G21: =G19+G20 -> 13 | H21: =H19+H20 -> 15 | I21: =I19+I20 -> 13 | J21: =J19+J20 -> 12 | K21: =K19+K20 -> 16 | ... O21: =O19+O20 -> 14 | P21: المجموع
A22: Al Shamal | B22: Males | C22: =SUM(D22:O22) -> 17 | D22: 0 | E22: 2 | F22: 0 | G22: 3 | H22: 2 | I22: 1 | J22: 0 | K22: 0 | L22: 5 | M22: 2 | N22: 2 | O22: 0 | P22: ذكور | Q22: الشمال
C23: =SUM(D23:O23) -> 16 | D23: 2 | E23: 2 | F23: 0 | G23: 0 | H23: 1 | I23: 2 | J23: 2 | K23: 3 | L23: 2 | M23: 1 | N23: 1 | O23: 0 | P23: إناث
B24: Total | C24: =SUM(D24:O24) -> 33 | D24: =D22+D23 -> 2 | E24: =E22+E23 -> 4 | F24: =F22+F23 -> 0 | G24: =G22+G23 -> 3 | H24: =H22+H23 -> 3 | I24: =I22+I23 -> 3 | J24: =J22+J23 -> 2 | K24: =K22+K23 -> 3 | ... O24: =O22+O23 -> 0 | P24: المجموع
A25: Al Dhaayen | B25: Males | C25: =SUM(D25:O25) -> 303 | D25: 22 | E25: 24 | F25: 28 | G25: 33 | H25: 23 | I25: 26 | J25: 25 | K25: 25 | L25: 22 | M25: 19 | N25: 29 | O25: 27 | P25: ذكور | Q25: الظعاين
B26: Females | C26: =SUM(D26:O26) -> 325 | D26: 31 | E26: 24 | F26: 22 | G26: 25 | H26: 28 | I26: 15 | J26: 33 | K26: 34 | L26: 30 | M26: 25 | N26: 26 | O26: 32 | P26: إناث
B27: Total | C27: =SUM(D27:O27) -> 628 | D27: =D25+D26 -> 53 | E27: =E25+E26 -> 48 | F27: =F25+F26 -> 50 | G27: =G25+G26 -> 58 | H27: =H25+H26 -> 51 | I27: =I25+I26 -> 41 | J27: =J25+J26 -> 58 | K27: =K25+K26 -> 59 | ... O27: =O25+O26 -> 59 | P27: المجموع
A28: Al Sheehaniya | B28: Males | C28: =SUM(D28:O28) -> 114 | D28: 12 | E28: 11 | F28: 9 | G28: 9 | H28: 13 | I28: 7 | J28: 11 | K28: 9 | L28: 9 | M28: 10 | N28: 7 | O28: 7 | P28: ذكور | Q28: الشيحانية
B29: Females | C29: =SUM(D29:O29) -> 93 | D29: 5 | E29: 6 | F29: 7 | G29: 8 | H29: 11 | I29: 9 | J29: 10 | K29: 10 | L29: 8 | M29: 5 | N29: 7 | O29: 7 | P29: إناث
B30: Total | C30: =SUM(D30:O30) -> 207 | D30: =D28+D29 -> 17 | E30: =E28+E29 -> 17 | F30: =F28+F29 -> 16 | G30: =G28+G29 -> 17 | H30: =H28+H29 -> 24 | I30: =I28+I29 -> 16 | J30: =J28+J29 -> 21 | K30: =K28+K29 -> 19 | ... O30: =O28+O29 -> 14 | P30: المجموع
A31: Outside Qatar | B31: Males | C31: =SUM(D31:O31) -> 53 | D31: 3 | E31: 4 | F31: 5 | G31: 5 | H31: 3 | I31: 1 | J31: 5 | K31: 4 | L31: 8 | M31: 6 | N31: 3 | O31: 6 | P31: ذكور | Q31: خارج قطر
B32: Females | C32: =SUM(D32:O32) -> 58 | D32: 2 | E32: 5 | F32: 7 | G32: 5 | H32: 4 | I32: 5 | J32: 5 | K32: 7 | L32: 2 | M32: 4 | N32: 4 | O32: 8 | P32: إناث
B33: Total | C33: =SUM(D33:O33) -> 111 | D33: =D31+D32 -> 5 | E33: =E31+E32 -> 9 | F33: =F31+F32 -> 12 | G33: =G31+G32 -> 10 | H33: =H31+H32 -> 7 | I33: =I31+I32 -> 6 | J33: =J31+J32 -> 10 | K33: =K31+K32 -> 11 | ... O33: =O31+O32 -> 14 | P33: المجموع
A34: Total | B34: Males | C34: =C7+C10+C13+C16+C19+C22+C25+C28+C31 -> 3517 | D34: =D7+D10+D13+D16+D19+D22+D25+D28+D31 -> 285 | E34: =E7+E10+E13+E16+E19+E22+E25+E28+E31 -> 295 | F34: =F7+F10+F13+F16+F19+F22+F25+F28+F31 -> 304 | G34: =G7+G10+G13+G16+G19+G22+G25+G28+G31 -> 298 | H34: =H7+H10+H13+H16+H19+H22+H25+H28+H31 -> 265 | I34: =I7+I10+I13+I16+I19+I22+I25+I28+I31 -> 293 | J34: =J7+J10+J13+J16+J19+J22+J25+J28+J31 -> 291 | ... O34: =O7+O10+O13+O16+O19+O22+O25+O28+O31 -> 299 | P34: ذكور | Q34: المجموع
B35: Females | C35: =C8+C11+C14+C17+C20+C23+C26+C29+C32 -> 3454 | D35: =D8+D11+D14+D17+D20+D23+D26+D29+D32 -> 272 | E35: =E8+E11+E14+E17+E20+E23+E26+E29+E32 -> 309 | F35: =F8+F11+F14+F17+F20+F23+F26+F29+F32 -> 315 | G35: =G8+G11+G14+G17+G20+G23+G26+G29+G32 -> 272 | H35: =H8+H11+H14+H17+H20+H23+H26+H29+H32 -> 280 | I35: =I8+I11+I14+I17+I20+I23+I26+I29+I32 -> 270 | J35: =J8+J11+J14+J17+J20+J23+J26+J29+J32 -> 294 | ... O35: =O8+O11+O14+O17+O20+O23+O26+O29+O32 -> 297 | P35: إناث
B36: Total | C36: =C34+C35 -> 6971 | D36: =D34+D35 -> 557 | E36: =E34+E35 -> 604 | F36: =F34+F35 -> 619 | G36: =G34+G35 -> 570 | H36: =H34+H35 -> 545 | I36: =I34+I35 -> 563 | J36: =J34+J35 -> 585 | ... O36: =O34+O35 -> 596 | P36: المجموع

Sheet B6-2
A1: المواليد الأحياء المسجلون حسب الشهر والنوع والبلدية
A2: REGISTERED LIVE BIRTHS BY MONTH, GENDER AND MUNICIPALITY
A3: 2023
A4: NON-QATARIS غير قطريين
A5: Table No. (6-2) | Q5: جدول رقم (6-2)
A6: Municipality | B6: Gender | C6: المجموع Total | D6: ديسمبر Dec. | E6: نوفمبر Nov. | F6: اكتوبر Oct. | G6: سبتمبر Sep. | H6: اغسطس Aug. | I6: يوليو Jul. | J6: يونيو Jun. | K6: مايو May. | L6: ابريل Apr. | M6: مارس Mar. | N6: فبراير Feb. | O6: يناير Jan. | P6: النوع | Q6: البلدية
A7: Doha | B7: Males | C7: =SUM(D7:O7) -> 4735 | D7: 447 | E7: 455 | F7: 424 | G7: 391 | H7: 422 | I7: 351 | J7: 363 | K7: 414 | L7: 379 | M7: 359 | N7: 334 | O7: 396 | P7: ذكور | Q7: الدوحة
B8: Females | C8: =SUM(D8:O8) -> 4451 | D8: 425 | E8: 405 | F8: 422 | G8: 354 | H8: 342 | I8: 384 | J8: 353 | K8: 365 | L8: 362 | M8: 357 | N8: 343 | O8: 339 | P8: إناث
B9: Total | C9: =SUM(D9:O9) -> 9186 | D9: =D7+D8 -> 872 | E9: =E7+E8 -> 860 | F9: =F7+F8 -> 846 | G9: =G7+G8 -> 745 | H9: =H7+H8 -> 764 | I9: =I7+I8 -> 735 | J9: =J7+J8 -> 716 | K9: =K7+K8 -> 779 | ... O9: =O7+O8 -> 735 | P9: المجموع
A10: Al Rayyan | B10: Males | C10: =SUM(D10:O10) -> 3354 | D10: 306 | E10: 293 | F10: 276 | G10: 292 | H10: 288 | I10: 245 | J10: 285 | K10: 293 | L10: 277 | M10: 259 | N10: 265 | O10: 275 | P10: ذكور | Q10: الريان
B11: Females | C11: =SUM(D11:O11) -> 3162 | D11: 274 | E11: 290 | F11: 288 | G11: 242 | H11: 276 | I11: 269 | J11: 255 | K11: 268 | L11: 258 | M11: 244 | N11: 243 | O11: 255 | P11: إناث
B12: Total | C12: =SUM(D12:O12) -> 6516 | D12: =D10+D11 -> 580 | E12: =E10+E11 -> 583 | F12: =F10+F11 -> 564 | G12: =G10+G11 -> 534 | H12: =H10+H11 -> 564 | I12: =I10+I11 -> 514 | J12: =J10+J11 -> 540 | K12: =K10+K11 -> 561 | ... O12: =O10+O11 -> 530 | P12: المجموع
A13: Al Wakra | B13: Males | C13: =SUM(D13:O13) -> 1104 | D13: 80 | E13: 116 | F13: 79 | G13: 94 | H13: 100 | I13: 102 | J13: 79 | K13: 108 | L13: 93 | M13: 75 | N13: 75 | O13: 103 | P13: ذكور | Q13: الوكرة
B14: Females | C14: =SUM(D14:O14) -> 975 | D14: 70 | E14: 96 | F14: 83 | G14: 73 | H14: 73 | I14: 72 | J14: 84 | K14: 108 | L14: 82 | M14: 86 | N14: 64 | O14: 84 | P14: إناث
B15: Total | C15: =SUM(D15:O15) -> 2079 | D15: =D13+D14 -> 150 | E15: =E13+E14 -> 212 | F15: =F13+F14 -> 162 | G15: =G13+G14 -> 167 | H15: =H13+H14 -> 173 | I15: =I13+I14 -> 174 | J15: =J13+J14 -> 163 | K15: =K13+K14 -> 216 | ... O15: =O13+O14 -> 187 | P15: المجموع
A16: Umm Salal | B16: Males | C16: =SUM(D16:O16) -> 480 | D16: 41 | E16: 42 | F16: 36 | G16: 28 | H16: 36 | I16: 40 | J16: 49 | K16: 43 | L16: 46 | M16: 47 | N16: 36 | O16: 36 | P16: ذكور | Q16: ام صلال
B17: Females | C17: =SUM(D17:O17) -> 438 | D17: 34 | E17: 38 | F17: 38 | G17: 47 | H17: 35 | I17: 41 | J17: 33 | K17: 32 | L17: 43 | M17: 41 | N17: 19 | O17: 37 | P17: إناث
B18: Total | C18: =SUM(D18:O18) -> 918 | D18: =D16+D17 -> 75 | E18: =E16+E17 -> 80 | F18: =F16+F17 -> 74 | G18: =G16+G17 -> 75 | H18: =H16+H17 -> 71 | I18: =I16+I17 -> 81 | J18: =J16+J17 -> 82 | K18: =K16+K17 -> 75 | ... O18: =O16+O17 -> 73 | P18: المجموع
A19: Al Khor | B19: Males | C19: =SUM(D19:O19) -> 327 | D19: 30 | E19: 31 | F19: 32 | G19: 23 | H19: 26 | I19: 25 | J19: 18 | K19: 24 | L19: 23 | M19: 24 | N19: 34 | O19: 37 | P19: ذكور | Q19: الخور
B20: Females | C20: =SUM(D20:O20) -> 308 | D20: 26 | E20: 23 | F20: 20 | G20: 27 | H20: 26 | I20: 26 | J20: 31 | K20: 25 | L20: 25 | M20: 30 | N20: 24 | O20: 25 | P20: إناث
B21: Total | C21: =SUM(D21:O21) -> 635 | D21: =D19+D20 -> 56 | E21: =E19+E20 -> 54 | F21: =F19+F20 -> 52 | G21: =G19+G20 -> 50 | H21: =H19+H20 -> 52 | I21: =I19+I20 -> 51 | J21: =J19+J20 -> 49 | K21: =K19+K20 -> 49 | ... O21: =O19+O20 -> 62 | P21: المجموع
A22: Al Shamal | B22: Males | C22: =SUM(D22:O22) -> 28 | D22: 1 | E22: 7 | F22: 4 | G22: 2 | H22: 2 | I22: 2 | J22: 2 | K22: 0 | L22: 2 | M22: 2 | N22: 2 | O22: 2 | P22: ذكور | Q22: الشمال
C23: =SUM(D23:O23) -> 19 | D23: 2 | E23: 0 | F23: 1 | G23: 3 | H23: 2 | I23: 3 | J23: 2 | K23: 0 | L23: 2 | M23: 2 | N23: 0 | O23: 2 | P23: إناث
B24: Total | C24: =SUM(D24:O24) -> 47 | D24: =D22+D23 -> 3 | E24: =E22+E23 -> 7 | F24: =F22+F23 -> 5 | G24: =G22+G23 -> 5 | H24: =H22+H23 -> 4 | I24: =I22+I23 -> 5 | J24: =J22+J23 -> 4 | K24: =K22+K23 -> 0 | ... O24: =O22+O23 -> 4 | P24: المجموع
A25: Al Dhaayen | B25: Males | C25: =SUM(D25:O25) -> 376 | D25: 37 | E25: 29 | F25: 25 | G25: 33 | H25: 34 | I25: 31 | J25: 27 | K25: 36 | L25: 35 | M25: 28 | N25: 24 | O25: 37 | P25: ذكور | Q25: الظعاين
B26: Females | C26: =SUM(D26:O26) -> 355 | D26: 31 | E26: 34 | F26: 26 | G26: 35 | H26: 24 | I26: 30 | J26: 26 | K26: 25 | L26: 34 | M26: 34 | N26: 24 | O26: 32 | P26: إناث
B27: Total | C27: =SUM(D27:O27) -> 731 | D27: =D25+D26 -> 68 | E27: =E25+E26 -> 63 | F27: =F25+F26 -> 51 | G27: =G25+G26 -> 68 | H27: =H25+H26 -> 58 | I27: =I25+I26 -> 61 | J27: =J25+J26 -> 53 | K27: =K25+K26 -> 61 | ... O27: =O25+O26 -> 69 | P27: المجموع
A28: Al Sheehaniya | B28: Males | C28: =SUM(D28:O28) -> 120 | D28: 10 | E28: 11 | F28: 5 | G28: 12 | H28: 11 | I28: 8 | J28: 8 | K28: 11 | L28: 12 | M28: 11 | N28: 13 | O28: 8 | P28: ذكور | Q28: الشيحانية
B29: Females | C29: =SUM(D29:O29) -> 119 | D29: 12 | E29: 9 | F29: 13 | G29: 6 | H29: 6 | I29: 8 | J29: 9 | K29: 8 | L29: 13 | M29: 13 | N29: 10 | O29: 12 | P29: إناث
B30: Total | C30: =SUM(D30:O30) -> 239 | D30: =D28+D29 -> 22 | E30: =E28+E29 -> 20 | F30: =F28+F29 -> 18 | G30: =G28+G29 -> 18 | H30: =H28+H29 -> 17 | I30: =I28+I29 -> 16 | J30: =J28+J29 -> 17 | K30: =K28+K29 -> 19 | ... O30: =O28+O29 -> 20 | P30: المجموع
A31: Outside Qatar | B31: Males | C31: =SUM(D31:O31) -> 0 | D31: 0 | E31: 0 | F31: 0 | G31: 0 | H31: 0 | I31: 0 | J31: 0 | K31: 0 | L31: 0 | M31: 0 | N31: 0 | O31: 0 | P31: ذكور | Q31: خارج قطر
B32: Females | C32: =SUM(D32:O32) -> 0 | D32: 0 | E32: 0 | F32: 0 | G32: 0 | H32: 0 | I32: 0 | J32: 0 | K32: 0 | L32: 0 | M32: 0 | N32: 0 | O32: 0 | P32: إناث
B33: Total | C33: =SUM(D33:O33) -> 0 | D33: =D31+D32 -> 0 | E33: =E31+E32 -> 0 | F33: =F31+F32 -> 0 | G33: =G31+G32 -> 0 | H33: =H31+H32 -> 0 | I33: =I31+I32 -> 0 | J33: =J31+J32 -> 0 | K33: =K31+K32 -> 0 | ... O33: =O31+O32 -> 0 | P33: المجموع
A34: Total | B34: Males | C34: =C7+C10+C13+C16+C19+C22+C25+C28+C31 -> 10524 | D34: =D7+D10+D13+D16+D19+D22+D25+D28+D31 -> 952 | E34: =E7+E10+E13+E16+E19+E22+E25+E28+E31 -> 984 | F34: =F7+F10+F13+F16+F19+F22+F25+F28+F31 -> 881 | G34: =G7+G10+G13+G16+G19+G22+G25+G28+G31 -> 875 | H34: =H7+H10+H13+H16+H19+H22+H25+H28+H31 -> 919 | I34: =I7+I10+I13+I16+I19+I22+I25+I28+I31 -> 804 | J34: =J7+J10+J13+J16+J19+J22+J25+J28+J31 -> 831 | ... O34: =O7+O10+O13+O16+O19+O22+O25+O28+O31 -> 894 | P34: ذكور | Q34: المجموع
B35: Females | C35: =C8+C11+C14+C17+C20+C23+C26+C29+C32 -> 9827 | D35: =D8+D11+D14+D17+D20+D23+D26+D29+D32 -> 874 | E35: =E8+E11+E14+E17+E20+E23+E26+E29+E32 -> 895 | F35: =F8+F11+F14+F17+F20+F23+F26+F29+F32 -> 891 | G35: =G8+G11+G14+G17+G20+G23+G26+G29+G32 -> 787 | H35: =H8+H11+H14+H17+H20+H23+H26+H29+H32 -> 784 | I35: =I8+I11+I14+I17+I20+I23+I26+I29+I32 -> 833 | J35: =J8+J11+J14+J17+J20+J23+J26+J29+J32 -> 793 | ... O35: =O8+O11+O14+O17+O20+O23+O26+O29+O32 -> 786 | P35: إناث
B36: Total | C36: =C34+C35 -> 20351 | D36: =D34+D35 -> 1826 | E36: =E34+E35 -> 1879 | F36: =F34+F35 -> 1772 | G36: =G34+G35 -> 1662 | H36: =H34+H35 -> 1703 | I36: =I34+I35 -> 1637 | J36: =J34+J35 -> 1624 | ... O36: =O34+O35 -> 1680 | P36: المجموع

Sheet B6-3
A1: المواليد الأحياء المسجلون حسب الشهر والنوع والبلدية
A2: REGISTERED LIVE BIRTHS BY MONTH, GENDER AND MUNICIPALITY
A3: 2023
A4: TOTAL المجموع
A5: Table No. (6-3) | Q5: جدول رقم (6-3)
A6: Municipality | B6: Gender | C6: المجموع Total | D6: ديسمبر Dec. | E6: نوفمبر Nov. | F6: اكتوبر Oct. | G6: سبتمبر Sep. | H6: اغسطس Aug. | I6: يوليو Jul. | J6: يونيو Jun. | K6: مايو May. | L6: ابريل Apr. | M6: مارس Mar. | N6: فبراير Feb. | O6: يناير Jan. | P6: النوع | Q6: البلدية
A7: Doha | B7: Males | C7: =SUM(D7:O7) -> 5326 | D7: ='B6-1'!D7+'B6-2'!D7 -> 496 | E7: ='B6-1'!E7+'B6-2'!E7 -> 508 | F7: ='B6-1'!F7+'B6-2'!F7 -> 473 | G7: ='B6-1'!G7+'B6-2'!G7 -> 437 | H7: ='B6-1'!H7+'B6-2'!H7 -> 471 | I7: ='B6-1'!I7+'B6-2'!I7 -> 404 | J7: ='B6-1'!J7+'B6-2'!J7 -> 411 | K7: ='B6-1'!K7+'B6-2'!K7 -> 465 | ... O7: ='B6-1'!O7+'B6-2'!O7 -> 446 | P7: ذكور | Q7: الدوحة
B8: Females | C8: =SUM(D8:O8) -> 5027 | D8: ='B6-1'!D8+'B6-2'!D8 -> 477 | E8: ='B6-1'!E8+'B6-2'!E8 -> 462 | F8: ='B6-1'!F8+'B6-2'!F8 -> 480 | G8: ='B6-1'!G8+'B6-2'!G8 -> 394 | H8: ='B6-1'!H8+'B6-2'!H8 -> 380 | I8: ='B6-1'!I8+'B6-2'!I8 -> 425 | J8: ='B6-1'!J8+'B6-2'!J8 -> 398 | K8: ='B6-1'!K8+'B6-2'!K8 -> 409 | ... O8: ='B6-1'!O8+'B6-2'!O8 -> 403 | P8: إناث
B9: Total | C9: =SUM(D9:O9) -> 10353 | D9: ='B6-1'!D9+'B6-2'!D9 -> 973 | E9: ='B6-1'!E9+'B6-2'!E9 -> 970 | F9: ='B6-1'!F9+'B6-2'!F9 -> 953 | G9: ='B6-1'!G9+'B6-2'!G9 -> 831 | H9: ='B6-1'!H9+'B6-2'!H9 -> 851 | I9: ='B6-1'!I9+'B6-2'!I9 -> 829 | J9: ='B6-1'!J9+'B6-2'!J9 -> 809 | K9: ='B6-1'!K9+'B6-2'!K9 -> 874 | ... O9: ='B6-1'!O9+'B6-2'!O9 -> 849 | P9: المجموع
A10: Al Rayyan | B10: Males | C10: =SUM(D10:O10) -> 5091 | D10: ='B6-1'!D10+'B6-2'!D10 -> 442 | E10: ='B6-1'!E10+'B6-2'!E10 -> 438 | F10: ='B6-1'!F10+'B6-2'!F10 -> 428 | G10: ='B6-1'!G10+'B6-2'!G10 -> 441 | H10: ='B6-1'!H10+'B6-2'!H10 -> 414 | I10: ='B6-1'!I10+'B6-2'!I10 -> 387 | J10: ='B6-1'!J10+'B6-2'!J10 -> 433 | K10: ='B6-1'!K10+'B6-2'!K10 -> 457 | ... O10: ='B6-1'!O10+'B6-2'!O10 -> 410 | P10: ذكور | Q10: الريان
B11: Females | C11: =SUM(D11:O11) -> 4909 | D11: ='B6-1'!D11+'B6-2'!D11 -> 408 | E11: ='B6-1'!E11+'B6-2'!E11 -> 452 | F11: ='B6-1'!F11+'B6-2'!F11 -> 452 | G11: ='B6-1'!G11+'B6-2'!G11 -> 382 | H11: ='B6-1'!H11+'B6-2'!H11 -> 410 | I11: ='B6-1'!I11+'B6-2'!I11 -> 417 | J11: ='B6-1'!J11+'B6-2'!J11 -> 406 | K11: ='B6-1'!K11+'B6-2'!K11 -> 426 | ... O11: ='B6-1'!O11+'B6-2'!O11 -> 392 | P11: إناث
B12: Total | C12: =SUM(D12:O12) -> 10000 | D12: ='B6-1'!D12+'B6-2'!D12 -> 850 | E12: ='B6-1'!E12+'B6-2'!E12 -> 890 | F12: ='B6-1'!F12+'B6-2'!F12 -> 880 | G12: ='B6-1'!G12+'B6-2'!G12 -> 823 | H12: ='B6-1'!H12+'B6-2'!H12 -> 824 | I12: ='B6-1'!I12+'B6-2'!I12 -> 804 | J12: ='B6-1'!J12+'B6-2'!J12 -> 839 | K12: ='B6-1'!K12+'B6-2'!K12 -> 883 | ... O12: ='B6-1'!O12+'B6-2'!O12 -> 802 | P12: المجموع
A13: Al Wakra | B13: Males | C13: =SUM(D13:O13) -> 1384 | D13: ='B6-1'!D13+'B6-2'!D13 -> 105 | E13: ='B6-1'!E13+'B6-2'!E13 -> 139 | F13: ='B6-1'!F13+'B6-2'!F13 -> 105 | G13: ='B6-1'!G13+'B6-2'!G13 -> 124 | H13: ='B6-1'!H13+'B6-2'!H13 -> 112 | I13: ='B6-1'!I13+'B6-2'!I13 -> 129 | J13: ='B6-1'!J13+'B6-2'!J13 -> 99 | K13: ='B6-1'!K13+'B6-2'!K13 -> 126 | ... O13: ='B6-1'!O13+'B6-2'!O13 -> 133 | P13: ذكور | Q13: الوكرة
B14: Females | C14: =SUM(D14:O14) -> 1226 | D14: ='B6-1'!D14+'B6-2'!D14 -> 87 | E14: ='B6-1'!E14+'B6-2'!E14 -> 113 | F14: ='B6-1'!F14+'B6-2'!F14 -> 105 | G14: ='B6-1'!G14+'B6-2'!G14 -> 96 | H14: ='B6-1'!H14+'B6-2'!H14 -> 97 | I14: ='B6-1'!I14+'B6-2'!I14 -> 96 | J14: ='B6-1'!J14+'B6-2'!J14 -> 100 | K14: ='B6-1'!K14+'B6-2'!K14 -> 131 | ... O14: ='B6-1'!O14+'B6-2'!O14 -> 104 | P14: إناث
B15: Total | C15: =SUM(D15:O15) -> 2610 | D15: ='B6-1'!D15+'B6-2'!D15 -> 192 | E15: ='B6-1'!E15+'B6-2'!E15 -> 252 | F15: ='B6-1'!F15+'B6-2'!F15 -> 210 | G15: ='B6-1'!G15+'B6-2'!G15 -> 220 | H15: ='B6-1'!H15+'B6-2'!H15 -> 209 | I15: ='B6-1'!I15+'B6-2'!I15 -> 225 | J15: ='B6-1'!J15+'B6-2'!J15 -> 199 | K15: ='B6-1'!K15+'B6-2'!K15 -> 257 | ... O15: ='B6-1'!O15+'B6-2'!O15 -> 237 | P15: المجموع
A16: Umm Salal | B16: Males | C16: =SUM(D16:O16) -> 805 | D16: ='B6-1'!D16+'B6-2'!D16 -> 70 | E16: ='B6-1'!E16+'B6-2'!E16 -> 70 | F16: ='B6-1'!F16+'B6-2'!F16 -> 62 | G16: ='B6-1'!G16+'B6-2'!G16 -> 45 | H16: ='B6-1'!H16+'B6-2'!H16 -> 65 | I16: ='B6-1'!I16+'B6-2'!I16 -> 67 | J16: ='B6-1'!J16+'B6-2'!J16 -> 77 | K16: ='B6-1'!K16+'B6-2'!K16 -> 78 | ... O16: ='B6-1'!O16+'B6-2'!O16 -> 70 | P16: ذكور | Q16: ام صلال
B17: Females | C17: =SUM(D17:O17) -> 747 | D17: ='B6-1'!D17+'B6-2'!D17 -> 57 | E17: ='B6-1'!E17+'B6-2'!E17 -> 67 | F17: ='B6-1'!F17+'B6-2'!F17 -> 62 | G17: ='B6-1'!G17+'B6-2'!G17 -> 71 | H17: ='B6-1'!H17+'B6-2'!H17 -> 68 | I17: ='B6-1'!I17+'B6-2'!I17 -> 63 | J17: ='B6-1'!J17+'B6-2'!J17 -> 59 | K17: ='B6-1'!K17+'B6-2'!K17 -> 54 | ... O17: ='B6-1'!O17+'B6-2'!O17 -> 62 | P17: إناث
B18: Total | C18: =SUM(D18:O18) -> 1552 | D18: ='B6-1'!D18+'B6-2'!D18 -> 127 | E18: ='B6-1'!E18+'B6-2'!E18 -> 137 | F18: ='B6-1'!F18+'B6-2'!F18 -> 124 | G18: ='B6-1'!G18+'B6-2'!G18 -> 116 | H18: ='B6-1'!H18+'B6-2'!H18 -> 133 | I18: ='B6-1'!I18+'B6-2'!I18 -> 130 | J18: ='B6-1'!J18+'B6-2'!J18 -> 136 | K18: ='B6-1'!K18+'B6-2'!K18 -> 132 | ... O18: ='B6-1'!O18+'B6-2'!O18 -> 132 | P18: المجموع
A19: Al Khor | B19: Males | C19: =SUM(D19:O19) -> 424 | D19: ='B6-1'!D19+'B6-2'!D19 -> 39 | E19: ='B6-1'!E19+'B6-2'!E19 -> 36 | F19: ='B6-1'!F19+'B6-2'!F19 -> 41 | G19: ='B6-1'!G19+'B6-2'!G19 -> 29 | H19: ='B6-1'!H19+'B6-2'!H19 -> 34 | I19: ='B6-1'!I19+'B6-2'!I19 -> 34 | J19: ='B6-1'!J19+'B6-2'!J19 -> 24 | K19: ='B6-1'!K19+'B6-2'!K19 -> 33 | ... O19: ='B6-1'!O19+'B6-2'!O19 -> 47 | P19: ذكور | Q19: الخور
B20: Females | C20: =SUM(D20:O20) -> 387 | D20: ='B6-1'!D20+'B6-2'!D20 -> 32 | E20: ='B6-1'!E20+'B6-2'!E20 -> 30 | F20: ='B6-1'!F20+'B6-2'!F20 -> 31 | G20: ='B6-1'!G20+'B6-2'!G20 -> 34 | H20: ='B6-1'!H20+'B6-2'!H20 -> 33 | I20: ='B6-1'!I20+'B6-2'!I20 -> 30 | J20: ='B6-1'!J20+'B6-2'!J20 -> 37 | K20: ='B6-1'!K20+'B6-2'!K20 -> 32 | ... O20: ='B6-1'!O20+'B6-2'!O20 -> 29 | P20: إناث
B21: Total | C21: =SUM(D21:O21) -> 811 | D21: ='B6-1'!D21+'B6-2'!D21 -> 71 | E21: ='B6-1'!E21+'B6-2'!E21 -> 66 | F21: ='B6-1'!F21+'B6-2'!F21 -> 72 | G21: ='B6-1'!G21+'B6-2'!G21 -> 63 | H21: ='B6-1'!H21+'B6-2'!H21 -> 67 | I21: ='B6-1'!I21+'B6-2'!I21 -> 64 | J21: ='B6-1'!J21+'B6-2'!J21 -> 61 | K21: ='B6-1'!K21+'B6-2'!K21 -> 65 | ... O21: ='B6-1'!O21+'B6-2'!O21 -> 76 | P21: المجموع
A22: Al Shamal | B22: Males | C22: =SUM(D22:O22) -> 45 | D22: ='B6-1'!D22+'B6-2'!D22 -> 1 | E22: ='B6-1'!E22+'B6-2'!E22 -> 9 | F22: ='B6-1'!F22+'B6-2'!F22 -> 4 | G22: ='B6-1'!G22+'B6-2'!G22 -> 5 | H22: ='B6-1'!H22+'B6-2'!H22 -> 4 | I22: ='B6-1'!I22+'B6-2'!I22 -> 3 | J22: ='B6-1'!J22+'B6-2'!J22 -> 2 | K22: ='B6-1'!K22+'B6-2'!K22 -> 0 | ... O22: ='B6-1'!O22+'B6-2'!O22 -> 2 | P22: ذكور | Q22: الشمال
C23: =SUM(D23:O23) -> 35 | D23: ='B6-1'!D23+'B6-2'!D23 -> 4 | E23: ='B6-1'!E23+'B6-2'!E23 -> 2 | F23: ='B6-1'!F23+'B6-2'!F23 -> 1 | G23: ='B6-1'!G23+'B6-2'!G23 -> 3 | H23: ='B6-1'!H23+'B6-2'!H23 -> 3 | I23: ='B6-1'!I23+'B6-2'!I23 -> 5 | J23: ='B6-1'!J23+'B6-2'!J23 -> 4 | K23: ='B6-1'!K23+'B6-2'!K23 -> 3 | ... O23: ='B6-1'!O23+'B6-2'!O23 -> 2 | P23: إناث
B24: Total | C24: =SUM(D24:O24) -> 80 | D24: ='B6-1'!D24+'B6-2'!D24 -> 5 | E24: ='B6-1'!E24+'B6-2'!E24 -> 11 | F24: ='B6-1'!F24+'B6-2'!F24 -> 5 | G24: ='B6-1'!G24+'B6-2'!G24 -> 8 | H24: ='B6-1'!H24+'B6-2'!H24 -> 7 | I24: ='B6-1'!I24+'B6-2'!I24 -> 8 | J24: ='B6-1'!J24+'B6-2'!J24 -> 6 | K24: ='B6-1'!K24+'B6-2'!K24 -> 3 | ... O24: ='B6-1'!O24+'B6-2'!O24 -> 4 | P24: المجموع
A25: Al Dhaayen | B25: Males | C25: =SUM(D25:O25) -> 679 | D25: ='B6-1'!D25+'B6-2'!D25 -> 59 | E25: ='B6-1'!E25+'B6-2'!E25 -> 53 | F25: ='B6-1'!F25+'B6-2'!F25 -> 53 | G25: ='B6-1'!G25+'B6-2'!G25 -> 66 | H25: ='B6-1'!H25+'B6-2'!H25 -> 57 | I25: ='B6-1'!I25+'B6-2'!I25 -> 57 | J25: ='B6-1'!J25+'B6-2'!J25 -> 52 | K25: ='B6-1'!K25+'B6-2'!K25 -> 61 | ... O25: ='B6-1'!O25+'B6-2'!O25 -> 64 | P25: ذكور | Q25: الظعاين
B26: Females | C26: =SUM(D26:O26) -> 680 | D26: ='B6-1'!D26+'B6-2'!D26 -> 62 | E26: ='B6-1'!E26+'B6-2'!E26 -> 58 | F26: ='B6-1'!F26+'B6-2'!F26 -> 48 | G26: ='B6-1'!G26+'B6-2'!G26 -> 60 | H26: ='B6-1'!H26+'B6-2'!H26 -> 52 | I26: ='B6-1'!I26+'B6-2'!I26 -> 45 | J26: ='B6-1'!J26+'B6-2'!J26 -> 59 | K26: ='B6-1'!K26+'B6-2'!K26 -> 59 | ... O26: ='B6-1'!O26+'B6-2'!O26 -> 64 | P26: إناث
B27: Total | C27: =SUM(D27:O27) -> 1359 | D27: ='B6-1'!D27+'B6-2'!D27 -> 121 | E27: ='B6-1'!E27+'B6-2'!E27 -> 111 | F27: ='B6-1'!F27+'B6-2'!F27 -> 101 | G27: ='B6-1'!G27+'B6-2'!G27 -> 126 | H27: ='B6-1'!H27+'B6-2'!H27 -> 109 | I27: ='B6-1'!I27+'B6-2'!I27 -> 102 | J27: ='B6-1'!J27+'B6-2'!J27 -> 111 | K27: ='B6-1'!K27+'B6-2'!K27 -> 120 | ... O27: ='B6-1'!O27+'B6-2'!O27 -> 128 | P27: المجموع
A28: Al Sheehaniya | B28: Males | C28: =SUM(D28:O28) -> 234 | D28: ='B6-1'!D28+'B6-2'!D28 -> 22 | E28: ='B6-1'!E28+'B6-2'!E28 -> 22 | F28: ='B6-1'!F28+'B6-2'!F28 -> 14 | G28: ='B6-1'!G28+'B6-2'!G28 -> 21 | H28: ='B6-1'!H28+'B6-2'!H28 -> 24 | I28: ='B6-1'!I28+'B6-2'!I28 -> 15 | J28: ='B6-1'!J28+'B6-2'!J28 -> 19 | K28: ='B6-1'!K28+'B6-2'!K28 -> 20 | ... O28: ='B6-1'!O28+'B6-2'!O28 -> 15 | P28: ذكور | Q28: الشيحانية
B29: Females | C29: =SUM(D29:O29) -> 212 | D29: ='B6-1'!D29+'B6-2'!D29 -> 17 | E29: ='B6-1'!E29+'B6-2'!E29 -> 15 | F29: ='B6-1'!F29+'B6-2'!F29 -> 20 | G29: ='B6-1'!G29+'B6-2'!G29 -> 14 | H29: ='B6-1'!H29+'B6-2'!H29 -> 17 | I29: ='B6-1'!I29+'B6-2'!I29 -> 17 | J29: ='B6-1'!J29+'B6-2'!J29 -> 19 | K29: ='B6-1'!K29+'B6-2'!K29 -> 18 | ... O29: ='B6-1'!O29+'B6-2'!O29 -> 19 | P29: إناث
B30: Total | C30: =SUM(D30:O30) -> 446 | D30: ='B6-1'!D30+'B6-2'!D30 -> 39 | E30: ='B6-1'!E30+'B6-2'!E30 -> 37 | F30: ='B6-1'!F30+'B6-2'!F30 -> 34 | G30: ='B6-1'!G30+'B6-2'!G30 -> 35 | H30: ='B6-1'!H30+'B6-2'!H30 -> 41 | I30: ='B6-1'!I30+'B6-2'!I30 -> 32 | J30: ='B6-1'!J30+'B6-2'!J30 -> 38 | K30: ='B6-1'!K30+'B6-2'!K30 -> 38 | ... O30: ='B6-1'!O30+'B6-2'!O30 -> 34 | P30: المجموع
A31: Outside Qatar | B31: Males | C31: =SUM(D31:O31) -> 53 | D31: ='B6-1'!D31+'B6-2'!D31 -> 3 | E31: ='B6-1'!E31+'B6-2'!E31 -> 4 | F31: ='B6-1'!F31+'B6-2'!F31 -> 5 | G31: ='B6-1'!G31+'B6-2'!G31 -> 5 | H31: ='B6-1'!H31+'B6-2'!H31 -> 3 | I31: ='B6-1'!I31+'B6-2'!I31 -> 1 | J31: ='B6-1'!J31+'B6-2'!J31 -> 5 | K31: ='B6-1'!K31+'B6-2'!K31 -> 4 | ... O31: ='B6-1'!O31+'B6-2'!O31 -> 6 | P31: ذكور | Q31: خارج قطر
B32: Females | C32: =SUM(D32:O32) -> 58 | D32: ='B6-1'!D32+'B6-2'!D32 -> 2 | E32: ='B6-1'!E32+'B6-2'!E32 -> 5 | F32: ='B6-1'!F32+'B6-2'!F32 -> 7 | G32: ='B6-1'!G32+'B6-2'!G32 -> 5 | H32: ='B6-1'!H32+'B6-2'!H32 -> 4 | I32: ='B6-1'!I32+'B6-2'!I32 -> 5 | J32: ='B6-1'!J32+'B6-2'!J32 -> 5 | K32: ='B6-1'!K32+'B6-2'!K32 -> 7 | ... O32: ='B6-1'!O32+'B6-2'!O32 -> 8 | P32: إناث
B33: Total | C33: =SUM(D33:O33) -> 111 | D33: ='B6-1'!D33+'B6-2'!D33 -> 5 | E33: ='B6-1'!E33+'B6-2'!E33 -> 9 | F33: ='B6-1'!F33+'B6-2'!F33 -> 12 | G33: ='B6-1'!G33+'B6-2'!G33 -> 10 | H33: ='B6-1'!H33+'B6-2'!H33 -> 7 | I33: ='B6-1'!I33+'B6-2'!I33 -> 6 | J33: ='B6-1'!J33+'B6-2'!J33 -> 10 | K33: ='B6-1'!K33+'B6-2'!K33 -> 11 | ... O33: ='B6-1'!O33+'B6-2'!O33 -> 14 | P33: المجموع
A34: Total | B34: Males | C34: =C7+C10+C13+C16+C19+C22+C25+C28+C31 -> 14041 | D34: =D7+D10+D13+D16+D19+D22+D25+D28+D31 -> 1237 | E34: =E7+E10+E13+E16+E19+E22+E25+E28+E31 -> 1279 | F34: =F7+F10+F13+F16+F19+F22+F25+F28+F31 -> 1185 | G34: =G7+G10+G13+G16+G19+G22+G25+G28+G31 -> 1173 | H34: =H7+H10+H13+H16+H19+H22+H25+H28+H31 -> 1184 | I34: =I7+I10+I13+I16+I19+I22+I25+I28+I31 -> 1097 | J34: =J7+J10+J13+J16+J19+J22+J25+J28+J31 -> 1122 | ... O34: =O7+O10+O13+O16+O19+O22+O25+O28+O31 -> 1193 | P34: ذكور | Q34: المجموع
B35: Females | C35: =C8+C11+C14+C17+C20+C23+C26+C29+C32 -> 13281 | D35: =D8+D11+D14+D17+D20+D23+D26+D29+D32 -> 1146 | E35: =E8+E11+E14+E17+E20+E23+E26+E29+E32 -> 1204 | F35: =F8+F11+F14+F17+F20+F23+F26+F29+F32 -> 1206 | G35: =G8+G11+G14+G17+G20+G23+G26+G29+G32 -> 1059 | H35: =H8+H11+H14+H17+H20+H23+H26+H29+H32 -> 1064 | I35: =I8+I11+I14+I17+I20+I23+I26+I29+I32 -> 1103 | J35: =J8+J11+J14+J17+J20+J23+J26+J29+J32 -> 1087 | ... O35: =O8+O11+O14+O17+O20+O23+O26+O29+O32 -> 1083 | P35: إناث
B36: Total | C36: =C34+C35 -> 27322 | D36: =D34+D35 -> 2383 | E36: =E34+E35 -> 2483 | F36: =F34+F35 -> 2391 | G36: =G34+G35 -> 2232 | H36: =H34+H35 -> 2248 | I36: =I34+I35 -> 2200 | J36: =J34+J35 -> 2209 | ... O36: =O34+O35 -> 2276 | P36: المجموع
G40: ذكور Males | H40: إناث Females
B41: Qataris قطريون | C41: Non-Qataris غير قطريين | F41: يناير Jan. | G41: =O34 -> 1193 | H41: =O35 -> 1083
A42: الدوحة Doha | B42: ='B6-1'!C9 -> 1167 | C42: ='B6-2'!C9 -> 9186 | F42: فبراير Feb. | G42: =N34 -> 1055 | H42: =N35 -> 1014
A43: الريان Al Rayyan | B43: ='B6-1'!C12 -> 3484 | C43: ='B6-2'!C12 -> 6516 | F43: مارس Mar. | G43: =M34 -> 1071 | H43: =M35 -> 1075
A44: الوكرة Al Wakra | B44: ='B6-1'!C15 -> 531 | C44: ='B6-2'!C15 -> 2079 | F44: ابريل Apr. | G44: =L34 -> 1201 | H44: =L35 -> 1101
A45: ام صلال Umm Salal | B45: ='B6-1'!C18 -> 634 | C45: ='B6-2'!C18 -> 918 | F45: مايو May. | G45: =K34 -> 1244 | H45: =K35 -> 1139
A46: الخور Al Khor | B46: ='B6-1'!C21 -> 176 | C46: ='B6-2'!C21 -> 635 | F46: يونيو Jun. | G46: =J34 -> 1122 | H46: =J35 -> 1087
A47: الشمال Al Shamal | B47: ='B6-1'!C24 -> 33 | C47: ='B6-2'!C24 -> 47 | F47: يوليو Jul. | G47: =I34 -> 1097 | H47: =I35 -> 1103
A48: الظعاين Al Dhaayen | B48: ='B6-1'!C27 -> 628 | C48: ='B6-2'!C27 -> 731 | F48: اغسطس Aug. | G48: =H34 -> 1184 | H48: =H35 -> 1064
A49: الشيحانية Al Sheehaniya | B49: ='B6-1'!C30 -> 207 | C49: ='B6-2'!C30 -> 239 | F49: سبتمبر Sep. | G49: =G34 -> 1173 | H49: =G35 -> 1059
B50: =SUM(B42:B49) -> 6860 | C50: =SUM(C42:C49) -> 20351 | F50: اكتوبر Oct. | G50: =F34 -> 1185 | H50: =F35 -> 1206
A51: خارج قطر | B51: ='B6-1'!C33 -> 111 | C51: ='B6-2'!C33 -> 0 | F51: نوفمبر Nov. | G51: =E34 -> 1279 | H51: =E35 -> 1204
B52: =SUM(B50:B51) -> 6971 | C52: =SUM(C50:C51) -> 20351 | D52: =SUM(B52:C52) -> 27322 | F52: ديسمبر Dec. | G52: =D34 -> 1237 | H52: =D35 -> 1146
D53: =C36-D52 -> 0 | G53: =SUM(G41:G52) -> 14041 | H53: =SUM(H41:H52) -> 13281 | I53: =SUM(G53:H53) -> 27322
I54: =I53-C36 -> 0

Sheet B7
A1: المواليد الأحياء المسجلون حسب الجنسية ونوع الولادة والبلدية
A2: REGISTERED LIVE BIRTHS BY NATIONALITY, TYPE OF BIRTH AND MUNICIPALITY
A3: 2023
A4: Table No. (7) | N4: جدول رقم (7)
A5: Nationality & Type of Birth Municipality | B5: المجموع Total | F5: Non-Qataris غير قطريين | J5: Qataris قطريون | N5: الجنسية ونوع الولادة البلدية
B6: المجموع Total | C6: + ثلاثية Triplet+ | D6: توأمية Twin | E6: فردية Single | F6: المجموع Total | G6: + ثلاثية Triplet+ | H6: توأمية Twin | I6: فردية Single | J6: المجموع Total | K6: + ثلاثية Triplet+ | L6: توأمية Twin | M6: فردية Single
A7: Doha | B7: =SUM(C7:E7) -> 10353 | C7: =K7+G7 -> 33 | D7: =L7+H7 -> 382 | E7: =M7+I7 -> 9938 | F7: =I7+H7+G7 -> 9186 | G7: 27 | H7: 332 | I7: 8827 | J7: =M7+L7+K7 -> 1167 | K7: 6 | L7: 50 | M7: 1111 | N7: الدوحة
A8: Al Rayyan | B8: =SUM(C8:E8) -> 10000 | C8: =K8+G8 -> 37 | D8: =L8+H8 -> 428 | E8: =M8+I8 -> 9535 | F8: =I8+H8+G8 -> 6516 | G8: 19 | H8: 260 | I8: 6237 | J8: =M8+L8+K8 -> 3484 | K8: 18 | L8: 168 | M8: 3298 | N8: الريان
A9: Al Wakra | B9: =SUM(C9:E9) -> 2610 | C9: =K9+G9 -> 6 | D9: =L9+H9 -> 114 | E9: =M9+I9 -> 2490 | F9: =I9+H9+G9 -> 2079 | G9: 3 | H9: 78 | I9: 1998 | J9: =M9+L9+K9 -> 531 | K9: 3 | L9: 36 | M9: 492 | N9: الوكرة
A10: Umm Salal | B10: =SUM(C10:E10) -> 1552 | C10: =K10+G10 -> 3 | D10: =L10+H10 -> 72 | E10: =M10+I10 -> 1477 | F10: =I10+H10+G10 -> 918 | G10: 0 | H10: 32 | I10: 886 | J10: =M10+L10+K10 -> 634 | K10: 3 | L10: 40 | M10: 591 | N10: أم صلال
A11: Al Khor | B11: =SUM(C11:E11) -> 811 | C11: =K11+G11 -> 3 | D11: =L11+H11 -> 40 | E11: =M11+I11 -> 768 | F11: =I11+H11+G11 -> 635 | G11: 0 | H11: 32 | I11: 603 | J11: =M11+L11+K11 -> 176 | K11: 3 | L11: 8 | M11: 165 | N11: الخور
A12: Al Shamal | B12: =SUM(C12:E12) -> 80 | C12: =K12+G12 -> 0 | D12: =L12+H12 -> 2 | E12: =M12+I12 -> 78 | F12: =I12+H12+G12 -> 47 | G12: 0 | H12: 0 | I12: 47 | J12: =M12+L12+K12 -> 33 | K12: 0 | L12: 2 | M12: 31 | N12: الشمال
A13: Al Dhaayen | B13: =SUM(C13:E13) -> 1359 | C13: =K13+G13 -> 9 | D13: =L13+H13 -> 64 | E13: =M13+I13 -> 1286 | F13: =I13+H13+G13 -> 731 | G13: 0 | H13: 28 | I13: 703 | J13: =M13+L13+K13 -> 628 | K13: 9 | L13: 36 | M13: 583 | N13: الظعاين
A14: Al Sheehaniya | B14: =SUM(C14:E14) -> 446 | C14: =K14+G14 -> 0 | D14: =L14+H14 -> 22 | E14: =M14+I14 -> 424 | F14: =I14+H14+G14 -> 239 | G14: 0 | H14: 14 | I14: 225 | J14: =M14+L14+K14 -> 207 | K14: 0 | L14: 8 | M14: 199 | N14: الشيحانية
A15: Outside Qatar | B15: =SUM(C15:E15) -> 111 | C15: =K15+G15 -> 0 | D15: =L15+H15 -> 8 | E15: =M15+I15 -> 103 | F15: =I15+H15+G15 -> 0 | G15: 0 | H15: 0 | I15: 0 | J15: =M15+L15+K15 -> 111 | K15: 0 | L15: 8 | M15: 103 | N15: خارج قطر
A16: Total | B16: =SUM(B7:B15) -> 27322 | C16: =SUM(C7:C15) -> 91 | D16: =SUM(D7:D15) -> 1132 | E16: =SUM(E7:E15) -> 26099 | F16: =SUM(F7:F15) -> 20351 | G16: =SUM(G7:G15) -> 49 | H16: =SUM(H7:H15) -> 776 | I16: =SUM(I7:I15) -> 19526 | ... M16: =SUM(M7:M15) -> 6573 | N16: المجموع

Sheet B8
A1: المواليد الأحياء المسجلون حسب الجنسية وصفة القائم بالتوليد ومكان الولادة والبلدية
A2: REGISTERED LIVE BIRTHS BY NATIONALITY, DELIVERY ATTENDANT, PLACE OF BIRTH AND MUNICIPALITY
A3: 2023
A4: Table No. (8)
A5: Municipality | B5: Place of Birth | C5: المجموع Total | F5: غير قطريين Non-Qataris | I5: Qataris قطريون | L5: مكان الولادة | M5: البلدية
C6: المجموع Total | D6: أخرى Others | E6: طبيب Physician | F6: المجموع Total | G6: أخرى Others | H6: طبيب Physician | I6: المجموع Total | J6: أخرى Others | K6: طبيب Physician
A7: Doha | B7: Hospital | C7: =SUM(I7+F7) -> 10353 | D7: =J7+G7 -> 0 | E7: =K7+H7 -> 10353 | F7: =H7+G7 -> 9186 | G7: 0 | H7: 9186 | I7: =K7+J7 -> 1167 | J7: 0 | K7: 1167 | L7: مستشفى | M7: الدوحة
B8: House | C8: =SUM(I8+F8) -> 0 | D8: =J8+G8 -> 0 | E8: =K8+H8 -> 0 | F8: =H8+G8 -> 0 | G8: 0 | H8: 0 | I8: =K8+J8 -> 0 | J8: 0 | K8: 0 | L8: منزل
B9: Total | C9: =C7+C8 -> 10353 | D9: =D7+D8 -> 0 | E9: =E7+E8 -> 10353 | F9: =F7+F8 -> 9186 | G9: =G7+G8 -> 0 | H9: =H7+H8 -> 9186 | I9: =I7+I8 -> 1167 | J9: =J7+J8 -> 0 | K9: =K7+K8 -> 1167 | L9: المجموع
A10: Al Rayyan | B10: Hospital | C10: =SUM(I10+F10) -> 10000 | D10: =J10+G10 -> 0 | E10: =K10+H10 -> 10000 | F10: =H10+G10 -> 6516 | G10: 0 | H10: 6516 | I10: =K10+J10 -> 3484 | J10: 0 | K10: 3484 | L10: مستشفى | M10: الريان
B11: House | C11: =SUM(I11+F11) -> 0 | D11: =J11+G11 -> 0 | E11: =K11+H11 -> 0 | F11: =H11+G11 -> 0 | G11: 0 | H11: 0 | I11: =K11+J11 -> 0 | J11: 0 | K11: 0 | L11: منزل
B12: Total | C12: =C10+C11 -> 10000 | D12: =D10+D11 -> 0 | E12: =E10+E11 -> 10000 | F12: =F10+F11 -> 6516 | G12: =G10+G11 -> 0 | H12: =H10+H11 -> 6516 | I12: =I10+I11 -> 3484 | J12: =J10+J11 -> 0 | K12: =K10+K11 -> 3484 | L12: المجموع
A13: Al Wakra | B13: Hospital | C13: =SUM(I13+F13) -> 2610 | D13: =J13+G13 -> 0 | E13: =K13+H13 -> 2610 | F13: =H13+G13 -> 2079 | G13: 0 | H13: 2079 | I13: =K13+J13 -> 531 | J13: 0 | K13: 531 | L13: مستشفى | M13: الوكرة
B14: House | C14: =SUM(I14+F14) -> 0 | D14: =J14+G14 -> 0 | E14: =K14+H14 -> 0 | F14: =H14+G14 -> 0 | G14: 0 | H14: 0 | I14: =K14+J14 -> 0 | J14: 0 | K14: 0 | L14: منزل
B15: Total | C15: =C13+C14 -> 2610 | D15: =D13+D14 -> 0 | E15: =E13+E14 -> 2610 | F15: =F13+F14 -> 2079 | G15: =G13+G14 -> 0 | H15: =H13+H14 -> 2079 | I15: =I13+I14 -> 531 | J15: =J13+J14 -> 0 | K15: =K13+K14 -> 531 | L15: المجموع
A16: Umm Salal | B16: Hospital | C16: =SUM(I16+F16) -> 1551 | D16: =J16+G16 -> 0 | E16: =K16+H16 -> 1551 | F16: =H16+G16 -> 918 | G16: 0 | H16: 918 | I16: =K16+J16 -> 633 | J16: 0 | K16: 633 | L16: مستشفى | M16: أم صلال
B17: House | C17: =SUM(I17+F17) -> 1 | D17: =J17+G17 -> 0 | E17: =K17+H17 -> 1 | F17: =H17+G17 -> 0 | G17: 0 | H17: 0 | I17: =K17+J17 -> 1 | J17: 0 | K17: 1 | L17: منزل
B18: Total | C18: =C16+C17 -> 1552 | D18: =D16+D17 -> 0 | E18: =E16+E17 -> 1552 | F18: =F16+F17 -> 918 | G18: =G16+G17 -> 0 | H18: =H16+H17 -> 918 | I18: =I16+I17 -> 634 | J18: =J16+J17 -> 0 | K18: =K16+K17 -> 634 | L18: المجموع
A19: Al Khor | B19: Hospital | C19: =SUM(I19+F19) -> 811 | D19: =J19+G19 -> 0 | E19: =K19+H19 -> 811 | F19: =H19+G19 -> 635 | G19: 0 | H19: 635 | I19: =K19+J19 -> 176 | J19: 0 | K19: 176 | L19: مستشفى | M19: الخور
B20: House | C20: =SUM(I20+F20) -> 0 | D20: =J20+G20 -> 0 | E20: =K20+H20 -> 0 | F20: =H20+G20 -> 0 | G20: 0 | H20: 0 | I20: =K20+J20 -> 0 | J20: 0 | K20: 0 | L20: منزل
B21: Total | C21: =C19+C20 -> 811 | D21: =D19+D20 -> 0 | E21: =E19+E20 -> 811 | F21: =F19+F20 -> 635 | G21: =G19+G20 -> 0 | H21: =H19+H20 -> 635 | I21: =I19+I20 -> 176 | J21: =J19+J20 -> 0 | K21: =K19+K20 -> 176 | L21: المجموع
A22: Al Shamal | B22: Hospital | C22: =SUM(I22+F22) -> 80 | D22: =J22+G22 -> 0 | E22: =K22+H22 -> 80 | F22: =H22+G22 -> 47 | G22: 0 | H22: 47 | I22: =K22+J22 -> 33 | J22: 0 | K22: 33 | L22: مستشفى | M22: الشمال
C23: =SUM(I23+F23) -> 0 | D23: =J23+G23 -> 0 | E23: =K23+H23 -> 0 | F23: =H23+G23 -> 0 | G23: 0 | H23: 0 | I23: =K23+J23 -> 0 | J23: 0 | K23: 0 | L23: منزل
B24: Total | C24: =C22+C23 -> 80 | D24: =D22+D23 -> 0 | E24: =E22+E23 -> 80 | F24: =F22+F23 -> 47 | G24: =G22+G23 -> 0 | H24: =H22+H23 -> 47 | I24: =I22+I23 -> 33 | J24: =J22+J23 -> 0 | K24: =K22+K23 -> 33 | L24: المجموع
A25: Al Dhaayen | B25: Hospital | C25: =SUM(I25+F25) -> 1359 | D25: =J25+G25 -> 0 | E25: =K25+H25 -> 1359 | F25: =H25+G25 -> 731 | G25: 0 | H25: 731 | I25: =K25+J25 -> 628 | J25: 0 | K25: 628 | L25: مستشفى | M25: الظعاين
B26: House | C26: =SUM(I26+F26) -> 0 | D26: =J26+G26 -> 0 | E26: =K26+H26 -> 0 | F26: =H26+G26 -> 0 | G26: 0 | H26: 0 | I26: =K26+J26 -> 0 | J26: 0 | K26: 0 | L26: منزل
B27: Total | C27: =C25+C26 -> 1359 | D27: =D25+D26 -> 0 | E27: =E25+E26 -> 1359 | F27: =F25+F26 -> 731 | G27: =G25+G26 -> 0 | H27: =H25+H26 -> 731 | I27: =I25+I26 -> 628 | J27: =J25+J26 -> 0 | K27: =K25+K26 -> 628 | L27: المجموع
A28: Al Sheehaniya | B28: Hospital | C28: =SUM(I28+F28) -> 446 | D28: =J28+G28 -> 0 | E28: =K28+H28 -> 446 | F28: =H28+G28 -> 239 | G28: 0 | H28: 239 | I28: =K28+J28 -> 207 | J28: 0 | K28: 207 | L28: مستشفى | M28: الشيحانية
B29: House | C29: =SUM(I29+F29) -> 0 | D29: =J29+G29 -> 0 | E29: =K29+H29 -> 0 | F29: =H29+G29 -> 0 | G29: 0 | H29: 0 | I29: =K29+J29 -> 0 | J29: 0 | K29: 0 | L29: منزل
B30: Total | C30: =C28+C29 -> 446 | D30: =D28+D29 -> 0 | E30: =E28+E29 -> 446 | F30: =F28+F29 -> 239 | G30: =G28+G29 -> 0 | H30: =H28+H29 -> 239 | I30: =I28+I29 -> 207 | J30: =J28+J29 -> 0 | K30: =K28+K29 -> 207 | L30: المجموع
A31: Outside Qatar | B31: Hospital | C31: =SUM(I31+F31) -> 111 | D31: =J31+G31 -> 0 | E31: =K31+H31 -> 111 | F31: =H31+G31 -> 0 | G31: 0 | H31: 0 | I31: =K31+J31 -> 111 | J31: 0 | K31: 111 | L31: مستشفى | M31: خارج قطر
B32: House | C32: =SUM(I32+F32) -> 0 | D32: =J32+G32 -> 0 | E32: =K32+H32 -> 0 | F32: =H32+G32 -> 0 | G32: 0 | H32: 0 | I32: =K32+J32 -> 0 | J32: 0 | K32: 0 | L32: منزل
B33: Total | C33: =C31+C32 -> 111 | D33: =D31+D32 -> 0 | E33: =E31+E32 -> 111 | F33: =F31+F32 -> 0 | G33: =G31+G32 -> 0 | H33: =H31+H32 -> 0 | I33: =I31+I32 -> 111 | J33: =J31+J32 -> 0 | K33: =K31+K32 -> 111 | L33: المجموع
A34: Total | B34: Hospital | C34: =C7+C10+C13+C16+C19+C22+C25+C28+C31 -> 27321 | D34: =D7+D10+D13+D16+D19+D22+D25+D28+D31 -> 0 | E34: =E7+E10+E13+E16+E19+E22+E25+E28+E31 -> 27321 | F34: =F7+F10+F13+F16+F19+F22+F25+F28+F31 -> 20351 | G34: =G7+G10+G13+G16+G19+G22+G25+G28+G31 -> 0 | H34: =H7+H10+H13+H16+H19+H22+H25+H28+H31 -> 20351 | I34: =I7+I10+I13+I16+I19+I22+I25+I28+I31 -> 6970 | J34: =J7+J10+J13+J16+J19+J22+J25+J28+J31 -> 0 | K34: =K7+K10+K13+K16+K19+K22+K25+K28+K31 -> 6970 | L34: مستشفى | M34: المجموع
B35: House | C35: =C8+C11+C14+C17+C20+C23+C26+C29+C32 -> 1 | D35: =D8+D11+D14+D17+D20+D23+D26+D29+D32 -> 0 | E35: =E8+E11+E14+E17+E20+E23+E26+E29+E32 -> 1 | F35: =F8+F11+F14+F17+F20+F23+F26+F29+F32 -> 0 | G35: =G8+G11+G14+G17+G20+G23+G26+G29+G32 -> 0 | H35: =H8+H11+H14+H17+H20+H23+H26+H29+H32 -> 0 | I35: =I8+I11+I14+I17+I20+I23+I26+I29+I32 -> 1 | J35: =J8+J11+J14+J17+J20+J23+J26+J29+J32 -> 0 | K35: =K8+K11+K14+K17+K20+K23+K26+K29+K32 -> 1 | L35: منزل
B36: Total | C36: =C9+C12+C15+C18+C21+C24+C27+C30+C33 -> 27322 | D36: =D9+D12+D15+D18+D21+D24+D27+D30+D33 -> 0 | E36: =E9+E12+E15+E18+E21+E24+E27+E30+E33 -> 27322 | F36: =F9+F12+F15+F18+F21+F24+F27+F30+F33 -> 20351 | G36: =G9+G12+G15+G18+G21+G24+G27+G30+G33 -> 0 | H36: =H9+H12+H15+H18+H21+H24+H27+H30+H33 -> 20351 | I36: =I9+I12+I15+I18+I21+I24+I27+I30+I33 -> 6971 | J36: =J9+J12+J15+J18+J21+J24+J27+J30+J33 -> 0 | K36: =K9+K12+K15+K18+K21+K24+K27+K30+K33 -> 6971 | L36: المجموع

Sheet B9
A1: المواليد الأحياء المسجلون حسب النوع والجنسية
A2: REGISTERED LIVE BIRTHS BY GENDER AND NATIONALITY
A3: 2019 - 2023
A4: Table No. (9) | Q4: جدول رقم (9)
A5: Nationality | B5: 2023 | E5: 2022 | H5: 2021 | K5: 2020 | N5: 2019 | Q5: الجنسية
B6: المجموع Total | C6: إناث Females | D6: ذكور Males | E6: المجموع Total | F6: إناث Females | G6: ذكور Males | H6: المجموع Total | I6: إناث Females | J6: ذكور Males | K6: المجموع Total | L6: إناث Females | M6: ذكور Males | N6: المجموع Total | O6: إناث Females | P6: ذكور Males
A7: Qatar | B7: =D7+C7 -> 6971 | C7: 3454 | D7: 3517 | E7: =G7+F7 -> 7149 | F7: 3512 | G7: 3637 | H7: =J7+I7 -> 7814 | I7: 3749 | J7: 4065 | K7: =M7+L7 -> 7098 | L7: 3521 | M7: 3577 | N7: =P7+O7 -> 7496 | O7: 3700 | P7: 3796 | Q7: قطر
A8: Other GCC Countries | B8: =D8+C8 -> 480 | C8: 241 | D8: 239 | E8: =G8+F8 -> 429 | F8: 224 | G8: 205 | H8: =J8+I8 -> 444 | I8: 207 | J8: 237 | K8: =M8+L8 -> 449 | L8: 220 | M8: 229 | N8: =P8+O8 -> 479 | O8: 214 | P8: 265 | Q8: بقية دول مجلس التعاون
A9: Other Arab Countries | B9: =D9+C9 -> 9016 | C9: 4353 | D9: 4663 | E9: =G9+F9 -> 8735 | F9: 4316 | G9: 4419 | H9: =J9+I9 -> 8360 | I9: 4062 | J9: 4298 | K9: =M9+L9 -> 10241 | L9: 5029 | M9: 5212 | N9: =P9+O9 -> 10067 | O9: 4832 | P9: 5235 | Q9: بقية الدول العربية
A10: Asian Countries | B10: =D10+C10 -> 9208 | C10: 4438 | D10: 4770 | E10: =G10+F10 -> 8500 | F10: 4104 | G10: 4396 | H10: =J10+I10 -> 8189 | I10: 3947 | J10: 4242 | K10: =M10+L10 -> 9577 | L10: 4664 | M10: 4913 | N10: =P10+O10 -> 8839 | O10: 4351 | P10: 4488 | Q10: دول أسيوية
A11: European Countries | B11: =D11+C11 -> 480 | C11: 229 | D11: 251 | E11: =G11+F11 -> 464 | F11: 245 | G11: 219 | H11: =J11+I11 -> 497 | I11: 273 | J11: 224 | K11: =M11+L11 -> 532 | L11: 257 | M11: 275 | N11: =P11+O11 -> 523 | O11: 263 | P11: 260 | Q11: دول اوربية
A12: Other Countries | B12: =D12+C12 -> 1167 | C12: 566 | D12: 601 | E12: =G12+F12 -> 1039 | F12: 519 | G12: 520 | H12: =J12+I12 -> 1015 | I12: 488 | J12: 527 | K12: =M12+L12 -> 1117 | L12: 523 | M12: 594 | N12: =P12+O12 -> 1008 | O12: 497 | P12: 511 | Q12: دول أخرى
A13: Total | B13: =SUM(B7:B12) -> 27322 | C13: =SUM(C7:C12) -> 13281 | D13: =SUM(D7:D12) -> 14041 | E13: =SUM(E7:E12) -> 26316 | F13: =SUM(F7:F12) -> 12920 | G13: =SUM(G7:G12) -> 13396 | H13: =SUM(H7:H12) -> 26319 | I13: =SUM(I7:I12) -> 12726 | ... P13: =SUM(P7:P12) -> 14555 | Q13: المجموع
A22: قطر Qatar | B22: =B7 -> 6971 | C22: =B22/$B$28% -> 25.970494
A23: بقية دول مجلس التعاون Other CCASG Countries | C23: =B23/$B$28% -> 0
A24: بقية الدول العربية Other Arab Countries | B24: =B9 -> 9016 | C24: =B24/$B$28% -> 33.589151
A25: دول أسيوية Asian Countries | B25: =B10 -> 9208 | C25: =B25/$B$28% -> 34.304448
A26: دول اوروبية European Countries | B26: =B11 -> 480 | C26: =B26/$B$28% -> 1.7882423
A27: دول أخرى Other Countries | B27: =B12 -> 1167 | C27: =B27/$B$28% -> 4.3476641
B28: =SUM(B22:B27) -> 26842 | C28: =SUM(C22:C27) -> 100

Sheet B10
A1: المواليد الأحياء المسجلون حسب الجنسية والنوع وفئة عمر الأم
A2: REGISTERED LIVE BIRTHS BY NATIONALITY, GENDER AND MOTHER'S AGE GROUP
A3: 2023
A4: Table No. (10) | K4: جدول رقم (10)
A5: Nationality & Gender Mother's Age Group (in Years) | B5: المجموع Total | E5: غير قطريين Non-Qataris | H5: قطريون Qataris | K5: الجنسية والنوع فئة عمر الأم (بالسنوات)
B6: المجموع Total | C6: إناث Females | D6: ذكور Males | E6: المجموع Total | F6: إناث Females | G6: ذكور Males | H6: المجموع Total | I6: إناث Females | J6: ذكور Males
A7: Less than 20 | B7: =D7+C7 -> 252 | C7: =I7+F7 -> 119 | D7: =J7+G7 -> 133 | E7: =G7+F7 -> 212 | F7: 99 | G7: 113 | H7: =J7+I7 -> 40 | I7: 20 | J7: 20 | K7: أقل من 20
A8: 20-24 | B8: =D8+C8 -> 2739 | C8: =I8+F8 -> 1307 | D8: =J8+G8 -> 1432 | E8: =G8+F8 -> 1843 | F8: 882 | G8: 961 | H8: =J8+I8 -> 896 | I8: 425 | J8: 471 | K8: 20 - 24
A9: 25-29 | B9: =D9+C9 -> 7674 | C9: =I9+F9 -> 3719 | D9: =J9+G9 -> 3955 | E9: =G9+F9 -> 5535 | F9: 2634 | G9: 2901 | H9: =J9+I9 -> 2139 | I9: 1085 | J9: 1054 | K9: 25 - 29
A10: 30-34 | B10: =D10+C10 -> 9261 | C10: =I10+F10 -> 4540 | D10: =J10+G10 -> 4721 | E10: =G10+F10 -> 7194 | F10: 3529 | G10: 3665 | H10: =J10+I10 -> 2067 | I10: 1011 | J10: 1056 | K10: 30 - 34
A11: 35-39 | B11: =D11+C11 -> 5761 | C11: =I11+F11 -> 2825 | D11: =J11+G11 -> 2936 | E11: =G11+F11 -> 4424 | F11: 2146 | G11: 2278 | H11: =J11+I11 -> 1337 | I11: 679 | J11: 658 | K11: 35 - 39
A12: 40-44 | B12: =D12+C12 -> 1497 | C12: =I12+F12 -> 707 | D12: =J12+G12 -> 790 | E12: =G12+F12 -> 1043 | F12: 493 | G12: 550 | H12: =J12+I12 -> 454 | I12: 214 | J12: 240 | K12: 40 - 44
A13: 45-49 | B13: =D13+C13 -> 127 | C13: =I13+F13 -> 62 | D13: =J13+G13 -> 65 | E13: =G13+F13 -> 93 | F13: 44 | G13: 49 | H13: =J13+I13 -> 34 | I13: 18 | J13: 16 | K13: 45 - 49
A14: 50 + | B14: =D14+C14 -> 11 | C14: =I14+F14 -> 2 | D14: =J14+G14 -> 9 | E14: =G14+F14 -> 7 | F14: 0 | G14: 7 | H14: =J14+I14 -> 4 | I14: 2 | J14: 2 | K14: 50 +
A15: Not Stated | B15: =D15+C15 -> 0 | C15: =I15+F15 -> 0 | D15: =J15+G15 -> 0 | E15: =G15+F15 -> 0 | F15: 0 | G15: 0 | H15: =J15+I15 -> 0 | I15: 0 | J15: 0 | K15: غير مبين
A16: Total | B16: =SUM(B7:B15) -> 27322 | C16: =SUM(C7:C15) -> 13281 | D16: =SUM(D7:D15) -> 14041 | E16: =SUM(E7:E15) -> 20351 | F16: =SUM(F7:F15) -> 9827 | G16: =SUM(G7:G15) -> 10524 | H16: =SUM(H7:H15) -> 6971 | I16: =SUM(I7:I15) -> 3454 | J16: =SUM(J7:J15) -> 3517 | K16: المجموع
B19: قطريون Qataris | C19: غير قطريين Non-Qataris
A20: أقل من 20 Less than 20 | B20: =H7 -> 40 | C20: =E7 -> 212 | D20: =B20+C20 -> 252
A21: =A8 -> 20-24 | B21: =H8 -> 896 | C21: =E8 -> 1843 | D21: =B21+C21 -> 2739
A22: =A9 -> 25-29 | B22: =H9 -> 2139 | C22: =E9 -> 5535 | D22: =B22+C22 -> 7674
A23: =A10 -> 30-34 | C23: =E10 -> 7194 | D23: =B23+C23 -> 7194
A24: =A11 -> 35-39 | B24: =H11 -> 1337 | C24: =E11 -> 4424 | D24: =B24+C24 -> 5761
A25: =A12 -> 40-44 | B25: =H12 -> 454 | C25: =E12 -> 1043 | D25: =B25+C25 -> 1497
A26: =A13 -> 45-49 | B26: =H13 -> 34 | C26: =E13 -> 93 | D26: =B26+C26 -> 127
A27: 50+ | B27: =H14 -> 4 | C27: =E14 -> 7 | D27: =B27+C27 -> 11
B28: =SUM(B20:B27) -> 4904 | C28: =E16 -> 20351 | D28: =B28+C28 -> 25255

Sheet B11
A1: المواليد الأحياء المسجلون حسب جنسية الأم وفئة عمرها ونوع المولود
A2: REGISTERED LIVE BIRTHS BY GENDER AND MOTHER'S NATIONALITY AND AGE GROUP
A3: 2023
A4: Table No. (11) | K4: جدول رقم (11)
A5: Nationality & Gender Mother's Age Group (in Years) | B5: المجموع Total | E5: غير قطريات Non-Qataris | H5: قطريات Qataris | K5: الجنسية والنوع فئة عمر الأم (بالسنوات)
B6: المجموع Total | C6: إناث Females | D6: ذكور Males | E6: المجموع Total | F6: إناث Females | G6: ذكور Males | H6: المجموع Total | I6: إناث Females | J6: ذكور Males
A7: Less than 20 | B7: =D7+C7 -> 252 | C7: =I7+F7 -> 119 | D7: =J7+G7 -> 133 | E7: =G7+F7 -> 226 | F7: 102 | G7: 124 | H7: =J7+I7 -> 26 | I7: 17 | J7: 9 | K7: أقل من 20
A8: 20-24 | B8: =D8+C8 -> 2739 | C8: =I8+F8 -> 1307 | D8: =J8+G8 -> 1432 | E8: =G8+F8 -> 2001 | F8: 961 | G8: 1040 | H8: =J8+I8 -> 738 | I8: 346 | J8: 392 | K8: 20 - 24
A9: 25-29 | B9: =D9+C9 -> 7674 | C9: =I9+F9 -> 3719 | D9: =J9+G9 -> 3955 | E9: =G9+F9 -> 5932 | F9: 2839 | G9: 3093 | H9: =J9+I9 -> 1742 | I9: 880 | J9: 862 | K9: 25 - 29
A10: 30-34 | B10: =D10+C10 -> 9261 | C10: =I10+F10 -> 4540 | D10: =J10+G10 -> 4721 | E10: =G10+F10 -> 7628 | F10: 3735 | G10: 3893 | H10: =J10+I10 -> 1633 | I10: 805 | J10: 828 | K10: 30 - 34
A11: 35-39 | B11: =D11+C11 -> 5761 | C11: =I11+F11 -> 2825 | D11: =J11+G11 -> 2936 | E11: =G11+F11 -> 4612 | F11: 2244 | G11: 2368 | H11: =J11+I11 -> 1149 | I11: 581 | J11: 568 | K11: 35 - 39
A12: 40-44 | B12: =D12+C12 -> 1497 | C12: =I12+F12 -> 707 | D12: =J12+G12 -> 790 | E12: =G12+F12 -> 1090 | F12: 516 | G12: 574 | H12: =J12+I12 -> 407 | I12: 191 | J12: 216 | K12: 40 - 44
A13: 45-49 | B13: =D13+C13 -> 127 | C13: =I13+F13 -> 62 | D13: =J13+G13 -> 65 | E13: =G13+F13 -> 91 | F13: 44 | G13: 47 | H13: =J13+I13 -> 36 | I13: 18 | J13: 18 | K13: 45 - 49
A14: 50 + | B14: =D14+C14 -> 11 | C14: =I14+F14 -> 2 | D14: =J14+G14 -> 9 | E14: =G14+F14 -> 7 | F14: 0 | G14: 7 | H14: =J14+I14 -> 4 | I14: 2 | J14: 2 | K14: 50 +
A15: Not Stated | B15: =D15+C15 -> 0 | C15: =I15+F15 -> 0 | D15: =J15+G15 -> 0 | E15: =G15+F15 -> 0 | F15: 0 | G15: 0 | H15: =J15+I15 -> 0 | I15: 0 | J15: 0 | K15: غير مبين
A16: Total | B16: =SUM(B7:B15) -> 27322 | C16: =SUM(C7:C15) -> 13281 | D16: =SUM(D7:D15) -> 14041 | E16: =SUM(E7:E15) -> 21587 | F16: =SUM(F7:F15) -> 10441 | G16: =SUM(G7:G15) -> 11146 | H16: =SUM(H7:H15) -> 5735 | I16: =SUM(I7:I15) -> 2840 | J16: =SUM(J7:J15) -> 2895 | K16: المجموع
B18: قطريات Qataris | C18: غير قطريات Non-Qataris
A19: أقل من 20 Less than 20 | B19: =H7 -> 26 | C19: =E7 -> 226 | D19: =B19+C19 -> 252
A20: 20-24 | B20: =H8 -> 738 | C20: =E8 -> 2001 | D20: =B20+C20 -> 2739
A21: 25-29 | B21: =H9 -> 1742 | C21: =E9 -> 5932 | D21: =B21+C21 -> 7674
A22: 30-34 | B22: =H10 -> 1633 | C22: =E10 -> 7628 | D22: =B22+C22 -> 9261
A23: 35-39 | C23: =E11 -> 4612 | D23: =B23+C23 -> 4612
A24: 40-44 | B24: =H12 -> 407 | C24: =E12 -> 1090 | D24: =B24+C24 -> 1497
A25: 45-49 | B25: =H13 -> 36 | C25: =E13 -> 91 | D25: =B25+C25 -> 127
A26: 50 + | B26: =H14 -> 4 | C26: =E14 -> 7 | D26: =B26+C26 -> 11
B27: =SUM(B19:B26) -> 4586 | C27: =SUM(C19:C26) -> 21587 | D27: =B27+C27 -> 26173

Sheet B12-1
A1: المواليد الأحياء المسجلون حسب مدة الحياة الزواجية وفئة عمر الأم
A2: REGISTERED LIVE BIRTHS BY DURATION OF MARRIAGE AND MOTHER'S AGE GROUP
A3: 2023
A4: قطريون QATARIS
A5: Table No. (12-1) | M5: جدول رقم (12-1)
A6: Mother's Age Group (in Years) | B6: Duration of Marriage (in Years) مدة الحياة الزواجية بالسنوات | M6: فئة عمر الأم (بالسنوات)
B7: المجموع Total | C7: غير مبين Not Stated | D7: 25 + | E7: 20 - 24 | F7: 15 - 19 | G7: 10 - 14 | H7: 5 - 9 | I7: 4 | J7: 3 | K7: 2 | L7: 1
A8: Less than 20 | B8: =SUM(C8:L8) -> 40 | C8: 0 | D8: 0 | E8: 0 | F8: 0 | G8: 0 | H8: 0 | I8: 3 | J8: 3 | K8: 11 | L8: 23 | M8: أقل من 20
A9: 20-24 | B9: =SUM(C9:L9) -> 896 | C9: 0 | D9: 0 | E9: 0 | F9: 0 | G9: 0 | H9: 120 | I9: 94 | J9: 172 | K9: 316 | L9: 194 | M9: 20-24
A10: 25-29 | B10: =SUM(C10:L10) -> 2139 | C10: 9 | D10: 0 | E10: 0 | F10: 3 | G10: 144 | H10: 789 | I10: 257 | J10: 348 | K10: 350 | L10: 239 | M10: 25-29
A11: 30-34 | B11: =SUM(C11:L11) -> 2067 | C11: 57 | D11: 0 | E11: 0 | F11: 130 | G11: 534 | H11: 831 | I11: 113 | J11: 154 | K11: 143 | L11: 105 | M11: 30-34
A12: 35-39 | B12: =SUM(C12:L12) -> 1337 | C12: 69 | D12: 0 | E12: 51 | F12: 324 | G12: 400 | H12: 283 | I12: 47 | J12: 56 | K12: 70 | L12: 37 | M12: 35-39
A13: 40-44 | B13: =SUM(C13:L13) -> 454 | C13: 16 | D13: 4 | E13: 81 | F13: 142 | G13: 73 | H13: 79 | I13: 15 | J13: 15 | K13: 15 | L13: 14 | M13: 40-44
A14: 45-49 | B14: =SUM(C14:L14) -> 34 | C14: 1 | D14: 5 | E14: 8 | F14: 5 | G14: 5 | H14: 6 | I14: 1 | J14: 2 | K14: 1 | L14: 0 | M14: 45-49
A15: 50 + | B15: =SUM(C15:L15) -> 4 | C15: 0 | D15: 1 | E15: 0 | F15: 0 | G15: 0 | H15: 3 | I15: 0 | J15: 0 | K15: 0 | L15: 0 | M15: 50 +
A16: Not Stated | B16: =SUM(C16:L16) -> 0 | C16: 0 | D16: 0 | E16: 0 | F16: 0 | G16: 0 | H16: 0 | I16: 0 | J16: 0 | K16: 0 | L16: 0 | M16: غير مبين
A17: Total | B17: =SUM(B8:B16) -> 6971 | C17: =SUM(C8:C16) -> 152 | D17: =SUM(D8:D16) -> 10 | E17: =SUM(E8:E16) -> 140 | F17: =SUM(F8:F16) -> 604 | G17: =SUM(G8:G16) -> 1156 | H17: =SUM(H8:H16) -> 2111 | I17: =SUM(I8:I16) -> 530 | ... L17: =SUM(L8:L16) -> 612 | M17: المجموع

Sheet B12-2
A1: المواليد الأحياء المسجلون حسب مدة الحياة الزواجية وفئة عمر الأم
A2: REGISTERED LIVE BIRTHS BY DURATION OF MARRIAGE AND MOTHER'S AGE GROUP
A3: 2023
A4: غير قطريين NON-QATARIS
A5: Table No. (12-2) | M5: جدول رقم (12-2)
A6: Mother's Age Group (in Years) | B6: Duration of Marriage (in Years) مدة الحياة الزواجية بالسنوات | M6: فئة عمر الأم (بالسنوات)
B7: المجموع Total | C7: غير مبين Not Stated | D7: 25 + | E7: 20 - 24 | F7: 15 - 19 | G7: 10 - 14 | H7: 5 - 9 | I7: 4 | J7: 3 | K7: 2 | L7: 1
A8: Less than 20 | B8: =SUM(C8:L8) -> 212 | C8: 0 | D8: 0 | E8: 0 | F8: 0 | G8: 0 | H8: 4 | I8: 12 | J8: 31 | K8: 83 | L8: 82 | M8: أقل من 20
A9: 20-24 | B9: =SUM(C9:L9) -> 1843 | C9: 0 | D9: 0 | E9: 0 | F9: 0 | G9: 0 | H9: 413 | I9: 248 | J9: 289 | K9: 503 | L9: 390 | M9: 20-24
A10: 25-29 | B10: =SUM(C10:L10) -> 5535 | C10: 15 | D10: 0 | E10: 0 | F10: 0 | G10: 328 | H10: 2164 | I10: 684 | J10: 612 | K10: 916 | L10: 816 | M10: 25-29
A11: 30-34 | B11: =SUM(C11:L11) -> 7194 | C11: 26 | D11: 0 | E11: 0 | F11: 235 | G11: 1490 | H11: 3135 | I11: 601 | J11: 492 | K11: 599 | L11: 616 | M11: 30-34
A12: 35-39 | B12: =SUM(C12:L12) -> 4424 | C12: 45 | D12: 3 | E12: 105 | F12: 684 | G12: 1394 | H12: 1380 | I12: 164 | J12: 165 | K12: 208 | L12: 276 | M12: 35-39
A13: 40-44 | B13: =SUM(C13:L13) -> 1043 | C13: 14 | D13: 11 | E13: 149 | F13: 254 | G13: 264 | H13: 197 | I13: 33 | J13: 24 | K13: 44 | L13: 53 | M13: 40-44
A14: 45-49 | B14: =SUM(C14:L14) -> 93 | C14: 5 | D14: 6 | E14: 15 | F14: 13 | G14: 16 | H14: 17 | I14: 2 | J14: 7 | K14: 4 | L14: 8 | M14: 45-49
A15: 50 + | B15: =SUM(C15:L15) -> 7 | C15: 0 | D15: 0 | E15: 0 | F15: 2 | G15: 3 | H15: 2 | I15: 0 | J15: 0 | K15: 0 | L15: 0 | M15: 50 +
A16: Not Stated | B16: =SUM(C16:L16) -> 0 | C16: 0 | D16: 0 | E16: 0 | F16: 0 | G16: 0 | H16: 0 | I16: 0 | J16: 0 | K16: 0 | L16: 0 | M16: غير مبين
A17: Total | B17: =SUM(B8:B16) -> 20351 | C17: =SUM(C8:C16) -> 105 | D17: =SUM(D8:D16) -> 20 | E17: =SUM(E8:E16) -> 269 | F17: =SUM(F8:F16) -> 1188 | G17: =SUM(G8:G16) -> 3495 | H17: =SUM(H8:H16) -> 7312 | I17: =SUM(I8:I16) -> 1744 | ... L17: =SUM(L8:L16) -> 2241 | M17: المجموع

Sheet B12-3
A1: المواليد الأحياء المسجلون حسب مدة الحياة الزواجية وفئة عمر الأم
A2: REGISTERED LIVE BIRTHS BY DURATION OF MARRIAGE AND MOTHER'S AGE GROUP
A3: 2023
A4: المجموع TOTAL
A5: Table No. (12-3) | M5: جدول رقم (12-3)
A6: Mother's Age Group (in Years) | B6: Duration of Marriage (in Years) مدة الحياة الزواجية بالسنوات | M6: فئة عمر الأم (بالسنوات)
B7: المجموع Total | C7: غير مبين Not Stated | D7: 25 + | E7: 20 - 24 | F7: 15 - 19 | G7: 10 - 14 | H7: 5 - 9 | I7: 4 | J7: 3 | K7: 2 | L7: 1
A8: Less than 20 | B8: =SUM(C8:L8) -> 252 | C8: ='B12-1'!C8+'B12-2'!C8 -> 0 | D8: ='B12-1'!D8+'B12-2'!D8 -> 0 | E8: ='B12-1'!E8+'B12-2'!E8 -> 0 | F8: ='B12-1'!F8+'B12-2'!F8 -> 0 | G8: ='B12-1'!G8+'B12-2'!G8 -> 0 | H8: ='B12-1'!H8+'B12-2'!H8 -> 4 | I8: ='B12-1'!I8+'B12-2'!I8 -> 15 | J8: ='B12-1'!J8+'B12-2'!J8 -> 34 | ... L8: ='B12-1'!L8+'B12-2'!L8 -> 105 | M8: أقل من 20
A9: 20-24 | B9: =SUM(C9:L9) -> 2739 | C9: ='B12-1'!C9+'B12-2'!C9 -> 0 | D9: ='B12-1'!D9+'B12-2'!D9 -> 0 | E9: ='B12-1'!E9+'B12-2'!E9 -> 0 | F9: ='B12-1'!F9+'B12-2'!F9 -> 0 | G9: ='B12-1'!G9+'B12-2'!G9 -> 0 | H9: ='B12-1'!H9+'B12-2'!H9 -> 533 | I9: ='B12-1'!I9+'B12-2'!I9 -> 342 | J9: ='B12-1'!J9+'B12-2'!J9 -> 461 | ... L9: ='B12-1'!L9+'B12-2'!L9 -> 584 | M9: 20-24
A10: 25-29 | B10: =SUM(C10:L10) -> 7674 | C10: ='B12-1'!C10+'B12-2'!C10 -> 24 | D10: ='B12-1'!D10+'B12-2'!D10 -> 0 | E10: ='B12-1'!E10+'B12-2'!E10 -> 0 | F10: ='B12-1'!F10+'B12-2'!F10 -> 3 | G10: ='B12-1'!G10+'B12-2'!G10 -> 472 | H10: ='B12-1'!H10+'B12-2'!H10 -> 2953 | I10: ='B12-1'!I10+'B12-2'!I10 -> 941 | J10: ='B12-1'!J10+'B12-2'!J10 -> 960 | ... L10: ='B12-1'!L10+'B12-2'!L10 -> 1055 | M10: 25-29
A11: 30-34 | B11: =SUM(C11:L11) -> 9261 | C11: ='B12-1'!C11+'B12-2'!C11 -> 83 | D11: ='B12-1'!D11+'B12-2'!D11 -> 0 | E11: ='B12-1'!E11+'B12-2'!E11 -> 0 | F11: ='B12-1'!F11+'B12-2'!F11 -> 365 | G11: ='B12-1'!G11+'B12-2'!G11 -> 2024 | H11: ='B12-1'!H11+'B12-2'!H11 -> 3966 | I11: ='B12-1'!I11+'B12-2'!I11 -> 714 | J11: ='B12-1'!J11+'B12-2'!J11 -> 646 | ... L11: ='B12-1'!L11+'B12-2'!L11 -> 721 | M11: 30-34
A12: 35-39 | B12: =SUM(C12:L12) -> 5761 | C12: ='B12-1'!C12+'B12-2'!C12 -> 114 | D12: ='B12-1'!D12+'B12-2'!D12 -> 3 | E12: ='B12-1'!E12+'B12-2'!E12 -> 156 | F12: ='B12-1'!F12+'B12-2'!F12 -> 1008 | G12: ='B12-1'!G12+'B12-2'!G12 -> 1794 | H12: ='B12-1'!H12+'B12-2'!H12 -> 1663 | I12: ='B12-1'!I12+'B12-2'!I12 -> 211 | J12: ='B12-1'!J12+'B12-2'!J12 -> 221 | ... L12: ='B12-1'!L12+'B12-2'!L12 -> 313 | M12: 35-39
A13: 40-44 | B13: =SUM(C13:L13) -> 1497 | C13: ='B12-1'!C13+'B12-2'!C13 -> 30 | D13: ='B12-1'!D13+'B12-2'!D13 -> 15 | E13: ='B12-1'!E13+'B12-2'!E13 -> 230 | F13: ='B12-1'!F13+'B12-2'!F13 -> 396 | G13: ='B12-1'!G13+'B12-2'!G13 -> 337 | H13: ='B12-1'!H13+'B12-2'!H13 -> 276 | I13: ='B12-1'!I13+'B12-2'!I13 -> 48 | J13: ='B12-1'!J13+'B12-2'!J13 -> 39 | ... L13: ='B12-1'!L13+'B12-2'!L13 -> 67 | M13: 40-44
A14: 45-49 | B14: =SUM(C14:L14) -> 127 | C14: ='B12-1'!C14+'B12-2'!C14 -> 6 | D14: ='B12-1'!D14+'B12-2'!D14 -> 11 | E14: ='B12-1'!E14+'B12-2'!E14 -> 23 | F14: ='B12-1'!F14+'B12-2'!F14 -> 18 | G14: ='B12-1'!G14+'B12-2'!G14 -> 21 | H14: ='B12-1'!H14+'B12-2'!H14 -> 23 | I14: ='B12-1'!I14+'B12-2'!I14 -> 3 | J14: ='B12-1'!J14+'B12-2'!J14 -> 9 | ... L14: ='B12-1'!L14+'B12-2'!L14 -> 8 | M14: 45-49
A15: 50 + | B15: =SUM(C15:L15) -> 11 | C15: ='B12-1'!C15+'B12-2'!C15 -> 0 | D15: ='B12-1'!D15+'B12-2'!D15 -> 1 | E15: ='B12-1'!E15+'B12-2'!E15 -> 0 | F15: ='B12-1'!F15+'B12-2'!F15 -> 2 | G15: ='B12-1'!G15+'B12-2'!G15 -> 3 | H15: ='B12-1'!H15+'B12-2'!H15 -> 5 | I15: ='B12-1'!I15+'B12-2'!I15 -> 0 | J15: ='B12-1'!J15+'B12-2'!J15 -> 0 | ... L15: ='B12-1'!L15+'B12-2'!L15 -> 0 | M15: 50 +
A16: Not Stated | B16: ='B12-1'!B16+'B12-2'!B16 -> 0 | C16: ='B12-1'!C16+'B12-2'!C16 -> 0 | D16: ='B12-1'!D16+'B12-2'!D16 -> 0 | E16: ='B12-1'!E16+'B12-2'!E16 -> 0 | F16: ='B12-1'!F16+'B12-2'!F16 -> 0 | G16: ='B12-1'!G16+'B12-2'!G16 -> 0 | H16: ='B12-1'!H16+'B12-2'!H16 -> 0 | I16: ='B12-1'!I16+'B12-2'!I16 -> 0 | ... L16: ='B12-1'!L16+'B12-2'!L16 -> 0 | M16: غير مبين
A17: Total | B17: =SUM(B8:B16) -> 27322 | C17: =SUM(C8:C16) -> 257 | D17: =SUM(D8:D16) -> 30 | E17: =SUM(E8:E16) -> 409 | F17: =SUM(F8:F16) -> 1792 | G17: =SUM(G8:G16) -> 4651 | H17: =SUM(H8:H16) -> 9423 | I17: =SUM(I8:I16) -> 2274 | ... L17: =SUM(L8:L16) -> 2853 | M17: المجموع

Sheet B13-1
A1: المواليد الأحياء المسجلون حسب فئة عمر الأم وترتيب المولود
A2: REGISTERED LIVE BIRTHS BY MOTHER'S AGE GROUP AND BIRTH ORDER
A3: 2023
A4: قطريون QATARIS
A5: Table No. (13-1) | L5: جدول رقم (13-1)
A6: Birth Order | B6: Mother's Age Group (in Years) (فئة عمر الأم (بالسنوات | L6: ترتيب المولود
B7: المجموع Total | C7: غير مبين Not Stated | D7: 50 + | E7: 45-49 | F7: 40-44 | G7: 35-39 | H7: 30-34 | I7: 25-29 | J7: 20-24 | K7: اقل من 20 Less than 20
A8: First | B8: =SUM(D8:K8) -> 1724 | C8: 0 | D8: 1 | E8: 5 | F8: 32 | G8: 115 | H8: 302 | I8: 687 | J8: 546 | K8: 36 | L8: الأول
A9: Second | B9: =SUM(D9:K9) -> 1602 | C9: 0 | D9: 1 | E9: 3 | F9: 41 | G9: 147 | H9: 417 | I9: 704 | J9: 285 | K9: 4 | L9: الثاني
A10: Third | B10: =SUM(D10:K10) -> 1278 | C10: 0 | D10: 0 | E10: 2 | F10: 48 | G10: 217 | H10: 495 | I10: 459 | J10: 57 | K10: 0 | L10: الثالث
A11: Fourth | B11: =SUM(D11:K11) -> 960 | C11: 0 | D11: 1 | E11: 4 | F11: 52 | G11: 266 | H11: 432 | I11: 198 | J11: 7 | K11: 0 | L11: الرابع
A12: Fifth | B12: =SUM(D12:K12) -> 667 | C12: 0 | D12: 1 | E12: 5 | F12: 88 | G12: 263 | H12: 246 | I12: 63 | J12: 1 | K12: 0 | L12: الخامس
A13: Sixth | B13: =SUM(D13:K13) -> 411 | C13: 0 | D13: 0 | E13: 2 | F13: 86 | G13: 186 | H13: 118 | I13: 19 | J13: 0 | K13: 0 | L13: السادس
A14: Seventh | B14: =SUM(D14:K14) -> 184 | C14: 0 | D14: 0 | E14: 4 | F14: 50 | G14: 84 | H14: 38 | I14: 8 | J14: 0 | K14: 0 | L14: السابع
A15: Eighth | B15: =SUM(D15:K15) -> 75 | C15: 0 | D15: 0 | E15: 4 | F15: 25 | G15: 35 | H15: 11 | I15: 0 | J15: 0 | K15: 0 | L15: الثامن
A16: Ninth | B16: =SUM(D16:K16) -> 50 | C16: 0 | D16: 0 | E16: 3 | F16: 22 | G16: 18 | H16: 6 | I16: 1 | J16: 0 | K16: 0 | L16: التاسع
A17: Tenth & More | B17: =SUM(D17:K17) -> 20 | C17: 0 | D17: 0 | E17: 2 | F17: 10 | G17: 6 | H17: 2 | I17: 0 | J17: 0 | K17: 0 | L17: العاشر فاكثر
A18: Not Stated | B18: =SUM(D18:K18) -> 0 | C18: 0 | D18: 0 | E18: 0 | F18: 0 | G18: 0 | H18: 0 | I18: 0 | J18: 0 | K18: 0 | L18: غير مبين
A19: Total | B19: =SUM(B8:B18) -> 6971 | C19: =SUM(C8:C18) -> 0 | D19: =SUM(D8:D18) -> 4 | E19: =SUM(E8:E18) -> 34 | F19: =SUM(F8:F18) -> 454 | G19: =SUM(G8:G18) -> 1337 | H19: =SUM(H8:H18) -> 2067 | I19: =SUM(I8:I18) -> 2139 | ... K19: =SUM(K8:K18) -> 40 | L19: المجموع

Sheet B13-2
A1: المواليد الأحياء المسجلون حسب فئة عمر الأم وترتيب المولود
A2: REGISTERED LIVE BIRTHS BY MOTHER'S AGE GROUP AND BIRTH ORDER
A3: 2023
A4: غير قطريين NON-QATARIS
A5: Table No. (13-2) | L5: جدول رقم (13-2)
A6: Birth Order | B6: Mother's Age Group (in Years) (فئة عمر الأم (بالسنوات | L6: ترتيب المولود
B7: المجموع Total | C7: غير مبين Not Stated | D7: 50 + | E7: 45-49 | F7: 40-44 | G7: 35-39 | H7: 30-34 | I7: 25-29 | J7: 20-24 | K7: اقل من 20 Less than 20
A8: First | B8: =SUM(C8:K8) -> 7656 | C8: 0 | D8: 2 | E8: 26 | F8: 196 | G8: 1030 | H8: 2338 | I8: 2736 | J8: 1150 | K8: 178 | L8: الأول
A9: Second | B9: =SUM(C9:K9) -> 5522 | C9: 0 | D9: 5 | E9: 21 | F9: 183 | G9: 1030 | H9: 2217 | I9: 1572 | J9: 464 | K9: 30 | L9: الثاني
A10: Third | B10: =SUM(C10:K10) -> 3634 | C10: 0 | D10: 0 | E10: 13 | F10: 201 | G10: 987 | H10: 1468 | I10: 778 | J10: 183 | K10: 4 | L10: الثالث
A11: Fourth | B11: =SUM(C11:K11) -> 1901 | C11: 0 | D11: 0 | E11: 7 | F11: 177 | G11: 668 | H11: 699 | I11: 312 | J11: 38 | K11: 0 | L11: الرابع
A12: Fifth | B12: =SUM(C12:K12) -> 894 | C12: 0 | D12: 0 | E12: 4 | F12: 129 | G12: 385 | H12: 269 | I12: 101 | J12: 6 | K12: 0 | L12: الخامس
A13: Sixth | B13: =SUM(C13:K13) -> 398 | C13: 0 | D13: 0 | E13: 11 | F13: 68 | G13: 163 | H13: 120 | I13: 34 | J13: 2 | K13: 0 | L13: السادس
A14: Seventh | B14: =SUM(C14:K14) -> 179 | C14: 0 | D14: 0 | E14: 2 | F14: 47 | G14: 81 | H14: 47 | I14: 2 | J14: 0 | K14: 0 | L14: السابع
A15: Eighth | B15: =SUM(C15:K15) -> 94 | C15: 0 | D15: 0 | E15: 5 | F15: 22 | G15: 42 | H15: 25 | I15: 0 | J15: 0 | K15: 0 | L15: الثامن
A16: Ninth | B16: =SUM(C16:K16) -> 45 | C16: 0 | D16: 0 | E16: 1 | F16: 12 | G16: 23 | H16: 9 | I16: 0 | J16: 0 | K16: 0 | L16: التاسع
A17: Tenth & More | B17: =SUM(C17:K17) -> 28 | C17: 0 | D17: 0 | E17: 3 | F17: 8 | G17: 15 | H17: 2 | I17: 0 | J17: 0 | K17: 0 | L17: العاشر فاكثر
A18: Not Stated | B18: =SUM(C18:K18) -> 0 | C18: 0 | D18: 0 | E18: 0 | F18: 0 | G18: 0 | H18: 0 | I18: 0 | J18: 0 | K18: 0 | L18: غير مبين
A19: Total | B19: =SUM(B8:B18) -> 20351 | C19: =SUM(C8:C18) -> 0 | D19: =SUM(D8:D18) -> 7 | E19: =SUM(E8:E18) -> 93 | F19: =SUM(F8:F18) -> 1043 | G19: =SUM(G8:G18) -> 4424 | H19: =SUM(H8:H18) -> 7194 | I19: =SUM(I8:I18) -> 5535 | ... K19: =SUM(K8:K18) -> 212 | L19: المجموع

Sheet B13-3
A1: المواليد الأحياء المسجلون حسب فئة عمر الأم وترتيب المولود
A2: REGISTERED LIVE BIRTHS BY MOTHER'S AGE GROUP AND BIRTH ORDER
A3: 2023
A4: الذكور MALES
A5: Table No. (13-3) | L5: جدول رقم (13-3)
A6: Birth Order | B6: Mother's Age Group (in Years) (فئة عمر الأم (بالسنوات | L6: ترتيب المولود
B7: المجموع Total | C7: غير مبين Not Stated | D7: 3 | E7: 45-49 | F7: 40-44 | G7: 35-39 | H7: 30-34 | I7: 25-29 | J7: 20-24 | K7: اقل من 20 Less than 20
A8: First | B8: =SUM(C8:K8) -> 4872 | C8: 0 | D8: 3 | E8: 14 | F8: 116 | G8: 592 | H8: 1385 | I8: 1759 | J8: 891 | K8: 112 | L8: الأول
A9: Second | B9: =SUM(C9:K9) -> 3618 | C9: 0 | D9: 5 | E9: 12 | F9: 118 | G9: 598 | H9: 1279 | I9: 1187 | J9: 399 | K9: 20 | L9: الثاني
A10: Third | B10: =SUM(C10:K10) -> 2504 | C10: 0 | D10: 1 | E10: 9 | F10: 139 | G10: 612 | H10: 1009 | I10: 621 | J10: 112 | K10: 1 | L10: الثالث
A11: Fourth | B11: =SUM(C11:K11) -> 1488 | C11: 0 | D11: 0 | E11: 6 | F11: 110 | G11: 478 | H11: 597 | I11: 271 | J11: 26 | K11: 0 | L11: الرابع
A12: Fifth | B12: =SUM(C12:K12) -> 787 | C12: 0 | D12: 0 | E12: 5 | F12: 117 | G12: 325 | H12: 256 | I12: 81 | J12: 3 | K12: 0 | L12: الخامس
A13: Sixth | B13: =SUM(C13:K13) -> 420 | C13: 0 | D13: 0 | E13: 7 | F13: 80 | G13: 175 | H13: 127 | I13: 30 | J13: 1 | K13: 0 | L13: السادس
A14: Seventh | B14: =SUM(C14:K14) -> 174 | C14: 0 | D14: 0 | E14: 4 | F14: 52 | G14: 72 | H14: 40 | I14: 6 | J14: 0 | K14: 0 | L14: السابع
A15: Eighth | B15: =SUM(C15:K15) -> 93 | C15: 0 | D15: 0 | E15: 5 | F15: 25 | G15: 46 | H15: 17 | I15: 0 | J15: 0 | K15: 0 | L15: الثامن
A16: Ninth | B16: =SUM(C16:K16) -> 52 | C16: 0 | D16: 0 | E16: 2 | F16: 19 | G16: 22 | H16: 9 | I16: 0 | J16: 0 | K16: 0 | L16: التاسع
A17: Tenth & More | B17: =SUM(C17:K17) -> 33 | C17: 0 | D17: 0 | E17: 1 | F17: 14 | G17: 16 | H17: 2 | I17: 0 | J17: 0 | K17: 0 | L17: العاشر فاكثر
A18: Not Stated | B18: =SUM(C18:K18) -> 0 | C18: 0 | D18: 0 | E18: 0 | F18: 0 | G18: 0 | H18: 0 | I18: 0 | J18: 0 | K18: 0 | L18: غير مبين
A19: Total | B19: =SUM(B8:B18) -> 14041 | C19: =SUM(C8:C18) -> 0 | D19: =SUM(D8:D18) -> 9 | E19: =SUM(E8:E18) -> 65 | F19: =SUM(F8:F18) -> 790 | G19: =SUM(G8:G18) -> 2936 | H19: =SUM(H8:H18) -> 4721 | I19: =SUM(I8:I18) -> 3955 | ... K19: =SUM(K8:K18) -> 133 | L19: المجموع

Sheet B13-4
A1: المواليد الأحياء المسجلون حسب فئة عمر الأم وترتيب المولود
A2: REGISTERED LIVE BIRTHS BY MOTHER'S AGE GROUP AND BIRTH ORDER
A3: 2023
A4: الإناث FEMALES
A5: Table No. (13-4) | L5: جدول رقم (13-4)
A6: Birth Order | B6: Mother's Age Group (in Years) (فئة عمر الأم (بالسنوات | L6: ترتيب المولود
B7: المجموع Total | C7: غير مبين Not Stated | D7: 50 + | E7: 45-49 | F7: 40-44 | G7: 35-39 | H7: 30-34 | I7: 25-29 | J7: 20-24 | K7: اقل من 20 Less than 20
A8: First | B8: =SUM(C8:K8) -> 4508 | C8: 0 | D8: 0 | E8: 17 | F8: 112 | G8: 553 | H8: 1255 | I8: 1664 | J8: 805 | K8: 102 | L8: الأول
A9: Second | B9: =SUM(C9:K9) -> 3506 | C9: 0 | D9: 1 | E9: 12 | F9: 106 | G9: 579 | H9: 1355 | I9: 1089 | J9: 350 | K9: 14 | L9: الثاني
A10: Third | B10: =SUM(C10:K10) -> 2409 | C10: 0 | D10: 0 | E10: 6 | F10: 110 | G10: 592 | H10: 954 | I10: 616 | J10: 128 | K10: 3 | L10: الثالث
A11: Fourth | B11: =SUM(C11:K11) -> 1372 | C11: 0 | D11: 0 | E11: 5 | F11: 119 | G11: 456 | H11: 534 | I11: 239 | J11: 19 | K11: 0 | L11: الرابع
A12: Fifth | B12: =SUM(C12:K12) -> 774 | C12: 0 | D12: 1 | E12: 4 | F12: 100 | G12: 323 | H12: 259 | I12: 83 | J12: 4 | K12: 0 | L12: الخامس
A13: Sixth | B13: =SUM(C13:K13) -> 389 | C13: 0 | D13: 0 | E13: 6 | F13: 74 | G13: 174 | H13: 111 | I13: 23 | J13: 1 | K13: 0 | L13: السادس
A14: Seventh | B14: =SUM(C14:K14) -> 189 | C14: 0 | D14: 0 | E14: 2 | F14: 45 | G14: 93 | H14: 45 | I14: 4 | J14: 0 | K14: 0 | L14: السابع
A15: Eighth | B15: =SUM(C15:K15) -> 76 | C15: 0 | D15: 0 | E15: 4 | F15: 22 | G15: 31 | H15: 19 | I15: 0 | J15: 0 | K15: 0 | L15: الثامن
A16: Ninth | B16: =SUM(C16:K16) -> 43 | C16: 0 | D16: 0 | E16: 2 | F16: 15 | G16: 19 | H16: 6 | I16: 1 | J16: 0 | K16: 0 | L16: التاسع
A17: Tenth & More | B17: =SUM(C17:K17) -> 15 | C17: 0 | D17: 0 | E17: 4 | F17: 4 | G17: 5 | H17: 2 | I17: 0 | J17: 0 | K17: 0 | L17: العاشر فاكثر
A18: Not Stated | B18: =SUM(C18:K18) -> 0 | C18: 0 | D18: 0 | E18: 0 | F18: 0 | G18: 0 | H18: 0 | I18: 0 | J18: 0 | K18: 0 | L18: غير مبين
A19: Total | B19: =SUM(B8:B18) -> 13281 | C19: =SUM(C8:C18) -> 0 | D19: =SUM(D8:D18) -> 2 | E19: =SUM(E8:E18) -> 62 | F19: =SUM(F8:F18) -> 707 | G19: =SUM(G8:G18) -> 2825 | H19: =SUM(H8:H18) -> 4540 | I19: =SUM(I8:I18) -> 3719 | ... K19: =SUM(K8:K18) -> 119 | L19: المجموع

Sheet B13-5
A1: المواليد الأحياء المسجلون حسب فئة عمر الأم وترتيب المولود
A2: REGISTERED LIVE BIRTHS BY MOTHER'S AGE GROUP AND BIRTH ORDER
A3: 2023
A4: المجموع TOTAL
A5: Table No. (13-5) | L5: جدول رقم (13-5)
A6: Birth Order | B6: Mother's Age Group (in Years) (فئة عمر الأم (بالسنوات | L6: ترتيب المولود
B7: المجموع Total | C7: غير مبين Not Stated | D7: 50 + | E7: 45-49 | F7: 40-44 | G7: 35-39 | H7: 30-34 | I7: 25-29 | J7: 20-24 | K7: اقل من 20 Less than 20
A8: First | B8: =SUM(C8:K8) -> 9380 | C8: ='B13-1'!C8+'B13-2'!C8 -> 0 | D8: =SUM('B13-1'!D8+'B13-2'!D8) -> 3 | E8: =SUM('B13-1'!E8+'B13-2'!E8) -> 31 | F8: =SUM('B13-1'!F8+'B13-2'!F8) -> 228 | G8: =SUM('B13-1'!G8+'B13-2'!G8) -> 1145 | H8: =SUM('B13-1'!H8+'B13-2'!H8) -> 2640 | I8: =SUM('B13-1'!I8+'B13-2'!I8) -> 3423 | J8: =SUM('B13-1'!J8+'B13-2'!J8) -> 1696 | K8: =SUM('B13-1'!K8+'B13-2'!K8) -> 214 | L8: الأول
A9: Second | B9: =SUM(C9:K9) -> 7124 | C9: ='B13-1'!C9+'B13-2'!C9 -> 0 | D9: =SUM('B13-1'!D9+'B13-2'!D9) -> 6 | E9: =SUM('B13-1'!E9+'B13-2'!E9) -> 24 | F9: =SUM('B13-1'!F9+'B13-2'!F9) -> 224 | G9: =SUM('B13-1'!G9+'B13-2'!G9) -> 1177 | H9: =SUM('B13-1'!H9+'B13-2'!H9) -> 2634 | I9: =SUM('B13-1'!I9+'B13-2'!I9) -> 2276 | J9: =SUM('B13-1'!J9+'B13-2'!J9) -> 749 | K9: =SUM('B13-1'!K9+'B13-2'!K9) -> 34 | L9: الثاني
A10: Third | B10: =SUM(C10:K10) -> 4912 | C10: ='B13-1'!C10+'B13-2'!C10 -> 0 | D10: =SUM('B13-1'!D10+'B13-2'!D10) -> 0 | E10: =SUM('B13-1'!E10+'B13-2'!E10) -> 15 | F10: =SUM('B13-1'!F10+'B13-2'!F10) -> 249 | G10: =SUM('B13-1'!G10+'B13-2'!G10) -> 1204 | H10: =SUM('B13-1'!H10+'B13-2'!H10) -> 1963 | I10: =SUM('B13-1'!I10+'B13-2'!I10) -> 1237 | J10: =SUM('B13-1'!J10+'B13-2'!J10) -> 240 | K10: =SUM('B13-1'!K10+'B13-2'!K10) -> 4 | L10: الثالث
A11: Fourth | B11: =SUM(C11:K11) -> 2861 | C11: ='B13-1'!C11+'B13-2'!C11 -> 0 | D11: =SUM('B13-1'!D11+'B13-2'!D11) -> 1 | E11: =SUM('B13-1'!E11+'B13-2'!E11) -> 11 | F11: =SUM('B13-1'!F11+'B13-2'!F11) -> 229 | G11: =SUM('B13-1'!G11+'B13-2'!G11) -> 934 | H11: =SUM('B13-1'!H11+'B13-2'!H11) -> 1131 | I11: =SUM('B13-1'!I11+'B13-2'!I11) -> 510 | J11: =SUM('B13-1'!J11+'B13-2'!J11) -> 45 | K11: =SUM('B13-1'!K11+'B13-2'!K11) -> 0 | L11: الرابع
A12: Fifth | B12: =SUM(C12:K12) -> 1561 | C12: ='B13-1'!C12+'B13-2'!C12 -> 0 | D12: =SUM('B13-1'!D12+'B13-2'!D12) -> 1 | E12: =SUM('B13-1'!E12+'B13-2'!E12) -> 9 | F12: =SUM('B13-1'!F12+'B13-2'!F12) -> 217 | G12: =SUM('B13-1'!G12+'B13-2'!G12) -> 648 | H12: =SUM('B13-1'!H12+'B13-2'!H12) -> 515 | I12: =SUM('B13-1'!I12+'B13-2'!I12) -> 164 | J12: =SUM('B13-1'!J12+'B13-2'!J12) -> 7 | K12: =SUM('B13-1'!K12+'B13-2'!K12) -> 0 | L12: الخامس
A13: Sixth | B13: =SUM(C13:K13) -> 809 | C13: ='B13-1'!C13+'B13-2'!C13 -> 0 | D13: =SUM('B13-1'!D13+'B13-2'!D13) -> 0 | E13: =SUM('B13-1'!E13+'B13-2'!E13) -> 13 | F13: =SUM('B13-1'!F13+'B13-2'!F13) -> 154 | G13: =SUM('B13-1'!G13+'B13-2'!G13) -> 349 | H13: =SUM('B13-1'!H13+'B13-2'!H13) -> 238 | I13: =SUM('B13-1'!I13+'B13-2'!I13) -> 53 | J13: =SUM('B13-1'!J13+'B13-2'!J13) -> 2 | K13: =SUM('B13-1'!K13+'B13-2'!K13) -> 0 | L13: السادس
A14: Seventh | B14: =SUM(C14:K14) -> 363 | C14: ='B13-1'!C14+'B13-2'!C14 -> 0 | D14: =SUM('B13-1'!D14+'B13-2'!D14) -> 0 | E14: =SUM('B13-1'!E14+'B13-2'!E14) -> 6 | F14: =SUM('B13-1'!F14+'B13-2'!F14) -> 97 | G14: =SUM('B13-1'!G14+'B13-2'!G14) -> 165 | H14: =SUM('B13-1'!H14+'B13-2'!H14) -> 85 | I14: =SUM('B13-1'!I14+'B13-2'!I14) -> 10 | J14: =SUM('B13-1'!J14+'B13-2'!J14) -> 0 | K14: =SUM('B13-1'!K14+'B13-2'!K14) -> 0 | L14: السابع
A15: Eighth | B15: =SUM(C15:K15) -> 169 | C15: ='B13-1'!C15+'B13-2'!C15 -> 0 | D15: =SUM('B13-1'!D15+'B13-2'!D15) -> 0 | E15: =SUM('B13-1'!E15+'B13-2'!E15) -> 9 | F15: =SUM('B13-1'!F15+'B13-2'!F15) -> 47 | G15: =SUM('B13-1'!G15+'B13-2'!G15) -> 77 | H15: =SUM('B13-1'!H15+'B13-2'!H15) -> 36 | I15: =SUM('B13-1'!I15+'B13-2'!I15) -> 0 | J15: =SUM('B13-1'!J15+'B13-2'!J15) -> 0 | K15: =SUM('B13-1'!K15+'B13-2'!K15) -> 0 | L15: الثامن
A16: Ninth | B16: =SUM(C16:K16) -> 95 | C16: ='B13-1'!C16+'B13-2'!C16 -> 0 | D16: =SUM('B13-1'!D16+'B13-2'!D16) -> 0 | E16: =SUM('B13-1'!E16+'B13-2'!E16) -> 4 | F16: =SUM('B13-1'!F16+'B13-2'!F16) -> 34 | G16: =SUM('B13-1'!G16+'B13-2'!G16) -> 41 | H16: =SUM('B13-1'!H16+'B13-2'!H16) -> 15 | I16: =SUM('B13-1'!I16+'B13-2'!I16) -> 1 | J16: =SUM('B13-1'!J16+'B13-2'!J16) -> 0 | K16: =SUM('B13-1'!K16+'B13-2'!K16) -> 0 | L16: التاسع
A17: Tenth & More | B17: =SUM(D17:K17) -> 48 | C17: ='B13-1'!C17+'B13-2'!C17 -> 0 | D17: =SUM('B13-1'!D17+'B13-2'!D17) -> 0 | E17: =SUM('B13-1'!E17+'B13-2'!E17) -> 5 | F17: =SUM('B13-1'!F17+'B13-2'!F17) -> 18 | G17: =SUM('B13-1'!G17+'B13-2'!G17) -> 21 | H17: =SUM('B13-1'!H17+'B13-2'!H17) -> 4 | I17: =SUM('B13-1'!I17+'B13-2'!I17) -> 0 | J17: =SUM('B13-1'!J17+'B13-2'!J17) -> 0 | K17: =SUM('B13-1'!K17+'B13-2'!K17) -> 0 | L17: العاشر فاكثر
A18: Not Stated | B18: ='B13-1'!B18+'B13-2'!B18 -> 0 | C18: ='B13-1'!C18+'B13-2'!C18 -> 0 | D18: ='B13-1'!D18+'B13-2'!D18 -> 0 | E18: ='B13-1'!E18+'B13-2'!E18 -> 0 | F18: ='B13-1'!F18+'B13-2'!F18 -> 0 | G18: ='B13-1'!G18+'B13-2'!G18 -> 0 | H18: ='B13-1'!H18+'B13-2'!H18 -> 0 | I18: ='B13-1'!I18+'B13-2'!I18 -> 0 | ... K18: ='B13-1'!K18+'B13-2'!K18 -> 0 | L18: غير مبين
A19: Total | B19: =SUM(B8:B18) -> 27322 | C19: =SUM(C8:C18) -> 0 | D19: =SUM(D8:D18) -> 11 | E19: =SUM(E8:E18) -> 127 | F19: =SUM(F8:F18) -> 1497 | G19: =SUM(G8:G18) -> 5761 | H19: =SUM(H8:H18) -> 9261 | I19: =SUM(I8:I18) -> 7674 | ... K19: =SUM(K8:K18) -> 252 | L19: المجموع

Sheet B14-1
A1: المواليد الأحياء المسجلون حسب مدة الحياة الزواجية وترتيب المولود
A2: REGISTERED LIVE BIRTHS BY DURATION OF MARRIAGE AND BIRTH ORDER
A3: 2023
A4: قطريون QATARIS
A5: Table No. (14-1) | M5: جدول رقم (14-1)
A6: Birth Order | B6: Duration of Marriage (in Years) (مدة الحياة الزواجية (بالسنوات | M6: ترتيب المولود
B7: المجموع Total | C7: غير مبين Not Stated | D7: 25 + | E7: 20 - 24 | F7: 15 - 19 | G7: 10 - 14 | H7: 5 - 9 | I7: 4 | J7: 3 | K7: 2 | L7: 1
A8: First | B8: =SUM(C8:L8) -> 1724 | C8: 13 | D8: 0 | E8: 2 | F8: 7 | G8: 30 | H8: 136 | I8: 97 | J8: 232 | K8: 632 | L8: 575 | M8: الأول
A9: Second | B9: =SUM(C9:L9) -> 1602 | C9: 13 | D9: 0 | E9: 0 | F9: 11 | G9: 60 | H9: 490 | I9: 301 | J9: 421 | K9: 269 | L9: 37 | M9: الثاني
A10: Third | B10: =SUM(C10:L10) -> 1278 | C10: 26 | D10: 0 | E10: 2 | F10: 33 | G10: 190 | H10: 841 | I10: 97 | J10: 84 | K10: 5 | L10: 0 | M10: الثالث
A11: Fourth | B11: =SUM(C11:L11) -> 960 | C11: 31 | D11: 2 | E11: 4 | F11: 89 | G11: 359 | H11: 441 | I11: 21 | J11: 13 | K11: 0 | L11: 0 | M11: الرابع
A12: Fifth | B12: =SUM(C12:L12) -> 667 | C12: 37 | D12: 0 | E12: 17 | F12: 167 | G12: 304 | H12: 128 | I12: 14 | J12: 0 | K12: 0 | L12: 0 | M12: الخامس
A13: Sixth | B13: =SUM(C13:L13) -> 411 | C13: 18 | D13: 1 | E13: 34 | F13: 163 | G13: 142 | H13: 53 | I13: 0 | J13: 0 | K13: 0 | L13: 0 | M13: السادس
A14: Seventh | B14: =SUM(C14:L14) -> 184 | C14: 8 | D14: 3 | E14: 34 | F14: 80 | G14: 48 | H14: 11 | I14: 0 | J14: 0 | K14: 0 | L14: 0 | M14: السابع
A15: Eighth | B15: =SUM(C15:L15) -> 75 | C15: 3 | D15: 1 | E15: 16 | F15: 36 | G15: 12 | H15: 7 | I15: 0 | J15: 0 | K15: 0 | L15: 0 | M15: الثامن
A16: Ninth | B16: =SUM(C16:L16) -> 50 | C16: 2 | D16: 2 | E16: 21 | F16: 14 | G16: 7 | H16: 4 | I16: 0 | J16: 0 | K16: 0 | L16: 0 | M16: التاسع
A17: Tenth & More | B17: =SUM(C17:L17) -> 20 | C17: 1 | D17: 1 | E17: 10 | F17: 4 | G17: 4 | H17: 0 | I17: 0 | J17: 0 | K17: 0 | L17: 0 | M17: العاشر فاكثر
A18: Not Stated | B18: =SUM(C18:L18) -> 0 | C18: 0 | D18: 0 | E18: 0 | F18: 0 | G18: 0 | H18: 0 | I18: 0 | J18: 0 | K18: 0 | L18: 0 | M18: غير مبين
A19: Total | B19: =SUM(B8:B18) -> 6971 | C19: =SUM(C8:C18) -> 152 | D19: =SUM(D8:D18) -> 10 | E19: =SUM(E8:E18) -> 140 | F19: =SUM(F8:F18) -> 604 | G19: =SUM(G8:G18) -> 1156 | H19: =SUM(H8:H18) -> 2111 | I19: =SUM(I8:I18) -> 530 | ... L19: =SUM(L8:L18) -> 612 | M19: المجموع

Sheet B14-2
A1: المواليد الأحياء المسجلون حسب مدة الحياة الزواجية وترتيب المولود
A2: REGISTERED LIVE BIRTHS BY DURATION OF MARRIAGE AND BIRTH ORDER
A3: 2023
A4: غير قطريين NON-QATARIS
A5: Table No. (14-2) | M5: جدول رقم (14-2)
A6: Birth Order | B6: Duration of Marriage (in Years) (مدة الحياة الزواجية (بالسنوات | M6: ترتيب المولود
B7: المجموع Total | C7: غير مبين Not Stated | D7: 25 + | E7: 20 - 24 | F7: 15 - 19 | G7: 10 - 14 | H7: 5 - 9 | I7: 4 | J7: 3 | K7: 2 | L7: 1
A8: First | B8: =SUM(C8:L8) -> 7656 | C8: 10 | D8: 1 | E8: 13 | F8: 75 | G8: 316 | H8: 1457 | I8: 734 | J8: 924 | K8: 1988 | L8: 2138 | M8: الأول
A9: Second | B9: =SUM(C9:L9) -> 5522 | C9: 20 | D9: 1 | E9: 14 | F9: 54 | G9: 547 | H9: 2961 | I9: 838 | J9: 617 | K9: 367 | L9: 103 | M9: الثاني
A10: Third | B10: =SUM(C10:L10) -> 3634 | C10: 24 | D10: 0 | E10: 13 | F10: 168 | G10: 1113 | H10: 2105 | I10: 142 | J10: 67 | K10: 2 | L10: 0 | M10: الثالث
A11: Fourth | B11: =SUM(C11:L11) -> 1901 | C11: 20 | D11: 1 | E11: 39 | F11: 301 | G11: 899 | H11: 604 | I11: 25 | J11: 12 | K11: 0 | L11: 0 | M11: الرابع
A12: Fifth | B12: =SUM(C12:L12) -> 894 | C12: 15 | D12: 4 | E12: 51 | F12: 266 | G12: 411 | H12: 142 | I12: 5 | J12: 0 | K12: 0 | L12: 0 | M12: الخامس
A13: Sixth | B13: =SUM(C13:L13) -> 398 | C13: 8 | D13: 3 | E13: 49 | F13: 161 | G13: 148 | H13: 29 | I13: 0 | J13: 0 | K13: 0 | L13: 0 | M13: السادس
A14: Seventh | B14: =SUM(C14:L14) -> 179 | C14: 3 | D14: 5 | E14: 34 | F14: 90 | G14: 38 | H14: 9 | I14: 0 | J14: 0 | K14: 0 | L14: 0 | M14: السابع
A15: Eighth | B15: =SUM(C15:L15) -> 94 | C15: 4 | D15: 2 | E15: 27 | F15: 43 | G15: 16 | H15: 2 | I15: 0 | J15: 0 | K15: 0 | L15: 0 | M15: الثامن
A16: Ninth | B16: =SUM(C16:L16) -> 45 | C16: 1 | D16: 0 | E16: 15 | F16: 22 | G16: 5 | H16: 2 | I16: 0 | J16: 0 | K16: 0 | L16: 0 | M16: التاسع
A17: Tenth & More | B17: =SUM(C17:L17) -> 28 | C17: 0 | D17: 3 | E17: 14 | F17: 8 | G17: 2 | H17: 1 | I17: 0 | J17: 0 | K17: 0 | L17: 0 | M17: العاشر فاكثر
A18: Not Stated | B18: =SUM(C18:L18) -> 0 | C18: 0 | D18: 0 | E18: 0 | F18: 0 | G18: 0 | H18: 0 | I18: 0 | J18: 0 | K18: 0 | L18: 0 | M18: غير مبين
A19: Total | B19: =SUM(B8:B18) -> 20351 | C19: =SUM(C8:C18) -> 105 | D19: =SUM(D8:D18) -> 20 | E19: =SUM(E8:E18) -> 269 | F19: =SUM(F8:F18) -> 1188 | G19: =SUM(G8:G18) -> 3495 | H19: =SUM(H8:H18) -> 7312 | I19: =SUM(I8:I17) -> 1744 | J19: =SUM(J8:J17) -> 1620 | K19: =SUM(K8:K17) -> 2357 | L19: =SUM(L8:L17) -> 2241 | M19: المجموع

Sheet B14-3
A1: المواليد الأحياء المسجلون حسب مدة الحياة الزواجية وترتيب المولود
A2: REGISTERED LIVE BIRTHS BY DURATION OF MARRIAGE AND BIRTH ORDER
A3: 2023
A4: المجموع TOTAL
A5: Table No. (14-3) | M5: جدول رقم (14-3)
A6: Birth Order | B6: Duration of Marriage (in Years) (مدة الحياة الزواجية (بالسنوات | M6: ترتيب المولود
B7: المجموع Total | C7: غير مبين Not Stated | D7: 25 + | E7: 20 - 24 | F7: 15 - 19 | G7: 10 - 14 | H7: 5 - 9 | I7: 4 | J7: 3 | K7: 2 | L7: 1
A8: First | B8: =SUM(C8:L8) -> 9380 | C8: ='B14-1'!C8+'B14-2'!C8 -> 23 | D8: ='B14-1'!D8+'B14-2'!D8 -> 1 | E8: ='B14-1'!E8+'B14-2'!E8 -> 15 | F8: ='B14-1'!F8+'B14-2'!F8 -> 82 | G8: ='B14-1'!G8+'B14-2'!G8 -> 346 | H8: ='B14-1'!H8+'B14-2'!H8 -> 1593 | I8: ='B14-1'!I8+'B14-2'!I8 -> 831 | J8: ='B14-1'!J8+'B14-2'!J8 -> 1156 | ... L8: ='B14-1'!L8+'B14-2'!L8 -> 2713 | M8: الأول
A9: Second | B9: =SUM(C9:L9) -> 7124 | C9: ='B14-1'!C9+'B14-2'!C9 -> 33 | D9: ='B14-1'!D9+'B14-2'!D9 -> 1 | E9: ='B14-1'!E9+'B14-2'!E9 -> 14 | F9: ='B14-1'!F9+'B14-2'!F9 -> 65 | G9: ='B14-1'!G9+'B14-2'!G9 -> 607 | H9: ='B14-1'!H9+'B14-2'!H9 -> 3451 | I9: ='B14-1'!I9+'B14-2'!I9 -> 1139 | J9: ='B14-1'!J9+'B14-2'!J9 -> 1038 | ... L9: ='B14-1'!L9+'B14-2'!L9 -> 140 | M9: الثاني
A10: Third | B10: =SUM(C10:L10) -> 4912 | C10: ='B14-1'!C10+'B14-2'!C10 -> 50 | D10: ='B14-1'!D10+'B14-2'!D10 -> 0 | E10: ='B14-1'!E10+'B14-2'!E10 -> 15 | F10: ='B14-1'!F10+'B14-2'!F10 -> 201 | G10: ='B14-1'!G10+'B14-2'!G10 -> 1303 | H10: ='B14-1'!H10+'B14-2'!H10 -> 2946 | I10: ='B14-1'!I10+'B14-2'!I10 -> 239 | J10: ='B14-1'!J10+'B14-2'!J10 -> 151 | ... L10: ='B14-1'!L10+'B14-2'!L10 -> 0 | M10: الثالث
A11: Fourth | B11: =SUM(C11:L11) -> 2861 | C11: ='B14-1'!C11+'B14-2'!C11 -> 51 | D11: ='B14-1'!D11+'B14-2'!D11 -> 3 | E11: ='B14-1'!E11+'B14-2'!E11 -> 43 | F11: ='B14-1'!F11+'B14-2'!F11 -> 390 | G11: ='B14-1'!G11+'B14-2'!G11 -> 1258 | H11: ='B14-1'!H11+'B14-2'!H11 -> 1045 | I11: ='B14-1'!I11+'B14-2'!I11 -> 46 | J11: ='B14-1'!J11+'B14-2'!J11 -> 25 | ... L11: ='B14-1'!L11+'B14-2'!L11 -> 0 | M11: الرابع
A12: Fifth | B12: =SUM(C12:L12) -> 1561 | C12: ='B14-1'!C12+'B14-2'!C12 -> 52 | D12: ='B14-1'!D12+'B14-2'!D12 -> 4 | E12: ='B14-1'!E12+'B14-2'!E12 -> 68 | F12: ='B14-1'!F12+'B14-2'!F12 -> 433 | G12: ='B14-1'!G12+'B14-2'!G12 -> 715 | H12: ='B14-1'!H12+'B14-2'!H12 -> 270 | I12: ='B14-1'!I12+'B14-2'!I12 -> 19 | J12: ='B14-1'!J12+'B14-2'!J12 -> 0 | ... L12: ='B14-1'!L12+'B14-2'!L12 -> 0 | M12: الخامس
A13: Sixth | B13: =SUM(C13:L13) -> 809 | C13: ='B14-1'!C13+'B14-2'!C13 -> 26 | D13: ='B14-1'!D13+'B14-2'!D13 -> 4 | E13: ='B14-1'!E13+'B14-2'!E13 -> 83 | F13: ='B14-1'!F13+'B14-2'!F13 -> 324 | G13: ='B14-1'!G13+'B14-2'!G13 -> 290 | H13: ='B14-1'!H13+'B14-2'!H13 -> 82 | I13: ='B14-1'!I13+'B14-2'!I13 -> 0 | J13: ='B14-1'!J13+'B14-2'!J13 -> 0 | ... L13: ='B14-1'!L13+'B14-2'!L13 -> 0 | M13: السادس
A14: Seventh | B14: =SUM(C14:L14) -> 363 | C14: ='B14-1'!C14+'B14-2'!C14 -> 11 | D14: ='B14-1'!D14+'B14-2'!D14 -> 8 | E14: ='B14-1'!E14+'B14-2'!E14 -> 68 | F14: ='B14-1'!F14+'B14-2'!F14 -> 170 | G14: ='B14-1'!G14+'B14-2'!G14 -> 86 | H14: ='B14-1'!H14+'B14-2'!H14 -> 20 | I14: ='B14-1'!I14+'B14-2'!I14 -> 0 | J14: ='B14-1'!J14+'B14-2'!J14 -> 0 | ... L14: ='B14-1'!L14+'B14-2'!L14 -> 0 | M14: السابع
A15: Eighth | B15: =SUM(C15:L15) -> 169 | C15: ='B14-1'!C15+'B14-2'!C15 -> 7 | D15: ='B14-1'!D15+'B14-2'!D15 -> 3 | E15: ='B14-1'!E15+'B14-2'!E15 -> 43 | F15: ='B14-1'!F15+'B14-2'!F15 -> 79 | G15: ='B14-1'!G15+'B14-2'!G15 -> 28 | H15: ='B14-1'!H15+'B14-2'!H15 -> 9 | I15: ='B14-1'!I15+'B14-2'!I15 -> 0 | J15: ='B14-1'!J15+'B14-2'!J15 -> 0 | ... L15: ='B14-1'!L15+'B14-2'!L15 -> 0 | M15: الثامن
A16: Ninth | B16: =SUM(C16:L16) -> 95 | C16: ='B14-1'!C16+'B14-2'!C16 -> 3 | D16: ='B14-1'!D16+'B14-2'!D16 -> 2 | E16: ='B14-1'!E16+'B14-2'!E16 -> 36 | F16: ='B14-1'!F16+'B14-2'!F16 -> 36 | G16: ='B14-1'!G16+'B14-2'!G16 -> 12 | H16: ='B14-1'!H16+'B14-2'!H16 -> 6 | I16: ='B14-1'!I16+'B14-2'!I16 -> 0 | J16: ='B14-1'!J16+'B14-2'!J16 -> 0 | ... L16: ='B14-1'!L16+'B14-2'!L16 -> 0 | M16: التاسع
A17: Tenth & More | B17: =SUM(C17:L17) -> 48 | C17: ='B14-1'!C17+'B14-2'!C17 -> 1 | D17: ='B14-1'!D17+'B14-2'!D17 -> 4 | E17: ='B14-1'!E17+'B14-2'!E17 -> 24 | F17: ='B14-1'!F17+'B14-2'!F17 -> 12 | G17: ='B14-1'!G17+'B14-2'!G17 -> 6 | H17: ='B14-1'!H17+'B14-2'!H17 -> 1 | I17: ='B14-1'!I17+'B14-2'!I17 -> 0 | J17: ='B14-1'!J17+'B14-2'!J17 -> 0 | ... L17: ='B14-1'!L17+'B14-2'!L17 -> 0 | M17: العاشر فاكثر
A18: Not Stated | B18: ='B14-1'!B18+'B14-2'!B18 -> 0 | C18: ='B14-1'!C18+'B14-2'!C18 -> 0 | D18: ='B14-1'!D18+'B14-2'!D18 -> 0 | E18: ='B14-1'!E18+'B14-2'!E18 -> 0 | F18: ='B14-1'!F18+'B14-2'!F18 -> 0 | G18: ='B14-1'!G18+'B14-2'!G18 -> 0 | H18: ='B14-1'!H18+'B14-2'!H18 -> 0 | I18: ='B14-1'!I18+'B14-2'!I18 -> 0 | ... L18: ='B14-1'!L18+'B14-2'!L18 -> 0 | M18: غير مبين
A19: Total | B19: =SUM(B8:B18) -> 27322 | C19: =SUM(C8:C18) -> 257 | D19: =SUM(D8:D18) -> 30 | E19: =SUM(E8:E18) -> 409 | F19: =SUM(F8:F18) -> 1792 | G19: =SUM(G8:G18) -> 4651 | H19: =SUM(H8:H18) -> 9423 | I19: =SUM(I8:I18) -> 2274 | ... L19: =SUM(L8:L18) -> 2853 | M19: المجموع

Sheet B15-1
A1: المواليد الأحياء المسجلون حسب الحالة التعليمية للأب والأم
A2: REGISTERED LIVE BIRTHS BY EDUCATIONAL STATUS OF FATHER AND MOTHER
A3: 2023
A4: قطريون QATARIS
A5: Table No. (15-1) | L5: جدول رقم (15-1)
A6: Educational Status of Mother | B6: نسبة الحالة التعليمية للأم Percentage Educational Status of Mother | C6: الحالة التعليمية للأب Educational Status of Father | L6: الحالة التعليمية للأم
C7: المجموع Total | D7: غير مبين Not Stated | E7: جامعة فما فوق University & Above | F7: دون الجامعة Pre-University | G7: ثانوية Secondary | H7: إعدادية Preparatory | I7: إبتدائية Primary | J7: يقرأ ويكتب Read & Write | K7: أمى Illiterate
A8: Illiterate | B8: =C8/$C$16% -> 0.17214173 | C8: =SUM(D8:K8) -> 12 | D8: 0 | E8: 1 | F8: 1 | G8: 8 | H8: 0 | I8: 2 | J8: 0 | K8: 0 | L8: أمية
A9: Read & Write | B9: =C9/$C$16% -> 0.057380577 | C9: =SUM(D9:K9) -> 4 | D9: 0 | E9: 1 | F9: 0 | G9: 1 | H9: 0 | I9: 2 | J9: 0 | K9: 0 | L9: تقرأ وتكتب
A10: Primary | B10: =C10/$C$16% -> 3.385454 | C10: =SUM(D10:K10) -> 236 | D10: 1 | E10: 45 | F10: 10 | G10: 102 | H10: 26 | I10: 52 | J10: 0 | K10: 0 | L10: ابتدائية
A11: Preparatory | B11: =C11/$C$16% -> 3.4141443 | C11: =SUM(D11:K11) -> 238 | D11: 1 | E11: 43 | F11: 13 | G11: 104 | H11: 52 | I11: 24 | J11: 1 | K11: 0 | L11: إعدادية
A12: Secondary | B12: =C12/$C$16% -> 34.428346 | C12: =SUM(D12:K12) -> 2400 | D12: 5 | E12: 896 | F12: 171 | G12: 1008 | H12: 185 | I12: 134 | J12: 1 | K12: 0 | L12: ثانوية
A13: Pre-University | B13: =C13/$C$16% -> 4.4900301 | C13: =SUM(D13:K13) -> 313 | D13: 1 | E13: 147 | F13: 47 | G13: 93 | H13: 10 | I13: 15 | J13: 0 | K13: 0 | L13: دون الجامعة
A14: University & Above | B14: =C14/$C$16% -> 50.451872 | C14: =SUM(D14:K14) -> 3517 | D14: 11 | E14: 2316 | F14: 289 | G14: 774 | H14: 78 | I14: 49 | J14: 0 | K14: 0 | L14: جامعة فما فوق
A15: Not Stated | B15: =C15/$C$16% -> 3.6006312 | C15: =SUM(D15:K15) -> 251 | D15: 39 | E15: 148 | F15: 20 | G15: 35 | H15: 5 | I15: 3 | J15: 1 | K15: 0 | L15: غير مبين
A16: Total | B16: =SUM(B8:B15) -> 100 | C16: =SUM(C8:C15) -> 6971 | D16: =SUM(D8:D15) -> 58 | E16: =SUM(E8:E15) -> 3597 | F16: =SUM(F8:F15) -> 551 | G16: =SUM(G8:G15) -> 2125 | H16: =SUM(H8:H15) -> 356 | I16: =SUM(I8:I15) -> 281 | ... K16: =SUM(K8:K15) -> 0 | L16: المجموع
A17: Percentage Educational Status of Father | C17: =SUM(D17:K17) -> 100 | D17: =D16/$C$16% -> 0.83201836 | E17: =E16/$C$16% -> 51.599484 | F17: =F16/$C$16% -> 7.9041744 | G17: =G16/$C$16% -> 30.483431 | H17: =H16/$C$16% -> 5.1068713 | I17: =I16/$C$16% -> 4.0309855 | J17: =J16/$C$16% -> 0.043035433 | K17: =K16/$C$16% -> 0 | L17: نسبة الحالة التعليمية للأب

Sheet B15-2
A1: المواليد الأحياء المسجلون حسب الحالة التعليمية للأب والأم
A2: REGISTERED LIVE BIRTHS BY EDUCATIONAL STATUS OF FATHER AND MOTHER
A3: 2023
A4: غير قطريين NON-QATARIS
A5: Table No. (15-2) | L5: جدول رقم (15-2)
A6: Educational Status of Mother | B6: نسبة الحالة التعليمية للأم Percentage Educational Status of Mother | C6: الحالة التعليمية للأب Educational Status of Father | L6: الحالة التعليمية للأم
C7: المجموع Total | D7: غير مبين Not Stated | E7: جامعة فما فوق University & Above | F7: دون الجامعة Pre-University | G7: ثانوية Secondary | H7: إعدادية Preparatory | I7: إبتدائية Primary | J7: يقرأ ويكتب Read & Write | K7: أمى Illiterate
A8: Illiterate | B8: =C8/$C$16% -> 0.57982409 | C8: =SUM(D8:K8) -> 118 | D8: 1 | E8: 12 | F8: 6 | G8: 40 | H8: 18 | I8: 32 | J8: 1 | K8: 8 | L8: أمية
A9: Read & Write | B9: =C9/$C$16% -> 0.0049137635 | C9: =SUM(D9:K9) -> 1 | D9: 0 | E9: 0 | F9: 0 | G9: 1 | H9: 0 | I9: 0 | J9: 0 | K9: 0 | L9: تقرأ وتكتب
A10: Primary | B10: =C10/$C$16% -> 6.1864282 | C10: =SUM(D10:K10) -> 1259 | D10: 8 | E10: 156 | F10: 67 | G10: 585 | H10: 50 | I10: 389 | J10: 0 | K10: 4 | L10: ابتدائية
A11: Preparatory | B11: =C11/$C$16% -> 1.8180925 | C11: =SUM(D11:K11) -> 370 | D11: 3 | E11: 35 | F11: 15 | G11: 155 | H11: 117 | I11: 41 | J11: 3 | K11: 1 | L11: إعدادية
A12: Secondary | B12: =C12/$C$16% -> 20.72134 | C12: =SUM(D12:K12) -> 4217 | D12: 30 | E12: 1210 | F12: 524 | G12: 2106 | H12: 109 | I12: 236 | J12: 0 | K12: 2 | L12: ثانوية
A13: Pre-University | B13: =C13/$C$16% -> 9.4589946 | C13: =SUM(D13:K13) -> 1925 | D13: 23 | E13: 821 | F13: 684 | G13: 351 | H13: 17 | I13: 28 | J13: 1 | K13: 0 | L13: دون الجامعة
A14: University & Above | B14: =C14/$C$16% -> 57.264999 | C14: =SUM(D14:K14) -> 11654 | D14: 114 | E14: 9096 | F14: 1300 | G14: 1024 | H14: 40 | I14: 76 | J14: 1 | K14: 3 | L14: جامعة فما فوق
A15: Not Stated | B15: =C15/$C$16% -> 3.9654071 | C15: =SUM(D15:K15) -> 807 | D15: 246 | E15: 316 | F15: 77 | G15: 113 | H15: 26 | I15: 28 | J15: 1 | K15: 0 | L15: غير مبين
A16: Total | B16: =SUM(B8:B15) -> 100 | C16: =SUM(C8:C15) -> 20351 | D16: =SUM(D8:D15) -> 425 | E16: =SUM(E8:E15) -> 11646 | F16: =SUM(F8:F15) -> 2673 | G16: =SUM(G8:G15) -> 4375 | H16: =SUM(H8:H15) -> 377 | I16: =SUM(I8:I15) -> 830 | ... K16: =SUM(K8:K15) -> 18 | L16: المجموع
A17: Percentage Educational Status of Father | C17: =SUM(D17:K17) -> 100 | D17: =D16/$C$16% -> 2.0883495 | E17: =E16/$C$16% -> 57.225689 | F17: =F16/$C$16% -> 13.13449 | G17: =G16/$C$16% -> 21.497715 | H17: =H16/$C$16% -> 1.8524888 | I17: =I16/$C$16% -> 4.0784237 | J17: =J16/$C$16% -> 0.034396344 | K17: =K16/$C$16% -> 0.088447742 | L17: نسبة الحالة التعليمية للأب
B20: قطريون Qataris | C20: غير قطريين NON-QATARIS
A21: أمية Illiterate | B21: ='B15-1'!C8 -> 12 | C21: =C8 -> 118
A22: تقرأ وتكتب Read & Write | B22: ='B15-1'!C9 -> 4 | C22: =C9 -> 1
A23: ابتدائية Primary | C23: =C10 -> 1259
A24: إعدادية Preparatory | B24: ='B15-1'!C11 -> 238 | C24: =C11 -> 370
A25: ثانوية Secondary | B25: ='B15-1'!C12 -> 2400 | C25: =C12 -> 4217
A26: دون الجامعة Pre-University | B26: ='B15-1'!C13 -> 313 | C26: =C13 -> 1925
A27: جامعة فما فوق University & Above | B27: ='B15-1'!C14 -> 3517 | C27: =C14 -> 11654
A28: غير مبين Not Stated | B28: ='B15-1'!C15 -> 251 | C28: =C15 -> 807
B30: =SUM(B21:B28) -> 6735 | C30: =SUM(C21:C28) -> 20351

Sheet B15-3
A1: المواليد الأحياء المسجلون حسب الحالة التعليمية للأب والأم
A2: REGISTERED LIVE BIRTHS BY EDUCATIONAL STATUS OF FATHER AND MOTHER
A3: 2023
A4: المجموع TOTAL
A5: Table No. (15-3) | L5: جدول رقم (15-3)
A6: Educational Status of Mother | B6: نسبة الحالة التعليمية للأم Percentage Educational Status of Mother | C6: الحالة التعليمية للأب Educational Status of Father | L6: الحالة التعليمية للأم
C7: المجموع Total | D7: غير مبين Not Stated | E7: جامعة فما فوق University & Above | F7: دون الجامعة Pre-University | G7: ثانوية Secondary | H7: إعدادية Preparatory | I7: إبتدائية Primary | J7: يقرأ ويكتب Read & Write | K7: أمى Illiterate
A8: Illiterate | B8: =C8/$C$16% -> 0.47580704 | C8: =SUM(D8:K8) -> 130 | D8: ='B15-1'!D8+'B15-2'!D8 -> 1 | E8: ='B15-1'!E8+'B15-2'!E8 -> 13 | F8: ='B15-1'!F8+'B15-2'!F8 -> 7 | G8: ='B15-1'!G8+'B15-2'!G8 -> 48 | H8: ='B15-1'!H8+'B15-2'!H8 -> 18 | I8: ='B15-1'!I8+'B15-2'!I8 -> 34 | J8: ='B15-1'!J8+'B15-2'!J8 -> 1 | K8: ='B15-1'!K8+'B15-2'!K8 -> 8 | L8: أمية
A9: Read & Write | B9: =C9/$C$16% -> 0.018300271 | C9: =SUM(D9:K9) -> 5 | D9: ='B15-1'!D9+'B15-2'!D9 -> 0 | E9: ='B15-1'!E9+'B15-2'!E9 -> 1 | F9: ='B15-1'!F9+'B15-2'!F9 -> 0 | G9: ='B15-1'!G9+'B15-2'!G9 -> 2 | H9: ='B15-1'!H9+'B15-2'!H9 -> 0 | I9: ='B15-1'!I9+'B15-2'!I9 -> 2 | J9: ='B15-1'!J9+'B15-2'!J9 -> 0 | K9: ='B15-1'!K9+'B15-2'!K9 -> 0 | L9: تقرأ وتكتب
A10: Primary | B10: =C10/$C$16% -> 5.471781 | C10: =SUM(D10:K10) -> 1495 | D10: ='B15-1'!D10+'B15-2'!D10 -> 9 | E10: ='B15-1'!E10+'B15-2'!E10 -> 201 | F10: ='B15-1'!F10+'B15-2'!F10 -> 77 | G10: ='B15-1'!G10+'B15-2'!G10 -> 687 | H10: ='B15-1'!H10+'B15-2'!H10 -> 76 | I10: ='B15-1'!I10+'B15-2'!I10 -> 441 | J10: ='B15-1'!J10+'B15-2'!J10 -> 0 | K10: ='B15-1'!K10+'B15-2'!K10 -> 4 | L10: ابتدائية
A11: Preparatory | B11: =C11/$C$16% -> 2.2253129 | C11: =SUM(D11:K11) -> 608 | D11: ='B15-1'!D11+'B15-2'!D11 -> 4 | E11: ='B15-1'!E11+'B15-2'!E11 -> 78 | F11: ='B15-1'!F11+'B15-2'!F11 -> 28 | G11: ='B15-1'!G11+'B15-2'!G11 -> 259 | H11: ='B15-1'!H11+'B15-2'!H11 -> 169 | I11: ='B15-1'!I11+'B15-2'!I11 -> 65 | J11: ='B15-1'!J11+'B15-2'!J11 -> 4 | K11: ='B15-1'!K11+'B15-2'!K11 -> 1 | L11: إعدادية
A12: Secondary | B12: =C12/$C$16% -> 24.218578 | C12: =SUM(D12:K12) -> 6617 | D12: ='B15-1'!D12+'B15-2'!D12 -> 35 | E12: ='B15-1'!E12+'B15-2'!E12 -> 2106 | F12: ='B15-1'!F12+'B15-2'!F12 -> 695 | G12: ='B15-1'!G12+'B15-2'!G12 -> 3114 | H12: ='B15-1'!H12+'B15-2'!H12 -> 294 | I12: ='B15-1'!I12+'B15-2'!I12 -> 370 | J12: ='B15-1'!J12+'B15-2'!J12 -> 1 | K12: ='B15-1'!K12+'B15-2'!K12 -> 2 | L12: ثانوية
A13: Pre-University | B13: =C13/$C$16% -> 8.1912012 | C13: =SUM(D13:K13) -> 2238 | D13: ='B15-1'!D13+'B15-2'!D13 -> 24 | E13: ='B15-1'!E13+'B15-2'!E13 -> 968 | F13: ='B15-1'!F13+'B15-2'!F13 -> 731 | G13: ='B15-1'!G13+'B15-2'!G13 -> 444 | H13: ='B15-1'!H13+'B15-2'!H13 -> 27 | I13: ='B15-1'!I13+'B15-2'!I13 -> 43 | J13: ='B15-1'!J13+'B15-2'!J13 -> 1 | K13: ='B15-1'!K13+'B15-2'!K13 -> 0 | L13: دون الجامعة
A14: University & Above | B14: =C14/$C$16% -> 55.526682 | C14: =SUM(D14:K14) -> 15171 | D14: ='B15-1'!D14+'B15-2'!D14 -> 125 | E14: ='B15-1'!E14+'B15-2'!E14 -> 11412 | F14: ='B15-1'!F14+'B15-2'!F14 -> 1589 | G14: ='B15-1'!G14+'B15-2'!G14 -> 1798 | H14: ='B15-1'!H14+'B15-2'!H14 -> 118 | I14: ='B15-1'!I14+'B15-2'!I14 -> 125 | J14: ='B15-1'!J14+'B15-2'!J14 -> 1 | K14: ='B15-1'!K14+'B15-2'!K14 -> 3 | L14: جامعة فما فوق
A15: Not Stated | B15: =C15/$C$16% -> 3.8723373 | C15: =SUM(D15:K15) -> 1058 | D15: ='B15-1'!D15+'B15-2'!D15 -> 285 | E15: ='B15-1'!E15+'B15-2'!E15 -> 464 | F15: ='B15-1'!F15+'B15-2'!F15 -> 97 | G15: ='B15-1'!G15+'B15-2'!G15 -> 148 | H15: ='B15-1'!H15+'B15-2'!H15 -> 31 | I15: ='B15-1'!I15+'B15-2'!I15 -> 31 | J15: ='B15-1'!J15+'B15-2'!J15 -> 2 | K15: ='B15-1'!K15+'B15-2'!K15 -> 0 | L15: غير مبين
A16: Total | B16: =SUM(B8:B15) -> 100 | C16: =SUM(C8:C15) -> 27322 | D16: =SUM(D8:D15) -> 483 | E16: =SUM(E8:E15) -> 15243 | F16: =SUM(F8:F15) -> 3224 | G16: =SUM(G8:G15) -> 6500 | H16: =SUM(H8:H15) -> 733 | I16: =SUM(I8:I15) -> 1111 | ... K16: =SUM(K8:K15) -> 18 | L16: المجموع
A17: Percentage Educational Status of Father | C17: =SUM(D17:K17) -> 100 | D17: =D16/$C$16% -> 1.7678062 | E17: =E16/$C$16% -> 55.790206 | F17: =F16/$C$16% -> 11.800015 | G17: =G16/$C$16% -> 23.790352 | H17: =H16/$C$16% -> 2.6828197 | I17: =I16/$C$16% -> 4.0663202 | J17: =J16/$C$16% -> 0.036600542 | K17: =K16/$C$16% -> 0.065880975 | L17: نسبة الحالة التعليمية للأب

Sheet B16-1
A1: المواليد الأحياء المسجلون حسب فئة عمر الأم وحالتها التعليمية
A2: REGISTERED LIVE BIRTHS BY MOTHER'S AGE GROUP AND EDUCATIONAL STATUS
A3: 2023
A4: قطريات QATARIS
A5: Table No. (16-1) | L5: جدول رقم (16-1)
A6: Educational Status | B6: Mother's Age Group (in Years) (فئة عمر الأم (بالسنوات | L6: الحالة التعليمية
B7: المجموع Total | C7: غير مبين Not Stated | D7: 50+ | E7: 45-49 | F7: 40-44 | G7: 35-39 | H7: 30-34 | I7: 25-29 | J7: 20-24 | K7: اقل من 20 Less than 20
A8: Illiterate | B8: =SUM(D8:K8) -> 0 | C8: 0 | D8: 0 | E8: 0 | F8: 0 | G8: 0 | H8: 0 | I8: 0 | J8: 0 | K8: 0 | L8: أمية
A9: Read & Write | B9: =SUM(D9:K9) -> 4 | C9: 0 | D9: 0 | E9: 0 | F9: 0 | G9: 3 | H9: 1 | I9: 0 | J9: 0 | K9: 0 | L9: تقرأ وتكتب
A10: Primary | B10: =SUM(D10:K10) -> 154 | C10: 0 | D10: 1 | E10: 2 | F10: 17 | G10: 56 | H10: 38 | I10: 20 | J10: 18 | K10: 2 | L10: إبتدائية
A11: Preparatory | B11: =SUM(D11:K11) -> 178 | C11: 0 | D11: 0 | E11: 1 | F11: 15 | G11: 42 | H11: 42 | I11: 48 | J11: 26 | K11: 4 | L11: إعدادية
A12: Secondary | B12: =SUM(D12:K12) -> 1881 | C12: 0 | D12: 1 | E12: 8 | F12: 117 | G12: 384 | H12: 521 | I12: 506 | J12: 325 | K12: 19 | L12: ثانوية
A13: Pre-University | B13: =SUM(D13:K13) -> 232 | C13: 0 | D13: 0 | E13: 0 | F13: 19 | G13: 44 | H13: 69 | I13: 77 | J13: 22 | K13: 1 | L13: دون الجامعة
A14: University & Above | B14: =SUM(D14:K14) -> 3080 | C14: 0 | D14: 0 | E14: 24 | F14: 226 | G14: 575 | H14: 895 | I14: 1037 | J14: 323 | K14: 0 | L14: جامعة فما فوق
A15: Not Stated | B15: =SUM(D15:K15) -> 206 | C15: 0 | D15: 2 | E15: 1 | F15: 13 | G15: 45 | H15: 67 | I15: 54 | J15: 24 | K15: 0 | L15: غير مبين
A16: Total | B16: =SUM(B8:B15) -> 5735 | C16: =SUM(C8:C15) -> 0 | D16: =SUM(D8:D15) -> 4 | E16: =SUM(E8:E15) -> 36 | F16: =SUM(F8:F15) -> 407 | G16: =SUM(G8:G15) -> 1149 | H16: =SUM(H8:H15) -> 1633 | I16: =SUM(I8:I15) -> 1742 | ... K16: =SUM(K8:K15) -> 26 | L16: المجموع

Sheet B16-2
A1: المواليد الأحياء المسجلون حسب فئة عمر الأم وحالتها التعليمية
A2: REGISTERED LIVE BIRTHS BY MOTHER'S AGE GROUP AND EDUCATIONAL STATUS
A3: 2023
A4: غير قطريات NON-QATARIS
A5: Table No. (16-2) | L5: جدول رقم (16-2)
A6: Educational Status | B6: Mother's Age Group (in Years) (فئة عمر الأم (بالسنوات | L6: الحالة التعليمية
B7: المجموع Total | C7: غير مبين Not Stated | D7: 50+ | E7: 45-49 | F7: 40-44 | G7: 35-39 | H7: 30-34 | I7: 25-29 | J7: 20-24 | K7: اقل من 20 Less than 20
A8: Illiterate | B8: =SUM(C8:K8) -> 130 | C8: 0 | D8: 0 | E8: 0 | F8: 7 | G8: 20 | H8: 27 | I8: 32 | J8: 42 | K8: 2 | L8: أمية
A9: Read & Write | B9: =SUM(C9:K9) -> 1 | C9: 0 | D9: 0 | E9: 0 | F9: 0 | G9: 0 | H9: 1 | I9: 0 | J9: 0 | K9: 0 | L9: تقرأ وتكتب
A10: Primary | B10: =SUM(C10:K10) -> 1341 | C10: 0 | D10: 0 | E10: 11 | F10: 86 | G10: 249 | H10: 337 | I10: 327 | J10: 273 | K10: 58 | L10: إبتدائية
A11: Preparatory | B11: =SUM(C11:K11) -> 430 | C11: 0 | D11: 0 | E11: 1 | F11: 19 | G11: 79 | H11: 115 | I11: 109 | J11: 86 | K11: 21 | L11: إعدادية
A12: Secondary | B12: =SUM(C12:K12) -> 4736 | C12: 0 | D12: 1 | E12: 25 | F12: 203 | G12: 779 | H12: 1318 | I12: 1375 | J12: 904 | K12: 131 | L12: ثانوية
A13: Pre-University | B13: =SUM(C13:K13) -> 2006 | C13: 0 | D13: 1 | E13: 12 | F13: 112 | G13: 477 | H13: 683 | I13: 588 | J13: 132 | K13: 1 | L13: دون الجامعة
A14: University & Above | B14: =SUM(C14:K14) -> 12091 | C14: 0 | D14: 5 | E14: 38 | F14: 617 | G14: 2831 | H14: 4886 | I14: 3254 | J14: 460 | K14: 0 | L14: جامعة فما فوق
A15: Not Stated | B15: =SUM(C15:K15) -> 852 | C15: 0 | D15: 0 | E15: 4 | F15: 46 | G15: 177 | H15: 261 | I15: 247 | J15: 104 | K15: 13 | L15: غير مبين
A16: Total | B16: =SUM(B8:B15) -> 21587 | C16: =SUM(C8:C15) -> 0 | D16: =SUM(D8:D15) -> 7 | E16: =SUM(E8:E15) -> 91 | F16: =SUM(F8:F15) -> 1090 | G16: =SUM(G8:G15) -> 4612 | H16: =SUM(H8:H15) -> 7628 | I16: =SUM(I8:I15) -> 5932 | ... K16: =SUM(K8:K15) -> 226 | L16: المجموع

Sheet B16-3
A1: المواليد الأحياء المسجلون حسب فئة عمر الأم وحالتها التعليمية
A2: REGISTERED LIVE BIRTHS BY MOTHER'S AGE GROUP AND EDUCATIONAL STATUS
A3: 2023
A4: المجموع TOTAL
A5: Table No. (16-3) | L5: جدول رقم (16-3)
A6: Educational Status | B6: Mother's Age Group (in Years) (فئة عمر الأم (بالسنوات | L6: الحالة التعليمية
B7: المجموع Total | C7: غير مبين Not Stated | D7: 50+ | E7: 45-49 | F7: 40-44 | G7: 35-39 | H7: 30-34 | I7: 25-29 | J7: 20-24 | K7: اقل من 20 Less than 20
A8: Illiterate | B8: =SUM(C8:K8) -> 130 | C8: ='B16-1'!C8+'B16-2'!C8 -> 0 | D8: ='B16-1'!D8+'B16-2'!D8 -> 0 | E8: ='B16-1'!E8+'B16-2'!E8 -> 0 | F8: ='B16-1'!F8+'B16-2'!F8 -> 7 | G8: ='B16-1'!G8+'B16-2'!G8 -> 20 | H8: ='B16-1'!H8+'B16-2'!H8 -> 27 | I8: ='B16-1'!I8+'B16-2'!I8 -> 32 | J8: ='B16-1'!J8+'B16-2'!J8 -> 42 | K8: ='B16-1'!K8+'B16-2'!K8 -> 2 | L8: أمية
A9: Read & Write | B9: =SUM(C9:K9) -> 5 | C9: ='B16-1'!C9+'B16-2'!C9 -> 0 | D9: ='B16-1'!D9+'B16-2'!D9 -> 0 | E9: ='B16-1'!E9+'B16-2'!E9 -> 0 | F9: ='B16-1'!F9+'B16-2'!F9 -> 0 | G9: ='B16-1'!G9+'B16-2'!G9 -> 3 | H9: ='B16-1'!H9+'B16-2'!H9 -> 2 | I9: ='B16-1'!I9+'B16-2'!I9 -> 0 | J9: ='B16-1'!J9+'B16-2'!J9 -> 0 | K9: ='B16-1'!K9+'B16-2'!K9 -> 0 | L9: تقرأ وتكتب
A10: Primary | B10: =SUM(C10:K10) -> 1495 | C10: ='B16-1'!C10+'B16-2'!C10 -> 0 | D10: ='B16-1'!D10+'B16-2'!D10 -> 1 | E10: ='B16-1'!E10+'B16-2'!E10 -> 13 | F10: ='B16-1'!F10+'B16-2'!F10 -> 103 | G10: ='B16-1'!G10+'B16-2'!G10 -> 305 | H10: ='B16-1'!H10+'B16-2'!H10 -> 375 | I10: ='B16-1'!I10+'B16-2'!I10 -> 347 | J10: ='B16-1'!J10+'B16-2'!J10 -> 291 | K10: ='B16-1'!K10+'B16-2'!K10 -> 60 | L10: إبتدائية
A11: Preparatory | B11: =SUM(C11:K11) -> 608 | C11: ='B16-1'!C11+'B16-2'!C11 -> 0 | D11: ='B16-1'!D11+'B16-2'!D11 -> 0 | E11: ='B16-1'!E11+'B16-2'!E11 -> 2 | F11: ='B16-1'!F11+'B16-2'!F11 -> 34 | G11: ='B16-1'!G11+'B16-2'!G11 -> 121 | H11: ='B16-1'!H11+'B16-2'!H11 -> 157 | I11: ='B16-1'!I11+'B16-2'!I11 -> 157 | J11: ='B16-1'!J11+'B16-2'!J11 -> 112 | K11: ='B16-1'!K11+'B16-2'!K11 -> 25 | L11: إعدادية
A12: Secondary | B12: =SUM(C12:K12) -> 6617 | C12: ='B16-1'!C12+'B16-2'!C12 -> 0 | D12: ='B16-1'!D12+'B16-2'!D12 -> 2 | E12: ='B16-1'!E12+'B16-2'!E12 -> 33 | F12: ='B16-1'!F12+'B16-2'!F12 -> 320 | G12: ='B16-1'!G12+'B16-2'!G12 -> 1163 | H12: ='B16-1'!H12+'B16-2'!H12 -> 1839 | I12: ='B16-1'!I12+'B16-2'!I12 -> 1881 | J12: ='B16-1'!J12+'B16-2'!J12 -> 1229 | K12: ='B16-1'!K12+'B16-2'!K12 -> 150 | L12: ثانوية
A13: Pre-University | B13: =SUM(C13:K13) -> 2238 | C13: ='B16-1'!C13+'B16-2'!C13 -> 0 | D13: ='B16-1'!D13+'B16-2'!D13 -> 1 | E13: ='B16-1'!E13+'B16-2'!E13 -> 12 | F13: ='B16-1'!F13+'B16-2'!F13 -> 131 | G13: ='B16-1'!G13+'B16-2'!G13 -> 521 | H13: ='B16-1'!H13+'B16-2'!H13 -> 752 | I13: ='B16-1'!I13+'B16-2'!I13 -> 665 | J13: ='B16-1'!J13+'B16-2'!J13 -> 154 | K13: ='B16-1'!K13+'B16-2'!K13 -> 2 | L13: دون الجامعة
A14: University & Above | B14: =SUM(C14:K14) -> 15171 | C14: ='B16-1'!C14+'B16-2'!C14 -> 0 | D14: ='B16-1'!D14+'B16-2'!D14 -> 5 | E14: ='B16-1'!E14+'B16-2'!E14 -> 62 | F14: ='B16-1'!F14+'B16-2'!F14 -> 843 | G14: ='B16-1'!G14+'B16-2'!G14 -> 3406 | H14: ='B16-1'!H14+'B16-2'!H14 -> 5781 | I14: ='B16-1'!I14+'B16-2'!I14 -> 4291 | J14: ='B16-1'!J14+'B16-2'!J14 -> 783 | K14: ='B16-1'!K14+'B16-2'!K14 -> 0 | L14: جامعة فما فوق
A15: Not Stated | B15: =SUM(C15:K15) -> 1058 | C15: ='B16-1'!C15+'B16-2'!C15 -> 0 | D15: ='B16-1'!D15+'B16-2'!D15 -> 2 | E15: ='B16-1'!E15+'B16-2'!E15 -> 5 | F15: ='B16-1'!F15+'B16-2'!F15 -> 59 | G15: ='B16-1'!G15+'B16-2'!G15 -> 222 | H15: ='B16-1'!H15+'B16-2'!H15 -> 328 | I15: ='B16-1'!I15+'B16-2'!I15 -> 301 | J15: ='B16-1'!J15+'B16-2'!J15 -> 128 | K15: ='B16-1'!K15+'B16-2'!K15 -> 13 | L15: غير مبين
A16: Total | B16: =SUM(B8:B15) -> 27322 | C16: =SUM(C8:C15) -> 0 | D16: =SUM(D8:D15) -> 11 | E16: =SUM(E8:E15) -> 127 | F16: =SUM(F8:F15) -> 1497 | G16: =SUM(G8:G15) -> 5761 | H16: =SUM(H8:H15) -> 9261 | I16: =SUM(I8:I15) -> 7674 | ... K16: =SUM(K8:K15) -> 252 | L16: المجموع

Sheet B17
A1: المواليد الأحياء المسجلون حسب الجنسية والنوع ووزن المولود
A2: REGISTERED LIVE BIRTHS BY NATIONALITY, GENDER AND BIRTH WEIGHT
A3: 2023
A4: Table No. (17) | K4: جدول رقم (17)
A5: Nationality & Gender Birth Weight (in Grams) | B5: Total المجموع | E5: Non-Qataris غير قطريين | H5: Qataris قطريون | K5: الجنسية والنوع وزن المولود (بالجرام)
B6: المجموع العام G.T | C6: إناث Females | D6: ذكور Males | E6: المجموع Total | F6: إناث Females | G6: ذكور Males | H6: المجموع Total | I6: إناث Females | J6: ذكور Males
A7: Less than 1000 | B7: =D7+C7 -> 186 | C7: =I7+F7 -> 83 | D7: =J7+G7 -> 103 | E7: =G7+F7 -> 137 | F7: 54 | G7: 83 | H7: =J7+I7 -> 49 | I7: 29 | J7: 20 | K7: أقل من 1000
A8: 1000-1499 | B8: =D8+C8 -> 264 | C8: =I8+F8 -> 121 | D8: =J8+G8 -> 143 | E8: =G8+F8 -> 168 | F8: 71 | G8: 97 | H8: =J8+I8 -> 96 | I8: 50 | J8: 46 | K8: 1000-1499
A9: 1500-1999 | B9: =D9+C9 -> 544 | C9: =I9+F9 -> 264 | D9: =J9+G9 -> 280 | E9: =G9+F9 -> 369 | F9: 183 | G9: 186 | H9: =J9+I9 -> 175 | I9: 81 | J9: 94 | K9: 1500 - 1999
A10: 2000-2499 | B10: =D10+C10 -> 1944 | C10: =I10+F10 -> 1030 | D10: =J10+G10 -> 914 | E10: =G10+F10 -> 1320 | F10: 688 | G10: 632 | H10: =J10+I10 -> 624 | I10: 342 | J10: 282 | K10: 2000 - 2499
A11: Total births are less than 2500 gms | B11: =SUM(B7:B10) -> 2938 | C11: =SUM(C7:C10) -> 1498 | D11: =SUM(D7:D10) -> 1440 | E11: =SUM(E7:E10) -> 1994 | F11: =SUM(F7:F10) -> 996 | G11: =SUM(G7:G10) -> 998 | H11: =SUM(H7:H10) -> 944 | I11: =SUM(I7:I10) -> 502 | J11: =SUM(J7:J10) -> 442 | K11: مجموع المواليد الذين هم أقل من 2500 جرام
A12: 2500-2999 | B12: =D12+C12 -> 6990 | C12: =I12+F12 -> 3764 | D12: =J12+G12 -> 3226 | E12: =G12+F12 -> 4997 | F12: 2684 | G12: 2313 | H12: =J12+I12 -> 1993 | I12: 1080 | J12: 913 | K12: 2500 - 2999
A13: 3000-3499 | B13: =D13+C13 -> 11132 | C13: =I13+F13 -> 5470 | D13: =J13+G13 -> 5662 | E13: =G13+F13 -> 8336 | F13: 4102 | G13: 4234 | H13: =J13+I13 -> 2796 | I13: 1368 | J13: 1428 | K13: 3000-3499
A14: 3500-3999 | B14: =D14+C14 -> 5308 | C14: =I14+F14 -> 2193 | D14: =J14+G14 -> 3115 | E14: =G14+F14 -> 4232 | F14: 1742 | G14: 2490 | H14: =J14+I14 -> 1076 | I14: 451 | J14: 625 | K14: 3500-3999
A15: 4000-4499 | B15: =D15+C15 -> 870 | C15: =I15+F15 -> 332 | D15: =J15+G15 -> 538 | E15: =G15+F15 -> 725 | F15: 284 | G15: 441 | H15: =J15+I15 -> 145 | I15: 48 | J15: 97 | K15: 4000-4499
A16: 4500-4999 | B16: =D16+C16 -> 80 | C16: =I16+F16 -> 23 | D16: =J16+G16 -> 57 | E16: =G16+F16 -> 64 | F16: 18 | G16: 46 | H16: =J16+I16 -> 16 | I16: 5 | J16: 11 | K16: 4500-4999
A17: 5000 + | B17: =D17+C17 -> 4 | C17: =I17+F17 -> 1 | D17: =J17+G17 -> 3 | E17: =G17+F17 -> 3 | F17: 1 | G17: 2 | H17: =J17+I17 -> 1 | I17: 0 | J17: 1 | K17: 5000 +
A18: Total births are 2500 gms and more | B18: =SUM(B12:B17) -> 24384 | C18: =SUM(C12:C17) -> 11783 | D18: =SUM(D12:D17) -> 12601 | E18: =SUM(E12:E17) -> 18357 | F18: =SUM(F12:F17) -> 8831 | G18: =SUM(G12:G17) -> 9526 | H18: =SUM(H12:H17) -> 6027 | I18: =SUM(I12:I17) -> 2952 | J18: =SUM(J12:J17) -> 3075 | K18: مجموع المواليد الذين هم 2500 جرام فأكثر
A19: Grand Total | B19: =+B11+B18 -> 27322 | C19: =+C11+C18 -> 13281 | D19: =+D11+D18 -> 14041 | E19: =+E11+E18 -> 20351 | F19: =+F11+F18 -> 9827 | G19: =+G11+G18 -> 10524 | H19: =+H11+H18 -> 6971 | I19: =+I11+I18 -> 3454 | J19: =+J11+J18 -> 3517 | K19: المجموع الكلي
A21: Percentage births are less than 2500 gms | B21: =B11/B19*100 -> 10.753239 | C21: =C11/C19*100 -> 11.279271 | D21: =D11/D19*100 -> 10.25568 | E21: =E11/E19*100 -> 9.7980443 | F21: =F11/F19*100 -> 10.135341 | G21: =G11/G19*100 -> 9.4830863 | H21: =H11/H19*100 -> 13.541816 | I21: =I11/I19*100 -> 14.533874 | J21: =J11/J19*100 -> 12.567529 | K21: نسبة المواليد الذين هم أقل من 2500 جرام
A22: Percentage births are (2500 gms) and more | B22: =B18/B19*100 -> 89.246761 | C22: =C18/C19*100 -> 88.720729 | D22: =D18/D19*100 -> 89.74432 | E22: =E18/E19*100 -> 90.201956 | F22: =F18/F19*100 -> 89.864659 | G22: =G18/G19*100 -> 90.516914 | H22: =H18/H19*100 -> 86.458184 | I22: =I18/I19*100 -> 85.466126 | J22: =J18/J19*100 -> 87.432471 | K22: نسبة المواليد (2500 جرم) فأكثر

Sheet B18
A1: المواليد الأحياء المسجلون حسب فئة عمر الأم وجنسيتها ومهنتها
A2: REGISTERED LIVE BIRTHS BY MOTHER'S AGE GROUP, NATIONALITY AND OCCUPATION
A3: 2023
A4: Table No. (18) | N4: جدول رقم (18)
A5: Mother's Occupation | B5: Nationality | C5: Mother's Age Group (in Years) (فئة عمر الأم (بالسنوات | M5: الجنسية | N5: مهنة الأم
C6: المجموع Total | D6: غير مبين Not Stated | E6: 50 + | F6: 45 - 49 | G6: 40 - 44 | H6: 35 - 39 | I6: 30 - 34 | J6: 25 - 29 | K6: 20 - 24 | L6: اقل من 20 Less than 20
A7: Legislators, Senior Officials and Managers | B7: Qatari | C7: =SUM(D7:L7) -> 41 | D7: 0 | E7: 0 | F7: 0 | G7: 19 | H7: 12 | I7: 7 | J7: 3 | K7: 0 | L7: 0 | M7: قطريات | N7: المشرعون وموظفو الإدارة العليا والمديرون
B8: Non-Qatari | C8: =SUM(D8:L8) -> 263 | D8: 0 | E8: 2 | F8: 2 | G8: 17 | H8: 57 | I8: 94 | J8: 73 | K8: 18 | L8: 0 | M8: غير قطريات
B9: Total | C9: =SUM(D9:L9) -> 304 | D9: =D7+D8 -> 0 | E9: =E7+E8 -> 2 | F9: =F7+F8 -> 2 | G9: =G7+G8 -> 36 | H9: =H7+H8 -> 69 | I9: =I7+I8 -> 101 | J9: =J7+J8 -> 76 | K9: =K7+K8 -> 18 | L9: =L7+L8 -> 0 | M9: المجموع
A10: Professionals | B10: Qatari | C10: =SUM(D10:L10) -> 2065 | D10: 0 | E10: 0 | F10: 15 | G10: 161 | H10: 431 | I10: 659 | J10: 659 | K10: 140 | L10: 0 | M10: قطريات | N10: الاختصـاصيون
B11: Non-Qatari | C11: =SUM(D11:L11) -> 3142 | D11: 0 | E11: 2 | F11: 10 | G11: 195 | H11: 805 | I11: 1306 | J11: 764 | K11: 60 | L11: 0 | M11: غير قطريات
B12: Total | C12: =SUM(D12:L12) -> 5207 | D12: =D10+D11 -> 0 | E12: =E10+E11 -> 2 | F12: =F10+F11 -> 25 | G12: =G10+G11 -> 356 | H12: =H10+H11 -> 1236 | I12: =I10+I11 -> 1965 | J12: =J10+J11 -> 1423 | K12: =K10+K11 -> 200 | L12: =L10+L11 -> 0 | M12: المجموع
A13: Technicians And Associate Professionals | B13: Qatari | C13: =SUM(D13:L13) -> 1157 | D13: 0 | E13: 0 | F13: 9 | G13: 81 | H13: 292 | I13: 369 | J13: 353 | K13: 53 | L13: 0 | M13: قطريات | N13: الفنيـون والاختصاصيون المساعدون
B14: Non-Qatari | C14: =SUM(D14:L14) -> 3128 | D14: 0 | E14: 0 | F14: 18 | G14: 156 | H14: 862 | I14: 1275 | J14: 665 | K14: 146 | L14: 6 | M14: غير قطريات
B15: Total | C15: =SUM(D15:L15) -> 4285 | D15: =D13+D14 -> 0 | E15: =E13+E14 -> 0 | F15: =F13+F14 -> 27 | G15: =G13+G14 -> 237 | H15: =H13+H14 -> 1154 | I15: =I13+I14 -> 1644 | J15: =J13+J14 -> 1018 | K15: =K13+K14 -> 199 | L15: =L13+L14 -> 6 | M15: المجموع
A16: Clerks | B16: Qatari | C16: =SUM(D16:L16) -> 293 | D16: 0 | E16: 0 | F16: 1 | G16: 19 | H16: 77 | I16: 97 | J16: 85 | K16: 14 | L16: 0 | M16: قطريات | N16: الكتــبة
B17: Non-Qatari | C17: =SUM(D17:L17) -> 571 | D17: 0 | E17: 0 | F17: 3 | G17: 32 | H17: 126 | I17: 218 | J17: 161 | K17: 29 | L17: 2 | M17: غير قطريات
B18: Total | C18: =SUM(D18:L18) -> 864 | D18: =D16+D17 -> 0 | E18: =E16+E17 -> 0 | F18: =F16+F17 -> 4 | G18: =G16+G17 -> 51 | H18: =H16+H17 -> 203 | I18: =I16+I17 -> 315 | J18: =J16+J17 -> 246 | K18: =K16+K17 -> 43 | L18: =L16+L17 -> 2 | M18: المجموع
A19: Service Workers And Shop And Market Sales Workers | B19: Qatari | C19: =SUM(D19:L19) -> 258 | D19: 0 | E19: 0 | F19: 0 | G19: 15 | H19: 62 | I19: 100 | J19: 59 | K19: 22 | L19: 0 | M19: قطريات | N19: العاملون في الخدمات والباعة في المحلات التجارية والأسواق
B20: Non-Qatari | C20: =SUM(D20:L20) -> 677 | D20: 0 | E20: 0 | F20: 6 | G20: 24 | H20: 126 | I20: 232 | J20: 219 | K20: 64 | L20: 6 | M20: غير قطريات
B21: Total | C21: =SUM(D21:L21) -> 935 | D21: =SUM(D19:D20) -> 0 | E21: =SUM(E19:E20) -> 0 | F21: =F19+F20 -> 6 | G21: =G19+G20 -> 39 | H21: =H19+H20 -> 188 | I21: =I19+I20 -> 332 | J21: =J19+J20 -> 278 | K21: =K19+K20 -> 86 | L21: =L19+L20 -> 6 | M21: المجموع
A22: Skilled Agricultural And Fishery Workers | B22: Qatari | C22: =SUM(D22:L22) -> 0 | D22: 0 | E22: 0 | F22: 0 | G22: 0 | H22: 0 | I22: 0 | J22: 0 | K22: 0 | L22: 0 | M22: قطريات | N22: العمال المهرة في الزراعة وصيد الاسماك
C23: =SUM(D23:L23) -> 0 | D23: 0 | E23: 0 | F23: 0 | G23: 0 | H23: 0 | I23: 0 | J23: 0 | K23: 0 | L23: 0 | M23: غير قطريات
B24: Total | C24: =SUM(D24:L24) -> 0 | D24: =SUM(D22:D23) -> 0 | E24: =SUM(E22:E23) -> 0 | F24: =F22+F23 -> 0 | G24: =G22+G23 -> 0 | H24: =H22+H23 -> 0 | I24: =I22+I23 -> 0 | J24: =J22+J23 -> 0 | K24: =K22+K23 -> 0 | L24: =L22+L23 -> 0 | M24: المجموع
A25: Craft And Related-Trades Workers | B25: Qatari | C25: =SUM(D25:L25) -> 0 | D25: 0 | E25: 0 | F25: 0 | G25: 0 | H25: 0 | I25: 0 | J25: 0 | K25: 0 | L25: 0 | M25: قطريات | N25: العاملون في الحرف وما إليها من المهن
B26: Non-Qatari | C26: =SUM(D26:L26) -> 8 | D26: 0 | E26: 0 | F26: 0 | G26: 1 | H26: 1 | I26: 2 | J26: 0 | K26: 2 | L26: 2 | M26: غير قطريات
B27: Total | C27: =SUM(D27:L27) -> 8 | D27: =SUM(D25:D26) -> 0 | E27: =SUM(E25:E26) -> 0 | F27: =F25+F26 -> 0 | G27: =G25+G26 -> 1 | H27: =H25+H26 -> 1 | I27: =I25+I26 -> 2 | J27: =J25+J26 -> 0 | K27: =K25+K26 -> 2 | L27: =L25+L26 -> 2 | M27: المجموع
A28: Plant And Machine Operators And Assemblers | B28: Qatari | C28: =SUM(D28:L28) -> 0 | D28: 0 | E28: 0 | F28: 0 | G28: 0 | H28: 0 | I28: 0 | J28: 0 | K28: 0 | L28: 0 | M28: قطريات | N28: مشغلو الالات والمعدات ومجمعوها
B29: Non-Qatari | C29: =SUM(D29:L29) -> 6 | D29: 0 | E29: 0 | F29: 0 | G29: 1 | H29: 2 | I29: 3 | J29: 0 | K29: 0 | L29: 0 | M29: غير قطريات
B30: Total | C30: =SUM(D30:L30) -> 6 | D30: =SUM(D28:D29) -> 0 | E30: =SUM(E28:E29) -> 0 | F30: =F28+F29 -> 0 | G30: =G28+G29 -> 1 | H30: =H28+H29 -> 2 | I30: =I28+I29 -> 3 | J30: =J28+J29 -> 0 | K30: =K28+K29 -> 0 | L30: =L28+L29 -> 0 | M30: المجموع
A31: Elementary Occupations | B31: Qatari | C31: =SUM(D31:L31) -> 4 | D31: 0 | E31: 0 | F31: 0 | G31: 1 | H31: 3 | I31: 0 | J31: 0 | K31: 0 | L31: 0 | M31: قطريات | N31: المهن العادية
B32: Non-Qatari | C32: =SUM(D32:L32) -> 557 | D32: 0 | E32: 1 | F32: 7 | G32: 29 | H32: 152 | I32: 176 | J32: 147 | K32: 40 | L32: 5 | M32: غير قطريات
B33: Total | C33: =SUM(D33:L33) -> 561 | D33: =SUM(D31:D32) -> 0 | E33: =SUM(E31:E32) -> 1 | F33: =F31+F32 -> 7 | G33: =G31+G32 -> 30 | H33: =H31+H32 -> 155 | I33: =I31+I32 -> 176 | J33: =J31+J32 -> 147 | K33: =K31+K32 -> 40 | L33: =L31+L32 -> 5 | M33: المجموع
A34: Those Who Have Not Been Classified by Occupation | B34: Qatari | C34: =SUM(D34:L34) -> 265 | D34: 0 | E34: 2 | F34: 0 | G34: 9 | H34: 31 | I34: 54 | J34: 85 | K34: 78 | L34: 6 | M34: قطريات | N34: الأفراد الذين لم يصنفوا حسب المهنة
B35: Non-Qatari | C35: =SUM(D35:L35) -> 286 | D35: 0 | E35: 0 | F35: 2 | G35: 11 | H35: 34 | I35: 86 | J35: 114 | K35: 36 | L35: 3 | M35: غير قطريات
B36: Total | C36: =SUM(D36:L36) -> 551 | D36: =SUM(D34:D35) -> 0 | E36: =SUM(E34:E35) -> 2 | F36: =F34+F35 -> 2 | G36: =G34+G35 -> 20 | H36: =H34+H35 -> 65 | I36: =I34+I35 -> 140 | J36: =J34+J35 -> 199 | K36: =K34+K35 -> 114 | L36: =L34+L35 -> 9 | M36: المجموع
A37: Total Workers | B37: Qatari | C37: =SUM(D37:L37) -> 4083 | D37: =D7+D10+D13+D16+D19+D22+D25+D28+D31+D34 -> 0 | E37: =E7+E10+E13+E16+E19+E22+E25+E28+E31+E34 -> 2 | F37: =SUM(F7,F10,F13,F16,F19,F22,F25,F28,F31,F34) -> 25 | G37: =SUM(G7,G10,G13,G16,G19,G22,G25,G28,G31,G34) -> 305 | H37: =SUM(H7,H10,H13,H16,H19,H22,H25,H28,H31,H34) -> 908 | I37: =SUM(I7,I10,I13,I16,I19,I22,I25,I28,I31,I34) -> 1286 | J37: =SUM(J7,J10,J13,J16,J19,J22,J25,J28,J31,J34) -> 1244 | K37: 307 | L37: =SUM(L7,L10,L13,L16,L19,L22,L25,L28,L31,L34) -> 6 | M37: قطريات | N37: مجموع المشتغلات
B38: Non-Qatari | C38: =SUM(D38:L38) -> 8638 | D38: =D8+D11+D14+D17+D20+D23+D26+D29+D32+D35 -> 0 | E38: =SUM(E8,E11,E14,E17,E20,E23,E26,E29,E32,E35) -> 5 | F38: =SUM(F8,F11,F14,F17,F20,F23,F26,F29,F32,F35) -> 48 | G38: =SUM(G8,G11,G14,G17,G20,G23,G26,G29,G32,G35) -> 466 | H38: =SUM(H8,H11,H14,H17,H20,H23,H26,H29,H32,H35) -> 2165 | I38: =SUM(I8,I11,I14,I17,I20,I23,I26,I29,I32,I35) -> 3392 | J38: =SUM(J8,J11,J14,J17,J20,J23,J26,J29,J32,J35) -> 2143 | K38: 395 | L38: =SUM(L8,L11,L14,L17,L20,L23,L26,L29,L32,L35) -> 24 | M38: غير قطريات
B39: Total | C39: =SUM(D39:L39) -> 12721 | D39: =D37+D38 -> 0 | E39: =SUM(E37:E38) -> 7 | F39: =SUM(F37:F38) -> 73 | G39: =SUM(G37:G38) -> 771 | H39: =SUM(H37:H38) -> 3073 | I39: =SUM(I37:I38) -> 4678 | J39: =SUM(J37:J38) -> 3387 | K39: =SUM(K37:K38) -> 702 | L39: =SUM(L37:L38) -> 30 | M39: المجموع
A40: No Occupation (1) | B40: Qatari | C40: =SUM(D40:L40) -> 1652 | D40: 0 | E40: 2 | F40: 11 | G40: 102 | H40: 241 | I40: 347 | J40: 498 | K40: 431 | L40: 20 | M40: قطريات | N40: بدون مهنة (1)
B41: Non-Qatari | C41: =SUM(D41:L41) -> 12949 | D41: 0 | E41: 2 | F41: 43 | G41: 624 | H41: 2447 | I41: 4236 | J41: 3789 | K41: 1606 | L41: 202 | M41: غير قطريات
B42: Total | C42: =SUM(D42:L42) -> 14601 | D42: =D40+D41 -> 0 | E42: =SUM(E40:E41) -> 4 | F42: =SUM(F40:F41) -> 54 | G42: =SUM(G40:G41) -> 726 | H42: =SUM(H40:H41) -> 2688 | I42: =SUM(I40:I41) -> 4583 | J42: =SUM(J40:J41) -> 4287 | K42: =SUM(K40:K41) -> 2037 | L42: =SUM(L40:L41) -> 222 | M42: المجموع
A43: Grand Total | B43: Qatari | C43: =SUM(D43:L43) -> 5735 | D43: =D37+D40 -> 0 | E43: =SUM(E37+E40) -> 4 | F43: =SUM(F37+F40) -> 36 | G43: =SUM(G37+G40) -> 407 | H43: =SUM(H37+H40) -> 1149 | I43: =SUM(I37+I40) -> 1633 | J43: =SUM(J37+J40) -> 1742 | K43: =SUM(K37+K40) -> 738 | L43: =SUM(L37+L40) -> 26 | M43: قطريات | N43: المجموع العام
B44: Non-Qatari | C44: =SUM(D44:L44) -> 21587 | D44: =D38+D41 -> 0 | E44: =SUM(E38+E41) -> 7 | F44: =SUM(F38+F41) -> 91 | G44: =SUM(G38+G41) -> 1090 | H44: =SUM(H38+H41) -> 4612 | I44: =SUM(I38+I41) -> 7628 | J44: =SUM(J38+J41) -> 5932 | K44: =SUM(K38+K41) -> 2001 | L44: =SUM(L38+L41) -> 226 | M44: غير قطريات
B45: Total | C45: =SUM(D45:L45) -> 27322 | D45: =D43+D44 -> 0 | E45: =SUM(E39+E42) -> 11 | F45: =SUM(F39+F42) -> 127 | G45: =SUM(G39+G42) -> 1497 | H45: =SUM(H39+H42) -> 5761 | I45: =SUM(I39+I42) -> 9261 | J45: =SUM(J39+J42) -> 7674 | K45: =SUM(K39+K42) -> 2739 | L45: =SUM(L39+L42) -> 252 | M45: المجموع
A46: (1) Including mothers who are seeking work and economically non-active. | L46: (1) تشمل الامهات اللائى يبحثن عن عمل وغير النشطات اقتصاديا.

Sheet B19
A1: المواليد الأحياء المسجلون حسب فئة عمر الأب وجنسيته ومهنته
A2: REGISTERED LIVE BIRTHS BY FATHER'S AGE GROUP, NATIONALITY AND OCCUPATION
A3: 2023
A4: Table No. (19) | N4: جدول رقم (19)
A5: Father's Occupation | B5: Nationality | C5: Father's Age Group (in Years) (فئة عمر الأب (بالسنوات | M5: الجنسية | N5: مهنة الأب
C6: المجموع Total | D6: غير مبين Not Stated | E6: 50 + | F6: 45 - 49 | G6: 40 - 44 | H6: 35 - 39 | I6: 30 - 34 | J6: 25 - 29 | K6: 20 - 24 | L6: اقل من 20 Less than 20
A7: Legislators, Senior Officials And Managers | B7: Qatari | C7: =SUM(D7:L7) -> 520 | D7: 0 | E7: 31 | F7: 36 | G7: 77 | H7: 109 | I7: 162 | J7: 100 | K7: 5 | L7: 0 | M7: قطريون | N7: المشرعون وموظفو الإدارة العليا والمديرون
B8: Non-Qatari | C8: =SUM(D8:L8) -> 1224 | D8: 0 | E8: 31 | F8: 86 | G8: 266 | H8: 468 | I8: 313 | J8: 55 | K8: 5 | L8: 0 | M8: غير قطريين
B9: Total | C9: =SUM(D9:L9) -> 1744 | D9: =D7+D8 -> 0 | E9: =E7+E8 -> 62 | F9: =F7+F8 -> 122 | G9: =G7+G8 -> 343 | H9: =H7+H8 -> 577 | I9: =I7+I8 -> 475 | J9: =J7+J8 -> 155 | K9: =K7+K8 -> 10 | L9: =L7+L8 -> 0 | M9: المجموع
A10: Professionals | B10: Qatari | C10: =SUM(D10:L10) -> 1713 | D10: 0 | E10: 48 | F10: 85 | G10: 228 | H10: 423 | I10: 633 | J10: 288 | K10: 8 | L10: 0 | M10: قطريون | N10: الاختصـاصيون
B11: Non-Qatari | C11: =SUM(D11:L11) -> 6349 | D11: 0 | E11: 142 | F11: 356 | G11: 1114 | H11: 2321 | I11: 1942 | J11: 460 | K11: 14 | L11: 0 | M11: غير قطريين
B12: Total | C12: =SUM(D12:L12) -> 8062 | D12: =D10+D11 -> 0 | E12: =E10+E11 -> 190 | F12: =F10+F11 -> 441 | G12: =G10+G11 -> 1342 | H12: =H10+H11 -> 2744 | I12: =I10+I11 -> 2575 | J12: =J10+J11 -> 748 | K12: =K10+K11 -> 22 | L12: =L10+L11 -> 0 | M12: المجموع
A13: Technicians And Associate Professionals | B13: Qatari | C13: =SUM(D13:L13) -> 1446 | D13: 0 | E13: 50 | F13: 83 | G13: 193 | H13: 333 | I13: 433 | J13: 324 | K13: 29 | L13: 1 | M13: قطريون | N13: الفنيـون والاختصاصيون المساعدون
B14: Non-Qatari | C14: =SUM(D14:L14) -> 5641 | D14: 0 | E14: 118 | F14: 314 | G14: 955 | H14: 1934 | I14: 1721 | J14: 528 | K14: 69 | L14: 2 | M14: غير قطريين
B15: Total | C15: =SUM(D15:L15) -> 8502 | D15: =D13+D14 -> 0 | E15: =E13+E14 -> 168 | F15: =F13+F14 -> 397 | G15: =G13+G14 -> 1148 | H15: =H13+H14 -> 2267 | I15: =H13+H14 -> 2267 | J15: =I13+I14 -> 2154 | K15: =K13+K14 -> 98 | L15: =L13+L14 -> 3 | M15: المجموع
A16: Clerks | B16: Qatari | C16: =SUM(D16:L16) -> 1250 | D16: 0 | E16: 47 | F16: 73 | G16: 165 | H16: 281 | I16: 380 | J16: 246 | K16: 58 | L16: 0 | M16: قطريون | N16: الكتــبة
B17: Non-Qatari | C17: =SUM(D17:L17) -> 1428 | D17: 0 | E17: 29 | F17: 81 | G17: 243 | H17: 462 | I17: 427 | J17: 157 | K17: 28 | L17: 1 | M17: غير قطريين
B18: Total | C18: =SUM(D18:L18) -> 2678 | D18: =D16+D17 -> 0 | E18: =E16+E17 -> 76 | F18: =F16+F17 -> 154 | G18: =G16+G17 -> 408 | H18: =H16+H17 -> 743 | I18: =I16+I17 -> 807 | J18: =J16+J17 -> 403 | K18: =K16+K17 -> 86 | L18: =L16+L17 -> 1 | M18: المجموع
A19: Service Workers And Shop And Market Sales Workers | B19: Qatari | C19: =SUM(D19:L19) -> 1743 | D19: 0 | E19: 38 | F19: 43 | G19: 146 | H19: 342 | I19: 576 | J19: 494 | K19: 103 | L19: 1 | M19: قطريون | N19: العاملون في الخدمات والباعة في المحلات التجارية والأسواق
B20: Non-Qatari | C20: =SUM(D20:L20) -> 3024 | D20: 0 | E20: 46 | F20: 131 | G20: 385 | H20: 824 | I20: 988 | J20: 560 | K20: 89 | L20: 1 | M20: غير قطريين
B21: Total | C21: =SUM(D21:L21) -> 4767 | D21: =D19+D20 -> 0 | E21: =SUM(E19:E20) -> 84 | F21: =F19+F20 -> 174 | G21: =G19+G20 -> 531 | H21: =H19+H20 -> 1166 | I21: =I19+I20 -> 1564 | J21: =J19+J20 -> 1054 | K21: =K19+K20 -> 192 | L21: =L19+L20 -> 2 | M21: المجموع
A22: Skilled Agricultural And Fishery Workers | B22: Qatari | C22: =SUM(D22:L22) -> 0 | D22: 0 | E22: 0 | F22: 0 | G22: 0 | H22: 0 | I22: 0 | J22: 0 | K22: 0 | L22: 0 | M22: قطريون | N22: العمال المهرة في الزراعة وصيد الاسماك
C23: =SUM(D23:L23) -> 31 | D23: 0 | E23: 4 | F23: 4 | G23: 10 | H23: 8 | I23: 5 | J23: 0 | K23: 0 | L23: 0 | M23: غير قطريين
B24: Total | C24: =SUM(D24:L24) -> 31 | D24: =D22+D23 -> 0 | E24: =E22+E23 -> 4 | F24: =F22+F23 -> 4 | G24: =G22+G23 -> 10 | H24: =H22+H23 -> 8 | I24: =I22+I23 -> 5 | J24: =J22+J23 -> 0 | K24: =K22+K23 -> 0 | L24: =L22+L23 -> 0 | M24: المجموع
A25: Craft And Related Trades Workers | B25: Qatari | C25: =SUM(D25:L25) -> 40 | D25: 0 | E25: 4 | F25: 5 | G25: 4 | H25: 13 | I25: 11 | J25: 3 | K25: 0 | L25: 0 | M25: قطريون | N25: العاملون في الحرف وما إليها من المهن
B26: Non-Qatari | C26: =SUM(D26:L26) -> 1080 | D26: 0 | E26: 17 | F26: 61 | G26: 146 | H26: 366 | I26: 332 | J26: 124 | K26: 34 | L26: 0 | M26: غير قطريين
B27: Total | C27: =SUM(D27:L27) -> 1120 | D27: =D25+D26 -> 0 | E27: =E25+E26 -> 21 | F27: =F25+F26 -> 66 | G27: =G25+G26 -> 150 | H27: =H25+H26 -> 379 | I27: =I25+I26 -> 343 | J27: =J25+J26 -> 127 | K27: =K25+K26 -> 34 | L27: =L25+L26 -> 0 | M27: المجموع
A28: Plant And Machine Operators And Assemblers | B28: Qatari | C28: =SUM(D28:L28) -> 96 | D28: 0 | E28: 10 | F28: 4 | G28: 24 | H28: 22 | I28: 24 | J28: 7 | K28: 5 | L28: 0 | M28: قطريون | N28: مشغلو الالات والمعدات ومجمعوها
B29: Non-Qatari | C29: =SUM(D29:L29) -> 710 | D29: 0 | E29: 13 | F29: 32 | G29: 126 | H29: 245 | I29: 210 | J29: 77 | K29: 7 | L29: 0 | M29: غير قطريين
B30: Total | C30: =SUM(D30:L30) -> 806 | D30: =D28+D29 -> 0 | E30: =SUM(E28:E29) -> 23 | F30: =F28+F29 -> 36 | G30: =G28+G29 -> 150 | H30: =H28+H29 -> 267 | I30: =I28+I29 -> 234 | J30: =J28+J29 -> 84 | K30: =K28+K29 -> 12 | L30: =L28+L29 -> 0 | M30: المجموع
A31: Elementary Occupations | B31: Qatari | C31: =SUM(D31:L31) -> 41 | D31: 0 | E31: 7 | F31: 3 | G31: 9 | H31: 12 | I31: 7 | J31: 3 | K31: 0 | L31: 0 | M31: قطريون | N31: المهن العادية
B32: Non-Qatari | C32: =SUM(D32:L32) -> 549 | D32: 0 | E32: 25 | F32: 34 | G32: 109 | H32: 146 | I32: 163 | J32: 61 | K32: 11 | L32: 0 | M32: غير قطريين
B33: Total | C33: =SUM(D33:L33) -> 590 | D33: =D31+D32 -> 0 | E33: =SUM(E31:E32) -> 32 | F33: =F31+F32 -> 37 | G33: =G31+G32 -> 118 | H33: =H31+H32 -> 158 | I33: =I31+I32 -> 170 | J33: =J31+J32 -> 64 | K33: =K31+K32 -> 11 | L33: =L31+L32 -> 0 | M33: المجموع
A34: Those Who Have Not Been Classified by Occupation | B34: Qatari | C34: =SUM(D34:L34) -> 43 | D34: 0 | E34: 3 | F34: 2 | G34: 4 | H34: 10 | I34: 11 | J34: 9 | K34: 4 | L34: 0 | M34: قطريون | N34: الأفراد الذين لم يصنفوا حسب المهنة
B35: Non-Qatari | C35: =SUM(D35:L35) -> 156 | D35: 0 | E35: 1 | F35: 10 | G35: 25 | H35: 41 | I35: 44 | J35: 28 | K35: 6 | L35: 1 | M35: غير قطريين
B36: Total | C36: =SUM(D36:L36) -> 199 | D36: =D34+D35 -> 0 | E36: =SUM(E34:E35) -> 4 | F36: =F34+F35 -> 12 | G36: =G34+G35 -> 29 | H36: =H34+H35 -> 51 | I36: =I34+I35 -> 55 | J36: =J34+J35 -> 37 | K36: =K34+K35 -> 10 | L36: =L34+L35 -> 1 | M36: المجموع
A37: Total Workers | B37: Qatari | C37: =SUM(D37:L37) -> 6892 | D37: =D7+D10+D13+D16+D19+D22+D25+D28+D31+D34 -> 0 | E37: =SUM(E7,E10,E13,E16,E19,E22,E25,E28,E31,E34) -> 238 | F37: =SUM(F7,F10,F13,F16,F19,F22,F25,F28,F31,F34) -> 334 | G37: =SUM(G7,G10,G13,G16,G19,G22,G25,G28,G31,G34) -> 850 | H37: =SUM(H7,H10,H13,H16,H19,H22,H25,H28,H31,H34) -> 1545 | I37: =SUM(I7,I10,I13,I16,I19,I22,I25,I28,I31,I34) -> 2237 | J37: =SUM(J7,J10,J13,J16,J19,J22,J25,J28,J31,J34) -> 1474 | K37: =SUM(K7,K10,K13,K16,K19,K22,K25,K28,K31,K34) -> 212 | L37: =SUM(L7,L10,L13,L16,L19,L22,L25,L28,L31,L34) -> 2 | M37: قطريون | N37: مجموع المشتغلين
B38: Non-Qatari | C38: =SUM(D38:L38) -> 20192 | D38: =D8+D11+D14+D17+D20+D23+D26+D29+D32+D35 -> 0 | E38: =SUM(E8,E11,E14,E17,E20,E23,E26,E29,E32,E35) -> 426 | F38: =SUM(F8,F11,F14,F17,F20,F23,F26,F29,F32,F35) -> 1109 | G38: =SUM(G8,G11,G14,G17,G20,G23,G26,G29,G32,G35) -> 3379 | H38: =SUM(H8,H11,H14,H17,H20,H23,H26,H29,H32,H35) -> 6815 | I38: =SUM(I8,I11,I14,I17,I20,I23,I26,I29,I32,I35) -> 6145 | J38: =SUM(J8,J11,J14,J17,J20,J23,J26,J29,J32,J35) -> 2050 | K38: =SUM(K8,K11,K14,K17,K20,K23,K26,K29,K32,K35) -> 263 | L38: =SUM(L8,L11,L14,L17,L20,L23,L26,L29,L32,L35) -> 5 | M38: غير قطريين
B39: Total | C39: =SUM(D39:L39) -> 27084 | D39: =D37+D38 -> 0 | E39: =SUM(E37:E38) -> 664 | F39: =SUM(F37:F38) -> 1443 | G39: =SUM(G37:G38) -> 4229 | H39: =SUM(H37:H38) -> 8360 | I39: =SUM(I37:I38) -> 8382 | J39: =SUM(J37:J38) -> 3524 | K39: =SUM(K37:K38) -> 475 | L39: =SUM(L37:L38) -> 7 | M39: المجموع
A40: No Occupation(1) | B40: Qatari | C40: =SUM(D40:L40) -> 79 | D40: 0 | E40: 35 | F40: 10 | G40: 9 | H40: 7 | I40: 8 | J40: 7 | K40: 3 | L40: 0 | M40: قطريون | N40: بدون مهنة (1)
B41: Non-Qatari | C41: =SUM(D41:L41) -> 159 | D41: 0 | E41: 6 | F41: 5 | G41: 22 | H41: 25 | I41: 30 | J41: 43 | K41: 25 | L41: 3 | M41: غير قطريين
B42: Total | C42: =SUM(D42:L42) -> 238 | D42: =D40+D41 -> 0 | E42: =E40+E41 -> 41 | F42: =F40+F41 -> 15 | G42: =G40+G41 -> 31 | H42: =H40+H41 -> 32 | I42: =I40+I41 -> 38 | J42: =J40+J41 -> 50 | K42: =K40+K41 -> 28 | L42: =L40+L41 -> 3 | M42: المجموع
A43: Total | B43: Qatari | C43: =SUM(D43:L43) -> 6971 | D43: =D37+D40 -> 0 | E43: =SUM(E37+E40) -> 273 | F43: =SUM(F37+F40) -> 344 | G43: =SUM(G37+G40) -> 859 | H43: =SUM(H37+H40) -> 1552 | I43: =SUM(I37+I40) -> 2245 | J43: =SUM(J37+J40) -> 1481 | K43: =SUM(K37+K40) -> 215 | L43: =SUM(L37+L40) -> 2 | M43: قطريون | N43: المجموع
B44: Non-Qatari | C44: =SUM(D44:L44) -> 20351 | D44: =D38+D41 -> 0 | E44: =SUM(E38+E41) -> 432 | F44: =SUM(F38+F41) -> 1114 | G44: =SUM(G38+G41) -> 3401 | H44: =SUM(H38+H41) -> 6840 | I44: =SUM(I38+I41) -> 6175 | J44: =SUM(J38+J41) -> 2093 | K44: =SUM(K38+K41) -> 288 | L44: =SUM(L38+L41) -> 8 | M44: غير قطريين
B45: Total | C45: =SUM(D45:L45) -> 27322 | D45: =D43+D44 -> 0 | E45: =SUM(E39+E42) -> 705 | F45: =SUM(F39+F42) -> 1458 | G45: =SUM(G39+G42) -> 4260 | H45: =SUM(H39+H42) -> 8392 | I45: =SUM(I39+I42) -> 8420 | J45: =SUM(J39+J42) -> 3574 | K45: =SUM(K39+K42) -> 503 | L45: =SUM(L39+L42) -> 10 | M45: المجموع
A46: (1) Including mothers who are seeking work and economically non-active. | K46: (1) تشمل الأباء الذين يبحثون عن عمل وغير النشطين اقتصاديا.

Sheet chapter3
A1: الباب الثالث: المواليد موتى
A2: CHAPTER THREE: FOETAL DEATHS

Sheet F1
A1: واقعات الولادة الميتة المسجلة حسب الجنسية والنوع
A2: REGISTERED FOETAL DEATHS BY NATIONALITY AND GENDER
A3: 2013 - 2022
A4: Table No.(1) | N4: جدول رقم (1)
A5: Nationality & Gender Year | B5: المجموع العام G.T | F5: Non-Qataris غير قطريين | J5: Qataris قطريون | N5: الجنسية والجنس السنوات
B6: مجموع T | C6: غير مبين N. S. | D6: اناث F | E6: ذكور M | F6: مجموع T | G6: غير مبين N. S. | H6: اناث F | I6: ذكور M | J6: مجموع T | K6: غير مبين N. S. | L6: اناث F | M6: ذكور M
A7: 2013 | B7: =J7+F7 -> 134 | C7: =K7+G7 -> 1 | D7: =L7+H7 -> 69 | E7: =M7+I7 -> 64 | F7: =I7+H7+G7 -> 95 | G7: 0 | H7: 48 | I7: 47 | J7: =M7+L7+K7 -> 39 | K7: 1 | L7: 21 | M7: 17 | N7: 2013
A8: 2014 | B8: =J8+F8 -> 137 | C8: =K8+G8 -> 2 | D8: =L8+H8 -> 63 | E8: =M8+I8 -> 72 | F8: =I8+H8+G8 -> 99 | G8: 2 | H8: 49 | I8: 48 | J8: =M8+L8+K8 -> 38 | K8: 0 | L8: 14 | M8: 24 | N8: 2014
A9: 2015 | B9: =J9+F9 -> 158 | C9: =K9+G9 -> 3 | D9: =L9+H9 -> 75 | E9: =M9+I9 -> 80 | F9: =I9+H9+G9 -> 120 | G9: 3 | H9: 55 | I9: 62 | J9: =M9+L9+K9 -> 38 | K9: 0 | L9: 20 | M9: 18 | N9: 2015
A10: 2016 | B10: =J10+F10 -> 103 | C10: =K10+G10 -> 1 | D10: =L10+H10 -> 47 | E10: =M10+I10 -> 55 | F10: =I10+H10+G10 -> 71 | G10: 1 | H10: 28 | I10: 42 | J10: =M10+L10+K10 -> 32 | K10: 0 | L10: 19 | M10: 13 | N10: 2016
A11: 2017 | B11: =J11+F11 -> 120 | C11: =K11+G11 -> 2 | D11: =L11+H11 -> 56 | E11: =M11+I11 -> 62 | F11: =I11+H11+G11 -> 91 | G11: 2 | H11: 46 | I11: 43 | J11: =M11+L11+K11 -> 29 | K11: 0 | L11: 10 | M11: 19 | N11: 2017
A12: 2018 | B12: =J12+F12 -> 109 | C12: =K12+G12 -> 1 | D12: =L12+H12 -> 40 | E12: =M12+I12 -> 68 | F12: =I12+H12+G12 -> 87 | G12: 1 | H12: 28 | I12: 58 | J12: =M12+L12+K12 -> 22 | K12: 0 | L12: 12 | M12: 10 | N12: 2018
A13: 2019 | B13: =J13+F13 -> 80 | C13: =K13+G13 -> 1 | D13: =L13+H13 -> 26 | E13: =M13+I13 -> 53 | F13: =I13+H13+G13 -> 53 | G13: 0 | H13: 15 | I13: 38 | J13: =M13+L13+K13 -> 27 | K13: 1 | L13: 11 | M13: 15 | N13: 2019
A14: 2020 | B14: =J14+F14 -> 106 | C14: =K14+G14 -> 2 | D14: =L14+H14 -> 49 | E14: =M14+I14 -> 55 | F14: =I14+H14+G14 -> 77 | G14: 2 | H14: 32 | I14: 43 | J14: =M14+L14+K14 -> 29 | K14: 0 | L14: 17 | M14: 12 | N14: 2020
A15: 2021 | B15: =J15+F15 -> 98 | C15: =K15+G15 -> 2 | D15: =L15+H15 -> 45 | E15: =M15+I15 -> 51 | F15: =I15+H15+G15 -> 71 | G15: 1 | H15: 33 | I15: 37 | J15: =M15+L15+K15 -> 27 | K15: 1 | L15: 12 | M15: 14 | N15: 2021
A16: 2022 | B16: =J16+F16 -> 60 | C16: =K16+G16 -> 1 | D16: =L16+H16 -> 26 | E16: =M16+I16 -> 33 | F16: =I16+H16+G16 -> 45 | G16: 0 | H16: 19 | I16: 26 | J16: =M16+L16+K16 -> 15 | K16: 1 | L16: 7 | M16: 7 | N16: 2022

Sheet F2
A1: واقعات الولادة الميتة المسجلة حسب الجنسية والنوع والبلدية
A2: REGISTERED FOETAL DEATHS BY NATIONALITY, GENDER AND MUNICIPALITY
A3: 2022
A4: Table No.(2) | H4: ` | R4: جدول رقم (2)
A5: Nationality & Gender Municipality | B5: المجموع العام G.T | H5: Non-Qataris غير قطريين | M5: Qataris قطريون | R5: الجنسية والنوع البلدية
B6: المجموع العام G.T | C6: غير مبين N. S. | D6: نسبة الإناث % F | E6: اناث F | F6: نسبة الذكور % M | G6: ذكور M | H6: % | I6: مجموع T | J6: غير مبين N. S. | K6: اناث F | L6: ذكور M | M6: % | N6: مجموع T | O6: غير مبين N. S. | P6: اناث F | Q6: ذكور M
A7: DOHA | B7: =SUM(N7+I7) -> 0 | C7: =0 -> 0 | D7: =E7/$E$16% -> #DIV/0! | E7: =SUM(P7+K7) -> 0 | F7: =G7/$G$16% -> #DIV/0! | G7: =SUM(Q7+L7) -> 0 | H7: =I7/$I$16% -> #DIV/0! | I7: =L7+K7 -> 0 | M7: =N7/$N$16% -> #DIV/0! | N7: =Q7+P7 -> 0 | R7: الدوحة
A8: AL RAYYAN | B8: =SUM(N8+I8) -> 0 | C8: =0 -> 0 | D8: =E8/$E$16% -> #DIV/0! | E8: =SUM(P8+K8) -> 0 | F8: =G8/$G$16% -> #DIV/0! | G8: =SUM(Q8+L8) -> 0 | H8: =I8/$I$16% -> #DIV/0! | I8: =L8+K8 -> 0 | M8: =N8/$N$16% -> #DIV/0! | N8: =Q8+P8 -> 0 | R8: الريان
A9: AL WAKRA | B9: =SUM(N9+I9) -> 0 | C9: =0 -> 0 | D9: =E9/$E$16% -> #DIV/0! | E9: =SUM(P9+K9) -> 0 | F9: =G9/$G$16% -> #DIV/0! | G9: =SUM(Q9+L9) -> 0 | H9: =I9/$I$16% -> #DIV/0! | I9: =L9+K9 -> 0 | M9: =N9/$N$16% -> #DIV/0! | N9: =Q9+P9 -> 0 | R9: الوكرة
A10: UMM SALAL | B10: =SUM(N10+I10) -> 0 | C10: =0 -> 0 | D10: =E10/$E$16% -> #DIV/0! | E10: =SUM(P10+K10) -> 0 | F10: =G10/$G$16% -> #DIV/0! | G10: =SUM(Q10+L10) -> 0 | H10: =I10/$I$16% -> #DIV/0! | I10: =L10+K10 -> 0 | M10: =N10/$N$16% -> #DIV/0! | N10: =Q10+P10 -> 0 | R10: ام صلال
A11: AL KHOR | B11: =SUM(N11+I11) -> 0 | C11: =0 -> 0 | D11: =E11/$E$16% -> #DIV/0! | E11: =SUM(P11+K11) -> 0 | F11: =G11/$G$16% -> #DIV/0! | G11: =SUM(Q11+L11) -> 0 | H11: =I11/$I$16% -> #DIV/0! | I11: =L11+K11 -> 0 | M11: =N11/$N$16% -> #DIV/0! | N11: =Q11+P11 -> 0 | R11: الخور
A12: AL SHAMAL | B12: =SUM(N12+I12) -> 0 | C12: =0 -> 0 | D12: =E12/$E$16% -> #DIV/0! | E12: =SUM(P12+K12) -> 0 | F12: =G12/$G$16% -> #DIV/0! | G12: =SUM(Q12+L12) -> 0 | H12: =I12/$I$16% -> #DIV/0! | I12: =L12+K12 -> 0 | M12: =N12/$N$16% -> #DIV/0! | N12: =Q12+P12 -> 0 | R12: الشمال
A13: AL DAYYEN | B13: =SUM(N13+I13) -> 0 | C13: =0 -> 0 | D13: =E13/$E$16% -> #DIV/0! | E13: =SUM(P13+K13) -> 0 | F13: =G13/$G$16% -> #DIV/0! | G13: =SUM(Q13+L13) -> 0 | H13: =I13/$I$16% -> #DIV/0! | I13: =L13+K13 -> 0 | M13: =N13/$N$16% -> #DIV/0! | N13: =Q13+P13 -> 0 | R13: الظعاين
A14: AL-SHAHANIYA | B14: =SUM(N14+I14) -> 0 | C14: =0 -> 0 | D14: =E14/$E$16% -> #DIV/0! | E14: =SUM(P14+K14) -> 0 | F14: =G14/$G$16% -> #DIV/0! | G14: =SUM(Q14+L14) -> 0 | H14: =I14/$I$16% -> #DIV/0! | I14: =L14+K14 -> 0 | M14: =N14/$N$16% -> #DIV/0! | N14: =Q14+P14 -> 0 | R14: الشحانية
A15: UNKNOWN | B15: =SUM(N15+I15) -> 0 | C15: =0 -> 0 | D15: =E15/$E$16% -> #DIV/0! | E15: =SUM(P15+K15) -> 0 | F15: =G15/$G$16% -> #DIV/0! | G15: =SUM(Q15+L15) -> 0 | H15: =I15/$I$16% -> #DIV/0! | I15: =L15+K15 -> 0 | M15: =N15/$N$16% -> #DIV/0! | N15: =Q15+P15 -> 0 | R15: غير معرف
A16: Total | B16: =SUM(B7:B15) -> 0 | C16: =0 -> 0 | D16: =SUM(D7:D15) -> #DIV/0! | E16: =SUM(E7:E15) -> 0 | F16: =SUM(F7:F15) -> #DIV/0! | G16: =SUM(G7:G15) -> 0 | H16: =SUM(H7:H15) -> #DIV/0! | I16: =SUM(I7:I15) -> 0 | J16: =0 -> 0 | K16: =SUM(K7:K15) -> 0 | L16: =SUM(L7:L15) -> 0 | M16: =SUM(M7:M15) -> #DIV/0! | N16: =SUM(N7:N15) -> 0 | O16: =0 -> 0 | P16: =SUM(P7:P15) -> 0 | Q16: =SUM(Q7:Q15) -> 0 | R16: المجموع

Sheet F3
A1: واقعات الولادة الميتة المسجلة حسب الجنسية والنوع والشهر
A2: REGISTERED FOETAL DEATHS BY NATIONALITY, GENDER AND MONTH
A3: 2022
A4: Table No.(3) | H4: ` | R4: جدول رقم (3)
A5: Nationality & Gender Month | B5: المجموع العام G.T | H5: Non-Qataris غير قطريين | M5: Qataris قطريون | R5: الجنسية والنوع الشهر
B6: المجموع العام G.T | C6: غير مبين N. S. | D6: نسبة الإناث % F | E6: اناث F | F6: نسبة الذكور % M | G6: ذكور M | H6: % | I6: مجموع T | J6: غير مبين N. S. | K6: اناث F | L6: ذكور M | M6: % | N6: مجموع T | O6: غير مبين N. S. | P6: اناث F | Q6: ذكور M
A7: JANUARY | B7: =SUM(N7+I7) -> 0 | C7: =0 -> 0 | D7: =E7/$E$19% -> #DIV/0! | E7: =SUM(P7+K7) -> 0 | F7: =G7/$G$19% -> #DIV/0! | G7: =SUM(Q7+L7) -> 0 | H7: =I7/$I$19% -> #DIV/0! | I7: =L7+K7 -> 0 | M7: =N7/$N$19% -> #DIV/0! | N7: =Q7+P7 -> 0 | R7: يناير
A8: FEBRUARY | B8: =SUM(N8+I8) -> 0 | C8: =0 -> 0 | D8: =E8/$E$19% -> #DIV/0! | E8: =SUM(P8+K8) -> 0 | F8: =G8/$G$19% -> #DIV/0! | G8: =SUM(Q8+L8) -> 0 | H8: =I8/$I$19% -> #DIV/0! | I8: =L8+K8 -> 0 | M8: =N8/$N$19% -> #DIV/0! | N8: =Q8+P8 -> 0 | R8: فبراير
A9: MARCH | B9: =SUM(N9+I9) -> 0 | C9: =0 -> 0 | D9: =E9/$E$19% -> #DIV/0! | E9: =SUM(P9+K9) -> 0 | F9: =G9/$G$19% -> #DIV/0! | G9: =SUM(Q9+L9) -> 0 | H9: =I9/$I$19% -> #DIV/0! | I9: =L9+K9 -> 0 | M9: =N9/$N$19% -> #DIV/0! | N9: =Q9+P9 -> 0 | R9: مارس
A10: APRIL | B10: =SUM(N10+I10) -> 0 | C10: =0 -> 0 | D10: =E10/$E$19% -> #DIV/0! | E10: =SUM(P10+K10) -> 0 | F10: =G10/$G$19% -> #DIV/0! | G10: =SUM(Q10+L10) -> 0 | H10: =I10/$I$19% -> #DIV/0! | I10: =L10+K10 -> 0 | M10: =N10/$N$19% -> #DIV/0! | N10: =Q10+P10 -> 0 | R10: ابريل
A11: MAY | B11: =SUM(N11+I11) -> 0 | C11: =0 -> 0 | D11: =E11/$E$19% -> #DIV/0! | E11: =SUM(P11+K11) -> 0 | F11: =G11/$G$19% -> #DIV/0! | G11: =SUM(Q11+L11) -> 0 | H11: =I11/$I$19% -> #DIV/0! | I11: =L11+K11 -> 0 | M11: =N11/$N$19% -> #DIV/0! | N11: =Q11+P11 -> 0 | R11: مايو
A12: JUNE | B12: =SUM(N12+I12) -> 0 | C12: =0 -> 0 | D12: =E12/$E$19% -> #DIV/0! | E12: =SUM(P12+K12) -> 0 | F12: =G12/$G$19% -> #DIV/0! | G12: =SUM(Q12+L12) -> 0 | H12: =I12/$I$19% -> #DIV/0! | I12: =L12+K12 -> 0 | M12: =N12/$N$19% -> #DIV/0! | N12: =Q12+P12 -> 0 | R12: يونيو
A13: JULY | B13: =SUM(N13+I13) -> 0 | C13: =0 -> 0 | D13: =E13/$E$19% -> #DIV/0! | E13: =SUM(P13+K13) -> 0 | F13: =G13/$G$19% -> #DIV/0! | G13: =SUM(Q13+L13) -> 0 | H13: =I13/$I$19% -> #DIV/0! | I13: =L13+K13 -> 0 | M13: =N13/$N$19% -> #DIV/0! | N13: =Q13+P13 -> 0 | R13: يوليو
A14: AUGUST | B14: =SUM(N14+I14) -> 0 | C14: =0 -> 0 | D14: =E14/$E$19% -> #DIV/0! | E14: =SUM(P14+K14) -> 0 | F14: =G14/$G$19% -> #DIV/0! | G14: =SUM(Q14+L14) -> 0 | H14: =I14/$I$19% -> #DIV/0! | I14: =L14+K14 -> 0 | M14: =N14/$N$19% -> #DIV/0! | N14: =Q14+P14 -> 0 | R14: اغسطس
A15: SEPTEMBER | B15: =SUM(N15+I15) -> 0 | C15: =0 -> 0 | D15: =E15/$E$19% -> #DIV/0! | E15: =SUM(P15+K15) -> 0 | F15: =G15/$G$19% -> #DIV/0! | G15: =SUM(Q15+L15) -> 0 | H15: =I15/$I$19% -> #DIV/0! | I15: =L15+K15 -> 0 | M15: =N15/$N$19% -> #DIV/0! | N15: =Q15+P15 -> 0 | R15: سبتمبر
A16: OCTOBER | B16: =SUM(N16+I16) -> 0 | C16: =0 -> 0 | D16: =E16/$E$19% -> #DIV/0! | E16: =SUM(P16+K16) -> 0 | F16: =G16/$G$19% -> #DIV/0! | G16: =SUM(Q16+L16) -> 0 | H16: =I16/$I$19% -> #DIV/0! | I16: =L16+K16 -> 0 | M16: =N16/$N$19% -> #DIV/0! | N16: =Q16+P16 -> 0 | R16: اكتوبر
A17: NOVEMBER | B17: =SUM(N17+I17) -> 0 | C17: =0 -> 0 | D17: =E17/$E$19% -> #DIV/0! | E17: =SUM(P17+K17) -> 0 | F17: =G17/$G$19% -> #DIV/0! | G17: =SUM(Q17+L17) -> 0 | H17: =I17/$I$19% -> #DIV/0! | I17: =L17+K17 -> 0 | M17: =N17/$N$19% -> #DIV/0! | N17: =Q17+P17 -> 0 | R17: نوفمبر
A18: DECEMBER | B18: =SUM(N18+I18) -> 0 | C18: =0 -> 0 | D18: =E18/$E$19% -> #DIV/0! | E18: =SUM(P18+K18) -> 0 | F18: =G18/$G$19% -> #DIV/0! | G18: =SUM(Q18+L18) -> 0 | H18: =I18/$I$19% -> #DIV/0! | I18: =L18+K18 -> 0 | M18: =N18/$N$19% -> #DIV/0! | N18: =Q18+P18 -> 0 | R18: ديسمبر
A19: Total | B19: =SUM(B7:B18) -> 0 | C19: =0 -> 0 | D19: =SUM(D7:D18) -> #DIV/0! | E19: =SUM(E7:E18) -> 0 | F19: =SUM(F7:F18) -> #DIV/0! | G19: =SUM(G7:G18) -> 0 | H19: =SUM(H7:H18) -> #DIV/0! | I19: =SUM(I7:I18) -> 0 | J19: =0 -> 0 | K19: =SUM(K7:K18) -> 0 | L19: =SUM(L7:L18) -> 0 | M19: =SUM(M7:M18) -> #DIV/0! | N19: =SUM(N7:N18) -> 0 | O19: =0 -> 0 | P19: =SUM(P7:P18) -> 0 | Q19: =SUM(Q7:Q18) -> 0 | R19: المجموع

Sheet F4
A1: واقعات الولادة الميتة المسجلة حسب الجنسية والنوع وفئة عمر الأم
A2: REGISTERED FOETAL DEATHS BY NATIONALITY, GENDER AND AGE GROUP OF MOTHER
A3: 2022
A4: Table No.(4) | H4: ` | R4: جدول رقم (4)
A5: Nationality & Gender Mother Age group | B5: المجموع العام G.T | H5: Non-Qataris غير قطريين | M5: Qataris قطريون | R5: الجنسية والنوع فئات عمر الأم
B6: المجموع العام G.T | C6: غير مبين N. S. | D6: نسبة الإناث % F | E6: اناث F | F6: نسبة الذكور % M | G6: ذكور M | H6: % | I6: مجموع T | J6: غير مبين N. S. | K6: اناث F | L6: ذكور M | M6: % | N6: مجموع T | O6: غير مبين N. S. | P6: اناث F | Q6: ذكور M
A7: 15 - 19 | B7: =SUM(N7+I7) -> 0 | C7: =0 -> 0 | D7: =E7/$E$15% -> #DIV/0! | E7: =SUM(P7+K7) -> 0 | F7: =G7/$G$15% -> #DIV/0! | G7: =SUM(Q7+L7) -> 0 | H7: =I7/$I$15% -> #DIV/0! | I7: =L7+K7 -> 0 | M7: =N7/$N$15% -> #DIV/0! | N7: =Q7+P7 -> 0 | R7: 15 - 19
A8: 20 - 24 | B8: =SUM(N8+I8) -> 0 | C8: =0 -> 0 | D8: =E8/$E$15% -> #DIV/0! | E8: =SUM(P8+K8) -> 0 | F8: =G8/$G$15% -> #DIV/0! | G8: =SUM(Q8+L8) -> 0 | H8: =I8/$I$15% -> #DIV/0! | I8: =L8+K8 -> 0 | M8: =N8/$N$15% -> #DIV/0! | N8: =Q8+P8 -> 0 | R8: 20 - 24
A9: 25 - 29 | B9: =SUM(N9+I9) -> 0 | C9: =0 -> 0 | D9: =E9/$E$15% -> #DIV/0! | E9: =SUM(P9+K9) -> 0 | F9: =G9/$G$15% -> #DIV/0! | G9: =SUM(Q9+L9) -> 0 | H9: =I9/$I$15% -> #DIV/0! | I9: =L9+K9 -> 0 | M9: =N9/$N$15% -> #DIV/0! | N9: =Q9+P9 -> 0 | R9: 25 - 29
A10: 30 - 34 | B10: =SUM(N10+I10) -> 0 | C10: =0 -> 0 | D10: =E10/$E$15% -> #DIV/0! | E10: =SUM(P10+K10) -> 0 | F10: =G10/$G$15% -> #DIV/0! | G10: =SUM(Q10+L10) -> 0 | H10: =I10/$I$15% -> #DIV/0! | I10: =L10+K10 -> 0 | M10: =N10/$N$15% -> #DIV/0! | N10: =Q10+P10 -> 0 | R10: 30 - 34
A11: 35 - 39 | B11: =SUM(N11+I11) -> 0 | C11: =0 -> 0 | D11: =E11/$E$15% -> #DIV/0! | E11: =SUM(P11+K11) -> 0 | F11: =G11/$G$15% -> #DIV/0! | G11: =SUM(Q11+L11) -> 0 | H11: =I11/$I$15% -> #DIV/0! | I11: =L11+K11 -> 0 | M11: =N11/$N$15% -> #DIV/0! | N11: =Q11+P11 -> 0 | R11: 35 - 39
A12: 40 - 44 | B12: =SUM(N12+I12) -> 0 | C12: =0 -> 0 | D12: =E12/$E$15% -> #DIV/0! | E12: =SUM(P12+K12) -> 0 | F12: =G12/$G$15% -> #DIV/0! | G12: =SUM(Q12+L12) -> 0 | H12: =I12/$I$15% -> #DIV/0! | I12: =L12+K12 -> 0 | M12: =N12/$N$15% -> #DIV/0! | N12: =Q12+P12 -> 0 | R12: 40 - 44
A13: 45+ | B13: =SUM(N13+I13) -> 0 | C13: =0 -> 0 | D13: =E13/$E$15% -> #DIV/0! | E13: =SUM(P13+K13) -> 0 | F13: =G13/$G$15% -> #DIV/0! | G13: =SUM(Q13+L13) -> 0 | H13: =I13/$I$15% -> #DIV/0! | I13: =L13+K13 -> 0 | M13: =N13/$N$15% -> #DIV/0! | N13: =Q13+P13 -> 0 | R13: 45 +
A14: Not Stated | B14: =SUM(N14+I14) -> 0 | C14: =0 -> 0 | D14: =E14/$E$15% -> #DIV/0! | E14: =SUM(P14+K14) -> 0 | F14: =G14/$G$15% -> #DIV/0! | G14: =SUM(Q14+L14) -> 0 | H14: =I14/$I$15% -> #DIV/0! | I14: =L14+K14 -> 0 | M14: =N14/$N$15% -> #DIV/0! | N14: =Q14+P14 -> 0 | R14: غير مبين
A15: Total | B15: =SUM(B7:B14) -> 0 | C15: =0 -> 0 | D15: =SUM(D7:D14) -> #DIV/0! | E15: =SUM(E7:E14) -> 0 | F15: =SUM(F7:F14) -> #DIV/0! | G15: =SUM(G7:G14) -> 0 | H15: =SUM(H7:H14) -> #DIV/0! | I15: =SUM(I7:I14) -> 0 | J15: =0 -> 0 | K15: =SUM(K7:K14) -> 0 | L15: =SUM(L7:L14) -> 0 | M15: =SUM(M7:M14) -> #DIV/0! | N15: =SUM(N7:N14) -> 0 | O15: =0 -> 0 | P15: =SUM(P7:P14) -> 0 | Q15: =SUM(Q7:Q14) -> 0 | R15: المجموع

Sheet F5
A1: واقعات الولادة الميتة المسجلة حسب الجنسية والنوع والعمر الرحمى بالاسابيع
A2: REGISTERED FOETAL DEATHS BY NATIONALITY, GENDER AND GESTATIONAL AGE IN WEEKS
A3: 2022
A4: Table No.(5) | H4: ` | R4: جدول رقم (5)
A5: Nationality & Gender Gestational Age (In Weeks) | B5: المجموع العام G.T | H5: Non-Qataris غير قطريين | M5: Qataris قطريون | R5: الجنسية والنوع (العمرالرحمى بالأسابيع)
B6: المجموع العام G.T | C6: غير مبين N. S. | D6: نسبة الإناث % F | E6: اناث F | F6: نسبة الذكور % M | G6: ذكور M | H6: % | I6: مجموع T | J6: غير مبين N. S. | K6: اناث F | L6: ذكور M | M6: % | N6: مجموع T | O6: غير مبين N. S. | P6: اناث F | Q6: ذكور M
A7: 28 | B7: =SUM(N7+I7) -> 0 | C7: =0 -> 0 | D7: =E7/$E$21% -> 0 | E7: =SUM(P7+K7) -> 0 | F7: =G7/$G$21% -> 0 | G7: =SUM(Q7+L7) -> 0 | H7: =I7/$I$21% -> 0 | I7: =L7+K7 -> 0 | J7: 0 | K7: 0 | L7: 0 | M7: =N7/$N$21% -> 0 | N7: =Q7+P7 -> 0 | O7: 0 | P7: 0 | Q7: 0 | R7: 28
A8: 29 | B8: =SUM(N8+I8) -> 6 | C8: =0 -> 0 | D8: =E8/$E$21% -> 15.384615 | E8: =SUM(P8+K8) -> 4 | F8: =G8/$G$21% -> 6.0606061 | G8: =SUM(Q8+L8) -> 2 | H8: =I8/$I$21% -> 11.111111 | I8: =L8+K8 -> 5 | J8: 0 | K8: 3 | L8: 2 | M8: =N8/$N$21% -> 6.6666667 | N8: =Q8+P8 -> 1 | O8: 0 | P8: 1 | Q8: 0 | R8: 29
A9: 30 | B9: =SUM(N9+I9) -> 4 | C9: =0 -> 0 | D9: =E9/$E$21% -> 11.538462 | E9: =SUM(P9+K9) -> 3 | F9: =G9/$G$21% -> 0 | G9: =SUM(Q9+L9) -> 0 | H9: =I9/$I$21% -> 4.4444444 | I9: =L9+K9 -> 2 | J9: 0 | K9: 2 | L9: 0 | M9: =N9/$N$21% -> 13.333333 | N9: =Q9+P9+O9 -> 2 | O9: 1 | P9: 1 | Q9: 0 | R9: 30
A10: 31 | B10: =SUM(N10+I10) -> 3 | C10: =0 -> 0 | D10: =E10/$E$21% -> 7.6923077 | E10: =SUM(P10+K10) -> 2 | F10: =G10/$G$21% -> 3.030303 | G10: =SUM(Q10+L10) -> 1 | H10: =I10/$I$21% -> 6.6666667 | I10: =L10+K10 -> 3 | J10: 0 | K10: 2 | L10: 1 | M10: =N10/$N$21% -> 0 | N10: =Q10+P10 -> 0 | O10: 0 | P10: 0 | Q10: 0 | R10: 31
A11: 32 | B11: =SUM(N11+I11) -> 7 | C11: =0 -> 0 | D11: =E11/$E$21% -> 7.6923077 | E11: =SUM(P11+K11) -> 2 | F11: =G11/$G$21% -> 15.151515 | G11: =SUM(Q11+L11) -> 5 | H11: =I11/$I$21% -> 11.111111 | I11: =L11+K11 -> 5 | J11: 0 | K11: 1 | L11: 4 | M11: =N11/$N$21% -> 13.333333 | N11: =Q11+P11 -> 2 | O11: 0 | P11: 1 | Q11: 1 | R11: 32
A12: 33 | B12: =SUM(N12+I12) -> 6 | C12: =0 -> 0 | D12: =E12/$E$21% -> 7.6923077 | E12: =SUM(P12+K12) -> 2 | F12: =G12/$G$21% -> 12.121212 | G12: =SUM(Q12+L12) -> 4 | H12: =I12/$I$21% -> 13.333333 | I12: =L12+K12 -> 6 | J12: 0 | K12: 2 | L12: 4 | M12: =N12/$N$21% -> 0 | N12: =Q12+P12 -> 0 | O12: 0 | P12: 0 | Q12: 0 | R12: 33
A13: 34 | B13: =SUM(N13+I13) -> 7 | C13: =0 -> 0 | D13: =E13/$E$21% -> 15.384615 | E13: =SUM(P13+K13) -> 4 | F13: =G13/$G$21% -> 9.0909091 | G13: =SUM(Q13+L13) -> 3 | H13: =I13/$I$21% -> 8.8888889 | I13: =L13+K13 -> 4 | J13: 0 | K13: 3 | L13: 1 | M13: =N13/$N$21% -> 20 | N13: =Q13+P13 -> 3 | O13: 0 | P13: 1 | Q13: 2 | R13: 34
A14: 35 | B14: =SUM(N14+I14) -> 4 | C14: =0 -> 0 | D14: =E14/$E$21% -> 7.6923077 | E14: =SUM(P14+K14) -> 2 | F14: =G14/$G$21% -> 6.0606061 | G14: =SUM(Q14+L14) -> 2 | H14: =I14/$I$21% -> 8.8888889 | I14: =L14+K14 -> 4 | J14: 0 | K14: 2 | L14: 2 | M14: =N14/$N$21% -> 0 | N14: =Q14+P14 -> 0 | O14: 0 | P14: 0 | Q14: 0 | R14: 35
A15: 36 | B15: =SUM(N15+I15) -> 10 | C15: =0 -> 0 | D15: =E15/$E$21% -> 11.538462 | E15: =SUM(P15+K15) -> 3 | F15: =G15/$G$21% -> 21.212121 | G15: =SUM(Q15+L15) -> 7 | H15: =I15/$I$21% -> 15.555556 | I15: =L15+K15 -> 7 | J15: 0 | K15: 2 | L15: 5 | M15: =N15/$N$21% -> 20 | N15: =Q15+P15 -> 3 | O15: 0 | P15: 1 | Q15: 2 | R15: 36
A16: 37 | B16: =SUM(N16+I16) -> 6 | C16: =0 -> 0 | D16: =E16/$E$21% -> 7.6923077 | E16: =SUM(P16+K16) -> 2 | F16: =G16/$G$21% -> 12.121212 | G16: =SUM(Q16+L16) -> 4 | H16: =I16/$I$21% -> 8.8888889 | I16: =L16+K16 -> 4 | J16: 0 | K16: 1 | L16: 3 | M16: =N16/$N$21% -> 13.333333 | N16: =Q16+P16 -> 2 | O16: 0 | P16: 1 | Q16: 1 | R16: 37
A17: 38 | B17: =SUM(N17+I17) -> 2 | C17: =0 -> 0 | D17: =E17/$E$21% -> 3.8461538 | E17: =SUM(P17+K17) -> 1 | F17: =G17/$G$21% -> 3.030303 | G17: =SUM(Q17+L17) -> 1 | H17: =I17/$I$21% -> 0 | I17: =L17+K17 -> 0 | J17: 0 | K17: 0 | L17: 0 | M17: =N17/$N$21% -> 13.333333 | N17: =Q17+P17 -> 2 | O17: 0 | P17: 1 | Q17: 1 | R17: 38
A18: 39 | B18: =SUM(N18+I18) -> 4 | C18: =0 -> 0 | D18: =E18/$E$21% -> 0 | E18: =SUM(P18+K18) -> 0 | F18: =G18/$G$21% -> 12.121212 | G18: =SUM(Q18+L18) -> 4 | H18: =I18/$I$21% -> 8.8888889 | I18: =L18+K18 -> 4 | J18: 0 | K18: 0 | L18: 4 | M18: =N18/$N$21% -> 0 | N18: =Q18+P18 -> 0 | O18: 0 | P18: 0 | Q18: 0 | R18: 39
A19: 40+ | B19: =SUM(N19+I19) -> 1 | C19: =0 -> 0 | D19: =E19/$E$21% -> 3.8461538 | E19: =SUM(P19+K19) -> 1 | F19: =G19/$G$21% -> 0 | G19: =SUM(Q19+L19) -> 0 | H19: =I19/$I$21% -> 2.2222222 | I19: =L19+K19 -> 1 | J19: 0 | K19: 1 | L19: 0 | M19: =N19/$N$21% -> 0 | N19: =Q19+P19 -> 0 | O19: 0 | P19: 0 | Q19: 0 | R19: 40+
A20: Not stated | B20: =SUM(N20+I20) -> 0 | C20: =0 -> 0 | D20: =E20/$E$21% -> 0 | E20: =SUM(P20+K20) -> 0 | F20: =G20/$G$21% -> 0 | G20: =SUM(Q20+L20) -> 0 | H20: =I20/$I$21% -> 0 | I20: =L20+K20 -> 0 | J20: 0 | K20: 0 | L20: 0 | M20: =N20/$N$21% -> 0 | N20: =Q20+P20 -> 0 | O20: 0 | P20: 0 | Q20: 0 | R20: غير مبين
A21: Total | B21: =SUM(B7:B20) -> 60 | C21: =0 -> 0 | D21: =SUM(D7:D20) -> 100 | E21: =SUM(E7:E20) -> 26 | F21: =SUM(F7:F20) -> 100 | G21: =SUM(G7:G20) -> 33 | H21: =SUM(H7:H20) -> 100 | I21: =SUM(I7:I20) -> 45 | J21: =0 -> 0 | K21: =SUM(K7:K20) -> 19 | L21: =SUM(L7:L20) -> 26 | M21: =SUM(M7:M20) -> 100 | N21: =SUM(N7:N20) -> 15 | O21: =SUM(O7:O20) -> 1 | P21: =SUM(P7:P20) -> 7 | Q21: =SUM(Q7:Q20) -> 7 | R21: المجموع

Sheet F6
A1: واقعات الولادة الميتة المسجلة حسب الجنسية والنوع والحالة التعليمية للأم
A2: REGISTERED FOETAL DEATHS BY NATIONALITY, GENDER AND EDUCATIONAL STATUS OF MOTHER
A3: 2022
A4: Table No.(6) | H4: ` | R4: جدول رقم (6)
A5: Nationality & Gender Educational Status | B5: المجموع العام G.T | H5: Non-Qataris غير قطريين | M5: Qataris قطريون | R5: الجنسية والنوع الحالة التعليمية
B6: المجموع العام G.T | C6: غير مبين N. S. | D6: نسبة الإناث % F | E6: اناث F | F6: نسبة الذكور % M | G6: ذكور M | H6: % | I6: مجموع T | J6: غير مبين N. S. | K6: اناث F | L6: ذكور M | M6: % | N6: مجموع T | O6: غير مبين N. S. | P6: اناث F | Q6: ذكور M
A7: llliterate | B7: =SUM(N7+I7) -> 0 | C7: =0 -> 0 | D7: =E7/$E$14% -> #DIV/0! | E7: =SUM(P7+K7) -> 0 | F7: =G7/$G$14% -> #DIV/0! | G7: =SUM(Q7+L7) -> 0 | H7: =I7/$I$14% -> #DIV/0! | I7: =L7+K7 -> 0 | M7: =N7/$N$14% -> #DIV/0! | N7: =Q7+P7 -> 0 | R7: أمي
A8: Primary | B8: =SUM(N8+I8) -> 0 | C8: =0 -> 0 | D8: =E8/$E$14% -> #DIV/0! | E8: =SUM(P8+K8) -> 0 | F8: =G8/$G$14% -> #DIV/0! | G8: =SUM(Q8+L8) -> 0 | H8: =I8/$I$14% -> #DIV/0! | I8: =L8+K8 -> 0 | M8: =N8/$N$14% -> #DIV/0! | N8: =Q8+P8 -> 0 | R8: إبتدائي
A9: Preparatory | B9: =SUM(N9+I9) -> 0 | C9: =0 -> 0 | D9: =E9/$E$14% -> #DIV/0! | E9: =SUM(P9+K9) -> 0 | F9: =G9/$G$14% -> #DIV/0! | G9: =SUM(Q9+L9) -> 0 | H9: =I9/$I$14% -> #DIV/0! | I9: =L9+K9 -> 0 | M9: =N9/$N$14% -> #DIV/0! | N9: =Q9+P9 -> 0 | R9: إعدادي
A10: Secondary | B10: =SUM(N10+I10) -> 0 | C10: =0 -> 0 | D10: =E10/$E$14% -> #DIV/0! | E10: =SUM(P10+K10) -> 0 | F10: =G10/$G$14% -> #DIV/0! | G10: =SUM(Q10+L10) -> 0 | H10: =I10/$I$14% -> #DIV/0! | I10: =L10+K10 -> 0 | M10: =N10/$N$14% -> #DIV/0! | N10: =Q10+P10 -> 0 | R10: ثانوي
A11: Pre University | B11: =SUM(N11+I11) -> 0 | C11: =0 -> 0 | D11: =E11/$E$14% -> #DIV/0! | E11: =SUM(P11+K11) -> 0 | F11: =G11/$G$14% -> #DIV/0! | G11: =SUM(Q11+L11) -> 0 | H11: =I11/$I$14% -> #DIV/0! | I11: =L11+K11 -> 0 | M11: =N11/$N$14% -> #DIV/0! | N11: =Q11+P11 -> 0 | R11: قبل الجامعة
A12: Univ & Above | B12: =SUM(N12+I12) -> 0 | C12: =0 -> 0 | D12: =E12/$E$14% -> #DIV/0! | E12: =SUM(P12+K12) -> 0 | F12: =G12/$G$14% -> #DIV/0! | G12: =SUM(Q12+L12) -> 0 | H12: =I12/$I$14% -> #DIV/0! | I12: =L12+K12 -> 0 | M12: =N12/$N$14% -> #DIV/0! | N12: =Q12+P12 -> 0 | R12: جامعي فما فوق
A13: Not stated | B13: =SUM(N13+I13) -> 0 | C13: =0 -> 0 | D13: =E13/$E$14% -> #DIV/0! | E13: =SUM(P13+K13) -> 0 | F13: =G13/$G$14% -> #DIV/0! | G13: =SUM(Q13+L13) -> 0 | H13: =I13/$I$14% -> #DIV/0! | I13: =L13+K13 -> 0 | M13: =N13/$N$14% -> #DIV/0! | N13: =Q13+P13 -> 0 | R13: غير مبين
A14: Total | B14: =SUM(B7:B13) -> 0 | C14: =0 -> 0 | D14: =SUM(D7:D13) -> #DIV/0! | E14: =SUM(E7:E13) -> 0 | F14: =SUM(F7:F13) -> #DIV/0! | G14: =SUM(G7:G13) -> 0 | H14: =SUM(H7:H13) -> #DIV/0! | I14: =SUM(I7:I13) -> 0 | J14: =0 -> 0 | K14: =SUM(K7:K13) -> 0 | L14: =SUM(L7:L13) -> 0 | M14: =SUM(M7:M13) -> #DIV/0! | N14: =SUM(N7:N13) -> 0 | O14: =0 -> 0 | P14: =SUM(P7:P13) -> 0 | Q14: =SUM(Q7:Q13) -> 0 | R14: المجموع

Sheet F7
A1: واقعات الولادة الميتة المسجلة حسب النوع والجنسية
A2: REGISTERED FOETAL DEATHS BY GENDER AND NATIONALITY
A3: 2022
A4: Table No.(7) | F4: جدول رقم (7)
A5: Nationality | B5: مجموع Total | C5: غير معرف Unknown | D5: اناث Females | E5: ذكور Males | F5: الجنسية
A6: QATAR | B6: =SUM(C6:E6) -> 15 | C6: 1 | D6: 7 | E6: 7 | F6: قطر
A7: Other CCASG Countries | B7: =SUM(C7:E7) -> 3 | C7: 0 | D7: 1 | E7: 2 | F7: بقية دول مجلس التعاون
A8: Other Arabs Countries | B8: =SUM(C8:E8) -> 20 | C8: 0 | D8: 9 | E8: 11 | F8: بقية الدول العربية
A9: Asian Countries | B9: =SUM(C9:E9) -> 18 | C9: 0 | D9: 7 | E9: 11 | F9: دول أسيوية
A10: Africon Countries | B10: =SUM(C10:E10) -> 4 | C10: 0 | D10: 2 | E10: 2 | F10: دول افريقية
A11: North American Countries | B11: =SUM(C11:E11) -> 0 | C11: 0 | D11: 0 | E11: 0 | F11: دول امريكا الشمالية
A12: Other Countries | B12: =SUM(C12:E12) -> 0 | C12: 0 | D12: 0 | E12: 0 | F12: الدول الأخرى
A13: Total | B13: =SUM(B6:B12) -> 60 | C13: =SUM(C6:C12) -> 1 | D13: =SUM(D6:D12) -> 26 | E13: =SUM(E6:E12) -> 33 | F13: المجموع

Sheet F8-1 
A1: واقعات الولادة الميتة المسجلة حسب فئة عمر الام وترتيب المولود
A2: REGISTERED FOETAL DEATHS BY AGE GROUP OF MOTHER AND CHILD ORDER
A3: QATARIS قطريون
A4: 2022
A5: Table No (8 - 1) | L5: جدول رقم (8 - 1)
A6: Child Order | B6: Age Group of Mother(In Years) (فئة عمر الأم (بالسنوات | L6: ترتيب المولود
B7: المجموع Total | C7: غير مبين Not Stated | D7: 50+ | E7: 45-49 | F7: 40-44 | G7: 35-39 | H7: 30-34 | I7: 25-29 | J7: 20-24 | K7: 15-19
A8: First | B8: =SUM(C8:K8) -> 0 | L8: الأول
A9: Second | B9: =SUM(C9:K9) -> 0 | L9: الثانى
A10: Third | B10: =SUM(C10:K10) -> 0 | L10: الثالث
A11: Fourth | B11: =SUM(C11:K11) -> 0 | L11: الرابع
A12: Fifth | B12: =SUM(C12:K12) -> 0 | L12: الخامس
A13: Sixth | B13: =SUM(C13:K13) -> 0 | L13: السادس
A14: Seventh | B14: =SUM(C14:K14) -> 0 | L14: السابع
A15: Eighth | B15: =SUM(C15:K15) -> 0 | L15: الثامن
A16: Ninth | B16: =SUM(C16:K16) -> 0 | L16: التاسع
A17: Tenth & More | B17: =SUM(C17:K17) -> 0 | L17: العاشر فاكثر
A18: Not Stated | B18: =SUM(C18:K18) -> 0 | L18: غير مبين
A19: Total | B19: =SUM(B8:B18) -> 0 | C19: =SUM(C8:C18) -> 0 | D19: =SUM(D8:D18) -> 0 | E19: =SUM(E8:E18) -> 0 | F19: =SUM(F8:F18) -> 0 | G19: =G8+G9+G10+G11+G12+G13+G14+G15+G16+G17+G18 -> 0 | H19: =SUM(H8:H18) -> 0 | I19: =SUM(I8:I18) -> 0 | J19: =SUM(J8:J18) -> 0 | K19: =SUM(K8:K18) -> 0 | L19: المجموع

Sheet F8-2
A1: واقعات الولادة الميتة المسجلة حسب فئة عمر الام وترتيب المولود
A2: REGISTERED FOETAL DEATHS BY AGE GROUP OF MOTHER AND CHILD ORDER
A3: NON-ATARIS غير قطريين
A4: 2022
A5: Table No (8 - 2) | L5: جدول رقم (8 - 2)
A6: Child Order | B6: Age Group of Mother(In Years) (فئة عمر الأم (بالسنوات | L6: ترتيب المولود
B7: المجموع Total | C7: غير مبين Not Stated | D7: 50+ | E7: 45-49 | F7: 40-44 | G7: 35-39 | H7: 30-34 | I7: 25-29 | J7: 20-24 | K7: 15-19
A8: First | B8: =SUM(C8:K8) -> 0 | L8: الأول
A9: Second | B9: =SUM(C9:K9) -> 0 | L9: الثانى
A10: Third | B10: =SUM(C10:K10) -> 0 | L10: الثالث
A11: Fourth | B11: =SUM(C11:K11) -> 0 | L11: الرابع
A12: Fifth | B12: =SUM(C12:K12) -> 0 | L12: الخامس
A13: Sixth | B13: =SUM(C13:K13) -> 0 | L13: السادس
A14: Seventh | B14: =SUM(C14:K14) -> 0 | L14: السابع
A15: Eighth | B15: =SUM(C15:K15) -> 0 | L15: الثامن
A16: Ninth | B16: =SUM(C16:K16) -> 0 | L16: التاسع
A17: Tenth & More | B17: =SUM(C17:K17) -> 0 | L17: العاشر فاكثر
A18: Not Stated | B18: =SUM(C18:K18) -> 0 | L18: غير مبين
A19: Total | B19: =SUM(B8:B18) -> 0 | C19: =SUM(C8:C18) -> 0 | D19: =SUM(D8:D18) -> 0 | E19: =SUM(E8:E18) -> 0 | F19: =SUM(F8:F18) -> 0 | G19: =G8+G9+G10+G11+G12+G13+G14+G15+G16+G17+G18 -> 0 | H19: =SUM(H8:H18) -> 0 | I19: =SUM(I8:I18) -> 0 | J19: =SUM(J8:J18) -> 0 | K19: =SUM(K8:K18) -> 0 | L19: المجموع

Sheet F8-3
A1: واقعات الولادة الميتة المسجلة حسب فئة عمر الام وترتيب المولود
A2: REGISTERED FOETAL DEATHS BY AGE GROUP OF MOTHER AND CHILD ORDER
A3: TOTAL المجموع
A4: 2022
A5: Table No (8 - 3) | L5: جدول رقم (8 - 3)
A6: Child Order | B6: Age Group of Mother(In Years) (فئة عمر الأم (بالسنوات | L6: ترتيب المولود
B7: المجموع Total | C7: غير مبين Not Stated | D7: 50+ | E7: 45-49 | F7: 40-44 | G7: 35-39 | H7: 30-34 | I7: 25-29 | J7: 20-24 | K7: 15-19
A8: First | B8: =SUM(C8:K8) -> 0 | C8: ='F8-1 '!C8+'F8-2'!C8 -> 0 | D8: ='F8-1 '!D8+'F8-2'!D8 -> 0 | E8: ='F8-1 '!E8+'F8-2'!E8 -> 0 | F8: ='F8-1 '!F8+'F8-2'!F8 -> 0 | G8: ='F8-1 '!G8+'F8-2'!G8 -> 0 | H8: ='F8-1 '!H8+'F8-2'!H8 -> 0 | I8: ='F8-1 '!I8+'F8-2'!I8 -> 0 | J8: ='F8-1 '!J8+'F8-2'!J8 -> 0 | K8: ='F8-1 '!K8+'F8-2'!K8 -> 0 | L8: الأول
A9: Second | B9: =SUM(C9:K9) -> 0 | C9: ='F8-1 '!C9+'F8-2'!C9 -> 0 | D9: ='F8-1 '!D9+'F8-2'!D9 -> 0 | E9: ='F8-1 '!E9+'F8-2'!E9 -> 0 | F9: ='F8-1 '!F9+'F8-2'!F9 -> 0 | G9: ='F8-1 '!G9+'F8-2'!G9 -> 0 | H9: ='F8-1 '!H9+'F8-2'!H9 -> 0 | I9: ='F8-1 '!I9+'F8-2'!I9 -> 0 | J9: ='F8-1 '!J9+'F8-2'!J9 -> 0 | K9: ='F8-1 '!K9+'F8-2'!K9 -> 0 | L9: الثانى
A10: Third | B10: =SUM(C10:K10) -> 0 | C10: ='F8-1 '!C10+'F8-2'!C10 -> 0 | D10: ='F8-1 '!D10+'F8-2'!D10 -> 0 | E10: ='F8-1 '!E10+'F8-2'!E10 -> 0 | F10: ='F8-1 '!F10+'F8-2'!F10 -> 0 | G10: ='F8-1 '!G10+'F8-2'!G10 -> 0 | H10: ='F8-1 '!H10+'F8-2'!H10 -> 0 | I10: ='F8-1 '!I10+'F8-2'!I10 -> 0 | J10: ='F8-1 '!J10+'F8-2'!J10 -> 0 | K10: ='F8-1 '!K10+'F8-2'!K10 -> 0 | L10: الثالث
A11: Fourth | B11: =SUM(C11:K11) -> 0 | C11: ='F8-1 '!C11+'F8-2'!C11 -> 0 | D11: ='F8-1 '!D11+'F8-2'!D11 -> 0 | E11: ='F8-1 '!E11+'F8-2'!E11 -> 0 | F11: ='F8-1 '!F11+'F8-2'!F11 -> 0 | G11: ='F8-1 '!G11+'F8-2'!G11 -> 0 | H11: ='F8-1 '!H11+'F8-2'!H11 -> 0 | I11: ='F8-1 '!I11+'F8-2'!I11 -> 0 | J11: ='F8-1 '!J11+'F8-2'!J11 -> 0 | K11: ='F8-1 '!K11+'F8-2'!K11 -> 0 | L11: الرابع
A12: Fifth | B12: =SUM(C12:K12) -> 0 | C12: ='F8-1 '!C12+'F8-2'!C12 -> 0 | D12: ='F8-1 '!D12+'F8-2'!D12 -> 0 | E12: ='F8-1 '!E12+'F8-2'!E12 -> 0 | F12: ='F8-1 '!F12+'F8-2'!F12 -> 0 | G12: ='F8-1 '!G12+'F8-2'!G12 -> 0 | H12: ='F8-1 '!H12+'F8-2'!H12 -> 0 | I12: ='F8-1 '!I12+'F8-2'!I12 -> 0 | J12: ='F8-1 '!J12+'F8-2'!J12 -> 0 | K12: ='F8-1 '!K12+'F8-2'!K12 -> 0 | L12: الخامس
A13: Sixth | B13: =SUM(C13:K13) -> 0 | C13: ='F8-1 '!C13+'F8-2'!C13 -> 0 | D13: ='F8-1 '!D13+'F8-2'!D13 -> 0 | E13: ='F8-1 '!E13+'F8-2'!E13 -> 0 | F13: ='F8-1 '!F13+'F8-2'!F13 -> 0 | G13: ='F8-1 '!G13+'F8-2'!G13 -> 0 | H13: ='F8-1 '!H13+'F8-2'!H13 -> 0 | I13: ='F8-1 '!I13+'F8-2'!I13 -> 0 | J13: ='F8-1 '!J13+'F8-2'!J13 -> 0 | K13: ='F8-1 '!K13+'F8-2'!K13 -> 0 | L13: السادس
A14: Seventh | B14: =SUM(C14:K14) -> 0 | C14: ='F8-1 '!C14+'F8-2'!C14 -> 0 | D14: ='F8-1 '!D14+'F8-2'!D14 -> 0 | E14: ='F8-1 '!E14+'F8-2'!E14 -> 0 | F14: ='F8-1 '!F14+'F8-2'!F14 -> 0 | G14: ='F8-1 '!G14+'F8-2'!G14 -> 0 | H14: ='F8-1 '!H14+'F8-2'!H14 -> 0 | I14: ='F8-1 '!I14+'F8-2'!I14 -> 0 | J14: ='F8-1 '!J14+'F8-2'!J14 -> 0 | K14: ='F8-1 '!K14+'F8-2'!K14 -> 0 | L14: السابع
A15: Eighth | B15: =SUM(C15:K15) -> 0 | C15: ='F8-1 '!C15+'F8-2'!C15 -> 0 | D15: ='F8-1 '!D15+'F8-2'!D15 -> 0 | E15: ='F8-1 '!E15+'F8-2'!E15 -> 0 | F15: ='F8-1 '!F15+'F8-2'!F15 -> 0 | G15: ='F8-1 '!G15+'F8-2'!G15 -> 0 | H15: ='F8-1 '!H15+'F8-2'!H15 -> 0 | I15: ='F8-1 '!I15+'F8-2'!I15 -> 0 | J15: ='F8-1 '!J15+'F8-2'!J15 -> 0 | K15: ='F8-1 '!K15+'F8-2'!K15 -> 0 | L15: الثامن
A16: Ninth | B16: =SUM(C16:K16) -> 0 | C16: ='F8-1 '!C16+'F8-2'!C16 -> 0 | D16: ='F8-1 '!D16+'F8-2'!D16 -> 0 | E16: ='F8-1 '!E16+'F8-2'!E16 -> 0 | F16: ='F8-1 '!F16+'F8-2'!F16 -> 0 | G16: ='F8-1 '!G16+'F8-2'!G16 -> 0 | H16: ='F8-1 '!H16+'F8-2'!H16 -> 0 | I16: ='F8-1 '!I16+'F8-2'!I16 -> 0 | J16: ='F8-1 '!J16+'F8-2'!J16 -> 0 | K16: ='F8-1 '!K16+'F8-2'!K16 -> 0 | L16: التاسع
A17: Tenth & More | B17: =SUM(C17:K17) -> 0 | C17: ='F8-1 '!C17+'F8-2'!C17 -> 0 | D17: ='F8-1 '!D17+'F8-2'!D17 -> 0 | E17: ='F8-1 '!E17+'F8-2'!E17 -> 0 | F17: ='F8-1 '!F17+'F8-2'!F17 -> 0 | G17: ='F8-1 '!G17+'F8-2'!G17 -> 0 | H17: ='F8-1 '!H17+'F8-2'!H17 -> 0 | I17: ='F8-1 '!I17+'F8-2'!I17 -> 0 | J17: ='F8-1 '!J17+'F8-2'!J17 -> 0 | K17: ='F8-1 '!K17+'F8-2'!K17 -> 0 | L17: العاشر فاكثر
A18: Not Stated | B18: =SUM(C18:K18) -> 0 | C18: ='F8-1 '!C18+'F8-2'!C18 -> 0 | D18: ='F8-1 '!D18+'F8-2'!D18 -> 0 | E18: ='F8-1 '!E18+'F8-2'!E18 -> 0 | F18: ='F8-1 '!F18+'F8-2'!F18 -> 0 | G18: ='F8-1 '!G18+'F8-2'!G18 -> 0 | H18: ='F8-1 '!H18+'F8-2'!H18 -> 0 | I18: ='F8-1 '!I18+'F8-2'!I18 -> 0 | J18: ='F8-1 '!J18+'F8-2'!J18 -> 0 | K18: ='F8-1 '!K18+'F8-2'!K18 -> 0 | L18: غير مبين
A19: Total | B19: =SUM(B8:B18) -> 0 | C19: =SUM(C8:C18) -> 0 | D19: =SUM(D8:D18) -> 0 | E19: =SUM(E8:E18) -> 0 | F19: =SUM(F8:F18) -> 0 | G19: =G8+G9+G10+G11+G12+G13+G14+G15+G16+G17+G18 -> 0 | H19: =SUM(H8:H18) -> 0 | I19: =SUM(I8:I18) -> 0 | J19: =SUM(J8:J18) -> 0 | K19: =SUM(K8:K18) -> 0 | L19: المجموع

Sheet chapter-3
A1: الباب الثالث: الوفيــات
A2: CHAPTER THREE: DEATHS

Sheet Map Deaths

Sheet D-1
A1: الوفيات المسجلة حسب الجنسية والنوع
A2: REGISTERED DEATHS BY NATIONALITY AND GENDER
A3: 2014 - 2023
A4: Table No. (1) | P4: جدول رقم (1)
A5: Nationality &Gender Year | B5: المجموع Total | F5: Non-Qataris غير قطريين | K5: Qataris قطريون | P5: الجنسية والنوع السنة
B6: المجموع Total | C6: غير مبين Not Stated | D6: إناث Females | E6: ذكور Males | F6: % | G6: المجموع Total | H6: غير مبين Not Stated | I6: إناث Females | J6: ذكور Males | K6: % | L6: المجموع Total | M6: غير مبين Not Stated | N6: إناث Females | O6: ذكور Males
A7: 2014 | B7: =E7+D7+C7 -> 2366 | C7: =M7+H7 -> 0 | D7: =N7+I7 -> 640 | E7: =O7+J7 -> 1726 | F7: =G7/B7% -> 68.681319 | G7: =J7+I7+H7 -> 1625 | H7: 0 | I7: 338 | J7: 1287 | K7: =L7/B7% -> 31.318681 | L7: =O7+N7+M7 -> 741 | M7: 0 | N7: 302 | O7: 439 | P7: 2014
A8: 2015 | B8: =E8+D8+C8 -> 2317 | C8: =M8+H8 -> 0 | D8: =N8+I8 -> 611 | E8: =O8+J8 -> 1706 | F8: =G8/B8% -> 70.651705 | G8: =J8+I8+H8 -> 1637 | H8: 0 | I8: 328 | J8: 1309 | K8: =L8/B8% -> 29.348295 | L8: =O8+N8+M8 -> 680 | M8: 0 | N8: 283 | O8: 397 | P8: 2015
A9: 2016 | B9: =E9+D9+C9 -> 2347 | C9: =M9+H9 -> 0 | D9: =N9+I9 -> 600 | E9: =O9+J9 -> 1747 | F9: =G9/B9% -> 70.387729 | G9: =J9+I9+H9 -> 1652 | H9: 0 | I9: 337 | J9: 1315 | K9: =L9/B9% -> 29.612271 | L9: =O9+N9+M9 -> 695 | M9: 0 | N9: 263 | O9: 432 | P9: 2016
A10: 2017 | B10: =E10+D10+C10 -> 2294 | C10: =M10+H10 -> 0 | D10: =N10+I10 -> 625 | E10: =O10+J10 -> 1669 | F10: =G10/B10% -> 69.267655 | G10: =J10+I10+H10 -> 1589 | H10: 0 | I10: 345 | J10: 1244 | K10: =L10/B10% -> 30.732345 | L10: =O10+N10+M10 -> 705 | M10: 0 | N10: 280 | O10: 425 | P10: 2017
A11: 2018 | B11: =E11+D11+C11 -> 2385 | C11: =M11+H11 -> 0 | D11: =N11+I11 -> 660 | E11: =O11+J11 -> 1725 | F11: =G11/B11% -> 68.301887 | G11: =J11+I11+H11 -> 1629 | H11: 0 | I11: 359 | J11: 1270 | K11: =L11/B11% -> 31.698113 | L11: =O11+N11+M11 -> 756 | M11: 0 | N11: 301 | O11: 455 | P11: 2018
A12: 2019 | B12: =E12+D12+C12 -> 2200 | C12: =M12+H12 -> 0 | D12: =N12+I12 -> 684 | E12: =O12+J12 -> 1516 | F12: =G12/B12% -> 68.590909 | G12: =J12+I12+H12 -> 1509 | H12: 0 | I12: 389 | J12: 1120 | K12: =L12/B12% -> 31.409091 | L12: =O12+N12+M12 -> 691 | M12: 0 | N12: 295 | O12: 396 | P12: 2019
A13: 2020 | B13: =E13+D13+C13 -> 2811 | C13: =M13+H13 -> 0 | D13: =N13+I13 -> 775 | E13: =O13+J13 -> 2036 | F13: =G13/B13% -> 73.99502 | G13: =J13+I13+H13 -> 2080 | H13: 0 | I13: 473 | J13: 1607 | K13: =L13/B13% -> 26.00498 | L13: =O13+N13+M13 -> 731 | M13: 0 | N13: 302 | O13: 429 | P13: 2020
A14: 2021 | B14: =E14+D14+C14 -> 2841 | C14: =M14+H14 -> 0 | D14: =N14+I14 -> 810 | E14: =O14+J14 -> 2031 | F14: =G14/B14% -> 70.432946 | G14: =J14+I14+H14 -> 2001 | H14: 0 | I14: 432 | J14: 1569 | K14: =L14/B14% -> 29.567054 | L14: =O14+N14+M14 -> 840 | M14: 0 | N14: 378 | O14: 462 | P14: 2021
A15: 2022 | B15: =E15+D15+C15 -> 2792 | C15: =M15+H15 -> 1 | D15: =N15+I15 -> 850 | E15: =O15+J15 -> 1941 | F15: =G15/B15% -> 66.153295 | G15: =J15+I15+H15 -> 1847 | H15: 1 | I15: 427 | J15: 1419 | K15: =L15/B15% -> 33.846705 | L15: =O15+N15+M15 -> 945 | M15: 0 | N15: 423 | O15: 522 | P15: 2022
A16: 2023 | B16: =E16+D16+C16 -> 2714 | C16: =M16+H16 -> 2 | D16: =N16+I16 -> 821 | E16: =O16+J16 -> 1891 | F16: =G16/B16% -> 70.596905 | G16: =J16+I16+H16 -> 1916 | H16: 2 | I16: 466 | J16: 1448 | K16: =L16/B16% -> 29.403095 | L16: =O16+N16+M16 -> 798 | M16: 0 | N16: 355 | O16: 443 | P16: 2023

Sheet D-2
A1: الوفيات المسجلة حسب الجنسية والنوع والبلدية
A2: REGISTERED DEATHS BY NATIONALITY, GENDER AND MUNICIPALITY
A3: 2023
A4: Table No. (2) | R4: جدول رقم (2)
A5: Nationality &Gender Year | B5: المجموع Total | H5: غير قطريين Non-Qataris | M5: قطريون Qataris | R5: الجنسية والنوع البلدية
B6: المجموع Total | C6: غير مبين Not Stated | D6: نسبة الإناث % Females | E6: إناث Females | F6: نسبة الذكور % Males | G6: ذكور Males | H6: % | I6: المجموع Total | J6: غير مبين Not Stated | K6: إناث Females | L6: ذكور Males | M6: % | N6: المجموع Total | O6: غير مبين Not Stated | P6: إناث Females | Q6: ذكور Males
A7: Doha | B7: =N7+I7 -> 1152 | C7: =O7+J7 -> 0 | D7: =(E7/$E$17)*100 -> 32.27771 | E7: =P7+K7 -> 265 | F7: =(G7/$G$17)*100 -> 46.906399 | G7: =Q7+L7 -> 887 | H7: =(I7/$I$17)*100 -> 48.851775 | I7: =L7+K7+J7 -> 936 | J7: 0 | K7: 170 | L7: 766 | M7: =(N7/$N$17)*100 -> 27.067669 | N7: =Q7+P7+O7 -> 216 | O7: 0 | P7: 95 | Q7: 121 | R7: الدوحة
A8: Al Rayyan | B8: =N8+I8 -> 628 | C8: =O8+J8 -> 0 | D8: =(E8/$E$17)*100 -> 26.674787 | E8: =P8+K8 -> 219 | F8: =(G8/$G$17)*100 -> 21.628768 | G8: =Q8+L8 -> 409 | H8: =(I8/$I$17)*100 -> 20.668058 | I8: =L8+K8+J8 -> 396 | J8: 0 | K8: 115 | L8: 281 | M8: =(N8/$N$17)*100 -> 29.072682 | N8: =Q8+P8+O8 -> 232 | O8: 0 | P8: 104 | Q8: 128 | R8: الريان
A9: Al Wakra | B9: =N9+I9 -> 177 | C9: =O9+J9 -> 0 | D9: =(E9/$E$17)*100 -> 7.7953715 | E9: =P9+K9 -> 64 | F9: =(G9/$G$17)*100 -> 5.9756742 | G9: =Q9+L9 -> 113 | H9: =(I9/$I$17)*100 -> 7.3068894 | I9: =L9+K9+J9 -> 140 | J9: 0 | K9: 39 | L9: 101 | M9: =(N9/$N$17)*100 -> 4.6365915 | N9: =Q9+P9+O9 -> 37 | O9: 0 | P9: 25 | Q9: 12 | R9: الوكرة
A10: Umm Salal | B10: =N10+I10 -> 108 | C10: =O10+J10 -> 0 | D10: =(E10/$E$17)*100 -> 4.9939099 | E10: =P10+K10 -> 41 | F10: =(G10/$G$17)*100 -> 3.5430989 | G10: =Q10+L10 -> 67 | H10: =(I10/$I$17)*100 -> 3.2359081 | I10: =L10+K10+J10 -> 62 | J10: 0 | K10: 21 | L10: 41 | M10: =(N10/$N$17)*100 -> 5.764411 | N10: =Q10+P10+O10 -> 46 | O10: 0 | P10: 20 | Q10: 26 | R10: ام صلال
A11: Al Khor | B11: =N11+I11 -> 81 | C11: =O11+J11 -> 0 | D11: =(E11/$E$17)*100 -> 2.9232643 | E11: =P11+K11 -> 24 | F11: =(G11/$G$17)*100 -> 3.0142782 | G11: =Q11+L11 -> 57 | H11: =(I11/$I$17)*100 -> 2.9227557 | I11: =L11+K11+J11 -> 56 | J11: 0 | K11: 14 | L11: 42 | M11: =(N11/$N$17)*100 -> 3.1328321 | N11: =Q11+P11+O11 -> 25 | O11: 0 | P11: 10 | Q11: 15 | R11: الخور
A12: Al Shamal | B12: =N12+I12 -> 9 | C12: =O12+J12 -> 0 | D12: =(E12/$E$17)*100 -> 0.36540804 | E12: =P12+K12 -> 3 | F12: =(G12/$G$17)*100 -> 0.31729244 | G12: =Q12+L12 -> 6 | H12: =(I12/$I$17)*100 -> 0.20876827 | I12: =L12+K12+J12 -> 4 | J12: 0 | K12: 1 | L12: 3 | M12: =(N12/$N$17)*100 -> 0.62656642 | N12: =Q12+P12+O12 -> 5 | O12: 0 | P12: 2 | Q12: 3 | R12: الشمال
A13: Al Dhayyen | B13: =N13+I13 -> 88 | C13: =O13+J13 -> 0 | D13: =(E13/$E$17)*100 -> 3.6540804 | E13: =P13+K13 -> 30 | F13: =(G13/$G$17)*100 -> 3.0671602 | G13: =Q13+L13 -> 58 | H13: =(I13/$I$17)*100 -> 2.0876827 | I13: =L13+K13+J13 -> 40 | J13: 0 | K13: 7 | L13: 33 | M13: =(N13/$N$17)*100 -> 6.0150376 | N13: =Q13+P13+O13 -> 48 | O13: 0 | P13: 23 | Q13: 25 | R13: الظعاين
A14: Al Sheehaniya | B14: =N14+I14 -> 58 | C14: =O14+J14 -> 0 | D14: =(E14/$E$17)*100 -> 1.0962241 | E14: =P14+K14 -> 9 | F14: =(G14/$G$17)*100 -> 2.5912216 | G14: =Q14+L14 -> 49 | H14: =(I14/$I$17)*100 -> 2.4008351 | I14: =L14+K14+J14 -> 46 | J14: 0 | K14: 7 | L14: 39 | M14: =(N14/$N$17)*100 -> 1.5037594 | N14: =Q14+P14+O14 -> 12 | O14: 0 | P14: 2 | Q14: 10 | R14: الشيحانية
A15: Outside Qatar | B15: =N15+I15 -> 154 | C15: =O15+J15 -> 0 | D15: =(E15/$E$17)*100 -> 7.4299635 | E15: =P15+K15 -> 61 | F15: =(G15/$G$17)*100 -> 4.9180328 | G15: =Q15+L15 -> 93 | H15: =(I15/$I$17)*100 -> 0.1565762 | I15: =L15+K15+J15 -> 3 | J15: 0 | K15: 1 | L15: 2 | M15: =(N15/$N$17)*100 -> 18.922306 | N15: =Q15+P15+O15 -> 151 | O15: 0 | P15: 60 | Q15: 91 | R15: خارج قطر
A16: Not Stated | B16: =N16+I16 -> 259 | C16: =O16+J16 -> 2 | D16: =(E16/$E$17)*100 -> 12.789281 | E16: =P16+K16 -> 105 | F16: =(G16/$G$17)*100 -> 8.0380751 | G16: =Q16+L16 -> 152 | H16: =(I16/$I$17)*100 -> 12.160752 | I16: =L16+K16+J16 -> 233 | J16: 2 | K16: 91 | L16: 140 | M16: =(N16/$N$17)*100 -> 3.2581454 | N16: =Q16+P16+O16 -> 26 | O16: 0 | P16: 14 | Q16: 12 | R16: غير مبين
A17: Total | B17: =SUM(B7:B16) -> 2714 | C17: =SUM(C7:C16) -> 2 | D17: =SUM(D7:D16) -> 100 | E17: =SUM(E7:E16) -> 821 | F17: =SUM(F7:F16) -> 100 | G17: =SUM(G7:G16) -> 1891 | H17: =SUM(H7:H16) -> 100 | I17: =SUM(I7:I16) -> 1916 | ... Q17: =SUM(Q7:Q16) -> 443 | R17: المجموع

Sheet D-3
A1: الوفيات المسجلة حسب الجنسية والنوع والشهر
A2: REGISTERED DEATHS BY NATIONALITY, GENDER AND MONTH
A3: 2023
A4: Table No. (3) | N4: جدول رقم (3)
