Workbook

Sheet Cover

Sheet المحتويات
A1: المحتـويــــــــات Contents

Sheet Cont
A1: Contents | D1: المحتويات
A2: Tables | B2: رقم الصفحة Page No. | C2: رقم الجدول Table No. | D2: الجداول
A3: CHAPTER ONE : VITAL INDICATORS | D3: الباب الأول : المؤشرات الحيوية
A4: General Fertility, Total Fertility and Gross Reproduction Rate, and Average Age of Child Bearing by Nationality (2019-2023) | B4: 1 | C4: 1 | D4: معدل الخصوبة العام والخصوبة الكلية والإحلال الإجمالى ومتوسط عمر المرأة عند الإنجاب حسب الجنسية (2019-2023)
A5: Crude Birth and Death Rate, Natural Increase Rate, Maternal Mortality Rate and Rate Of Deliveries Under Medical Supervision (2014-2023) | B5: 2 | C5: 2 | D5: معدل المواليد والوفيات الخام ومعدل الزيادة الطبيعية ومعدل وفيات الأمهات ونسبة الولادات التي تجري تحت إشراف صحي (2014-2023)
A6: Neonatal Mortality Rate (per 1000 live births) (2014-2023) | B6: 3 | C6: 3 | D6: معدل وفيات حديثي الولادة (لكل ألف مولود حي)(2014-2023)
A7: Infant Mortality Rate by Nationality and Gender (per 1000 live births) (2014-2023) | B7: 4 | C7: 4 | D7: معدل وفيات الأطفال الرضع حسب الجنسية والنوع (لكل ألف مولود حي) (2014-2023)
A8: Child Mortality Rate (Less Than 5 Years) by Nationality and Gender (per 1000 live births) (2014-2023) | B8: 5 | C8: 5 | D8: معدل وفيات الأطفال (أقل من 5 سنوات) حسب الجنسية والنوع (لكل ألف مولود حي) (2014-2023)
A9: Child Mortality Rate (1 - 4 years) by Nationality and Gender(per 1000 live births) (2014-2023) | B9: 7 | C9: 6 | D9: معدل وفيات الأطفال (1 - 4 سنوات) حسب الجنسية والنوع (لكل ألف مولود حي) (2014-2023)
A11: CHAPTER TWO : LIVE BIRTHS | D11: الباب الثاني : المواليــــد الأحياء
A12: Registered Vital Events (2014-2023) | B12: 12 | C12: 1 | D12: الواقعات الحيوية المسجلة (2014-2023)
A13: Non-Registered Live Births by Nationality and Gender (2014-2023) | B13: 14 | C13: 2 | D13: المواليد الأحياء فاقدو القيد حسب الجنسية والنوع (2014-2023)
A14: Registered Live Births by Nationality, Gender and Gender Ratio at birth (2014-2023) | B14: 15 | C14: 3 | D14: المواليد الأحياء المسجلون حسب الجنسية والنوع ونسبة النوع عند الميلاد (2014-2023)
A15: Registerd Live Births by Nationality and Gender (2014-2023) | B15: 16 | C15: 4 | D15: المواليد الأحياء المسجلون حسب الجنسية والنوع (2014-2023)
A16: Registered Live Births by Nationality, Gender and Municipality (2023) | B16: 17 | C16: 5 | D16: المواليد الأحياء المسجلون حسب الجنسية والنوع والبلدية (2023)
A17: Registered Live Births by Month, Gender and Municipality, Qataris (2023) | B17: 19 | C17: 6-1 | D17: المواليد الأحياء المسجلون حسب الشهر والنوع والبلدية، قطريون (2023)
A18: Registered Live Births by Month, Gender and Municipality, Non-Qataris (2023) | B18: 20 | C18: 6-2 | D18: المواليد الأحياء المسجلون حسب الشهر والنوع والبلدية، غير قطريين (2023)
A19: Registered Live Births by Month, Gender and Municipality, Total (2023) | B19: 21 | C19: 6-3 | D19: المواليد الأحياء المسجلون حسب الشهر والنوع والبلدية، المجموع (2023)
A20: Registered Live Births by Nationality, Type of Births and Municipality (2023) | B20: 23 | C20: 7 | D20: المواليد الأحياء المسجلون حسب الجنسية ونوع الولادة والبلدية (2023)
A21: Registered Live Births by Nationality, Delivery Attendant, Place of Birth and Municipality (2023) | B21: 24 | C21: 8 | D21: المواليد الأحياء المسجلون حسب الجنسية وصفة القائم بالتوليد ومكان الولادة والبلدية (2023)
A22: Registered Live Births by Gender and Nationality (2019-2023) | B22: 25 | C22: 9 | D22: المواليد الأحياء المسجلون حسب النوع والجنسية (2019-2023)
A23: Registered Live Births by Nationality, Gender and Mother's Age Group (2023) | B23: 27 | C23: 10 | D23: المواليد الأحياء المسجلون حسب الجنسية والنوع وفئة عمر الأم (2023)
... A44: Registered Live Births by Father's Age Group, Nationality and Occupation (2023) | B44: 51 | C44: 19 | D44: المواليد الأحياء المسجلون حسب فئة عمر الأب وجنسيته ومهنته (2023)
A45: CHAPTER THREE : FOETAL DEATHS | D45: الباب الثالث : المواليــــد موتى
A46: REGISTERED FOETAL DEATHS BY NATIONALITY AND GENDER (2013-2022) | C46: 1 | D46: واقعات الولادة الميتة المسجلة حسب الجنسية والنوع (2013-2022)
A47: REGISTERED FOETAL DEATHS BY NATIONALITY, GENDER AND MUNICIPALITY (2022) | C47: 2 | D47: واقعات الولادة الميتة المسجلة حسب الجنسية والنوع والبلدية (2022)
A48: REGISTERED FOETAL DEATHS BY NATIONALITY, GENDER AND MONTH (2022) | C48: 3 | D48: واقعات الولادة الميتة المسجلة حسب الجنسية والنوع والشهر (2022)
A49: REGISTERED FOETAL DEATHS BY NATIONALITY, GENDER AND AGE GROUP OF MOTHER, (2022) | C49: 4 | D49: واقعات الولادة الميتة المسجلة حسب الجنسية والنوع وفئة عمر الأم (2022)
A50: REGISTERED FOETAL DEATHS BY NATIONALITY, GENDER AND GESTATIONAL AGE IN WEEKS (2022) | C50: 5 | D50: واقعات الولادة الميتة المسجلة حسب الجنسية والنوع والعمر الرحمى بالاسابيع (2022)
A51: REGISTERED FOETAL DEATHS BY NATIONALITY, GENDER AND EDUCATIONAL STATUS OF MOTHER (2022) | C51: 6 | D51: واقعات الولادة الميتة المسجلة حسب الجنسية والنوع والحالة التعليمية للأم (2022)
A52: REGISTERED FOETAL DEATHS BY GENDER AND NATIONALITY (2022) | C52: 7 | D52: واقعات الولادة الميتة المسجلة حسب النوع والجنسية (2022)
A53: REGISTERED FOETAL DEATHS BY AGE GROUP OF MOTHER AND CHILD ORDER (Qataris) (2022) | C53: 8-1 | D53: واقعات الولادة الميتة المسجلة حسب فئة عمر الام وترتيب المولود، قطريون (2022)
A54: REGISTERED FOETAL DEATHS BY AGE GROUP OF MOTHER AND CHILD ORDER (Non-Qataris) (2022) | C54: 8-2 | D54: واقعات الولادة الميتة المسجلة حسب فئة عمر الام وترتيب المولود، غير قطريين (2022)
A55: REGISTERED FOETAL DEATHS BY AGE GROUP OF MOTHER AND CHILD ORDER (Total) (2022) | C55: 8-3 | D55: واقعات الولادة الميتة المسجلة حسب فئة عمر الام وترتيب المولود، المجموع (2022)
A57: CHAPTER THREE : DEATHS | D57: الباب الثالث: الوفيات
A58: Registered Deaths by Nationality and Gender (2014-2023) | B58: 56 | C58: 1 | D58: الوفيات المسجلة حسب الجنسية والنوع (2014-2023)
A59: Registered Deaths by Nationality, Gender and Municipality (2023) | B59: 57 | C59: 2 | D59: الوفيات المسجلة حسب الجنسية والنوع والبلدية (2023)
A60: Registered Deaths by Nationality, Gender and Month (2023) | B60: 58 | C60: 3 | D60: الوفيات المسجلة حسب الجنسية والنوع والشهر (2023)
A61: Registered Deaths by Nationality, Gender and Age (2023) | B61: 60 | C61: 4 | D61: الوفيات المسجلة حسب الجنسية والنوع والعمر (2023)
A62: Registered Qatari Deaths by Place of Death, Gender and Age Groups (2023) | B62: 62 | C62: 5 | D62: الوفيات المسجلة للقطريين حسب مكان الوفاة والنوع والفئات العمرية (2023)
...

Sheet Con-GR
A1: List of Figures | D1: فهرس الرسوم البيانية
A2: Figure | B2: رقم الصفحة Page No. | C2: رقم الشكل Figure No. | D2: الشكل
A4: CHAPTER ONE : VITAL INDICATORS | D4: الباب الأول : المؤشرات الحيوية
A5: Child Mortality Rate (Less Than 5 Years) by Gender (per 1000 live births) (2014-2023) | B5: 6 | C5: 1 | D5: معدل وفيات الأطفال (أقل من 5 سنوات) حسب النوع (لكل ألف مولود حي) (2014 - 2023)
A7: CHAPTER TWO : LIVE BIRTHS | D7: الباب الثاني : المواليــــد الأحياء
A8: Registered Vital Events (2014-2023) | B8: 13 | C8: 2 | D8: الواقعات الحيوية المسجلة (2014 -2023)
A9: Registered Live Births by Nationality and Municipality (2023) | B9: 18 | C9: 3 | D9: المواليد الأحياء المسجلون حسب الجنسية والبلدية (2023)
A10: Registered Live Births by Gender and Month (2023) | B10: 22 | C10: 4 | D10: المواليد الأحياء المسجلون حسب النوع والشهر (2023)
A11: Registered Live Births by Nationality (2023) | B11: 26 | C11: 5 | D11: المواليد الأحياء المسجلون حسب الجنسية (2023)
A12: Registered Live Births by Nationality and Mother's Age Group (2023) | B12: 28 | C12: 6 | D12: المواليد الأحياء المسجلون حسب الجنسية و فئة عمر الأم (2023)
A13: Registered Live Births by Mother's Nationality and Age Group (2023) | B13: 30 | C13: 7 | D13: المواليد الأحياء المسجلون حسب جنسية الأم وفئة عمرها (2023)
A14: Registered Live Births by Mother's Educational Status (2023) | B14: 45 | C14: 8 | D14: المواليد الأحياء المسجلون حسب الحالة التعليمية للأم (2023)
A16: CHAPTER THREE : DEATHS | D16: الباب الثالث: الوفيات
A17: Registered Deaths by Gender and Month (2023) | B17: 59 | C17: 9 | D17: الوفيات المسجلة حسب النوع والشهر (2023)
A18: Registered Deaths by Nationality and Age Groups (2023) | B18: 61 | C18: 10 | D18: الوفيات المسجلة حسب الجنسية والفئات العمرية (2023)
A19: Registered Qatari Deaths by Place of Death (2023) | B19: 64 | C19: 11 | D19: الوفيات المسجلة للقطريين حسب مكان الوفاة (2023)
A20: Registered Deaths by Nationality (2023) | B20: 75 | C20: 12 | D20: الوفيات المسجلة حسب الجنسية (2023)
A22: CHAPTER FOUR : INFANT DEATHS | D22: الباب الرابع: وفيات الأطفال الرضع
A23: Registered Infant Deaths by Nationality (2014-2023) | B23: 104 | C23: 13 | D23: وفيات الأطفال الرضع المسجلة حسب الجنسية (2014 - 2023)
A24: Registered Infant Deaths by Gender and Nationality (2023) | B24: 111 | C24: 14 | D24: وفيات الأطفال الرضع المسجلة حسب النوع والجنسية (2023)

Sheet chapter1
A1: الباب الأول: المؤشرات الحيوية CHAPTER ONE: VITAL INDICATORS

Sheet 1
A1: معدل الخصوبة العام والخصوبة الكلية والإحلال الإجمالى ومتوسط عمر المرأة عند الإنجاب حسب الجنسية
A2: GENERAL FERTILITY, TOTAL FERTILITY AND GROSS REPRODUCTION RATE, AND AVERAGE AGE OF CHILD BEARING BY NATIONALITY
A3: 2019 - 2023
A4: Table No. (1) | I4: جدول رقم (1)
A5: Year Rate & Nationality | C5: 2023 | D5: 2022 | E5: 2021 | F5: 2020 | G5: 2019 | H5: السنة المعدل والجنسية
A6: General Fertility Rate Per 1000 Women | B6: Qataris | C6: 65.42 | D6: 69.67 | E6: 77.67 | F6: 72.42 | G6: 76.92 | H6: قطريات | I6: معدل الخصوبة العام لكل ألف امرأة
B7: Non-Qataris | C7: 45.25 | D7: 46.28 | E7: 49.52 | F7: 53.2 | G7: 56.26 | H7: غير قطريات
B8: Total | C8: 48.38 | D8: 50.15 | E8: 54.49 | F8: 56.27 | G8: 59.72 | H8: المجموع
A9: Total Fertility Rate Per Woman | B9: Qataris | C9: 2.25 | D9: 2.38 | E9: 2.65 | F9: 2.48 | G9: 2.62 | H9: قطريات | I9: معدل الخصوبة الكلية لكل امرأة
B10: Non-Qataris | C10: 1.38 | D10: 1.4 | E10: 1.45 | F10: 1.59 | G10: 1.63 | H10: غير قطريات
B11: Total | C11: 1.46 | D11: 1.51 | E11: 1.6 | F11: 1.67 | G11: 1.73 | H11: المجموع
A12: Gross Reproduction Rate | B12: Qataris | C12: 1.11 | D12: 1.17 | E12: 1.28 | F12: 1.23 | G12: 1.287 | H12: قطريات | I12: معدل الإحلال الإجمالي
B13: Non-Qataris | C13: 0.67 | D13: 0.69 | E13: 0.7 | F13: 0.77 | G13: 0.79 | H13: غير قطريات
B14: Total | C14: 0.71 | D14: 0.74 | E14: 0.78 | F14: 0.82 | G14: 0.84 | H14: المجموع
A15: Average Age Of Child Bearing | B15: Qataris | C15: 32.06 | D15: 31.93 | E15: 31.93 | F15: 32.05 | G15: 31.77 | H15: قطريات | I15: متوسط عمر المرأة عند الإنجاب
B16: Non-Qataris | C16: 29.85 | D16: 29.75 | E16: 30.16 | F16: 29.66 | G16: 29.67 | H16: غير قطريات
B17: Total | C17: 30.33 | D17: 30.25 | E17: 30.57 | F17: 30.19 | G17: 30.2 | H17: المجموع
A18: Values representing rates are not calculated as the sum of sub-values; rather, they are calculated at the overall leve | F18: القيم التي تمثل معدلات لا تُحتسب كمجموع للقيم الفرعية، وإنما هي معدلات محسوبة على مستوى الإجمالي

Sheet 2
A1: معدل المواليد والوفيات الخام ومعدل الزيادة الطبيعية ومعدل وفيات الأمهات ونسبة الولادات التي تجري تحت إشراف صحي
A2: CRUDE BIRTH AND DEATH RATE, NATURAL INCREASE RATE, MATERNAL MORTALITY RATE AND RATE OF DELIVERIES UNDER MEDICAL SUPERVISION
A3: 2014 - 2023
A4: Table No. (2) | G4: جدول رقم (2)
A5: Year | B5: نسبة الولادات التي تجري تحت إشراف صحي | C5: نسبة وفيات الأمهات لكل 100000 من المواليد أحياء | D5: الزيادة الطبيعية لكل 1000 من السكان | E5: معدل الوفيات الخام لكل 1000 من السكان | F5: معدل المواليد الخام لكل 1000 من السكان | G5: السنة
B6: Rate Of Deliveries Under Medical Supervision | C6: Maternal Mortality Rate Per 100000 Live Birth | D6: Natural Increase Per 1000 Population | E6: Crude Death Rate Per 1000 Population | F6: Crude Birth Rate Per 1000 Population
A7: 2014 | B7: 100 | C7: 3.93 | D7: 10.41 | E7: 1.1 | F7: 11.48 | G7: 2014
A8: 2015 | B8: 100 | C8: 11.27 | D8: 9.97 | E8: 0.95 | F8: 10.920547 | G8: 2015
A9: 2016 | B9: 100 | C9: 0 | D9: 9.35 | E9: 0.9 | F9: 10.244366 | G9: 2016
A10: 2017 | B10: 100 | C10: 0 | D10: 9.4 | E10: 0.84 | F10: 10.242215 | G10: 2017
A11: 2018 | B11: 100 | C11: 3.56 | D11: 9.31 | E11: 0.86 | F11: 10.169301 | G11: 2018
A12: 2019 | B12: 100 | C12: 3.52 | D12: 9.36 | E12: 0.79 | F12: 10.150036 | G12: 2019
A13: 2020 | B13: 100 | C13: 3.45 | D13: 9.25 | E13: 0.99 | F13: 10.238986 | G13: 2020
A14: 2021 | B14: 100 | C14: 7.6 | D14: 8.54 | E14: 1.03 | F14: 9.5769463 | G14: 2021
A15: 2022 | B15: 100 | C15: 7.6 | D15: 8.02 | E15: 0.95 | F15: 8.9747057 | G15: 2022
A16: 2023 | B16: 100 | C16: 3.66 | D16: 8.03 | E16: 0.89 | F16: 8.9199985 | G16: 2023

Sheet 3
A1: معدل وفيات حديثي الولادة (لكل ألف مولود حي)
A2: NEONATAL MORTALITY RATE (PER 1,000 LIVE BIRTHS)
A3: 2014 - 2023
A4: Table No. (3) | N4: جدول رقم (3)
A5: Year Rate & Nationality | C5: 2023 | D5: 2022 | E5: 2021 | F5: 2020 | G5: 2019 | H5: 2018 | I5: 2017 | J5: 2016 | K5: 2015 | L5: 2014 | M5: السنة المعدل والجنسية
A6: Early Neonatal Mortality Rate (0-7) Days | B6: Qataris | C6: 1.86 | D6: 4.62 | E6: 4.22 | F6: 3.66 | G6: 2.53 | H6: 3.2 | I6: 3.27 | J6: 3.15 | K6: 3.52 | L6: 2.01 | M6: قطريون | N6: معدل وفيات حديثي الولادة الباكرة (0 - 7) يوم
B7: Non-Qataris | C7: 3.34 | D7: 2.97 | E7: 2.22 | F7: 2.56 | G7: 2.77 | H7: 2.66 | I7: 2.66 | J7: 2.07 | K7: 3.21 | L7: 2.29 | M7: غير قطريين
B8: Total | C8: 2.96 | D8: 3.42 | E8: 2.81 | F8: 2.83 | G8: 2.71 | H8: 2.81 | I8: 2.83 | J8: 2.39 | K8: 3.31 | L8: 2.2 | M8: المجموع
A9: Late Neonatal Mortality Rate (7-28) Days | B9: Qataris | C9: 1.43 | D9: 0.56 | E9: 0.9 | F9: 0.7 | G9: 0.27 | H9: 1.03 | I9: 1.01 | J9: 0.76 | K9: 1.58 | L9: 1.26 | M9: قطريون | N9: معدل وفيات حديثي الولادة المتأخرة (7 - 28) يوم
B10: Non-Qataris | C10: 0.54 | D10: 1.25 | E10: 0.7 | F10: 0.5 | G10: 0.86 | H10: 0.99 | I10: 1 | J10: 0.74 | K10: 1.14 | L10: 1.54 | M10: غير قطريين
B11: Total | C11: 0.77 | D11: 1.06 | E11: 0.76 | F11: 0.55 | G11: 0.7 | H11: 1 | I11: 1 | J11: 0.75 | K11: 1.28 | L11: 1.45 | M11: المجموع
A12: Neonatal Mortality Rate (0-28) Days | B12: Qataris | C12: 3.3 | D12: 5.18 | E12: 5.12 | F12: 4.37 | G12: 2.8 | H12: 4.23 | I12: 4.28 | J12: 3.91 | K12: 5.09 | L12: 3.27 | M12: قطريون | N12: معدل وفيات حديثي الولادة (0 - 28) يوم
B13: Non-Qataris | C13: 3.88 | D13: 4.23 | E13: 2.92 | F13: 3.06 | G13: 3.63 | H13: 3.65 | I13: 3.66 | J13: 2.81 | K13: 4.35 | L13: 3.83 | M13: غير قطريين
B14: Total | C14: 3.73 | D14: 4.48 | E14: 3.57 | F14: 3.38 | G14: 3.41 | H14: 3.81 | I14: 3.83 | J14: 3.13 | K14: 4.58 | L14: 3.66 | M14: المجموع
A15: Post-Neonatal Mortality Rate (28 - 264) Days | B15: Qataris | C15: 1.72 | D15: 2.1 | E15: 1.41 | F15: 1.13 | G15: 0.93 | H15: 2.82 | I15: 1.26 | J15: 2.77 | K15: 3.28 | L15: 3.9 | M15: قطريون | N15: معدل وفيات الأطفال بعد حديثي الولادة من (28 - 364) يوم
B16: Non-Qataris | C16: 1.28 | D16: 2.03 | E16: 1.46 | F16: 2.14 | G16: 1.58 | H16: 2.12 | I16: 1.7 | J16: 2.91 | K16: 2.61 | L16: 2.52 | M16: غير قطريين
B17: Total | C17: 1.39 | D17: 2.05 | E17: 1.44 | F17: 1.9 | G17: 1.41 | H17: 2.32 | I17: 1.58 | J17: 2.87 | K17: 2.82 | L17: 2.95 | M17: المجموع
A18: Values representing rates are not calculated as the sum of sub-values; rather, they are calculated at the overall leve | I18: القيم التي تمثل معدلات لا تُحتسب كمجموع للقيم الفرعية، وإنما هي معدلات محسوبة على مستوى الإجمالي

Sheet 4
A1: معدل وفيات الأطفال الرضع حسب الجنسية والنوع (لكل ألف مولود حي)
A2: INFANT MORTALITY RATE BY NATIONALITY AND GENDER (PER 1,000 LIVE BIRTHS)
A3: 2014 - 2023
A4: Table No. (4) | K4: جدول رقم (4)
A5: Nationality & Gender Year | B5: المجموع Total | E5: غير قطريين Non-Qataris | H5: قطريون Qataris | K5: الجنسية والنوع السنة
B6: المجموع Total | C6: إناث Females | D6: ذكور Males | E6: المجموع Total | F6: إناث Females | G6: ذكور Males | H6: المجموع Total | I6: إناث Females | J6: ذكور Males
A7: 2014 | B7: 6.6 | C7: 6.7 | D7: 6.6 | E7: 6.3 | F7: 6 | G7: 6.5 | H7: 7.3 | I7: 8 | J7: 6.6 | K7: 2014
A8: 2015 | B8: 7.4 | C8: 7.3 | D8: 7.5 | E8: 7 | F8: 6.7 | G8: 7.2 | H8: 8.4 | I8: 8.7 | J8: 8.1 | K8: 2015
A9: 2016 | B9: 6 | C9: 6 | D9: 6 | E9: 5.7 | F9: 5.8 | G9: 5.6 | H9: 6.7 | I9: 6.4 | J9: 7 | K9: 2016
A10: 2017 | B10: 5.4 | C10: 5 | D10: 5.8 | E10: 5.4 | F10: 5.4 | G10: 5.3 | H10: 5.5 | I10: 3.9 | J10: 7.1 | K10: 2017
A11: 2018 | B11: 6.1 | C11: 6.4 | D11: 5.9 | E11: 5.8 | F11: 5.9 | G11: 5.7 | H11: 7 | I11: 7.8 | J11: 6.3 | K11: 2018
A12: 2019 | B12: 4.8 | C12: 5.1 | D12: 4.6 | E12: 5.2 | F12: 5.8 | G12: 4.6 | H12: 3.7 | I12: 3 | J12: 4.5 | K12: 2019
A13: 2020 | B13: 5.3 | C13: 4.9 | D13: 5.6 | E13: 5.2 | F13: 5 | G13: 5.4 | H13: 5.5 | I13: 4.8 | J13: 6.2 | K13: 2020
A14: 2021 | B14: 5 | C14: 4.5 | D14: 5.5 | E14: 4.4 | F14: 4.2 | G14: 4.5 | H14: 6.5 | I14: 5.1 | J14: 7.9 | K14: 2021
A15: 2022 | B15: 6.5 | C15: 6.6 | D15: 6.4 | E15: 6.3 | F15: 6.1 | G15: 6.4 | H15: 7.3 | I15: 8 | J15: 6.6 | K15: 2022
A16: 2023 | B16: 5.5 | C16: 4.7 | D16: 6.2 | E16: 5.6 | F16: 4.3 | G16: 6.6 | H16: 5.5 | I16: 5.8 | J16: 5.1 | K16: 2023
A17: Values representing rates are not calculated as the sum of sub-values; rather, they are calculated at the overall leve | G17: القيم التي تمثل معدلات لا تُحتسب كمجموع للقيم الفرعية، وإنما هي معدلات محسوبة على مستوى الإجمالي

Sheet 5
A1: معدل وفيات الأطفال (أقل من 5 سنوات) حسب الجنسية والنوع (لكل ألف مولود حي)
A2: CHILD MORTALITY RATE (LESS THAN 5 YEARS) BY NATIONALITY AND GENDER (PER 1,000 LIVE BIRTHS)
A3: 2014 - 2023
A4: Table No. (5) | K4: جدول رقم (5)
A5: Nationality & Gender Year | B5: المجموع Total | E5: غير قطريين Non-Qataris | H5: قطريون Qataris | K5: الجنسية والنوع السنة
B6: المجموع Total | C6: إناث Females | D6: ذكور Males | E6: المجموع Total | F6: إناث Females | G6: ذكور Males | H6: المجموع Total | I6: إناث Females | J6: ذكور Males
A7: 2014 | B7: 8.1 | C7: 7.7 | D7: 8.4 | E7: 7.9 | F7: 7.2 | G7: 8.7 | H7: 8.3 | I7: 8.8 | J7: 7.8 | K7: 2014
A8: 2015 | B8: 9 | C8: 8.8 | D8: 9.3 | E8: 8.6 | F8: 7.9 | G8: 9.3 | H8: 9.9 | I8: 10.7 | J8: 9.3 | K8: 2015
A9: 2016 | B9: 7.1 | C9: 7 | D9: 7.2 | E9: 7 | F9: 7 | G9: 7.1 | H9: 7.2 | I9: 6.9 | J9: 7.5 | K9: 2016
A10: 2017 | B10: 6.7 | C10: 6.1 | D10: 7.2 | E10: 6.6 | F10: 6.5 | G10: 6.8 | H10: 6.8 | I10: 5.2 | J10: 8.3 | K10: 2017
A11: 2018 | B11: 7.6 | C11: 7.4 | D11: 7.8 | E11: 7.4 | F11: 7.3 | G11: 7.5 | H11: 8.1 | I11: 7.8 | J11: 8.4 | K11: 2018
A12: 2019 | B12: 5.9 | C12: 6.1 | D12: 5.7 | E12: 6.3 | F12: 7 | G12: 5.7 | H12: 4.8 | I12: 3.8 | J12: 5.8 | K12: 2019
A13: 2020 | B13: 6.1 | C13: 5.4 | D13: 6.7 | E13: 6.1 | F13: 5.5 | G13: 6.6 | H13: 6.1 | I13: 5.1 | J13: 7 | K13: 2020
A14: 2021 | B14: 6.4 | C14: 5.7 | D14: 7.1 | E14: 5.7 | F14: 5.6 | G14: 5.8 | H14: 8.2 | I14: 6.1 | J14: 10.1 | K14: 2021
A15: 2022 | B15: 8 | C15: 8.5 | D15: 7.5 | E15: 7.7 | F15: 8.1 | G15: 7.4 | H15: 8.7 | I15: 9.7 | J15: 7.7 | K15: 2022
A16: 2023 | B16: 7.1 | C16: 5.7 | D16: 8.3 | E16: 7.2 | F16: 5.1 | G16: 8.9 | H16: 7 | I16: 7.5 | J16: 6.5 | K16: 2023
A17: Values representing rates are not calculated as the sum of sub-values; rather, they are calculated at the overall leve | G17: القيم التي تمثل معدلات لا تُحتسب كمجموع للقيم الفرعية، وإنما هي معدلات محسوبة على مستوى الإجمالي

Sheet 6
A1: معدل وفيات الأطفال(1 - 4 سنوات) حسب الجنسية والنوع (لكل ألف مولود حي)
A2: CHILD MORTALITY RATE (1 - 4 YEARS) BY NATIONALITY AND GENDER (PER 1,000 LIVE BIRTHS)
A3: 2014 - 2023
A4: Table No. (6) | K4: جدول رقم (6)
A5: Nationality & Gender Year | B5: المجموع Total | E5: غير قطريين Non-Qataris | H5: قطريون Qataris | K5: الجنسية والنوع السنة
B6: المجموع Total | C6: إناث Females | D6: ذكور Males | E6: المجموع Total | F6: إناث Females | G6: ذكور Males | H6: المجموع Total | I6: إناث Females | J6: ذكور Males
A7: 2014 | B7: 1.6 | C7: 1 | D7: 2.1 | E7: 1.7 | F7: 1.2 | G7: 2.3 | H7: 1.3 | I7: 0.8 | J7: 1.7 | K7: 2014
A8: 2015 | B8: 1.6 | C8: 1.5 | D8: 1.8 | E8: 1.6 | F8: 1.2 | G8: 2 | H8: 1.6 | I8: 2 | J8: 1.2 | K8: 2015
A9: 2016 | B9: 1.1 | C9: 1 | D9: 1.2 | E9: 1.3 | F9: 1.2 | G9: 1.5 | H9: 0.5 | I9: 0.5 | J9: 0.5 | K9: 2016
A10: 2017 | B10: 1.3 | C10: 1.1 | D10: 1.4 | E10: 1.3 | F10: 1 | G10: 1.5 | H10: 1.3 | I10: 1.3 | J10: 1.2 | K10: 2017
A11: 2018 | B11: 1.5 | C11: 1 | D11: 1.9 | E11: 1.6 | F11: 1.4 | G11: 1.9 | H11: 1 | I11: 0 | J11: 2 | K11: 2018
A12: 2019 | B12: 1.1 | C12: 1.1 | D12: 1.1 | E12: 1.1 | F12: 1.2 | G12: 1 | H12: 1.1 | I12: 0.8 | J12: 1.3 | K12: 2019
A13: 2020 | B13: 0.8 | C13: 0.5 | D13: 1.1 | E13: 0.9 | F13: 0.6 | G13: 1.2 | H13: 0.6 | I13: 0.3 | J13: 0.8 | K13: 2020
A14: 2021 | B14: 1.4 | C14: 1.3 | D14: 1.5 | E14: 1.3 | F14: 1.3 | G14: 1.3 | H14: 1.7 | I14: 1.1 | J14: 2.2 | K14: 2021
A15: 2022 | B15: 1.5 | C15: 1.9 | D15: 1 | E15: 1.5 | F15: 2 | G15: 1 | H15: 1.4 | I15: 1.7 | J15: 1.1 | K15: 2022
A16: 2023 | B16: 1.6 | C16: 1.1 | D16: 2.1 | E16: 1.6 | F16: 0.8 | G16: 2.4 | H16: 1.6 | I16: 1.7 | J16: 1.4 | K16: 2023
A17: Values representing rates are not calculated as the sum of sub-values; rather, they are calculated at the overall leve | G17: القيم التي تمثل معدلات لا تُحتسب كمجموع للقيم الفرعية، وإنما هي معدلات محسوبة على مستوى الإجمالي

Sheet chapter2
A1: الباب الثاني: المواليد الأحياء
A2: CHAPTER TWO: LIVE BIRTHS

Sheet Map Births

Sheet B1
A1: الواقعات الحيوية المسجلة
A2: REGISTERED VITAL EVENTS
A3: 2014 - 2023
A4: Table No. (1) | E4: جدول رقم (1)
A5: Year | B5: الزيادة الطبيعية Natural Increase | C5: الوفيات Deaths | D5: المواليد أحياء Live Births | E5: السنة
A6: 2014 | B6: =D6-C6 -> 23077 | C6: 2366 | D6: 25443 | E6: 2014
A7: 2015 | B7: =D7-C7 -> 24305 | C7: 2317 | D7: 26622 | E7: 2015
A8: 2016 | B8: =D8-C8 -> 24469 | C8: 2347 | D8: 26816 | E8: 2016
A9: 2017 | B9: =D9-C9 -> 25612 | C9: 2294 | D9: 27906 | E9: 2017
A10: 2018 | B10: =D10-C10 -> 25684 | C10: 2385 | D10: 28069 | E10: 2018
A11: 2019 | B11: =D11-C11 -> 26212 | C11: 2200 | D11: 28412 | E11: 2019
A12: 2020 | B12: =D12-C12 -> 26203 | C12: 2811 | D12: 29014 | E12: 2020
A13: 2021 | B13: =D13-C13 -> 23478 | C13: 2841 | D13: 26319 | E13: 2021
A14: 2022 | B14: =D14-C14 -> 23524 | C14: 2792 | D14: 26316 | E14: 2022
A15: 2023 | B15: =D15-C15 -> 24608 | C15: 2714 | D15: 27322 | E15: 2023

Sheet B2
A1: المواليد الأحياء فاقدو القيد حسب الجنسية والنوع
A2: NON-REGISTERED LIVE BIRTHS BY NATIONALITY AND GENDER
A3: 2014 - 2023
A4: Table No. (2) | K4: جدول رقم (2)
A5: Nationality & Gender Year | B5: المجموع Total | E5: غير قطريين Non-Qataris | H5: قطريون Qataris | K5: الجنسية والنوع السنة
B6: المجموع Total | C6: إناث Females | D6: ذكور Males | E6: المجموع Total | F6: إناث Females | G6: ذكور Males | H6: المجموع Total | I6: إناث Females | J6: ذكور Males
A7: 2014 | B7: =D7+C7 -> 53 | C7: =I7+F7 -> 27 | D7: =J7+G7 -> 26 | E7: =SUM(G7)+(F7) -> 37 | F7: 19 | G7: 18 | H7: =SUM(J7)+(I7) -> 16 | I7: 8 | J7: 8 | K7: 2014
A8: 2015 | B8: =D8+C8 -> 24 | C8: =I8+F8 -> 13 | D8: =J8+G8 -> 11 | E8: =SUM(G8)+(F8) -> 16 | F8: 10 | G8: 6 | H8: =SUM(J8)+(I8) -> 8 | I8: 3 | J8: 5 | K8: 2015
A9: 2016 | B9: =D9+C9 -> 22 | C9: =I9+F9 -> 12 | D9: =J9+G9 -> 10 | E9: =SUM(G9)+(F9) -> 10 | F9: 6 | G9: 4 | H9: =SUM(J9)+(I9) -> 12 | I9: 6 | J9: 6 | K9: 2016
A10: 2017 | B10: =D10+C10 -> 210 | C10: =I10+F10 -> 100 | D10: =J10+G10 -> 110 | E10: =SUM(G10)+(F10) -> 92 | F10: 37 | G10: 55 | H10: =SUM(J10)+(I10) -> 118 | I10: 63 | J10: 55 | K10: 2017
A11: 2018 | B11: =D11+C11 -> 209 | C11: =I11+F11 -> 116 | D11: =J11+G11 -> 93 | E11: =SUM(G11)+(F11) -> 109 | F11: 59 | G11: 50 | H11: =SUM(J11)+(I11) -> 100 | I11: 57 | J11: 43 | K11: 2018
A12: 2019 | B12: =D12+C12 -> 401 | C12: =I12+F12 -> 194 | D12: =J12+G12 -> 207 | E12: =SUM(G12)+(F12) -> 174 | F12: 79 | G12: 95 | H12: =SUM(J12)+(I12) -> 227 | I12: 115 | J12: 112 | K12: 2019
A13: 2020 | B13: =D13+C13 -> 329 | C13: =I13+F13 -> 161 | D13: =J13+G13 -> 168 | E13: =SUM(G13)+(F13) -> 169 | F13: 80 | G13: 89 | H13: =SUM(J13)+(I13) -> 160 | I13: 81 | J13: 79 | K13: 2020
A14: 2021 | B14: =D14+C14 -> 36 | C14: =I14+F14 -> 20 | D14: =J14+G14 -> 16 | E14: =SUM(G14)+(F14) -> 11 | F14: 8 | G14: 3 | H14: =SUM(J14)+(I14) -> 25 | I14: 12 | J14: 13 | K14: 2021
A15: 2022 | B15: =H15+E15 -> 205 | C15: =I15+F15 -> 116 | D15: =J15+G15 -> 89 | E15: =SUM(G15)+(F15) -> 163 | F15: 90 | G15: 73 | H15: =SUM(J15)+(I15) -> 42 | I15: 26 | J15: 16 | K15: 2022
A16: Historical data for the years 2014–2021 have been updated based on the source | K16: تم تحديث البيانات للسنوات السابقة 2014-2021 من المصدر

Sheet B3
A1: *المواليد الأحياء المسجلون حسب الجنسية والنوع ونسبة النوع عند الميلاد
A2: REGISTERED LIVE BIRTHS BY NATIONALITY, GENDER AND GENDER RATIO AT BIRTH*
A3: 2014 - 2023
A4: Table No. (3) | N4: جدول رقم (3)
A5: Nationality & Gender Year | B5: المجموع Total | F5: غير قطريين Non-Qataris | J5: قطريون Qataris | N5: الجنسية والنوع السنة
B6: نسبة النوع Gender Ratio | C6: المجموع Total | D6: إناث Females | E6: ذكور Males | F6: نسبة النوع Gender Ratio | G6: المجموع Total | H6: إناث Females | I6: ذكور Males | J6: نسبة النوع Gender Ratio | K6: المجموع Total | L6: إناث Females | M6: ذكور Males
A7: 2014 | B7: =E7/D7*100 -> 104.04962 | C7: =E7+D7 -> 25496 | D7: =L7+H7 -> 12495 | E7: =M7+I7 -> 13001 | F7: =I7/H7*100 -> 103.12935 | G7: =I7+H7 -> 17526 | H7: 8628 | I7: 8898 | J7: =M7/L7*100 -> 106.10292 | K7: =M7+L7 -> 7970 | L7: 3867 | M7: 4103 | N7: 2014
A8: 2015 | B8: =E8/D8*100 -> 104.57582 | C8: =E8+D8 -> 26646 | D8: =L8+H8 -> 13025 | E8: =M8+I8 -> 13621 | F8: =I8/H8*100 -> 104.51412 | G8: =I8+H8 -> 18394 | H8: 8994 | I8: 9400 | J8: =M8/L8*100 -> 104.71347 | K8: =M8+L8 -> 8252 | L8: 4031 | M8: 4221 | N8: 2015
A9: 2016 | B9: =E9/D9*100 -> 102.74987 | C9: =SUM(E9)+(D9) -> 26838 | D9: =L9+H9 -> 13237 | E9: =M9+I9 -> 13601 | F9: =I9/H9*100 -> 102.90042 | G9: =SUM(I9)+(H9) -> 18888 | H9: 9309 | I9: 9579 | J9: =M9/L9*100 -> 102.39308 | K9: =M9+L9 -> 7950 | L9: 3928 | M9: 4022 | N9: 2016
A10: 2017 | B10: =E10/D10*100 -> 104.97193 | C10: =SUM(E10)+(D10) -> 28116 | D10: =L10+H10 -> 13717 | E10: =M10+I10 -> 14399 | F10: =I10/H10*100 -> 104.71621 | G10: =SUM(I10)+(H10) -> 20054 | H10: 9796 | I10: 10258 | J10: =M10/L10*100 -> 105.61081 | K10: =M10+L10 -> 8062 | L10: 3921 | M10: 4141 | N10: 2017
A11: 2018 | B11: =E11/D11*100 -> 101.95686 | C11: =E11+D11 -> 28278 | D11: =L11+H11 -> 14002 | E11: =M11+I11 -> 14276 | F11: =I11/H11*100 -> 101.9126 | G11: =SUM(I11)+(H11) -> 20375 | H11: 10091 | I11: 10284 | J11: =M11/L11*100 -> 102.07108 | K11: =M11+L11 -> 7903 | L11: 3911 | M11: 3992 | N11: 2018
A12: 2019 | B12: =E12/D12*100 -> 105.06014 | C12: =SUM(E12)+(D12) -> 28813 | D12: =L12+H12 -> 14051 | E12: =M12+I12 -> 14762 | F12: =I12/H12*100 -> 106.03751 | G12: =SUM(I12)+(H12) -> 21090 | H12: 10236 | I12: 10854 | J12: =M12/L12*100 -> 102.43775 | K12: =M12+L12 -> 7723 | L12: 3815 | M12: 3908 | N12: 2019
A13: 2020 | B13: =E13/D13*100 -> 104.12522 | C13: =SUM(E13)+(D13) -> 29343 | D13: =L13+H13 -> 14375 | E13: =M13+I13 -> 14968 | F13: =I13/H13*100 -> 105.00325 | G13: =SUM(I13)+(H13) -> 22085 | H13: 10773 | I13: 11312 | J13: =M13/L13*100 -> 101.49917 | K13: =M13+L13 -> 7258 | L13: 3602 | M13: 3656 | N13: 2020
A14: 2021 | B14: =E14/D14*100 -> 106.8032 | C14: =SUM(E14)+(D14) -> 26355 | D14: =L14+H14 -> 12744 | E14: =M14+I14 -> 13611 | F14: =I14/H14*100 -> 106.12268 | G14: =SUM(I14)+(H14) -> 18516 | H14: 8983 | I14: 9533 | J14: =M14/L14*100 -> 108.42861 | K14: =M14+L14 -> 7839 | L14: 3761 | M14: 4078 | N14: 2021
A15: 2022 | B15: =E15/D15*100 -> 103.44431 | C15: =SUM(E15)+(D15) -> 26521 | D15: =L15+H15 -> 13036 | E15: =M15+I15 -> 13485 | F15: =I15/H15*100 -> 103.51653 | G15: =SUM(I15)+(H15) -> 19330 | H15: 9498 | I15: 9832 | J15: =M15/L15*100 -> 103.25042 | K15: =M15+L15 -> 7191 | L15: 3538 | M15: 3653 | N15: 2022
A16: * This table includes non-registered live births data. | L16: * تم اضافة بيانات فاقدي القيد على هذا الجدول.
A17: Historical data for the years 2014–2021 have been updated based on the source | L17: تم تحديث البيانات للسنوات السابقة 2014-2021 من المصدر

Sheet B4
A1: المواليد الأحياء المسجلون حسب الجنسية والنوع
A2: REGISTERED LIVE BIRTHS BY NATIONALITY AND GENDER
A3: 2014 - 2023
A4: Table No. (4) | O4: جدول رقم (4)
A5: Nationality & Gender Year | B5: المجموع Total | G5: غير قطريين Non-Qataris | K5: قطريون Qataris | O5: الجنسية والنوع السنة
B6: المجموع Total | C6: نسبة الإناث Females % | D6: إناث Females | E6: نسبة الذكور Males % | F6: ذكور Males | G6: % | H6: المجموع Total | I6: إناث Females | J6: ذكور Males | K6: % | L6: المجموع Total | M6: إناث Females | N6: ذكور Males
A7: 2014 | B7: =SUM(L7+H7) -> 25443 | C7: =SUM(D7/B7*100) -> 49.003655 | D7: =SUM(M7+I7) -> 12468 | E7: =SUM(F7/B7*100) -> 50.996345 | F7: =SUM(N7+J7) -> 12975 | G7: =SUM(H7/B7*100) -> 68.737963 | H7: =SUM(I7:J7) -> 17489 | I7: 8609 | J7: 8880 | K7: =SUM(L7/B7*100) -> 31.262037 | L7: =SUM(M7:N7) -> 7954 | M7: 3859 | N7: 4095 | O7: 2014
A8: 2015 | B8: =SUM(L8+H8) -> 26622 | C8: =SUM(D8/B8*100) -> 48.876869 | D8: =SUM(M8+I8) -> 13012 | E8: =SUM(F8/B8*100) -> 51.123131 | F8: =SUM(N8+J8) -> 13610 | G8: =SUM(H8/B8*100) -> 69.03313 | H8: =SUM(I8:J8) -> 18378 | I8: 8984 | J8: 9394 | K8: =SUM(L8/B8*100) -> 30.96687 | L8: =SUM(M8:N8) -> 8244 | M8: 4028 | N8: 4216 | O8: 2015
A9: 2016 | B9: =SUM(L9+H9) -> 26816 | C9: =SUM(D9/B9*100) -> 49.317572 | D9: =SUM(M9+I9) -> 13225 | E9: =SUM(F9/B9*100) -> 50.682428 | F9: =SUM(N9+J9) -> 13591 | G9: =SUM(H9/B9*100) -> 70.39827 | H9: =SUM(I9:J9) -> 18878 | I9: 9303 | J9: 9575 | K9: =SUM(L9/B9*100) -> 29.60173 | L9: =SUM(M9:N9) -> 7938 | M9: 3922 | N9: 4016 | O9: 2016
A10: 2017 | B10: =SUM(L10+H10) -> 27906 | C10: =SUM(D10/B10*100) -> 48.795958 | D10: =SUM(M10+I10) -> 13617 | E10: =SUM(F10/B10*100) -> 51.204042 | F10: =SUM(N10+J10) -> 14289 | G10: =SUM(H10/B10*100) -> 71.533004 | H10: =SUM(I10:J10) -> 19962 | I10: 9759 | J10: 10203 | K10: =SUM(L10/B10*100) -> 28.466996 | L10: =SUM(M10:N10) -> 7944 | M10: 3858 | N10: 4086 | O10: 2017
A11: 2018 | B11: =SUM(L11+H11) -> 28069 | C11: =SUM(D11/B11*100) -> 49.470947 | D11: =SUM(M11+I11) -> 13886 | E11: =SUM(F11/B11*100) -> 50.529053 | F11: =SUM(N11+J11) -> 14183 | G11: =SUM(H11/B11*100) -> 72.200648 | H11: =SUM(I11:J11) -> 20266 | I11: 10032 | J11: 10234 | K11: =SUM(L11/B11*100) -> 27.799352 | L11: =SUM(M11:N11) -> 7803 | M11: 3854 | N11: 3949 | O11: 2018
A12: 2019 | B12: =SUM(L12+H12) -> 28412 | C12: =SUM(D12/B12*100) -> 48.771646 | D12: =SUM(M12+I12) -> 13857 | E12: =SUM(F12/B12*100) -> 51.228354 | F12: =SUM(N12+J12) -> 14555 | G12: =SUM(H12/B12*100) -> 73.616782 | H12: =SUM(I12:J12) -> 20916 | I12: 10157 | J12: 10759 | K12: =SUM(L12/B12*100) -> 26.383218 | L12: =SUM(M12:N12) -> 7496 | M12: 3700 | N12: 3796 | O12: 2019
A13: 2020 | B13: =SUM(L13+H13) -> 29014 | C13: =SUM(D13/B13*100) -> 48.990143 | D13: =SUM(M13+I13) -> 14214 | E13: =SUM(F13/B13*100) -> 51.009857 | F13: =SUM(N13+J13) -> 14800 | G13: =SUM(H13/B13*100) -> 75.535948 | H13: =SUM(I13:J13) -> 21916 | I13: 10693 | J13: 11223 | K13: =SUM(L13/B13*100) -> 24.464052 | L13: =SUM(M13:N13) -> 7098 | M13: 3521 | N13: 3577 | O13: 2020
A14: 2021 | B14: =SUM(L14+H14) -> 26319 | C14: =SUM(D14/B14*100) -> 48.352901 | D14: =SUM(M14+I14) -> 12726 | E14: =SUM(F14/B14*100) -> 51.647099 | F14: =SUM(N14+J14) -> 13593 | G14: =SUM(H14/B14*100) -> 70.310422 | H14: =SUM(I14:J14) -> 18505 | I14: 8977 | J14: 9528 | K14: =SUM(L14/B14*100) -> 29.689578 | L14: =SUM(M14:N14) -> 7814 | M14: 3749 | N14: 4065 | O14: 2021
A15: 2022 | B15: =SUM(L15+H15) -> 26316 | C15: =SUM(D15/B15*100) -> 49.095607 | D15: =SUM(M15+I15) -> 12920 | E15: =SUM(F15/B15*100) -> 50.904393 | F15: =SUM(N15+J15) -> 13396 | G15: =SUM(H15/B15*100) -> 72.834017 | H15: =SUM(I15:J15) -> 19167 | I15: 9408 | J15: 9759 | K15: =SUM(L15/B15*100) -> 27.165983 | L15: =SUM(M15:N15) -> 7149 | M15: 3512 | N15: 3637 | O15: 2022
A16: 2023 | B16: =SUM(L16+H16) -> 27322 | C16: =SUM(D16/B16*100) -> 48.609179 | D16: =SUM(M16+I16) -> 13281 | E16: =SUM(F16/B16*100) -> 51.390821 | F16: =SUM(N16+J16) -> 14041 | G16: =SUM(H16/B16*100) -> 74.485762 | H16: =SUM(I16:J16) -> 20351 | I16: 9827 | J16: 10524 | K16: =SUM(L16/B16*100) -> 25.514238 | L16: =SUM(M16:N16) -> 6971 | M16: 3454 | N16: 3517 | O16: 2023

Sheet B5
A1: المواليد الأحياء المسجلون حسب الجنسية والنوع والبلدية
A2: REGISTERED LIVE BIRTHS BY NATIONALITY, GENDER AND MUNICIPALITY
A3: 2023
A4: Table No. (5) | K4: جدول رقم (5)
A5: Nationality & Gender Year | B5: المجموع Total | E5: غير قطريين Non-Qataris | H5: قطريون Qataris | K5: الجنسية والنوع البلدية
B6: المجموع Total | C6: إناث Females | D6: ذكور Males | E6: المجموع Total | F6: إناث Females | G6: ذكور Males | H6: المجموع Total | I6: إناث Females | J6: ذكور Males
A7: Doha | B7: =D7+C7 -> 10353 | C7: =I7+F7 -> 5027 | D7: =J7+G7 -> 5326 | E7: =G7+F7 -> 9186 | F7: 4451 | G7: 4735 | H7: =J7+I7 -> 1167 | I7: 576 | J7: 591 | K7: الدوحة
A8: Al Rayyan | B8: =D8+C8 -> 10000 | C8: =I8+F8 -> 4909 | D8: =J8+G8 -> 5091 | E8: =G8+F8 -> 6516 | F8: 3162 | G8: 3354 | H8: =J8+I8 -> 3484 | I8: 1747 | J8: 1737 | K8: الريان
A9: Al Wakra | B9: =D9+C9 -> 2610 | C9: =I9+F9 -> 1226 | D9: =J9+G9 -> 1384 | E9: =G9+F9 -> 2079 | F9: 975 | G9: 1104 | H9: =J9+I9 -> 531 | I9: 251 | J9: 280 | K9: الوكرة
A10: Umm Salal | B10: =D10+C10 -> 1552 | C10: =I10+F10 -> 747 | D10: =J10+G10 -> 805 | E10: =G10+F10 -> 918 | F10: 438 | G10: 480 | H10: =J10+I10 -> 634 | I10: 309 | J10: 325 | K10: ام صلال
A11: Al Khor | B11: =D11+C11 -> 811 | C11: =I11+F11 -> 387 | D11: =J11+G11 -> 424 | E11: =G11+F11 -> 635 | F11: 308 | G11: 327 | H11: =J11+I11 -> 176 | I11: 79 | J11: 97 | K11: الخور
A12: Al Shamal | B12: =D12+C12 -> 80 | C12: =I12+F12 -> 35 | D12: =J12+G12 -> 45 | E12: =G12+F12 -> 47 | F12: 19 | G12: 28 | H12: =J12+I12 -> 33 | I12: 16 | J12: 17 | K12: الشمال
A13: Al Dhaayen | B13: =D13+C13 -> 1359 | C13: =I13+F13 -> 680 | D13: =J13+G13 -> 679 | E13: =G13+F13 -> 731 | F13: 355 | G13: 376 | H13: =J13+I13 -> 628 | I13: 325 | J13: 303 | K13: الظعاين
A14: Al Sheehaniya | B14: =D14+C14 -> 446 | C14: =I14+F14 -> 212 | D14: =J14+G14 -> 234 | E14: =G14+F14 -> 239 | F14: 119 | G14: 120 | H14: =J14+I14 -> 207 | I14: 93 | J14: 114 | K14: الشيحانية
A15: Outside Qatar | B15: =D15+C15 -> 111 | C15: =I15+F15 -> 58 | D15: =J15+G15 -> 53 | E15: =G15+F15 -> 0 | F15: 0 | G15: 0 | H15: =J15+I15 -> 111 | I15: 58 | J15: 53 | K15: خارج قطر
A16: Total | B16: =SUM(B7:B15) -> 27322 | C16: =SUM(C7:C15) -> 13281 | D16: =SUM(D7:D15) -> 14041 | E16: =SUM(E7:E15) -> 20351 | F16: =SUM(F7:F15) -> 9827 | G16: =SUM(G7:G15) -> 10524 | H16: =SUM(H7:H15) -> 6971 | I16: =SUM(I7:I15) -> 3454 | J16: =SUM(J7:J15) -> 3517 | K16: المجموع

Sheet B6-1
A1: المواليد الأحياء المسجلون حسب الشهر والنوع والبلدية
A2: REGISTERED LIVE BIRTHS BY MONTH, GENDER AND MUNICIPALITY
A3: 2023
A4: QATARIS قطريون
A5: Table No. (6-1) | Q5: جدول رقم (6-1)
A6: Municipality | B6: Gender | C6: المجموع Total | D6: ديسمبر Dec. | E6: نوفمبر Nov. | F6: اكتوبر Oct. | G6: سبتمبر Sep. | H6: اغسطس Aug. | I6: يوليو Jul. | J6: يونيو Jun. | K6: مايو May. | L6: ابريل Apr. | M6: مارس Mar. | N6: فبراير Feb. | O6: يناير Jan. | P6: النوع | Q6: البلدية
A7: Doha | B7: Males | C7: =SUM(D7:O7) -> 591 | D7: 49 | E7: 53 | F7: 49 | G7: 46 | H7: 49 | I7: 53 | J7: 48 | K7: 51 | L7: 55 | M7: 44 | N7: 44 | O7: 50 | P7: ذكور | Q7: الدوحة
B8: Females | C8: =SUM(D8:O8) -> 576 | D8: 52 | E8: 57 | F8: 58 | G8: 40 | H8: 38 | I8: 41 | J8: 45 | K8: 44 | L8: 49 | M8: 44 | N8: 44 | O8: 64 | P8: إناث
B9: Total | C9: =SUM(D9:O9) -> 1167 | D9: =D7+D8 -> 101 | E9: =E7+E8 -> 110 | F9: =F7+F8 -> 107 | G9: =G7+G8 -> 86 | H9: =H7+H8 -> 87 | I9: =I7+I8 -> 94 | J9: =J7+J8 -> 93 | K9: =K7+K8 -> 95 | ... O9: =O7+O8 -> 114 | P9: المجموع
A10: Al Rayyan | B10: Males | C10: =SUM(D10:O10) -> 1737 | D10: 136 | E10: 145 | F10: 152 | G10: 149 | H10: 126 | I10: 142 | J10: 148 | K10: 164 | L10: 178 | M10: 137 | N10: 125 | O10: 135 | P10: ذكور | Q10: الريان
B11: Females | C11: =SUM(D11:O11) -> 1747 | D11: 134 | E11: 162 | F11: 164 | G11: 140 | H11: 134 | I11: 148 | J11: 151 | K11: 158 | L11: 137 | M11: 135 | N11: 147 | O11: 137 | P11: إناث
B12: Total | C12: =SUM(D12:O12) -> 3484 | D12: =SUM(D10:D11) -> 270 | E12: =E10+E11 -> 307 | F12: =F10+F11 -> 316 | G12: =G10+G11 -> 289 | H12: =H10+H11 -> 260 | I12: =I10+I11 -> 290 | J12: =J10+J11 -> 299 | K12: =K10+K11 -> 322 | L12: =L10+L11 -> 315 | ... O12: =O10+O11 -> 272 | P12: المجموع
A13: Al Wakra | B13: Males | C13: =SUM(D13:O13) -> 280 | D13: 25 | E13: 23 | F13: 26 | G13: 30 | H13: 12 | I13: 27 | J13: 20 | K13: 18 | L13: 23 | M13: 18 | N13: 28 | O13: 30 | P13: ذكور | Q13: الوكرة
B14: Females | C14: =SUM(D14:O14) -> 251 | D14: 17 | E14: 17 | F14: 22 | G14: 23 | H14: 24 | I14: 24 | J14: 16 | K14: 23 | L14: 21 | M14: 27 | N14: 17 | O14: 20 | P14: إناث
B15: Total | C15: =SUM(D15:O15) -> 531 | D15: =SUM(D13:D14) -> 42 | E15: =E13+E14 -> 40 | F15: =F13+F14 -> 48 | G15: =G13+G14 -> 53 | H15: =H13+H14 -> 36 | I15: =I13+I14 -> 51 | J15: =J13+J14 -> 36 | K15: =K13+K14 -> 41 | L15: =L13+L14 -> 44 | ... O15: =O13+O14 -> 50 | P15: المجموع
A16: Umm Salal | B16: Males | C16: =SUM(D16:O16) -> 325 | D16: 29 | E16: 28 | F16: 26 | G16: 17 | H16: 29 | I16: 27 | J16: 28 | K16: 35 | L16: 24 | M16: 25 | N16: 23 | O16: 34 | P16: ذكور | Q16: ام صلال
B17: Females | C17: =SUM(D17:O17) -> 309 | D17: 23 | E17: 29 | F17: 24 | G17: 24 | H17: 33 | I17: 22 | J17: 26 | K17: 22 | L17: 28 | M17: 19 | N17: 34 | O17: 25 | P17: إناث
B18: Total | C18: =SUM(D18:O18) -> 634 | D18: =D16+D17 -> 52 | E18: =E16+E17 -> 57 | F18: =F16+F17 -> 50 | G18: =G16+G17 -> 41 | H18: =H16+H17 -> 62 | I18: =I16+I17 -> 49 | J18: =J16+J17 -> 54 | K18: =K16+K17 -> 57 | ... O18: =O16+O17 -> 59 | P18: المجموع
A19: Al Khor | B19: Males | C19: =SUM(D19:O19) -> 97 | D19: 9 | E19: 5 | F19: 9 | G19: 6 | H19: 8 | I19: 9 | J19: 6 | K19: 9 | L19: 10 | M19: 5 | N19: 11 | O19: 10 | P19: ذكور | Q19: الخور
B20: Females | C20: =SUM(D20:O20) -> 79 | D20: 6 | E20: 7 | F20: 11 | G20: 7 | H20: 7 | I20: 4 | J20: 6 | K20: 7 | L20: 5 | M20: 8 | N20: 7 | O20: 4 | P20: إناث
B21: Total | C21: =SUM(D21:O21) -> 176 | D21: =D19+D20 -> 15 | E21: =E19+E20 -> 12 | F21: =F19+F20 -> 20 | G21: =G19+G20 -> 13 | H21: =H19+H20 -> 15 | I21: =I19+I20 -> 13 | J21: =J19+J20 -> 12 | K21: =K19+K20 -> 16 | ... O21: =O19+O20 -> 14 | P21: المجموع
A22: Al Shamal | B22: Males | C22: =SUM(D22:O22) -> 17 | D22: 0 | E22: 2 | F22: 0 | G22: 3 | H22: 2 | I22: 1 | J22: 0 | K22: 0 | L22: 5 | M22: 2 | N22: 2 | O22: 0 | P22: ذكور | Q22: الشمال
C23: =SUM(D23:O23) -> 16 | D23: 2 | E23: 2 | F23: 0 | G23: 0 | H23: 1 | I23: 2 | J23: 2 | K23: 3 | L23: 2 | M23: 1 | N23: 1 | O23: 0 | P23: إناث
B24: Total | C24: =SUM(D24:O24) -> 33 | D24: =D22+D23 -> 2 | E24: =E22+E23 -> 4 | F24: =F22+F23 -> 0 | G24: =G22+G23 -> 3 | H24: =H22+H23 -> 3 | I24: =I22+I23 -> 3 | J24: =J22+J23 -> 2 | K24: =K22+K23 -> 3 | ... O24: =O22+O23 -> 0 | P24: المجموع
A25: Al Dhaayen | B25: Males | C25: =SUM(D25:O25) -> 303 | D25: 22 | E25: 24 | F25: 28 | G25: 33 | H25: 23 | I25: 26 | J25: 25 | K25: 25 | L25: 22 | M25: 19 | N25: 29 | O25: 27 | P25: ذكور | Q25: الظعاين
B26: Females | C26: =SUM(D26:O26) -> 325 | D26: 31 | E26: 24 | F26: 22 | G26: 25 | H26: 28 | I26: 15 | J26: 33 | K26: 34 | L26: 30 | M26: 25 | N26: 26 | O26: 32 | P26: إناث
B27: Total | C27: =SUM(D27:O27) -> 628 | D27: =D25+D26 -> 53 | E27: =E25+E26 -> 48 | F27: =F25+F26 -> 50 | G27: =G25+G26 -> 58 | H27: =H25+H26 -> 51 | I27: =I25+I26 -> 41 | J27: =J25+J26 -> 58 | K27: =K25+K26 -> 59 | ... O27: =O25+O26 -> 59 | P27: المجموع
A28: Al Sheehaniya | B28: Males | C28: =SUM(D28:O28) -> 114 | D28: 12 | E28: 11 | F28: 9 | G28: 9 | H28: 13 | I28: 7 | J28: 11 | K28: 9 | L28: 9 | M28: 10 | N28: 7 | O28: 7 | P28: ذكور | Q28: الشيحانية
B29: Females | C29: =SUM(D29:O29) -> 93 | D29: 5 | E29: 6 | F29: 7 | G29: 8 | H29: 11 | I29: 9 | J29: 10 | K29: 10 | L29: 8 | M29: 5 | N29: 7 | O29: 7 | P29: إناث
B30: Total | C30: =SUM(D30:O30) -> 207 | D30: =D28+D29 -> 17 | E30: =E28+E29 -> 17 | F30: =F28+F29 -> 16 | G30: =G28+G29 -> 17 | H30: =H28+H29 -> 24 | I30: =I28+I29 -> 16 | J30: =J28+J29 -> 21 | K30: =K28+K29 -> 19 | ... O30: =O28+O29 -> 14 | P30: المجموع
A31: Outside Qatar | B31: Males | C31: =SUM(D31:O31) -> 53 | D31: 3 | E31: 4 | F31: 5 | G31: 5 | H31: 3 | I31: 1 | J31: 5 | K31: 4 | L31: 8 | M31: 6 | N31: 3 | O31: 6 | P31: ذكور | Q31: خارج قطر
B32: Females | C32: =SUM(D32:O32) -> 58 | D32: 2 | E32: 5 | F32: 7 | G32: 5 | H32: 4 | I32: 5 | J32: 5 | K32: 7 | L32: 2 | M32: 4 | N32: 4 | O32: 8 | P32: إناث
B33: Total | C33: =SUM(D33:O33) -> 111 | D33: =D31+D32 -> 5 | E33: =E31+E32 -> 9 | F33: =F31+F32 -> 12 | G33: =G31+G32 -> 10 | H33: =H31+H32 -> 7 | I33: =I31+I32 -> 6 | J33: =J31+J32 -> 10 | K33: =K31+K32 -> 11 | ... O33: =O31+O32 -> 14 | P33: المجموع
A34: Total | B34: Males | C34: =C7+C10+C13+C16+C19+C22+C25+C28+C31 -> 3517 | D34: =D7+D10+D13+D16+D19+D22+D25+D28+D31 -> 285 | E34: =E7+E10+E13+E16+E19+E22+E25+E28+E31 -> 295 | F34: =F7+F10+F13+F16+F19+F22+F25+F28+F31 -> 304 | G34: =G7+G10+G13+G16+G19+G22+G25+G28+G31 -> 298 | H34: =H7+H10+H13+H16+H19+H22+H25+H28+H31 -> 265 | I34: =I7+I10+I13+I16+I19+I22+I25+I28+I31 -> 293 | J34: =J7+J10+J13+J16+J19+J22+J25+J28+J31 -> 291 | ... O34: =O7+O10+O13+O16+O19+O22+O25+O28+O31 -> 299 | P34: ذكور | Q34: المجموع
B35: Females | C35: =C8+C11+C14+C17+C20+C23+C26+C29+C32 -> 3454 | D35: =D8+D11+D14+D17+D20+D23+D26+D29+D32 -> 272 | E35: =E8+E11+E14+E17+E20+E23+E26+E29+E32 -> 309 | F35: =F8+F11+F14+F17+F20+F23+F26+F29+F32 -> 315 | G35: =G8+G11+G14+G17+G20+G23+G26+G29+G32 -> 272 | H35: =H8+H11+H14+H17+H20+H23+H26+H29+H32 -> 280 | I35: =I8+I11+I14+I17+I20+I23+I26+I29+I32 -> 270 | J35: =J8+J11+J14+J17+J20+J23+J26+J29+J32 -> 294 | ... O35: =O8+O11+O14+O17+O20+O23+O26+O29+O32 -> 297 | P35: إناث
B36: Total | C36: =C34+C35 -> 6971 | D36: =D34+D35 -> 557 | E36: =E34+E35 -> 604 | F36: =F34+F35 -> 619 | G36: =G34+G35 -> 570 | H36: =H34+H35 -> 545 | I36: =I34+I35 -> 563 | J36: =J34+J35 -> 585 | ... O36: =O34+O35 -> 596 | P36: المجموع

Sheet B6-2
A1: المواليد الأحياء المسجلون حسب الشهر والنوع والبلدية
A2: REGISTERED LIVE BIRTHS BY MONTH, GENDER AND MUNICIPALITY
A3: 2023
A4: NON-QATARIS غير قطريين
A5: Table No. (6-2) | Q5: جدول رقم (6-2)
A6: Municipality | B6: Gender | C6: المجموع Total | D6: ديسمبر Dec. | E6: نوفمبر Nov. | F6: اكتوبر Oct. | G6: سبتمبر Sep. | H6: اغسطس Aug. | I6: يوليو Jul. | J6: يونيو Jun. | K6: مايو May. | L6: ابريل Apr. | M6: مارس Mar. | N6: فبراير Feb. | O6: يناير Jan. | P6: النوع | Q6: البلدية
A7: Doha | B7: Males | C7: =SUM(D7:O7) -> 4735 | D7: 447 | E7: 455 | F7: 424 | G7: 391 | H7: 422 | I7: 351 | J7: 363 | K7: 414 | L7: 379 | M7: 359 | N7: 334 | O7: 396 | P7: ذكور | Q7: الدوحة
B8: Females | C8: =SUM(D8:O8) -> 4451 | D8: 425 | E8: 405 | F8: 422 | G8: 354 | H8: 342 | I8: 384 | J8: 353 | K8: 365 | L8: 362 | M8: 357 | N8: 343 | O8: 339 | P8: إناث
B9: Total | C9: =SUM(D9:O9) -> 9186 | D9: =D7+D8 -> 872 | E9: =E7+E8 -> 860 | F9: =F7+F8 -> 846 | G9: =G7+G8 -> 745 | H9: =H7+H8 -> 764 | I9: =I7+I8 -> 735 | J9: =J7+J8 -> 716 | K9: =K7+K8 -> 779 | ... O9: =O7+O8 -> 735 | P9: المجموع
A10: Al Rayyan | B10: Males | C10: =SUM(D10:O10) -> 3354 | D10: 306 | E10: 293 | F10: 276 | G10: 292 | H10: 288 | I10: 245 | J10: 285 | K10: 293 | L10: 277 | M10: 259 | N10: 265 | O10: 275 | P10: ذكور | Q10: الريان
B11: Females | C11: =SUM(D11:O11) -> 3162 | D11: 274 | E11: 290 | F11: 288 | G11: 242 | H11: 276 | I11: 269 | J11: 255 | K11: 268 | L11: 258 | M11: 244 | N11: 243 | O11: 255 | P11: إناث
B12: Total | C12: =SUM(D12:O12) -> 6516 | D12: =D10+D11 -> 580 | E12: =E10+E11 -> 583 | F12: =F10+F11 -> 564 | G12: =G10+G11 -> 534 | H12: =H10+H11 -> 564 | I12: =I10+I11 -> 514 | J12: =J10+J11 -> 540 | K12: =K10+K11 -> 561 | ... O12: =O10+O11 -> 530 | P12: المجموع
A13: Al Wakra | B13: Males | C13: =SUM(D13:O13) -> 1104 | D13: 80 | E13: 116 | F13: 79 | G13: 94 | H13: 100 | I13: 102 | J13: 79 | K13: 108 | L13: 93 | M13: 75 | N13: 75 | O13: 103 | P13: ذكور | Q13: الوكرة
B14: Females | C14: =SUM(D14:O14) -> 975 | D14: 70 | E14: 96 | F14: 83 | G14: 73 | H14: 73 | I14: 72 | J14: 84 | K14: 108 | L14: 82 | M14: 86 | N14: 64 | O14: 84 | P14: إناث
B15: Total | C15: =SUM(D15:O15) -> 2079 | D15: =D13+D14 -> 150 | E15: =E13+E14 -> 212 | F15: =F13+F14 -> 162 | G15: =G13+G14 -> 167 | H15: =H13+H14 -> 173 | I15: =I13+I14 -> 174 | J15: =J13+J14 -> 163 | K15: =K13+K14 -> 216 | ... O15: =O13+O14 -> 187 | P15: المجموع
A16: Umm Salal | B16: Males | C16: =SUM(D16:O16) -> 480 | D16: 41 | E16: 42 | F16: 36 | G16: 28 | H16: 36 | I16: 40 | J16: 49 | K16: 43 | L16: 46 | M16: 47 | N16: 36 | O16: 36 | P16: ذكور | Q16: ام صلال
B17: Females | C17: =SUM(D17:O17) -> 438 | D17: 34 | E17: 38 | F17: 38 | G17: 47 | H17: 35 | I17: 41 | J17: 33 | K17: 32 | L17: 43 | M17: 41 | N17: 19 | O17: 37 | P17: إناث
B18: Total | C18: =SUM(D18:O18) -> 918 | D18: =D16+D17 -> 75 | E18: =E16+E17 -> 80 | F18: =F16+F17 -> 74 | G18: =G16+G17 -> 75 | H18: =H16+H17 -> 71 | I18: =I16+I17 -> 81 | J18: =J16+J17 -> 82 | K18: =K16+K17 -> 75 | ... O18: =O16+O17 -> 73 | P18: المجموع
A19: Al Khor | B19: Males | C19: =SUM(D19:O19) -> 327 | D19: 30 | E19: 31 | F19: 32 | G19: 23 | H19: 26 | I19: 25 | J19: 18 | K19: 24 | L19: 23 | M19: 24 | N19: 34 | O19: 37 | P19: ذكور | Q19: الخور
B20: Females | C20: =SUM(D20:O20) -> 308 | D20: 26 | E20: 23 | F20: 20 | G20: 27 | H20: 26 | I20: 26 | J20: 31 | K20: 25 | L20: 25 | M20: 30 | N20: 24 | O20: 25 | P20: إناث
B21: Total | C21: =SUM(D21:O21) -> 635 | D21: =D19+D20 -> 56 | E21: =E19+E20 -> 54 | F21: =F19+F20 -> 52 | G21: =G19+G20 -> 50 | H21: =H19+H20 -> 52 | I21: =I19+I20 -> 51 | J21: =J19+J20 -> 49 | K21: =K19+K20 -> 49 | ... O21: =O19+O20 -> 62 | P21: المجموع
A22: Al Shamal | B22: Males | C22: =SUM(D22:O22) -> 28 | D22: 1 | E22: 7 | F22: 4 | G22: 2 | H22: 2 | I22: 2 | J22: 2 | K22: 0 | L22: 2 | M22: 2 | N22: 2 | O22: 2 | P22: ذكور | Q22: الشمال
C23: =SUM(D23:O23) -> 19 | D23: 2 | E23: 0 | F23: 1 | G23: 3 | H23: 2 | I23: 3 | J23: 2 | K23: 0 | L23: 2 | M23: 2 | N23: 0 | O23: 2 | P23: إناث
B24: Total | C24: =SUM(D24:O24) -> 47 | D24: =D22+D23 -> 3 | E24: =E22+E23 -> 7 | F24: =F22+F23 -> 5 | G24: =G22+G23 -> 5 | H24: =H22+H23 -> 4 | I24: =I22+I23 -> 5 | J24: =J22+J23 -> 4 | K24: =K22+K23 -> 0 | ... O24: =O22+O23 -> 4 | P24: المجموع
A25: Al Dhaayen | B25: Males | C25: =SUM(D25:O25) -> 376 | D25: 37 | E25: 29 | F25: 25 | G25: 33 | H25: 34 | I25: 31 | J25: 27 | K25: 36 | L25: 35 | M25: 28 | N25: 24 | O25: 37 | P25: ذكور | Q25: الظعاين
B26: Females | C26: =SUM(D26:O26) -> 355 | D26: 31 | E26: 34 | F26: 26 | G26: 35 | H26: 24 | I26: 30 | J26: 26 | K26: 25 | L26: 34 | M26: 34 | N26: 24 | O26: 32 | P26: إناث
B27: Total | C27: =SUM(D27:O27) -> 731 | D27: =D25+D26 -> 68 | E27: =E25+E26 -> 63 | F27: =F25+F26 -> 51 | G27: =G25+G26 -> 68 | H27: =H25+H26 -> 58 | I27: =I25+I26 -> 61 | J27: =J25+J26 -> 53 | K27: =K25+K26 -> 61 | ... O27: =O25+O26 -> 69 | P27: المجموع
A28: Al Sheehaniya | B28: Males | C28: =SUM(D28:O28) -> 120 | D28: 10 | E28: 11 | F28: 5 | G28: 12 | H28: 11 | I28: 8 | J28: 8 | K28: 11 | L28: 12 | M28: 11 | N28: 13 | O28: 8 | P28: ذكور | Q28: الشيحانية
B29: Females | C29: =SUM(D29:O29) -> 119 | D29: 12 | E29: 9 | F29: 13 | G29: 6 | H29: 6 | I29: 8 | J29: 9 | K29: 8 | L29: 13 | M29: 13 | N29: 10 | O29: 12 | P29: إناث
B30: Total | C30: =SUM(D30:O30) -> 239 | D30: =D28+D29 -> 22 | E30: =E28+E29 -> 20 | F30: =F28+F29 -> 18 | G30: =G28+G29 -> 18 | H30: =H28+H29 -> 17 | I30: =I28+I29 -> 16 | J30: =J28+J29 -> 17 | K30: =K28+K29 -> 19 | ... O30: =O28+O29 -> 20 | P30: المجموع
A31: Outside Qatar | B31: Males | C31: =SUM(D31:O31) -> 0 | D31: 0 | E31: 0 | F31: 0 | G31: 0 | H31: 0 | I31: 0 | J31: 0 | K31: 0 | L31: 0 | M31: 0 | N31: 0 | O31: 0 | P31: ذكور | Q31: خارج قطر
B32: Females | C32: =SUM(D32:O32) -> 0 | D32: 0 | E32: 0 | F32: 0 | G32: 0 | H32: 0 | I32: 0 | J32: 0 | K32: 0 | L32: 0 | M32: 0 | N32: 0 | O32: 0 | P32: إناث
B33: Total | C33: =SUM(D33:O33) -> 0 | D33: =D31+D32 -> 0 | E33: =E31+E32 -> 0 | F33: =F31+F32 -> 0 | G33: =G31+G32 -> 0 | H33: =H31+H32 -> 0 | I33: =I31+I32 -> 0 | J33: =J31+J32 -> 0 | K33: =K31+K32 -> 0 | ... O33: =O31+O32 -> 0 | P33: المجموع
A34: Total | B34: Males | C34: =C7+C10+C13+C16+C19+C22+C25+C28+C31 -> 10524 | D34: =D7+D10+D13+D16+D19+D22+D25+D28+D31 -> 952 | E34: =E7+E10+E13+E16+E19+E22+E25+E28+E31 -> 984 | F34: =F7+F10+F13+F16+F19+F22+F25+F28+F31 -> 881 | G34: =G7+G10+G13+G16+G19+G22+G25+G28+G31 -> 875 | H34: =H7+H10+H13+H16+H19+H22+H25+H28+H31 -> 919 | I34: =I7+I10+I13+I16+I19+I22+I25+I28+I31 -> 804 | J34: =J7+J10+J13+J16+J19+J22+J25+J28+J31 -> 831 | ... O34: =O7+O10+O13+O16+O19+O22+O25+O28+O31 -> 894 | P34: ذكور | Q34: المجموع
B35: Females | C35: =C8+C11+C14+C17+C20+C23+C26+C29+C32 -> 9827 | D35: =D8+D11+D14+D17+D20+D23+D26+D29+D32 -> 874 | E35: =E8+E11+E14+E17+E20+E23+E26+E29+E32 -> 895 | F35: =F8+F11+F14+F17+F20+F23+F26+F29+F32 -> 891 | G35: =G8+G11+G14+G17+G20+G23+G26+G29+G32 -> 787 | H35: =H8+H11+H14+H17+H20+H23+H26+H29+H32 -> 784 | I35: =I8+I11+I14+I17+I20+I23+I26+I29+I32 -> 833 | J35: =J8+J11+J14+J17+J20+J23+J26+J29+J32 -> 793 | ... O35: =O8+O11+O14+O17+O20+O23+O26+O29+O32 -> 786 | P35: إناث
B36: Total | C36: =C34+C35 -> 20351 | D36: =D34+D35 -> 1826 | E36: =E34+E35 -> 1879 | F36: =F34+F35 -> 1772 | G36: =G34+G35 -> 1662 | H36: =H34+H35 -> 1703 | I36: =I34+I35 -> 1637 | J36: =J34+J35 -> 1624 | ... O36: =O34+O35 -> 1680 | P36: المجموع

Sheet B6-3
A1: المواليد الأحياء المسجلون حسب الشهر والنوع والبلدية
A2: REGISTERED LIVE BIRTHS BY MONTH, GENDER AND MUNICIPALITY
A3: 2023
A4: TOTAL المجموع
A5: Table No. (6-3) | Q5: جدول رقم (6-3)
A6: Municipality | B6: Gender | C6: المجموع Total | D6: ديسمبر Dec. | E6: نوفمبر Nov. | F6: اكتوبر Oct. | G6: سبتمبر Sep. | H6: اغسطس Aug. | I6: يوليو Jul. | J6: يونيو Jun. | K6: مايو May. | L6: ابريل Apr. | M6: مارس Mar. | N6: فبراير Feb. | O6: يناير Jan. | P6: النوع | Q6: البلدية
A7: Doha | B7: Males | C7: =SUM(D7:O7) -> 5326 | D7: ='B6-1'!D7+'B6-2'!D7 -> 496 | E7: ='B6-1'!E7+'B6-2'!E7 -> 508 | F7: ='B6-1'!F7+'B6-2'!F7 -> 473 | G7: ='B6-1'!G7+'B6-2'!G7 -> 437 | H7: ='B6-1'!H7+'B6-2'!H7 -> 471 | I7: ='B6-1'!I7+'B6-2'!I7 -> 404 | J7: ='B6-1'!J7+'B6-2'!J7 -> 411 | K7: ='B6-1'!K7+'B6-2'!K7 -> 465 | ... O7: ='B6-1'!O7+'B6-2'!O7 -> 446 | P7: ذكور | Q7: الدوحة
B8: Females | C8: =SUM(D8:O8) -> 5027 | D8: ='B6-1'!D8+'B6-2'!D8 -> 477 | E8: ='B6-1'!E8+'B6-2'!E8 -> 462 | F8: ='B6-1'!F8+'B6-2'!F8 -> 480 | G8: ='B6-1'!G8+'B6-2'!G8 -> 394 | H8: ='B6-1'!H8+'B6-2'!H8 -> 380 | I8: ='B6-1'!I8+'B6-2'!I8 -> 425 | J8: ='B6-1'!J8+'B6-2'!J8 -> 398 | K8: ='B6-1'!K8+'B6-2'!K8 -> 409 | ... O8: ='B6-1'!O8+'B6-2'!O8 -> 403 | P8: إناث
B9: Total | C9: =SUM(D9:O9) -> 10353 | D9: ='B6-1'!D9+'B6-2'!D9 -> 973 | E9: ='B6-1'!E9+'B6-2'!E9 -> 970 | F9: ='B6-1'!F9+'B6-2'!F9 -> 953 | G9: ='B6-1'!G9+'B6-2'!G9 -> 831 | H9: ='B6-1'!H9+'B6-2'!H9 -> 851 | I9: ='B6-1'!I9+'B6-2'!I9 -> 829 | J9: ='B6-1'!J9+'B6-2'!J9 -> 809 | K9: ='B6-1'!K9+'B6-2'!K9 -> 874 | ... O9: ='B6-1'!O9+'B6-2'!O9 -> 849 | P9: المجموع
A10: Al Rayyan | B10: Males | C10: =SUM(D10:O10) -> 5091 | D10: ='B6-1'!D10+'B6-2'!D10 -> 442 | E10: ='B6-1'!E10+'B6-2'!E10 -> 438 | F10: ='B6-1'!F10+'B6-2'!F10 -> 428 | G10: ='B6-1'!G10+'B6-2'!G10 -> 441 | H10: ='B6-1'!H10+'B6-2'!H10 -> 414 | I10: ='B6-1'!I10+'B6-2'!I10 -> 387 | J10: ='B6-1'!J10+'B6-2'!J10 -> 433 | K10: ='B6-1'!K10+'B6-2'!K10 -> 457 | ... O10: ='B6-1'!O10+'B6-2'!O10 -> 410 | P10: ذكور | Q10: الريان
B11: Females | C11: =SUM(D11:O11) -> 4909 | D11: ='B6-1'!D11+'B6-2'!D11 -> 408 | E11: ='B6-1'!E11+'B6-2'!E11 -> 452 | F11: ='B6-1'!F11+'B6-2'!F11 -> 452 | G11: ='B6-1'!G11+'B6-2'!G11 -> 382 | H11: ='B6-1'!H11+'B6-2'!H11 -> 410 | I11: ='B6-1'!I11+'B6-2'!I11 -> 417 | J11: ='B6-1'!J11+'B6-2'!J11 -> 406 | K11: ='B6-1'!K11+'B6-2'!K11 -> 426 | ... O11: ='B6-1'!O11+'B6-2'!O11 -> 392 | P11: إناث
B12: Total | C12: =SUM(D12:O12) -> 10000 | D12: ='B6-1'!D12+'B6-2'!D12 -> 850 | E12: ='B6-1'!E12+'B6-2'!E12 -> 890 | F12: ='B6-1'!F12+'B6-2'!F12 -> 880 | G12: ='B6-1'!G12+'B6-2'!G12 -> 823 | H12: ='B6-1'!H12+'B6-2'!H12 -> 824 | I12: ='B6-1'!I12+'B6-2'!I12 -> 804 | J12: ='B6-1'!J12+'B6-2'!J12 -> 839 | K12: ='B6-1'!K12+'B6-2'!K12 -> 883 | ... O12: ='B6-1'!O12+'B6-2'!O12 -> 802 | P12: المجموع
A13: Al Wakra | B13: Males | C13: =SUM(D13:O13) -> 1384 | D13: ='B6-1'!D13+'B6-2'!D13 -> 105 | E13: ='B6-1'!E13+'B6-2'!E13 -> 139 | F13: ='B6-1'!F13+'B6-2'!F13 -> 105 | G13: ='B6-1'!G13+'B6-2'!G13 -> 124 | H13: ='B6-1'!H13+'B6-2'!H13 -> 112 | I13: ='B6-1'!I13+'B6-2'!I13 -> 129 | J13: ='B6-1'!J13+'B6-2'!J13 -> 99 | K13: ='B6-1'!K13+'B6-2'!K13 -> 126 | ... O13: ='B6-1'!O13+'B6-2'!O13 -> 133 | P13: ذكور | Q13: الوكرة
B14: Females | C14: =SUM(D14:O14) -> 1226 | D14: ='B6-1'!D14+'B6-2'!D14 -> 87 | E14: ='B6-1'!E14+'B6-2'!E14 -> 113 | F14: ='B6-1'!F14+'B6-2'!F14 -> 105 | G14: ='B6-1'!G14+'B6-2'!G14 -> 96 | H14: ='B6-1'!H14+'B6-2'!H14 -> 97 | I14: ='B6-1'!I14+'B6-2'!I14 -> 96 | J14: ='B6-1'!J14+'B6-2'!J14 -> 100 | K14: ='B6-1'!K14+'B6-2'!K14 -> 131 | ... O14: ='B6-1'!O14+'B6-2'!O14 -> 104 | P14: إناث
B15: Total | C15: =SUM(D15:O15) -> 2610 | D15: ='B6-1'!D15+'B6-2'!D15 -> 192 | E15: ='B6-1'!E15+'B6-2'!E15 -> 252 | F15: ='B6-1'!F15+'B6-2'!F15 -> 210 | G15: ='B6-1'!G15+'B6-2'!G15 -> 220 | H15: ='B6-1'!H15+'B6-2'!H15 -> 209 | I15: ='B6-1'!I15+'B6-2'!I15 -> 225 | J15: ='B6-1'!J15+'B6-2'!J15 -> 199 | K15: ='B6-1'!K15+'B6-2'!K15 -> 257 | ... O15: ='B6-1'!O15+'B6-2'!O15 -> 237 | P15: المجموع
A16: Umm Salal | B16: Males | C16: =SUM(D16:O16) -> 805 | D16: ='B6-1'!D16+'B6-2'!D16 -> 70 | E16: ='B6-1'!E16+'B6-2'!E16 -> 70 | F16: ='B6-1'!F16+'B6-2'!F16 -> 62 | G16: ='B6-1'!G16+'B6-2'!G16 -> 45 | H16: ='B6-1'!H16+'B6-2'!H16 -> 65 | I16: ='B6-1'!I16+'B6-2'!I16 -> 67 | J16: ='B6-1'!J16+'B6-2'!J16 -> 77 | K16: ='B6-1'!K16+'B6-2'!K16 -> 78 | ... O16: ='B6-1'!O16+'B6-2'!O16 -> 70 | P16: ذكور | Q16: ام صلال
B17: Females | C17: =SUM(D17:O17) -> 747 | D17: ='B6-1'!D17+'B6-2'!D17 -> 57 | E17: ='B6-1'!E17+'B6-2'!E17 -> 67 | F17: ='B6-1'!F17+'B6-2'!F17 -> 62 | G17: ='B6-1'!G17+'B6-2'!G17 -> 71 | H17: ='B6-1'!H17+'B6-2'!H17 -> 68 | I17: ='B6-1'!I17+'B6-2'!I17 -> 63 | J17: ='B6-1'!J17+'B6-2'!J17 -> 59 | K17: ='B6-1'!K17+'B6-2'!K17 -> 54 | ... O17: ='B6-1'!O17+'B6-2'!O17 -> 62 | P17: إناث
B18: Total | C18: =SUM(D18:O18) -> 1552 | D18: ='B6-1'!D18+'B6-2'!D18 -> 127 | E18: ='B6-1'!E18+'B6-2'!E18 -> 137 | F18: ='B6-1'!F18+'B6-2'!F18 -> 124 | G18: ='B6-1'!G18+'B6-2'!G18 -> 116 | H18: ='B6-1'!H18+'B6-2'!H18 -> 133 | I18: ='B6-1'!I18+'B6-2'!I18 -> 130 | J18: ='B6-1'!J18+'B6-2'!J18 -> 136 | K18: ='B6-1'!K18+'B6-2'!K18 -> 132 | ... O18: ='B6-1'!O18+'B6-2'!O18 -> 132 | P18: المجموع
A19: Al Khor | B19: Males | C19: =SUM(D19:O19) -> 424 | D19: ='B6-1'!D19+'B6-2'!D19 -> 39 | E19: ='B6-1'!E19+'B6-2'!E19 -> 36 | F19: ='B6-1'!F19+'B6-2'!F19 -> 41 | G19: ='B6-1'!G19+'B6-2'!G19 -> 29 | H19: ='B6-1'!H19+'B6-2'!H19 -> 34 | I19: ='B6-1'!I19+'B6-2'!I19 -> 34 | J19: ='B6-1'!J19+'B6-2'!J19 -> 24 | K19: ='B6-1'!K19+'B6-2'!K19 -> 33 | ... O19: ='B6-1'!O19+'B6-2'!O19 -> 47 | P19: ذكور | Q19: الخور
B20: Females | C20: =SUM(D20:O20) -> 387 | D20: ='B6-1'!D20+'B6-2'!D20 -> 32 | E20: ='B6-1'!E20+'B6-2'!E20 -> 30 | F20: ='B6-1'!F20+'B6-2'!F20 -> 31 | G20: ='B6-1'!G20+'B6-2'!G20 -> 34 | H20: ='B6-1'!H20+'B6-2'!H20 -> 33 | I20: ='B6-1'!I20+'B6-2'!I20 -> 30 | J20: ='B6-1'!J20+'B6-2'!J20 -> 37 | K20: ='B6-1'!K20+'B6-2'!K20 -> 32 | ... O20: ='B6-1'!O20+'B6-2'!O20 -> 29 | P20: إناث
B21: Total | C21: =SUM(D21:O21) -> 811 | D21: ='B6-1'!D21+'B6-2'!D21 -> 71 | E21: ='B6-1'!E21+'B6-2'!E21 -> 66 | F21: ='B6-1'!F21+'B6-2'!F21 -> 72 | G21: ='B6-1'!G21+'B6-2'!G21 -> 63 | H21: ='B6-1'!H21+'B6-2'!H21 -> 67 | I21: ='B6-1'!I21+'B6-2'!I21 -> 64 | J21: ='B6-1'!J21+'B6-2'!J21 -> 61 | K21: ='B6-1'!K21+'B6-2'!K21 -> 65 | ... O21: ='B6-1'!O21+'B6-2'!O21 -> 76 | P21: المجموع
A22: Al Shamal | B22: Males | C22: =SUM(D22:O22) -> 45 | D22: ='B6-1'!D22+'B6-2'!D22 -> 1 | E22: ='B6-1'!E22+'B6-2'!E22 -> 9 | F22: ='B6-1'!F22+'B6-2'!F22 -> 4 | G22: ='B6-1'!G22+'B6-2'!G22 -> 5 | H22: ='B6-1'!H22+'B6-2'!H22 -> 4 | I22: ='B6-1'!I22+'B6-2'!I22 -> 3 | J22: ='B6-1'!J22+'B6-2'!J22 -> 2 | K22: ='B6-1'!K22+'B6-2'!K22 -> 0 | ... O22: ='B6-1'!O22+'B6-2'!O22 -> 2 | P22: ذكور | Q22: الشمال
C23: =SUM(D23:O23) -> 35 | D23: ='B6-1'!D23+'B6-2'!D23 -> 4 | E23: ='B6-1'!E23+'B6-2'!E23 -> 2 | F23: ='B6-1'!F23+'B6-2'!F23 -> 1 | G23: ='B6-1'!G23+'B6-2'!G23 -> 3 | H23: ='B6-1'!H23+'B6-2'!H23 -> 3 | I23: ='B6-1'!I23+'B6-2'!I23 -> 5 | J23: ='B6-1'!J23+'B6-2'!J23 -> 4 | K23: ='B6-1'!K23+'B6-2'!K23 -> 3 | ... O23: ='B6-1'!O23+'B6-2'!O23 -> 2 | P23: إناث
B24: Total | C24: =SUM(D24:O24) -> 80 | D24: ='B6-1'!D24+'B6-2'!D24 -> 5 | E24: ='B6-1'!E24+'B6-2'!E24 -> 11 | F24: ='B6-1'!F24+'B6-2'!F24 -> 5 | G24: ='B6-1'!G24+'B6-2'!G24 -> 8 | H24: ='B6-1'!H24+'B6-2'!H24 -> 7 | I24: ='B6-1'!I24+'B6-2'!I24 -> 8 | J24: ='B6-1'!J24+'B6-2'!J24 -> 6 | K24: ='B6-1'!K24+'B6-2'!K24 -> 3 | ... O24: ='B6-1'!O24+'B6-2'!O24 -> 4 | P24: المجموع
A25: Al Dhaayen | B25: Males | C25: =SUM(D25:O25) -> 679 | D25: ='B6-1'!D25+'B6-2'!D25 -> 59 | E25: ='B6-1'!E25+'B6-2'!E25 -> 53 | F25: ='B6-1'!F25+'B6-2'!F25 -> 53 | G25: ='B6-1'!G25+'B6-2'!G25 -> 66 | H25: ='B6-1'!H25+'B6-2'!H25 -> 57 | I25: ='B6-1'!I25+'B6-2'!I25 -> 57 | J25: ='B6-1'!J25+'B6-2'!J25 -> 52 | K25: ='B6-1'!K25+'B6-2'!K25 -> 61 | ... O25: ='B6-1'!O25+'B6-2'!O25 -> 64 | P25: ذكور | Q25: الظعاين
B26: Females | C26: =SUM(D26:O26) -> 680 | D26: ='B6-1'!D26+'B6-2'!D26 -> 62 | E26: ='B6-1'!E26+'B6-2'!E26 -> 58 | F26: ='B6-1'!F26+'B6-2'!F26 -> 48 | G26: ='B6-1'!G26+'B6-2'!G26 -> 60 | H26: ='B6-1'!H26+'B6-2'!H26 -> 52 | I26: ='B6-1'!I26+'B6-2'!I26 -> 45 | J26: ='B6-1'!J26+'B6-2'!J26 -> 59 | K26: ='B6-1'!K26+'B6-2'!K26 -> 59 | ... O26: ='B6-1'!O26+'B6-2'!O26 -> 64 | P26: إناث
B27: Total | C27: =SUM(D27:O27) -> 1359 | D27: ='B6-1'!D27+'B6-2'!D27 -> 121 | E27: ='B6-1'!E27+'B6-2'!E27 -> 111 | F27: ='B6-1'!F27+'B6-2'!F27 -> 101 | G27: ='B6-1'!G27+'B6-2'!G27 -> 126 | H27: ='B6-1'!H27+'B6-2'!H27 -> 109 | I27: ='B6-1'!I27+'B6-2'!I27 -> 102 | J27: ='B6-1'!J27+'B6-2'!J27 -> 111 | K27: ='B6-1'!K27+'B6-2'!K27 -> 120 | ... O27: ='B6-1'!O27+'B6-2'!O27 -> 128 | P27: المجموع
A28: Al Sheehaniya | B28: Males | C28: =SUM(D28:O28) -> 234 | D28: ='B6-1'!D28+'B6-2'!D28 -> 22 | E28: ='B6-1'!E28+'B6-2'!E28 -> 22 | F28: ='B6-1'!F28+'B6-2'!F28 -> 14 | G28: ='B6-1'!G28+'B6-2'!G28 -> 21 | H28: ='B6-1'!H28+'B6-2'!H28 -> 24 | I28: ='B6-1'!I28+'B6-2'!I28 -> 15 | J28: ='B6-1'!J28+'B6-2'!J28 -> 19 | K28: ='B6-1'!K28+'B6-2'!K28 -> 20 | ... O28: ='B6-1'!O28+'B6-2'!O28 -> 15 | P28: ذكور | Q28: الشيحانية
B29: Females | C29: =SUM(D29:O29) -> 212 | D29: ='B6-1'!D29+'B6-2'!D29 -> 17 | E29: ='B6-1'!E29+'B6-2'!E29 -> 15 | F29: ='B6-1'!F29+'B6-2'!F29 -> 20 | G29: ='B6-1'!G29+'B6-2'!G29 -> 14 | H29: ='B6-1'!H29+'B6-2'!H29 -> 17 | I29: ='B6-1'!I29+'B6-2'!I29 -> 17 | J29: ='B6-1'!J29+'B6-2'!J29 -> 19 | K29: ='B6-1'!K29+'B6-2'!K29 -> 18 | ... O29: ='B6-1'!O29+'B6-2'!O29 -> 19 | P29: إناث
B30: Total | C30: =SUM(D30:O30) -> 446 | D30: ='B6-1'!D30+'B6-2'!D30 -> 39 | E30: ='B6-1'!E30+'B6-2'!E30 -> 37 | F30: ='B6-1'!F30+'B6-2'!F30 -> 34 | G30: ='B6-1'!G30+'B6-2'!G30 -> 35 | H30: ='B6-1'!H30+'B6-2'!H30 -> 41 | I30: ='B6-1'!I30+'B6-2'!I30 -> 32 | J30: ='B6-1'!J30+'B6-2'!J30 -> 38 | K30: ='B6-1'!K30+'B6-2'!K30 -> 38 | ... O30: ='B6-1'!O30+'B6-2'!O30 -> 34 | P30: المجموع
A31: Outside Qatar | B31: Males | C31: =SUM(D31:O31) -> 53 | D31: ='B6-1'!D31+'B6-2'!D31 -> 3 | E31: ='B6-1'!E31+'B6-2'!E31 -> 4 | F31: ='B6-1'!F31+'B6-2'!F31 -> 5 | G31: ='B6-1'!G31+'B6-2'!G31 -> 5 | H31: ='B6-1'!H31+'B6-2'!H31 -> 3 | I31: ='B6-1'!I31+'B6-2'!I31 -> 1 | J31: ='B6-1'!J31+'B6-2'!J31 -> 5 | K31: ='B6-1'!K31+'B6-2'!K31 -> 4 | ... O31: ='B6-1'!O31+'B6-2'!O31 -> 6 | P31: ذكور | Q31: خارج قطر
B32: Females | C32: =SUM(D32:O32) -> 58 | D32: ='B6-1'!D32+'B6-2'!D32 -> 2 | E32: ='B6-1'!E32+'B6-2'!E32 -> 5 | F32: ='B6-1'!F32+'B6-2'!F32 -> 7 | G32: ='B6-1'!G32+'B6-2'!G32 -> 5 | H32: ='B6-1'!H32+'B6-2'!H32 -> 4 | I32: ='B6-1'!I32+'B6-2'!I32 -> 5 | J32: ='B6-1'!J32+'B6-2'!J32 -> 5 | K32: ='B6-1'!K32+'B6-2'!K32 -> 7 | ... O32: ='B6-1'!O32+'B6-2'!O32 -> 8 | P32: إناث
B33: Total | C33: =SUM(D33:O33) -> 111 | D33: ='B6-1'!D33+'B6-2'!D33 -> 5 | E33: ='B6-1'!E33+'B6-2'!E33 -> 9 | F33: ='B6-1'!F33+'B6-2'!F33 -> 12 | G33: ='B6-1'!G33+'B6-2'!G33 -> 10 | H33: ='B6-1'!H33+'B6-2'!H33 -> 7 | I33: ='B6-1'!I33+'B6-2'!I33 -> 6 | J33: ='B6-1'!J33+'B6-2'!J33 -> 10 | K33: ='B6-1'!K33+'B6-2'!K33 -> 11 | ... O33: ='B6-1'!O33+'B6-2'!O33 -> 14 | P33: المجموع
