Workbook

Sheet cover page
E14: مسح القوى العاملة بالعينة الربع الرابع (أكتوبر – ديسمبر) 2024
E23: Labor force sample survey The fourth Quarter (October - December) 2024

Sheet Sheet1

Sheet CONTENTS
A1: المحتويات CONTENTS
A2: الجدول | B2: رقم الصفحة | C2: رقم الجدول | D2: رقم الشكل | E2: Table
B3: Page No | C3: Table No | D3: Figure No
A4: تقديم | B4: 4 | E4: Preface
A5: مقدمة | B5: 5 | E5: Introduction
A6: ملخص تنفيذي | B6: 8 | E6: Executive Summary
A7: السكان والقوى العاملة حسب الجنس | B7: 12 | C7: 1 | E7: Population and labor force by sex
A8: السكان (15 سنة فأكثر) حسب العلاقة بقوة العمل والجنسية والجنس | B8: 13 | C8: 2 | E8: Population (15 years and above) by relation to labor force, nationality & sex
A9: السكان (15سنة فأكثر) النشيطون وغير النشيطين اقتصادياً حسب الجنسية والجنس | B9: 14 | D9: 1 | E9: Population (15 years and above) economically active/inactive by nationality & sex
A10: القطريون (15سنة فأكثر) غير النشيطين اقتصادياً وأسبابه حسب الجنس | B10: 15 | D10: 2 | E10: Qatari (15 years and above) economically inactive by reason & sex
A11: السكان (15 سنة فأكثر) حسب العلاقة بقوة العمل وفئات العمر | B11: 16 | C11: 3 | E11: Population (15 years & above) by relation to labor force & age groups
A12: الذكور من السكان (15 سنة فأكثر) حسب العلاقة بقوة العمل وفئات العمر | B12: 17 | C12: 4 | E12: Males population (15 years & above) by relation to labor force & age groups
A13: الإناث من السكان (15 سنة فأكثر) حسب العلاقة بقوة العمل وفئات العمر | B13: 18 | C13: 5 | E13: Females population (15 years & above) by relation to labor force & age groups
A14: السكان النشطون اقتصاديا (15 سنة فأكثر) حسب الجنسية والجنس وفئات العمر | B14: 19 | C14: 6 | E14: Economically active population (15 years & above) by nationality, sex & age groups
A15: المشتغلون بأجر ( 15 سنة فأكثر ) حسب الجنس ومتوسط الأجر الشهري ( بالريال القطري ) | B15: 20 | C15: 7 | E15: Workers in paid employment (15 years & above ) by sex and average monthly wage (Q.R)
A16: المتعطلون (15 سنة فأكثر) حسب الجنسية والجنس وفئات العمر | B16: 21 | C16: 8 | E16: Unemployed (15 years & above) by nationality, sex & age groups
A17: المتعطلون (15 سنة فأكثر) حسب الجنسية والجنس وسبب التعطل | B17: 22 | C17: 9 | E17: Unemployed (15 years and above) by nationality, sex and reasons of unemployment
A18: المتعطلون (15 سنة فأكثر) حسب الجنسية وسبب التعطل | B18: 23 | D18: 3 | E18: Unemployed (15 years and above) by nationality and reasons of unemployment
A19: القطريون المتعطلون (15 سنة فأكثر) حسب الجنس وسبب التعطل | B19: 24 | D19: 4 | E19: Qatari unemployed persons (15 years and above) by sex and reasons of unemployment
A20: المتعطلون (15 سنة فأكثر) حسب الجنسية والجنس ومدة البحث عن عمل بالشهور | B20: 25 | C20: 10 | E20: Unemployed (15 years & above) by nationality, sex & duration of Employment search in Months
A21: المتعطلون (15سنة فأكثر) حسب الجنسية والجنس ومدة البحث عن عمل بالشهور | B21: 26 | D21: 5 | E21: Unemployed (15 years and above) by nationality, sex and duration of employment search in months
A22: المتعطلون القطريون (15 سنة فأكثر) الحاصلون على الثانوية وملتحقون بالدورات التدريبية حسب الجنس ونوع التدريب | B22: 27 | C22: 11 | E22: Qatari unemployed persons (15 years and above) with secondary education who attended training program by sex and type of training
A23: المتعطلون القطريون (15 سنة فأكثر) الحاصلون على الثانوية وملتحقون بالدورات التدريبية حسب الجنس ونوع التدريب | B23: 28 | D23: 6 | E23: Qatari unemployed persons (15 years and above) with secondary education who attended training program by sex and type of training
A24: المتعطلون القطريون (15 سنة فأكثر) حسب الجنس والرغبة للعمل فى القطاع الخاص | B24: 29 | C24: 12 | E24: Qatari unemployed persons (15 years & above) by sex & willingness to work In private sector
A25: المتعطلون القطريون (15 سنة فأكثر) حسب الجنس والرغبة للعمل فى القطاع الخاص | B25: 30 | D25: 7 | E25: Qatari unemployed persons (15 years & above) by sex & willingness to work In private sector
A26: المتعطلون القطريون (15 سنة فأكثر) الحاصلون على الثانوية وأسباب عدم الرغبة للعمل في القطاع الخاص | B26: 31 | C26: 13 | E26: Qatari unemployed (15 years and above) with secondary education not willing to work in private sector by reasons
A27: المتعطلون القطريون (15 سنة فأكثر) الحاصلون على الثانوية وأسباب عدم الرغبة للعمل في القطاع الخاص | B27: 32 | D27: 8 | E27: Qatari unemployed (15 years and above) with secondary education not willing to work in private sector by reasons
A28: السكان غير النشيطين اقتصادياً (15 سنة فأكثر) حسب الجنسية والجنس وفئات العمر | B28: 33 | C28: 14 | E28: Economically Inactive Population (15 years & above) by Nationality, Sex & Age groups
A29: السكان غير النشيطين اقتصادياً (15 سنة فأكثر) حسب الجنسية وفئات العمر | B29: 34 | D29: 9 | E29: Economically Inactive Population (15 years & above) by Nationality and Age groups
A30: القطريون غير النشيطين اقتصادياً (15 سنة فأكثر) حسب الجنس وفئات العمر | B30: 35 | D30: 10 | E30: Qatari Economically Inactive (15 years & above) by Sex and Age groups
A31: السكان غير النشيطين اقتصادياً (15 سنة فأكثر) حسب الجنسية والجنس والحالة التعليمية | B31: 36 | C31: 15 | E31: Economically Inactive Population (15 years & above) by Nationality, Sex and Educational Attainment
A32: السكان غير النشيطين اقتصادياً (15 سنة فأكثر) حسب الجنسية والحالة التعليمية | B32: 37 | D32: 11 | E32: Economically Inactive Population (15 years & above) by Nationality and Educational Attainment
A33: القطريون غير النشيطين اقتصادياً (15 سنة فأكثر) حسب الجنس والحالة التعليمية | B33: 38 | D33: 12 | E33: Qatari Economically Inactive (15 years & above) by Sex and Educational Attainment

Sheet Preface
A8: تقديـم | U8: Preface
A12: يسر المجلس الوطني للتخطيط أن يقدم نتائج الربع الرابع من العام 2024 لمسح القوى العاملة بالعينة. ونظراً للدور الرئيسي لإحصاءات سوق العمل في عملية التخطيط الاجتماعي والاقتصادي، فإن المجلس الوطني للتخطيط يتولى تنفيذ مسح القوى العاملة بالعينة بشكلٍ دوري للوقوف على حجم وتركيبة القوى العاملة في دولة قطر ، حيث يوفر المسح بيانات هامة حول العلاقة بين سوق العمل والخصائص الديموغرافية والاجتماعية والاقتصادية للسكان مثل التعليم والمهن. | U12: The National Planning Council is pleased to present the results of the fourth quarter of 2024 of the Labor Force Sample Survey. In view of the key role of labor market statistics in the social and economic planning process, the National Planning Council carries out a sample labor force survey periodically to determine the size and composition of the labor force in the State of Qatar, as the survey provides important data about the relationship between the labor market and the demographic, social and economic characteristics of the population, such as Education and careers.
A22: جرى تنفيذ المسح آخذين في الاعتبار توصيات منظمة العمل الدولية . علاوة على ذلك فقد استند المسح على عينة مصممة بشكل علمي سليم والتي أتاحت المجال لعمل تقديرات موثوق بها للمجتمع. | U22: The survey was implemented taking into account the recommendations of the International Labor Organization. Moreover, it is based on sound, scientific sample design, which allowed the calculation of reliable estimates of the population parameters.
A26: ختاماً نود أن نعبر عن شكرنا وتقديرنا لجميع أسر العينة التي كان لتجاوبها وتعاونها الأثر البالغ في إنجاح هذا المسح، وكذلك الشكر موصول لجميع الذين عملوا في هذا المسح من داخل المجلس الوطني للتخطيط أو خارجه. | U26: We would like to express our thanks and appreciation to all sample households for their co-operation and positive response which made this task a success. We also thank all those who worked on this survey, whether from inside or outside the(The National Planning Council)
B32: عبد العزيز بن ناصر بن مبارك آل خليفة | U32: Abdulaziz bin Nasser bin Mubarak Al Khalifa
B33: الأمين العام للمجلس الوطني للتخطيط | U33: Secretary General of the National Planning Council

Sheet Introduction
B5: مقــدمــة | U5: Introduction
B7: دولة قطر هي إحدى الدول التي تولي تنفيذ مسح القوى العاملة بصورة دورية منتظمة اهتماماً كبيراً ، وترصد له الميزانيات والجهود وذلك لتوفير نظام إحصاءات شامل عن السكان النشيطين اقتصادياً ليكون أساساً لمراقبة الاتجاهات والتغيرات في سوق العمل ، كما يشكل قاعدة لتقديم وتحليل السياسات الاقتصادية الكلية للدولة ، فضلاً عن توفير مؤشرات العمالة والبطالة التي تستخدم كمؤشر عام حول الأداء الاقتصادي للدولة. إن البيانات التي يوفرها مسح القوى العاملة الذي ينفذه المجلس الوطني للتخطيط بدولة قطر ، تعتبر مادة دسمة للعديد من الدراسات التحليلية المتعلقة بسوق العمل والبطالة والأجور في دولة قطر ، ولعل من أهم تلك الدراسات ما يتعلق بالتغيرات التي تحدث في التركيب الاقتصادي للسكان من فترة إلى أخرى ، الأمر الذي يساهم ويساعد بشكل كبير ومباشر في رسم خطط التنمية البشرية والاقتصادية والتي هي جزء من رؤية قطر الوطنية 2030 التي تسعى دولة قطر لتحقيقها. | U7: The State of Qatar is one of the leading countries that attach great importance to the implementation of Labour Force Survey on regular basis, and allocate for this purpose budgets and efforts in order to provide a comprehensive statistics system for the economically active population as a basis to monitor trends and changes in the labour market. This system is further a base for the provision and analysis of the state’s macro-economic policies, as well as employment and unemployment indicators which are used as a general index on the economic performance of the state. The data provided by the labour force survey implemented by (The National Planning Council) is considered a rich material for many analytical studies related to labour market, unemployment and wages in Qatar. Perhaps the most important of these studies are those related to changes in the population’s economic structure from one period to another. This would significantly and directly contribute to shaping human and economic development plans which are part of Qatar's National Vision 2030 that Qatar is seeking to achieve .
B22: أهداف المسح : | U22: Survey objectives :
B24: 1. | C24: تقدير حجم قوة العمل في دولة قطر. | U24: Estimate the size of the labor force in Qatar. | AK24: 1.
B25: 2. | C25: توزيع قوة العمل حسب الخصائص المختلفة : فئات العمر، النوع، المستوى التعليمي، الحالة الزواجية، الحالة العملية، النشاط الاقتصادي، المهنة، القطاع .. إلخ. | U25: Distribution of the labor force by selected characteristics ( age groups, gender, educational level, marital status, employment status, economic activity, occupation, sector .. Etc ). | AK25: 2.
B28: 3. | C28: قياس مستوى الاستخدام والبطالة في دولة قطر. | U28: Measuring the level of use and unemployment in the State of Qatar. | AK28: 3.
B29: 4. | C29: دراسة العلاقة بين المهنة والتخصص التعليمي. | U29: Study the relationship between the educational profession and specialization. | AK29: 4.
B30: 5. | C30: دراسة السكان المصنفين خارج قوة العمل من حيث: فئات العمر، النوع، الجنسية، المستوى التعليمي، الحالة الزواجية، الرغبة في العمل، أسباب العزوف عن العمل، وأسباب ترك العمل السابق. | U30: Study population labeled outside of the labor force in terms of: categories of age, gender, nationality, educational level, marital status, willingness to work, the reasons for reluctance to work, and reasons for leaving previous work. | AK30: 5.
B33: 6. | C33: بناء قاعدة بيانات حديثة وتوفير كافة البيانات والمعلومات اللازمة للقيام بالدراسات. | U33: Build a modern database and provide all the data and information necessary to carry out studies. | AK33: 6.
B35: تصميم العينة : | U35: Sample Design :
B37: يستند تصميم العينة على عينات مستقلة تم سحبها من وحدات معاينة أساسية (PSU) خاصة، كل وحدة تغطي كل الدولة وقد تم تصميمها لتشمل عدداً من الأسر المستهدفة من نوع معين : | U37: The sample design is based on independent samples drawn from distinct sets of especially constructed PSUs, each set covering the entire nation and designed to include a target number of households of given type :
B40: I. | C40: الأسر القطرية. | U40: Qatari households | AK40: I.
B41: II. | C41: الأسر غير القطرية. | U41: Non-Qatari households | AK41: II.
B42: III. | C42: التجمعات العمالية الصغيرة. | U42: Small labor gatherings | AK42: III.
B43: IV. | C43: التجمعات العمالية الكبيرة. | U43: Large labor gatherings | AK43: IV.
B44: تم تصميم عينة ذات مرحلتين، المرحلة الأولى تحديد وحدات المعاينة الأولية ، وفي المرحلة الثانية يتم اختيار عينة من الأسر المعيشية داخل وحدة المعاينة المحددة . الوحدة المختارة في المرحلة الأولى تسمى وحدة المعاينة الأولية، والوحدة المختارة في المرحلة الثانية تسمى وحدة المعاينة الثانوية. وقد تم تحديث إطار وحدات المعاينة الأولية المحددة قبل العد الفعلي من الإطار العام لتعداد 2020. | U44: A two-stage sample design is used, selecting Primary Sampling Units at the first stage and a sample of households within each selected PSU at the second stage. The unit chosen at the first stage is called the Primary Sampling Unit and the unit selected at the second stage is called the Secondary Sampling Unit. an updated listing of the selected PSUs was carried out before the actual enumeration From the general framework of the 2020 census.
B51: نطاق المسح : | U51: Universe :
B53: يتكون نطاق المسح من جميع الأسر المعيشية العادية القطرية وغير القطرية وكذلك التجمعات العمالية في دولة قطر. | U53: The universe consists of all the regular Qatari, non-Qatari households and the labor gatherings in the state of Qatar.
B56: إطار المعاينة : | U56: Sampling Frame :
B58: يعتمد إطار المعاينة المستخدم لهذا المسح على تعداد السكان والمساكن والمنشآت 2020 . وقد أخذ المجلس الوطني للتخطيط بالإعتبار مناطق جغرافية صغيرة تسمى مربعات العد وهي مناطق العد المستخدمة في التعداد. ومن هذه المناطق تم انشاء وحدات المعاينة الأولية (PSUs). | U58: The sampling frame used for this survey is based on 2020 Census of population, housing and establishments. The National Planning Council has divided the whole country into small geographical areas called Census blocks. These were enumeration areas during the Census. These Blocks were combined to create Primary Sampling Units (PSUs).
B65: وحدة المعاينة : | U65: Sampling Unit :
B67: وحدة المعاينة في كل مرحلة من مراحل الاختيار تشير إلى الكيانات التي يتم اختيارها للمسح . في هذا المسح، كانت وحدات المعاينة النهائية هي الأفراد الذين يقيمون داخل الأسرة المعيشية التي تم اختيارها. | U67: The sampling unit in each stage of selection refers to the entities that are selected for the survey. In this survey, the ultimate sampling units are the household individuals residing within the selected household.
B71: مجال التقدير : | U71: Domain of Estimation :
B73: مجموعة فرعية من السكان من المقرر إجراء تقديرات منفصلة بشأنها في المسح. المسح يهدف الى توفير تقديرات موثوقة عن أفراد الأسر المعيشية القطرية، وكذلك تقديم تقديرات موثوقة لأفراد الأسر المعيشية غير القطرية. | U73: A domain is any subset of the population for which separate estimates are planned in the survey design. The survey aims to provide reliable estimates for Qatari and non-Qatari populations separately.
B77: حجم العينة : | U77: Sample Size :
B79: حجم العينة المستهدفة يقدر بحوالي 10,560 أسرة معيشية للعام الكامل حيث يتم تغطية ربع العينة الكلية في كل فصل. | U79: The target sample size for the whole year is around 10,560 households out of which forth will be covered in each quarter.
B82: جمع البيانات : | U82: Data Collection :
... B92: تتاح النتائج الفصلية في موقع المجلس الوطني للتخطيط ، ولن تتضمن بيانات البلدية. أما النتائج السنوية فستكون متاحة في وسائل النشر وسوف تشمل بيانات البلدية .على أمل أن يتم توفير البيانات الفصلية في الوقت المناسب لمستخدمي البيانات ومتخذي القرار. | U92: The quarterly results are made available only on The National Planning Council website and will not include municipal data. Annual results will be made available in a publication and will include municipal data. It is hoped quarterly results will provide timely information for data users and decision makers.

Sheet Executive Summary 1
E2: ملخص تنـفـيـذي | V2: Executive Summary
B7: بلغ عدد السكان ( 3,150 ألفاً ) | V7: The Population Reached (3,150 thousand)
B9: ارتفع إجمالي السكان في الربع الرابع من العام 2024 بنسبة 0.4 % عن إجمالي السكان في الربع الثالث من العام 2024. حيث ارتفع عدد الإناث بنسبة 0.4 % عن إجمالي الإناث في الربع الثالث 2024، بينما الذكور فقد ارتفع عددهم بنسبة 0.4 % عن إجمالي الذكور في الربع الثالث 2024. | V9: The total population in the fourth quarter of 2024 increased by 0.4% over the total population in the third quarter of 2024. The number of females increased by 0.4% over the total females in the third quarter of 2024, while the number of males increased by 0.4% over the total males in the third quarter of 2024.
AO12: من الجدول رقم (1) في الربعين الحالي والسابق
D17: شكل 1/ التطور النسبي لأعداد السكان حسب الجنس خلال الفترة ( Q3 2023 .. Q4 2024 ) | AO17: حساب الفرق بين الربعين الحالي والسابق من العام ذاته | AP17: الربع الحالي | AQ17: الربع السابق | AR17: النسبة
D18: Figure 1/ Relative Evolution of the Population by Sex, during (Q3 2023 .. Q4 2024) | AO18: اجمالي السكان | AP18: 3150920 | AQ18: 3037864 | AR18: =(AQ18-AP18)/AQ18 -> -0.037215623
AO19: الذكور | AP19: 2270198 | AQ19: 2189536 | AR19: =(AQ19-AP19)/AQ19 -> -0.036839769
AO20: الاناث | AP20: 880722 | AQ20: 848328 | AR20: =(AQ20-AP20)/AQ20 -> -0.038185702
AP150: 2946259 | AQ150: Q3
AP151: 2917296 | AQ151: Q2
AP152: =AP150-AP151 -> 28963
AP153: =AP152/AP151 -> 0.0099280292
AP154: =AP153*100 -> 0.99280292
AP156: 2116113 | AQ156: MQ3
AP157: 2094195 | AQ157: MQ2
AP159: =AP156-AP157 -> 21918
AP160: =AP159/AP157 -> 0.010466074
AP161: =AP160*100 -> 1.0466074
AP163: =830146 -> 830146 | AQ163: FQ3
AP164: 823101 | AQ164: FQ2
AP165: =AP163-AP164 -> 7045
AP166: =AP165/AP164 -> 0.0085590954
AP167: =AP166*100 -> 0.85590954

Sheet Executive Summary 2
B5: 88.12% نسبة النشيطين اقتصادياً (15 سنة فأكثر) | V5: Economically-active Population (15 Years and Above) is 88.12%
B7: بلغت نسبة السكان النشيطون اقتصادياً 88.12 % من إجمالي السكان (15 سنة فأكثر) في الربع الرابع 2024 وأظهرت النتائج ارتفاع أعداد السكان النشيطون اقتصادياً في الربع الرابع من العام 2024 بنسبة 3.12 % عن الربع الثالث 2024 ، اغلبهم من الأفراد غير القطريين حيث ارتفع عددهم بنسبة 3.27 %. بينما ارتفع عدد السكان القطريون النشيطون اقتصادياً خلال الربع الرابع 2024 بنسبة اقل من 1 % عن الربع الثالث 2024. | V7: “The percentage of the economically active population reached 88.12% of the total population (15 years and over) in the fourth quarter of 2024. The results showed an increase in the number of economically active population in the fourth quarter of 2024 by 3.12% over the third quarter of 2024. Most of them are non-Qatari individuals, as their number increased by 3.27%. While the number of economically active Qatari residents increased during the fourth quarter of 2024 by less than 1% compared to the third quarter of 2024.” | AO7: من الجدول2 من الربعين الحالي والسابق
AO8: حساب نسبة النشيطون اقتصاديا | AT8: الربع الحالي | AU8: الربع السابق | AV8: النسبة
AO9: اجمالي السكان النشيطون اقتصاديا | AT9: 2286524 | AU9: 2217417 | AV9: =(AT9-AU9)/AU9 -> 0.031165541
AO10: القطريون النشيطون اقتصاديا | AT10: 127845 | AU10: 127105 | AV10: =(AT10-AU10)/AU10 -> 0.0058219582
AO11: الغير قطريون النشيطون اقتصاديا | AT11: 2158679 | AU11: 2090312 | AV11: =(AT11-AU11)/AU11 -> 0.032706601
AO13: نسبة النشيطون اقتصاديا (15 سنة فأكثر) من الجدول رقم1 في الربع الحالي | AT13: C12 | AU13: D12 | AV13: النسبة
D14: شكل 2/التطور النسبي لأعداد النشيطين اقتصادياً حسب الجنسية خلال الفترة ( Q3 2023 .. Q4 2024 ) | AT14: ='1'!C12 -> 2594855 | AU14: ='1'!D12 -> 2286524 | AV14: =AU14/AT14 -> 0.88117602
D15: Figure 2 / Relative Evolution of the Economically Active by Nationality, during (Q3 2023 .. Q4 2024)

Sheet Executive Summary 3
AO3: نسبة الغيرالنشيطون اقتصاديا (15 سنة فأكثر) من الجدول رقم1 في الربع الحالي | AT3: C12 | AU3: F12 | AV3: النسبة
AT4: ='1'!C12 -> 2594855 | AU4: ='1'!F12 -> 308331 | AV4: =AU4/AT4 -> 0.11882398
B5: 11.88% نسبة غير النشيطين اقتصادياً (15 سنة فأكثر) | V5: The Precentage of Economically-inactive Population (15 Years and Above) is 11.88%
AT6: السكان 15 سنة فأكثر | AU6: الذكور
B7: سجلت أعداد السكان غير النشيطين اقتصادياً ما نسبته 11.88 % من إجمالي السكان (15 سنة فأكثر) في الربع الرابع 2024، وقد بلغت نسبة الذكور منهم 28.38 % مقابل 71.62% للإناث، وقد ارتفع عدد السكان غير النشطين اقتصادياً في الربع الرابع 2024، بنسبة 0.23% عن الربع الثالث 2024 ، حيث ارتفع عدد غير القطريين من غير النشيطين اقتصادياً بنسبة 0.15 %، بينما ارتفع عدد القطريين من غير النشيطين اقتصادياً بنسبة 0.37 % في الربع الرابع 2024 مقارنة مع الربع الثالث من العام 2024. | V7: The number of economically inactive residents recorded a rate of 11.88% of the total population (15 years and over) in the fourth quarter of 2024, and the percentage of males among them reached 28.38% compared to 71.62% for females. The number of economically inactive residents increased in the fourth quarter of 2024, by 0.23%. For the third quarter of 2024, the number of non-Qataris who are economically inactive increased by 0.15. %, while the number of economically inactive Qataris increased by 0.37% in the fourth quarter of 2024 compared to the third quarter of 2024. | AO7: نسبة الغيرالنشيطون اقتصاديا (15 سنة فأكثر) من الجدول رقم1 في الربع الحالي | AT7: F12 | AU7: F10 | AV7: النسبة
AT8: ='1'!F12 -> 308331 | AU8: ='1'!F10 -> 87519 | AV8: =AU8/AT8 -> 0.28384755
AT10: السكان 15 سنة فأكثر | AU10: الاناث
AO11: نسبة الغيرالنشيطون اقتصاديا (15 سنة فأكثر) من الجدول رقم1 في الربع الحالي | AT11: F12 | AU11: F11 | AV11: النسبة
AT12: ='1'!F12 -> 308331 | AU12: ='1'!F11 -> 220812 | AV12: =AU12/AT12 -> 0.71615245
D14: شكل 3/التطور النسبي لأعداد غير النشيطين اقتصادياً حسب الجنسية ( قطري ، غير قطري ) ، خلال الفترة (Q3 2023 .. Q4 2024) | AO14: نسبة الغيرالنشيطون اقتصاديا (15 سنة فأكثر) من الجدول رقم1 في الربع الحالي والربع السابق | AT14: الربع الحالي | AU14: الربع السابق | AV14: النسبة
D15: Figure 3 / Relative Evolution of the Economically Inactive by Nationality ( Qatari , Non-Qatari ), during (Q3 2023 .. Q4 2024) | AT15: ='1'!F12 -> 308331 | AU15: 307636 | AV15: =(AT15-AU15)/AT15 -> 0.0022540711
AO17: نسبة الغيرالنشيطون اقتصاديا - الغير قطريون
AO18: نسبة الغيرالنشيطون اقتصاديا (15 سنة فأكثر) من الجدول رقم2 في الربع الحالي والربع السابق | AT18: الربع الحالي | AU18: الربع السابق | AV18: النسبة
AT19: ='2'!L15 -> 202753 | AU19: 202445 | AV19: =(AT19-AU19)/AT19 -> 0.0015190897
AO21: نسبة الغيرالنشيطون اقتصاديا - القطريون
AO22: نسبة الغيرالنشيطون اقتصاديا (15 سنة فأكثر) من الجدول رقم2 في الربع الحالي والربع السابق | AT22: الربع الحالي | AU22: الربع السابق | AV22: النسبة
AT23: ='2'!L12 -> 105578 | AU23: 105191 | AV23: =(AT23-AU23)/AT23 -> 0.0036655364

Sheet Executive Summary 4
B5: بلغت نسبة المشاركة في القوى العاملة بين الأفراد (15 سنة فأكثر) 88.12% | V5: Labor Force Participation Rate Among Individuals Aged (15 Years and Above) Reached 88.12%
B7: بلغ معدل المشاركة الاقتصادية للسكان (15 سنة فأكثر) للربع الرابع من العام 2024، 88.12%، وبلغت نسبة مشاركة الذكور والإناث من إجمالي الذكور والإناث داخل قوة العمل، 95.59% و 63.88 % على التوالي. ومثلت الفئة العمرية (25 - 34 سنة) من السكان أعلى معدل للمشاركة الاقتصادية بنسبة 95.66 % وفقا لتلك البيانات. في حين بلغ معدل الإعالة الاقتصادية 37.98 % لهذا الربع. وبشكل عام فقد ارتفعت نسبة المشاركة الاقتصادية بنسبة 3.12 % عن الربع الثالث من العام 2024 | V7: “The economic participation rate of the population (15 years and over) for the fourth quarter of the year 2024 was 88.12%, and the participation rate of males and females out of the total males and females within the labor force reached 95.59% and 63.88%, respectively. The age group (25-34 years) of the population represented the highest rate of economic participation, at 95.66%, according to these data. While the economic dependency rate reached 37.98% for this quarter. In general, the economic participation rate increased by 3.12% from the third quarter of 2024.”
B16: بلغت نسبة المشتغلين بأجر 99.64% | V16: The Percentage of Paid Employees Reached 99.64%
B18: أظهرت نتائج مسح القوى العاملة بالعينة للربع الرابع 2024 أن غالبية أعداد المشتغلين في السوق القطري هم مشتغلين بأجر بما نسبته 99.64 % ، وقد أظهرت تلك النتائج ارتفاع في عدد المشتغلين بأجر في السوق القطري بنسبة 3 % مشتغلاً بأجر في الربع الرابع 2024 مقارنة بالربع الثالث 2024، حيث بلغت نسبة المشتغلين بأجر من الذكور 83.09 %، مقابل 16.91 % من الإناث. وبلغ متوسط الأجر الشهري لإجمالي المشتغلين بأجر 12,416 ريالاً قطرياً، حيث بلغ المتوسط للذكور 11,998 ريالاً قطرياً، مقابل 13,518 ريالاً قطرياً للإناث. | V18: The results of the Labor Force Sample Survey for the fourth quarter of 2024 showed that the majority of the number of workers in the Qatari market are paid workers, at a rate of 99.64%. These results showed an increase in the number of paid workers in the Qatari market by 3% paid workers in the fourth quarter of 2024 compared to the third quarter of 2024, as the percentage of paid male workers reached 83.09%, compared to 16.91% of females. The average monthly wage for the total paid workers amounted to 12,416 Qatari riyals, where the average for males was 11,998 Qatari riyals, compared to 13,518 Qatari riyals for females.
B26: بلغ معدل البطالة بين الأفراد داخل قوة العمل 0.1% | V26: Unemployment Rate Among Participants in Labor Force Reached 0.1%
B28: بلغت نسبة الباحثين عن عمل في دولة قطر (المتعطلين) حسب تعريف منظمة العمل الدولية 0.1 % وبإرتفاع 2.51 % عن الربع الثالث من العام 2024، وبلغت نسبة الذكور من إجمالي الباحثين عن عمل 51.52 %، بينما بلغت نسبة الإناث 48.48 %، ليستقر معدل البطالة على 0.1 % في الربعين الثالث والرابع من العام 2024 أما على مستوى الجنس فقد بلغ المعدل 0.08 % للذكور مقابل 0.37 % للإناث خلال الربع الرابع 2024. وبلغ معدل البطالة للقطريين 0.5 %، بواقع 0.26 % للذكور ، و 0.86 % للإناث. وسُجلت أعلى معدلات بطالة لإجمالي المتعطلين في الفئة العمرية (25- 34) سنة حيث بلغت 0.2 % في الربع الرابع 2024. | V28: "The percentage of job seekers in the State of Qatar (unemployed) according to the definition of the International Labor Organization reached 0.1%, an increase of 2.51% over the third quarter of 2024. The percentage of males out of the total job seekers reached 51.52%, while the percentage of females reached 48.48%, so the unemployment rate stabilized at 0.1% in the third and fourth quarters of 2024. As for gender, the rate reached 0.08% for males compared to 0.37% for females during the fourth quarter of 2024. The unemployment rate for Qataris reached 0.5%, with 0.26% for males and 0.86% for females. The highest unemployment rates for the total unemployed were recorded in the age group (25-34) years, reaching 0.2% in the fourth quarter of 2024."
B37: .معدل البطالة : نسبة المتعطلين عن العمل إلى القوى العاملة من السكان * | V37: *Unemployment rate: Ratio of unemployed persons to the labor force population.
AQ39: بلغت نسبة المشاركة في القوى العاملة بين الأفراد (15 سنة فأكثر) 87.82%
AQ40: نسبة المشاركة الاقتصادية من الجدول رقم1 في الربع الحالي | AV40: 1'!C12 | AW40: 1'!D12 | AX40: النسبة
AV41: ='1'!$C$12 -> 2594855 | AW41: ='1'!$D$12 -> 2286524 | AX41: =AW41/AV41 -> 0.88117602
AQ42: نسبة المشاركة الاقتصادية للذكور من الجدول رقم1 في الربع الحالي | AV42: 1'!C10 | AW42: 1'!D10 | AX42: النسبة
AV43: ='1'!$C$10 -> 1983523 | AW43: ='1'!$D$10 -> 1896004 | AX43: =AW43/AV43 -> 0.95587699
AQ44: نسبة المشاركة الاقتصادية للاناث من الجدول رقم1 في الربع الحالي | AV44: 1'!C11 | AW44: 1'!D11 | AX44: النسبة
AV45: ='1'!$C$11 -> 611332 | AW45: ='1'!$D$11 -> 390520 | AX45: =AW45/AV45 -> 0.63880183
AQ46: نسبة المشاركة الاقتصادية للفئة العمرية الاعلى خلال الربع والتي هي (25-34 سنة) من الجدول رقم3 في الربع الحالي | AV46: 3'!D10 | AW46: 3'!B10 | AX46: النسبة
AV47: ='3'!$D$10 -> 909984 | AW47: ='3'!$B$10 -> 870472 | AX47: =AW47/AV47 -> 0.95657946
AQ48: معدل الاعالة الاقتصادية من الجدول رقم1 في الربع الحالي | AV48: 1'!B12 | AW48: 1'!E12 | AX48: النسبة
AV49: ='1'!$B$12 -> 3150920 | AW49: ='1'!$E$12 -> 2283539 | AX49: =(AV49-AW49)/AW49 -> 0.37984068
AQ50: نسبة المشاركة الاقتصادية مقارنة بالربع السابق من الجدول رقم1 في الربع الحالي والسابق | AV50: 1'!E12 | AW50: الربع السابق | AX50: النسبة
AV51: ='1'!$E$12 -> 2283539 | AW51: 2214505 | AX51: =(AV51-AW51)/AW51 -> 0.031173558
AQ52: بلغت نسبة المشتغلين بأجر 99.7%
AQ53: غالبية أعداد المشتغلين في السوق القطري هم مشتغلين بأجر بما نسبته | AV53: 1'!E12 | AW53: 7'!J11 | AX53: النسبة
AV54: ='1'!E12 -> 2283539 | AW54: ='7'!$J$11 -> 2275206 | AX54: =AW54/AV54 -> 0.99635084
AQ55: وقد أظهرت تلك النتائج ارتفاع في عدد المشتغلين بأجر في السوق القطري بنسبة | AV55: 7'!J11 | AW55: الربع السابق | AX55: النسبة
AV56: ='7'!$J$11 -> 2275206 | AW56: 2209024 | AX56: =(AV56-AW56)/AW56 -> 0.029959837
AQ57: حيث بلغت نسبة المشتغلين بأجر من الذكور 83.0% | AV57: 7'!J11 | AW57: 7'!B11 | AX57: النسبة
AV58: ='7'!$J$11 -> 2275206 | AW58: ='7'!B11 -> 1890378 | AX58: =AW58/AV58 -> 0.83086015
AQ59: مقابل 17.0% من الاناث | AV59: 7'!J11 | AW59: 7'!F11 | AX59: النسبة
AV60: ='7'!$J$11 -> 2275206 | AW60: ='7'!F11 -> 384828 | AX60: =AW60/AV60 -> 0.16913985
AQ61: وبلغ متوسط الأجر الشهري لإجمالي المشتغلين بأجر 12,411 ريالاً قطرياً | AV61: 7'!L11 | AX61: المتوسط
AX62: ='7'!$L$11 -> 12416
AQ63: بلغ المتوسط للذكور 11,907 ريالاً قطرياً | AV63: 7'!D11 | AX63: المتوسط
AX64: ='7'!$D$11 -> 11998
AQ65: مقابل 13,800 ريالاً قطرياً للإناث | AV65: 7'!H11 | AX65: المتوسط
AX66: ='7'!$H$11 -> 13518
G67: بلغت نسبة الباحثين عن عمل في دولة قطر (المتعطلين) حسب تعريف منظمة العمل الدولية 0.1% وبارتفاع 1.4% عن الربع الرابع من العام 2023، وبلغت نسبة الذكور من إجمالي الباحثين عن عمل 51.7%، بينما بلغت نسبة الإناث %48.3، ليستقر معدل البطالة على 0.1% في الربعين الاول من العام 2024 والرابع من عام 2023. أما على مستوى الجنس فقد بلغ المعدل 0.1% للذكور مقابل 0.4% للإناث خلال الربع الاول 2024. وبلغ معدل البطالة للقطريين 0.5%، بواقع 0.3% للذكور ، و 0.8% للإناث. وسُجلت أعلى معدلات بطالة لإجمالي المتعطلين في الفئة العمرية (25- 34) سنة حيث بلغت %0.2 في الربع الاول 2024. | AQ67: بلغ معدل البطالة بين الأفراد داخل قوة العمل 0.1%
AQ68: بلغت نسبة الباحثين عن عمل في دولة قطر (المتعطلين) حسب تعريف منظمة العمل الدولية | AV68: 8'!J14 | AW68: 1'!C12 | AX68: النسبة
AV69: ='8'!J14 -> 2985 | AW69: ='1'!C12 -> 2594855 | AX69: =AV69/AW69 -> 0.0011503533
AQ70: وبارتفاع 1.4% عن الربع السابق | AV70: 8'!J14 | AW70: الربع السابق | AX70: النسبة
AV71: ='8'!J14 -> 2985 | AW71: 2912 | AX71: =(AV71-AW71)/AW71 -> 0.025068681
...

Sheet 1
A2: السكان والقوى العاملة حسب الجنس
A3: Population and Labor Force by Sex
A4: مسح القوى العاملة بالعينة - الربع الرابع 2024
A5: Labor Force Sample Survey - The Fourth Quarter 2024
A7: جدول رقم (1) | G7: Table No. (1)
A8: العلاقة بقوة العمل الجنس | B8: السكان | C8: السكان (15 سنة فأكثر) | D8: النشيطون اقتصادياً | E8: المشتغلون | F8: غير النشيطين اقتصادياً | G8: Relation to labor force sex
B9: Population | C9: Population (15 Years & above) | D9: Economically Active | E9: Employed | F9: Economically Inactive
A10: ذكور | B10: 2270198 | C10: 1983523 | D10: 1896004 | E10: 1894466 | F10: 87519 | G10: Males
A11: إناث | B11: 880722 | C11: 611332 | D11: 390520 | E11: 389073 | F11: 220812 | G11: Females
A12: المجموع | B12: =SUM(B10:B11) -> 3150920 | C12: =SUM(C10:C11) -> 2594855 | D12: =SUM(D10:D11) -> 2286524 | E12: =SUM(E10:E11) -> 2283539 | F12: =SUM(F10:F11) -> 308331 | G12: Total

Sheet 2
A2: السكان (15 سنة فأكثر) حسب العلاقة بقوة العمل والجنسية والجنس
A3: Population (15 years and above) by Relation to Labor Force, Nationality & Sex
A4: مسح القوى العاملة بالعينة - الربع الرابع 2024
A5: Labor Force Sample Survey - The Fourth Quarter 2024
A7: جدول رقم (2) | O7: Table No. (2)
A8: الجنسية | B8: الجنس | C8: النشيطون اقتصادياً Economically Active | G8: غير النشيطين اقتصادياً Economically Inactive | M8: المجموع العام Grand Total | N8: Sex | O8: Nationality
C9: مشتغل Employed | D9: متعطل لم يسبق له العمل Seeking Work for first time | E9: متعطل سبق له العمل Unemployed with previous employment | F9: المجموع Total | G9: التفرغ لأعمال المنزل Homemaker | H9: متفرغ للدراسة Student | I9: عاجز Disabled | J9: متقاعد Retired | K9: أخرى Other | L9: المجموع Total
A10: قطريون | B10: ذكور | C10: 74745 | D10: 128 | E10: 64 | F10: =C10+D10+E10 -> 74937 | G10: 0 | H10: 23386 | I10: 1709 | J10: 11359 | K10: 2126 | L10: =G10+H10+I10+J10+K10 -> 38580 | M10: =F10+L10 -> 113517 | N10: Males | O10: Qatari
B11: إناث | C11: 52454 | D11: 390 | E11: 64 | F11: =C11+D11+E11 -> 52908 | G11: 28613 | H11: 29190 | I11: 961 | J11: 6910 | K11: 1324 | L11: =G11+H11+I11+J11+K11 -> 66998 | M11: =F11+L11 -> 119906 | N11: Females
B12: مجموع | C12: =SUM(C10:C11) -> 127199 | D12: =SUM(D10:D11) -> 518 | E12: =SUM(E10:E11) -> 128 | F12: =C12+D12+E12 -> 127845 | G12: =G10+G11 -> 28613 | H12: =H10+H11 -> 52576 | I12: =I10+I11 -> 2670 | J12: =J10+J11 -> 18269 | K12: =K10+K11 -> 3450 | L12: =L10+L11 -> 105578 | M12: =F12+L12 -> 233423 | N12: Total
A13: غير قطريين | B13: ذكور | C13: 1819721 | D13: 1048 | E13: 298 | F13: =C13+D13+E13 -> 1821067 | G13: 0 | H13: 45175 | I13: 727 | J13: 0 | K13: 3037 | L13: =G13+H13+I13+J13+K13 -> 48939 | M13: =F13+L13 -> 1870006 | N13: Males | O13: Non-Qatari
B14: إناث | C14: 336619 | D14: 925 | E14: 68 | F14: =C14+D14+E14 -> 337612 | G14: 106606 | H14: 44003 | I14: 938 | J14: 0 | K14: 2267 | L14: =G14+H14+I14+J14+K14 -> 153814 | M14: =F14+L14 -> 491426 | N14: Females
B15: مجموع | C15: =SUM(C13:C14) -> 2156340 | D15: =SUM(D13:D14) -> 1973 | E15: =SUM(E13:E14) -> 366 | F15: =C15+D15+E15 -> 2158679 | G15: =G13+G14 -> 106606 | H15: =H13+H14 -> 89178 | I15: =I13+I14 -> 1665 | J15: 0 | K15: =K13+K14 -> 5304 | L15: =L13+L14 -> 202753 | M15: =F15+L15 -> 2361432 | N15: Total
A16: المجموع | B16: ذكور | C16: =C10+C13 -> 1894466 | D16: =D10+D13 -> 1176 | E16: =E10+E13 -> 362 | F16: =C16+D16+E16 -> 1896004 | G16: =G10+G13 -> 0 | H16: =H10+H13 -> 68561 | I16: =I10+I13 -> 2436 | J16: =J10+J13 -> 11359 | K16: =K10+K13 -> 5163 | L16: =L10+L13 -> 87519 | M16: =F16+L16 -> 1983523 | N16: Males | O16: Total
B17: إناث | C17: =C11+C14 -> 389073 | D17: =D11+D14 -> 1315 | E17: =E11+E14 -> 132 | F17: =C17+D17+E17 -> 390520 | G17: =G11+G14 -> 135219 | H17: =H11+H14 -> 73193 | I17: =I11+I14 -> 1899 | J17: =J11+J14 -> 6910 | K17: =K11+K14 -> 3591 | L17: =L11+L14 -> 220812 | M17: =F17+L17 -> 611332 | N17: Females
B18: مجموع | C18: =SUM(C16:C17) -> 2283539 | D18: =SUM(D16:D17) -> 2491 | E18: =SUM(E16:E17) -> 494 | F18: =C18+D18+E18 -> 2286524 | G18: =G12+G15 -> 135219 | H18: =H12+H15 -> 141754 | I18: =I12+I15 -> 4335 | J18: =J12+J15 -> 18269 | K18: =K12+K15 -> 8754 | L18: =L12+L15 -> 308331 | M18: =F18+L18 -> 2594855 | N18: Total

Sheet Figure 1
A2: شكل (1) / السكان (15سنة فأكثر) النشيطون وغير النشيطين اقتصادياً حسب الجنسية والجنس
A3: Figure (1) / Population (15 years and above) Economically Active/Inactive by Nationality & Sex
A4: مسح القوى العاملة بالعينة - الربع الرابع 2024
A5: Labor Force Sample Survey - The Fourth Quarter 2024
R11: الذكور القطريين Qatari Males | U11: الاناث القطريات Qatari Females
R12: نشط Active | S12: ='2'!F10 -> 74937 | U12: نشيطات Active | V12: ='2'!F11 -> 52908
R13: غير نشط Inactive | S13: ='2'!L10 -> 38580 | U13: غير نشيطات Inactive | V13: ='2'!L11 -> 66998
R17: الذكور غير القطريين Non-Qatari Males | U17: الاناث غير القطريات Non-Qatari Females
R18: نشط Active | S18: ='2'!F13 -> 1821067 | U18: نشيطات Active | V18: ='2'!F14 -> 337612
R19: غير نشط Inactive | S19: ='2'!L13 -> 48939 | U19: غير نشيطات Inactive | V19: ='2'!L14 -> 153814

Sheet Figure 2
A2: شكل (2) / القطريون (15سنة فأكثر) غير النشيطين اقتصادياً وأسبابه حسب الجنس
A3: Figure (2) / Qatari (15 years and above) Economically Inactive by Reason & Sex
A4: مسح القوى العاملة بالعينة - الربع الرابع 2024
A5: Labor Force Sample Survey - The Fourth Quarter 2024
O7: الذكور القطريين | R7: الاناث القطريات
O8: متفرغ للدراسة Student | P8: ='2'!H10/'2'!L10 -> 0.606169 | R8: التفرغ لأعمال المنزل Homemaker | S8: ='2'!G11/'2'!L11 -> 0.42707245
O9: عاجز Disabled | P9: ='2'!I10/'2'!L10 -> 0.044297564 | R9: متفرغ للدراسة Student | S9: ='2'!H11/'2'!L11 -> 0.43568465
O10: متقاعد Retired | P10: ='2'!J10/'2'!L10 -> 0.29442716 | R10: عاجز Disabled | S10: ='2'!I11/'2'!L11 -> 0.014343712
O11: أخرى Other | P11: ='2'!K10/'2'!L10 -> 0.055106273 | R11: متقاعد Retired | S11: ='2'!J11/'2'!L11 -> 0.10313741
R12: أخرى Other | S12: ='2'!K11/'2'!L11 -> 0.019761784

Sheet 3
A2: السكان (15 سنة فأكثر) حسب العلاقة بقوة العمل وفئات العمر
A3: Population (15 years & above) by Relation to Labor Force & Age groups
A4: مسح القوى العاملة بالعينة - الربع الرابع 2024
A5: Labor Force Sample Survey - The Fourth Quarter 2024
A7: جدول رقم (3) | E7: Table No. (3)
A8: العلاقة بقوة العمل فئات العمر | B8: النشيطون اقتصادياً Economically Active | C8: غير النشيطين اقتصادياً Economically Inactive | D8: المجموع الكلي Grand Total | E8: Relation to labor force Age Groups
A9: 15 - 24 | B9: 203180 | C9: 145360 | D9: =B9+C9 -> 348540 | E9: 15 - 24
A10: 25 - 34 | B10: 870472 | C10: 39512 | D10: =B10+C10 -> 909984 | E10: 25 - 34
A11: 35 - 44 | B11: 790002 | C11: 39484 | D11: =B11+C11 -> 829486 | E11: 35 - 44
A12: 45 - 54 | B12: 313589 | C12: 32470 | D12: =B12+C12 -> 346059 | E12: 45 - 54
A13: 55 - 64 | B13: 93933 | C13: 28651 | D13: =B13+C13 -> 122584 | E13: 55 - 64
A14: 65+ | B14: 15348 | C14: 22854 | D14: =B14+C14 -> 38202 | E14: 65 +
A15: المجموع | B15: =SUM(B9:B14) -> 2286524 | C15: =SUM(C9:C14) -> 308331 | D15: =SUM(D9:D14) -> 2594855 | E15: Total

Sheet 4
A2: الذكور من السكان (15 سنة فأكثر) حسب العلاقة بقوة العمل وفئات العمر
A3: Males Population (15 years & above) by Relation to Labor Force & Age groups
A4: مسح القوى العاملة بالعينة - الربع الرابع 2024
A5: Labor Force Sample Survey - The Fourth Quarter 2024
A7: جدول رقم (4) | E7: Table No. (4)
A8: العلاقة بقوة العمل فئات العمر | B8: النشيطون اقتصادياً Economically Active | C8: غير النشيطين اقتصادياً Economically Inactive | D8: المجموع الكلي Grand Total | E8: Relation to labor force Age Groups
A9: 15 - 24 | B9: 143267 | C9: 65557 | D9: =B9+C9 -> 208824 | E9: 15 - 24
A10: 25 - 34 | B10: 719915 | C10: 3596 | D10: =B10+C10 -> 723511 | E10: 25 - 34
A11: 35 - 44 | B11: 678403 | C11: 956 | D11: =B11+C11 -> 679359 | E11: 35 - 44
A12: 45 - 54 | B12: 260801 | C12: 2251 | D12: =B12+C12 -> 263052 | E12: 45 - 54
A13: 55 - 64 | B13: 79934 | C13: 5385 | D13: =B13+C13 -> 85319 | E13: 55 - 64
A14: 65+ | B14: 13684 | C14: 9774 | D14: =B14+C14 -> 23458 | E14: 65 +
A15: المجموع | B15: =SUM(B9:B14) -> 1896004 | C15: =SUM(C9:C14) -> 87519 | D15: =SUM(D9:D14) -> 1983523 | E15: Total

Sheet 5
A2: الإناث من السكان (15 سنة فأكثر) حسب العلاقة بقوة العمل وفئات العمر
A3: Females Population (15 years & above) by Relation to Labor Force & Age groups
A4: مسح القوى العاملة بالعينة - الربع الرابع 2024
A5: Labor Force Sample Survey - The Fourth Quarter 2024
A7: جدول رقم (5) | E7: Table No. (5)
A8: العلاقة بقوة العمل فئات العمر | B8: النشيطات اقتصادياً Economically Active | C8: غير النشيطات اقتصادياً Economically Inactive | D8: المجموع الكلي Grand Total | E8: Relation to labor force Age Groups
A9: 15 - 24 | B9: 59913 | C9: 79803 | D9: =B9+C9 -> 139716 | E9: 15 - 24
A10: 25 - 34 | B10: 150557 | C10: 35916 | D10: =B10+C10 -> 186473 | E10: 25 - 34
A11: 35 - 44 | B11: 111599 | C11: 38528 | D11: =B11+C11 -> 150127 | E11: 35 - 44
A12: 45 - 54 | B12: 52788 | C12: 30219 | D12: =B12+C12 -> 83007 | E12: 45 - 54
A13: 55 - 64 | B13: 13999 | C13: 23266 | D13: =B13+C13 -> 37265 | E13: 55 - 64
A14: 65+ | B14: 1664 | C14: 13080 | D14: =B14+C14 -> 14744 | E14: 65 +
A15: المجموع | B15: =SUM(B9:B14) -> 390520 | C15: =SUM(C9:C14) -> 220812 | D15: =SUM(D9:D14) -> 611332 | E15: Total

Sheet 6
A2: السكان النشيطون اقتصاديا (15 سنة فأكثر) حسب الجنسية والجنس وفئات العمر
A3: Economically Active Population (15 years & above) by Nationality, Sex & Age groups
A4: مسح القوى العاملة بالعينة - الربع الرابع 2024
A5: Labor Force Sample Survey - The Fourth Quarter 2024
A7: جدول رقم (6) | K7: Table No. (6)
A8: الجنسية والجنس فئات العمر | B8: قطريون Qatari | E8: غير قطريين Non-Qatari | H8: المجموع Total | K8: Nationality & sex Age Groups
B9: ذكور | C9: إناث | D9: المجموع | E9: ذكور | F9: إناث | G9: المجموع | H9: ذكور | I9: إناث | J9: المجموع
B10: Males | C10: Females | D10: Total | E10: Males | F10: Females | G10: Total | H10: Males | I10: Females | J10: Total
A11: 15 - 24 | B11: 11328 | C11: 3621 | D11: =B11+C11 -> 14949 | E11: 131557 | F11: 55671 | G11: =E11+F11 -> 187228 | H11: =B11+E11 -> 142885 | I11: =C11+F11 -> 59292 | J11: =H11+I11 -> 202177 | K11: 15 - 24
A12: 25 - 34 | B12: 25330 | C12: 19669 | D12: =B12+C12 -> 44999 | E12: 693858 | F12: 130194 | G12: =E12+F12 -> 824052 | H12: =B12+E12 -> 719188 | I12: =C12+F12 -> 149863 | J12: =H12+I12 -> 869051 | K12: 25 - 34
A13: 35 - 44 | B13: 16562 | C13: 16945 | D13: =B13+C13 -> 33507 | E13: 661774 | F13: 94654 | G13: =E13+F13 -> 756428 | H13: =B13+E13 -> 678336 | I13: =C13+F13 -> 111599 | J13: =H13+I13 -> 789935 | K13: 35 - 44
A14: 45 - 54 | B14: 14689 | C14: 8943 | D14: =B14+C14 -> 23632 | E14: 246112 | F14: 43845 | G14: =E14+F14 -> 289957 | H14: =B14+E14 -> 260801 | I14: =C14+F14 -> 52788 | J14: =H14+I14 -> 313589 | K14: 45 - 54
A15: 55 - 64 | B15: 5964 | C15: 3141 | D15: =B15+C15 -> 9105 | E15: 73970 | F15: 10858 | G15: =E15+F15 -> 84828 | H15: =B15+E15 -> 79934 | I15: =C15+F15 -> 13999 | J15: =H15+I15 -> 93933 | K15: 55 - 64
A16: 65+ | B16: 936 | C16: 199 | D16: =B16+C16 -> 1135 | E16: 12748 | F16: 1465 | G16: =E16+F16 -> 14213 | H16: =B16+E16 -> 13684 | I16: =C16+F16 -> 1664 | J16: =H16+I16 -> 15348 | K16: 65 +
A17: المجموع | B17: =SUM(B11:B16) -> 74809 | C17: =SUM(C11:C16) -> 52518 | D17: =B17+C17 -> 127327 | E17: =SUM(E11:E16) -> 1820019 | F17: =SUM(F11:F16) -> 336687 | G17: =SUM(G11:G16) -> 2156706 | H17: =SUM(H11:H16) -> 1894828 | I17: =SUM(I11:I16) -> 389205 | J17: =SUM(J11:J16) -> 2284033 | K17: Total
A18: لا يشمل المتعطلين الذين لم يسبق لهم العمل | K18: Not including persons seeking work for the first time

Sheet 7
A2: المشتغلون بأجر ( 15 سنة فأكثر ) حسب الجنس ومتوسط الأجر الشهري ( بالريال القطري )
A3: Workers in Paid Employment ( 15 Years And Above )* By Sex And Average Monthly Wage (Q.R)
A4: مسح القوى العاملة بالعينة - الربع الرابع 2024
A5: Labor Force Sample Survey - The Fourth Quarter 2024
A7: جدول رقم (7) | N7: Table No. (7)
B8: ذكــــــــــــــــــــــور Males | F8: إنـــــــــــــاث Females | J8: المجمــــــــــــوع Total
B9: المشتغلون بأجر Paid Employment Workers | D9: متوسط الأجر الشهري Average Monthly Wage | F9: المشتغلون بأجر Paid Employment Workers | H9: متوسط الأجر الشهري Average Monthly Wage | J9: المشتغلون بأجر Paid Employment Workers | L9: متوسط الأجر الشهري Average Monthly Wage
A11: المجموع | B11: 1890378 | D11: 11998 | F11: 384828 | H11: 13518 | J11: 2275206 | L11: 12416 | N11: Total
A12: * المشتغلون بأجر هم الذين تكون حالتهم العملية = يعمل بأجر | H12: * Workers in Paid Employment are those whose status in employment = paid employment

Sheet 8
A2: المتعطلون (15 سنة فأكثر) حسب الجنسية والجنس وفئات العمر
A3: Unemployed (15 years & above) by Nationality, Sex & Age groups
A4: مسح القوى العاملة بالعينة - الربع الرابع 2024
A5: Labor Force Sample Survey - The Fourth Quarter 2024
A7: جدول رقم (8) | K7: Table No. (8)
A8: الجنسية والجنس فئات العمر | B8: قطريون Qatari | E8: غير قطريين Non-Qatari | H8: المجموع Total | K8: Nationality & sex Age Groups
B9: ذكور | C9: إناث | D9: المجموع | E9: ذكور | F9: إناث | G9: المجموع | H9: ذكور | I9: إناث | J9: المجموع
B10: Males | C10: Females | D10: Total | E10: Males | F10: Females | G10: Total | H10: Males | I10: Females | J10: Total
A11: 15 - 24 | B11: 64 | C11: 323 | D11: =B11+C11 -> 387 | E11: 318 | F11: 298 | G11: =E11+F11 -> 616 | H11: =B11+E11 -> 382 | I11: =C11+F11 -> 621 | J11: =D11+G11 -> 1003 | K11: 15 - 24
A12: 25 - 34 | B12: 64 | C12: 67 | D12: =B12+C12 -> 131 | E12: 663 | F12: 695 | G12: =E12+F12 -> 1358 | H12: =B12+E12 -> 727 | I12: =C12+F12 -> 762 | J12: =D12+G12 -> 1489 | K12: 25 - 34
A13: 35 - 44 | B13: 64 | C13: 64 | D13: =B13+C13 -> 128 | E13: 365 | F13: 0 | G13: =E13+F13 -> 365 | H13: =B13+E13 -> 429 | I13: =C13+F13 -> 64 | J13: =D13+G13 -> 493 | K13: 35 - 44
A14: المجموع | B14: =B11+B12+B13 -> 192 | C14: =C11+C12+C13 -> 454 | D14: =D11+D12+D13 -> 646 | E14: =E11+E12+E13 -> 1346 | F14: =F11+F12+F13 -> 993 | G14: =G11+G12+G13 -> 2339 | H14: =H11+H12+H13 -> 1538 | I14: =I11+I12+I13 -> 1447 | J14: =J11+J12+J13 -> 2985 | K14: Total

Sheet 9
A2: المتعطلون (15 سنة فأكثر) حسب الجنسية والجنس وسبب التعطل
A3: Unemployed (15 years & above) by nationality, sex and reasons of unemployment
A4: مسح القوى العاملة بالعينة - الربع الرابع 2024
A5: Labor Force Sample Survey - The Fourth Quarter 2024
A7: جدول رقم (9) | M7: Table No. (9)
A8: أسباب التعطل | C8: قطري Qatari | F8: غير قطري Non - Qatari | I8: المجموع Total | L8: Reasons for unemployment
C9: عدد تكرار الذكــور | D9: عدد تكرار الإنــاث | E9: مجموع التكرارات | F9: عدد تكرار الذكــور | G9: عدد تكرار الإنــاث | H9: مجموع التكرارات | I9: عدد تكرار الذكــور | J9: عدد تكرار الإنــاث | K9: مجموع التكرارات
C10: No. Of Repetition | D10: No. Of Repetition | E10: No. Of Repetition | F10: No. Of Repetition | G10: No. Of Repetition | H10: No. Of Repetition | I10: No. Of Repetition | J10: No. Of Repetition
C11: Males | D11: Females | E11: Total | F11: Males | G11: Females | H11: Total | I11: Males | J11: Females | K11: Total
A12: قلة فرص العمل | B12: قلة فرص العمل | C12: 0 | D12: 0 | E12: =SUM(C12:D12) -> 0 | F12: 298 | G12: 329 | H12: =SUM(F12:G12) -> 627 | I12: =C12+F12 -> 298 | J12: =D12+G12 -> 329 | K12: =I12+J12 -> 627 | L12: Lack of Job Opportunities | M12: Lack of Job Opportunities
A13: نقص الخبرة | C13: 128 | D13: 128 | E13: =SUM(C13:D13) -> 256 | F13: 365 | G13: 298 | H13: =SUM(F13:G13) -> 663 | I13: =C13+F13 -> 493 | J13: =D13+G13 -> 426 | K13: =I13+J13 -> 919 | L13: Lack of Experience | M13: Lack of Experience
A14: قلة الاجر | C14: 0 | D14: 0 | E14: =SUM(C14:D14) -> 0 | F14: 298 | G14: 0 | H14: =SUM(F14:G14) -> 298 | I14: =C14+F14 -> 298 | J14: =D14+G14 -> 0 | K14: =I14+J14 -> 298 | L14: Low Wage | M14: Lack of Experience
A15: عدم وجود العمل المناسب | C15: 0 | D15: 259 | E15: =SUM(C15:D15) -> 259 | F15: 318 | G15: 366 | H15: =SUM(F15:G15) -> 684 | I15: =C15+F15 -> 318 | J15: =D15+G15 -> 625 | K15: =I15+J15 -> 943 | L15: Lack of Suitable Work | M15: Lack of Suitable Work
A16: عدم وجود مؤهلات علمية مناسبة | C16: 64 | D16: 67 | E16: =SUM(C16:D16) -> 131 | F16: 298 | G16: 298 | H16: =SUM(F16:G16) -> 596 | I16: =C16+F16 -> 362 | J16: =D16+G16 -> 365 | K16: =I16+J16 -> 727 | L16: Lack of Adequate Academic Qualifications | M16: Lack of Adequate Academic Qualifications
A17: أخرى | C17: 0 | D17: 67 | E17: =SUM(C17:D17) -> 67 | F17: 67 | G17: 0 | H17: =SUM(F17:G17) -> 67 | I17: =C17+F17 -> 67 | J17: =D17+G17 -> 67 | K17: =I17+J17 -> 134 | L17: Others | M17: Lack of Adequate Academic Qualifications
A18: مجموع التكرار (يمكن أن يكون أكثر من واحد) | C18: =SUM(C12:C17) -> 192 | D18: =SUM(D12:D17) -> 521 | E18: =SUM(E12:E17) -> 713 | F18: =SUM(F12:F17) -> 1644 | G18: =SUM(G12:G17) -> 1291 | H18: =SUM(H12:H17) -> 2935 | I18: =SUM(I12:I17) -> 1836 | J18: =SUM(J12:J17) -> 1812 | K18: =SUM(K12:K17) -> 3648 | L18: Total Repetitions (could be more than 1) | M18: Total Repetitions (could be more than 1)
A19: مجموع الأفراد | C19: 192 | D19: 454 | E19: 646 | F19: 1346 | G19: 993 | H19: 2339 | I19: 1538 | J19: 1447 | K19: 2985 | L19: Total persons | M19: Total

Sheet Figure 3
A2: شكل (3) / المتعطلون (15 سنة فأكثر) حسب الجنسية وسبب التعطل
A3: Figure (3) / Unemployed (15 years & above) by Nationality and Reasons of Unemployment
A4: مسح القوى العاملة بالعينة - الربع الرابع 2024
A5: Labor Force Sample Survey - The Fourth Quarter 2024
Q12: أسباب التعطل | R12: غير قطري Non-Qatari | S12: قطري Qatari | T12: قطري Qatari | U12: غير قطري Non-Qatari
Q13: قلة فرص العمل Lack of Job Opportunities | R13: ='9'!$H12/'9'!$K12 -> 1 | S13: ='9'!$E12/'9'!$K12 -> 0 | T13: ='9'!$E12/'9'!$E$18 -> 0 | U13: ='9'!$H12/'9'!$H$18 -> 0.21362862
Q14: نقص الخبرة Lack of Experience | R14: ='9'!$H13/'9'!$K13 -> 0.72143634 | S14: ='9'!$E13/'9'!$K13 -> 0.27856366 | T14: ='9'!$E13/'9'!$E$18 -> 0.35904628 | U14: ='9'!$H13/'9'!$H$18 -> 0.22589438
Q15: قلة الأجر Low Wage | R15: ='9'!$H14/'9'!$K14 -> 1 | S15: ='9'!$E14/'9'!$K14 -> 0 | T15: ='9'!$E14/'9'!$E$18 -> 0 | U15: ='9'!$H14/'9'!$H$18 -> 0.10153322
Q16: عدم وجود العمل المناسب Lack of Suitable Work | R16: ='9'!$H15/'9'!$K15 -> 0.72534464 | S16: ='9'!$E15/'9'!$K15 -> 0.27465536 | T16: ='9'!$E15/'9'!$E$18 -> 0.36325386 | U16: ='9'!$H15/'9'!$H$18 -> 0.2330494
Q17: عدم وجود مؤهلات علمية مناسبة Lack of Adequate Academic Qualifications | R17: ='9'!$H16/'9'!$K16 -> 0.81980743 | S17: ='9'!$E16/'9'!$K16 -> 0.18019257 | T17: ='9'!$E16/'9'!$E$18 -> 0.18373072 | U17: ='9'!$H16/'9'!$H$18 -> 0.20306644
Q18: أخرى Others | R18: ='9'!$H17/'9'!$K17 -> 0.5 | S18: ='9'!$E17/'9'!$K17 -> 0.5 | T18: ='9'!$E17/'9'!$E$18 -> 0.093969144 | U18: ='9'!$H17/'9'!$H$18 -> 0.022827939

Sheet Figure 4
A2: شكل (4) / القطريون المتعطلون (15 سنة فأكثر) حسب الجنس وسبب التعطل
A3: Figure (4) / Qatari Unemployed Persons (15 years & above) by Sex and Reasons of Unemployment
A4: مسح القوى العاملة بالعينة - الربع الرابع 2024
A5: Labor Force Sample Survey - The Fourth Quarter 2024
Q8: أسباب التعطل | R8: ذكور Males | S8: اناث Females
Q9: قلة فرص العمل Lack of Job Opportunities | R9: =IFERROR('9'!$C12/'9'!$C$18,0) -> 0 | S9: =IFERROR('9'!$D12/'9'!$D$18,0) -> 0
Q10: نقص الخبرة Lack of Experience | R10: =IFERROR('9'!$C13/'9'!$C$18,0) -> 0.66666667 | S10: =IFERROR('9'!$D13/'9'!$D$18,0) -> 0.24568138
Q11: قلة الأجر Low Wage | R11: =IFERROR('9'!$C14/'9'!$C$18,0) -> 0 | S11: =IFERROR('9'!$D14/'9'!$D$18,0) -> 0
Q12: عدم وجود العمل المناسب Lack of Suitable Work | R12: =IFERROR('9'!$C15/'9'!$C$18,0) -> 0 | S12: =IFERROR('9'!$D15/'9'!$D$18,0) -> 0.49712092
Q13: عدم وجود مؤهلات علمية مناسبة Lack of Adequate Academic Qualifications | R13: =IFERROR('9'!$C16/'9'!$C$18,0) -> 0.33333333 | S13: =IFERROR('9'!$D16/'9'!$D$18,0) -> 0.12859885
Q14: أخرى Others | R14: =IFERROR('9'!$C17/'9'!$C$18,0) -> 0 | S14: =IFERROR('9'!$D17/'9'!$D$18,0) -> 0.12859885

Sheet 10
A2: المتعطلون (15 سنة فأكثر) حسب الجنسية والجنس ومدة البحث عن عمل بالشهور
A3: Unemployed Persons (15 years & above) by Nationality, Sex and Duration of Employment Search in Months
A4: مسح القوى العاملة بالعينة - الربع الرابع 2024
A5: Labor Force Sample Survey - The Fourth Quarter 2024
A7: جدول رقم (10) | L7: Table No. (10)
A8: مدة البحث عن عمل بالشهور | C8: قطري Qatari | F8: غير قطري Non-Qatari | I8: المجموع Total | L8: Duration of Employment Search in Months
C9: ذكور Males | D9: اناث Females | E9: المجموع Total | F9: ذكور Males | G9: اناث Females | H9: المجموع Total | I9: ذكور Males | J9: اناث Females | K9: المجموع Total
A10: أقل من 7 شهر | C10: 128 | D10: 326 | E10: =C10+D10 -> 454 | F10: 616 | G10: 298 | H10: =F10+G10 -> 914 | I10: =C10+F10 -> 744 | J10: =D10+G10 -> 624 | K10: =E10+H10 -> 1368 | L10: Less than 7 month
A11: 07 - 12 شهر | C11: 64 | D11: 128 | E11: =C11+D11 -> 192 | F11: 365 | G11: 333 | H11: =F11+G11 -> 698 | I11: =C11+F11 -> 429 | J11: =D11+G11 -> 461 | K11: =E11+H11 -> 890 | L11: 07-12 months
A12: 13 شهر فأكثر | C12: 0 | D12: 0 | E12: =C12+D12 -> 0 | F12: 365 | G12: 362 | H12: =F12+G12 -> 727 | I12: =C12+F12 -> 365 | J12: =D12+G12 -> 362 | K12: =E12+H12 -> 727 | L12: 13 months & above
A13: المجموع | C13: =SUM(C10:C12) -> 192 | D13: =SUM(D10:D12) -> 454 | E13: =SUM(E10:E12) -> 646 | F13: =SUM(F10:F12) -> 1346 | G13: =SUM(G10:G12) -> 993 | H13: =F13+G13 -> 2339 | I13: =C13+F13 -> 1538 | J13: =D13+G13 -> 1447 | K13: =E13+H13 -> 2985 | L13: Total

Sheet Figure 5
A2: شكل (5) / المتعطلون (15 سنة فأكثر) حسب الجنسية والجنس ومدة البحث عن عمل بالشهور
A3: Figure (5) / Unemployed Persons (15 years & above) by Nationality, Sex and Duration of Employment Search in Months
A4: مسح القوى العاملة بالعينة - الربع الرابع 2024
A5: Labor Force Sample Survey - The Fourth Quarter 2024
R10: 13 شهر فأكثر 13 months & above | S10: 07- 12 شهر 07-12 months | T10: أقل من 7 أشهر Less than 7 month
P11: قطري Qatari | Q11: ذكور Males | R11: =IFERROR('10'!C12/'10'!E12,0) -> 0 | S11: ='10'!C11/'10'!E11 -> 0.33333333 | T11: ='10'!C10/'10'!E10 -> 0.28193833
Q12: إناث Females | R12: =IFERROR('10'!D12/'10'!E12,0) -> 0 | S12: ='10'!D11/'10'!E11 -> 0.66666667 | T12: ='10'!D10/'10'!E10 -> 0.71806167
P13: غير قطري Non-Qatari | Q13: ذكور Males | R13: =IFERROR('10'!F12/'10'!H12,0) -> 0.50206327 | S13: ='10'!F11/'10'!H11 -> 0.52292264 | T13: ='10'!F10/'10'!H10 -> 0.67396061
Q14: إناث Females | R14: =IFERROR('10'!G12/'10'!H12,0) -> 0.49793673 | S14: ='10'!G11/'10'!H11 -> 0.47707736 | T14: ='10'!G10/'10'!H10 -> 0.32603939

Sheet 11
A2: المتعطلون القطريون (15 سنة فأكثر) الحاصلون على الثانوية وملتحقون بالدورات التدريبية حسب الجنس ونوع التدريب
A3: Qatari Unemployed Persons (15 years & above) with Secondary Education who Attended Training Program by Sex and Type of Training
A4: مسح القوى العاملة بالعينة - الربع الرابع 2024
A5: Labor Force Sample Survey - The Fourth Quarter 2024
A7: جدول رقم (11) | E7: Table No. (11)
A8: نوع الدورة | B8: ذكور Males | C8: إناث Females | D8: المجموع Total | E8: Type of Training course
A9: اللغة الإنجليزية | B9: 64 | C9: 131 | D9: =B9+C9 -> 195 | E9: English language | G9: =C9/C11 -> 0.66161616
A10: حاسب آلي | B10: 64 | C10: 67 | D10: =B10+C10 -> 131 | E10: Computer
A11: مجموع التكرارات ( ممكن ان تكون اكثر من دورة ) | B11: =B9+B10 -> 128 | C11: =C9+C10 -> 198 | D11: =B11+C11 -> 326 | E11: Total repetitions (could be more than 1)
A12: مجموع الأفراد | B12: 64 | C12: 131 | D12: 195 | E12: Total persons

Sheet Figure 6
A2: شكل (6) / المتعطلون القطريون (15 سنة فأكثر) الحاصلون على الثانوية وملتحقون بالدورات التدريبية حسب الجنس ونوع التدريب
A3: Figure (6) / Qatari Unemployed Persons (15 years & above) with Secondary Education who Attended Training Program by Sex and Type of Training
A4: مسح القوى العاملة بالعينة - الربع الرابع 2024
A5: Labor Force Sample Survey - The Fourth Quarter 2024
K8: ذكور Males | L8: إناث Females
J9: اللغة الإنجليزية English language | K9: ='11'!B9/'11'!B11 -> 0.5 | L9: ='11'!C9/'11'!C11 -> 0.66161616
J10: حاسب آلي Computer | K10: ='11'!B10/'11'!B11 -> 0.5 | L10: ='11'!C10/'11'!C11 -> 0.33838384

Sheet 12
A2: المتعطلون القطريون (15 سنة فأكثر) حسب الجنس والرغبة للعمل فى القطاع الخاص
A3: Qatari Unemployed Persons (15 years & above) by Sex & Willingness to Work In Private Sector
A4: مسح القوى العاملة بالعينة - الربع الرابع 2024
A5: Labor Force Sample Survey - The Fourth Quarter 2024
A7: جدول رقم (12) | E7: Table No. (12)
A8: الجنس الرغبة للعمل فى القطاع الخاص | B8: ذكور | C8: إناث | D8: المجموع | E8: sex Willinginess To Work In Private Sector
B9: Males | C9: Females | D9: Total
A10: راغـــــــــــــــب | B10: 64 | C10: 128 | D10: =B10+C10 -> 192 | E10: Willing
A11: غيــــــر راغــــــــــــــب | B11: 128 | C11: 326 | D11: =B11+C11 -> 454 | E11: Not Willing
A12: المجموع | B12: =B10+B11 -> 192 | C12: =C10+C11 -> 454 | D12: =B12+C12 -> 646 | E12: Total

Sheet Figure 7
A2: شكل (7) / المتعطلون القطريون (15 سنة فأكثر) حسب الجنس والرغبة للعمل في القطاع الخاص
A3: Figure (7) / Qatari Unemployed Persons (15 years & above) by Sex and Willingness to Work in Private Sector
A4: مسح القوى العاملة بالعينة - الربع الرابع 2024
A5: Labor Force Sample Survey - The Fourth Quarter 2024
Q14: إناث Females | R14: ذكور Males
P15: راغب Willing | Q15: ='12'!C10/'12'!C12 -> 0.28193833 | R15: ='12'!B10/'12'!B12 -> 0.33333333
P16: غير راغب Not Willing | Q16: ='12'!C11/'12'!C12 -> 0.71806167 | R16: ='12'!B11/'12'!B12 -> 0.66666667

Sheet 13
A2: المتعطلون القطريون (15 سنة فأكثر) الحاصلون على الثانوية وأسباب عدم الرغبة للعمل في القطاع الخاص
A3: Qatari Unemployed (15 years & above) With Secondary Education not Willing to Work in Private Sector by Reasons
A4: مسح القوى العاملة بالعينة - الربع الرابع 2024
A5: Labor Force Sample Survey - The Fourth Quarter 2024
B7: جدول رقم (13) | D7: Table No. (13)
B8: أسباب عدم الرغبة للعمل في القطاع الخاص | C8: مجموع التكرارات | D8: Reasons for not willing to work in private sector
C9: No. Of Repetition
C10: Total
B11: أسباب العمل قلة الأجر | C11: 131 | D11: Working Reasons Low Wage
B12: ساعات الدوام | C12: 131 | D12: Hours of Work
B13: توقيت العمل | C13: 64 | D13: Timing of Work
B14: أسباب شخصية عدم اجادة اللغة الإنجليزية | C14: 64 | D14: Personal Reasons English Language
B15: الوضع الاجتماعي | C15: 64 | D15: Social Status
B16: مجموع التكرار ( ممكن ان تكون اكثر من واحدة ) | C16: =SUM(C11:C15) -> 454 | D16: Total repetitions (could be more than 1)
B17: مجموع الأفراد | C17: 195 | D17: Total persons

Sheet Figure 8
A2: شكل (8) / المتعطلون القطريون (15 سنة فأكثر) الحاصلون على الثانوية وأسباب عدم الرغبة للعمل في القطاع الخاص
A3: Figure (8) / Qatari Unemployed (15 years & above) With Secondary Education not willing to work in private sector by reasons
A4: مسح القوى العاملة بالعينة - الربع الرابع 2024
A5: Labor Force Sample Survey - The Fourth Quarter 2024
M13: المجموع Total
L14: أسباب العمل قلة الأجر Working Reasons Low Wage | M14: ='13'!C11 -> 131
L15: ساعات الدوام Hours of Work | M15: ='13'!C12 -> 131
L16: توقيت العمل Timing of Work | M16: ='13'!C13 -> 64
L17: أسباب شخصية عدم اجادة اللغة الإنجليزية Personal Reasons English Language | M17: ='13'!C14 -> 64
L18: الوضع الاجتماعي Social Status | M18: ='13'!C15 -> 64

Sheet 14
A2: السكان غير النشيطين اقتصادياً (15 سنة فأكثر) حسب الجنسية والجنس وفئات العمر
A3: Economically Inactive Population (15 years & above) by Nationality, Sex & Age groups
A4: مسح القوى العاملة بالعينة - الربع الرابع 2024
A5: Labor Force Sample Survey - The Fourth Quarter 2024
A7: جدول رقم (14) | K7: Table No. (14)
A8: فئات العمر | B8: قطريون Qatari | E8: غير قطريين Non-Qatari | H8: المجموع Total | K8: Age Groups
B9: ذكور | C9: إناث | D9: المجموع | E9: ذكور | F9: إناث | G9: المجموع | H9: ذكور | I9: إناث | J9: المجموع
B10: Males | C10: Females | D10: Total | E10: Males | F10: Females | G10: Total | H10: Males | I10: Females | J10: Total
A11: 15 - 24 | B11: 21594 | C11: 27439 | D11: =B11+C11 -> 49033 | E11: 43963 | F11: 52364 | G11: =E11+F11 -> 96327 | H11: =B11+E11 -> 65557 | I11: =C11+F11 -> 79803 | J11: =D11+G11 -> 145360 | K11: 15 - 24
A12: 25 - 34 | B12: 2384 | C12: 8705 | D12: =B12+C12 -> 11089 | E12: 1212 | F12: 27211 | G12: =E12+F12 -> 28423 | H12: =B12+E12 -> 3596 | I12: =C12+F12 -> 35916 | J12: =D12+G12 -> 39512 | K12: 25 - 34
A13: 35 - 44 | B13: 591 | C13: 5487 | D13: =B13+C13 -> 6078 | E13: 365 | F13: 33041 | G13: =E13+F13 -> 33406 | H13: =B13+E13 -> 956 | I13: =C13+F13 -> 38528 | J13: =D13+G13 -> 39484 | K13: 35 - 44
A14: 45 - 54 | B14: 1870 | C14: 7739 | D14: =B14+C14 -> 9609 | E14: 381 | F14: 22480 | G14: =E14+F14 -> 22861 | H14: =B14+E14 -> 2251 | I14: =C14+F14 -> 30219 | J14: =D14+G14 -> 32470 | K14: 45 - 54
A15: 55 - 64 | B15: 4956 | C15: 10926 | D15: =B15+C15 -> 15882 | E15: 429 | F15: 12340 | G15: =E15+F15 -> 12769 | H15: =B15+E15 -> 5385 | I15: =C15+F15 -> 23266 | J15: =D15+G15 -> 28651 | K15: 55 - 64
A16: 65 + | B16: 7185 | C16: 6702 | D16: =B16+C16 -> 13887 | E16: 2589 | F16: 6378 | G16: =E16+F16 -> 8967 | H16: =B16+E16 -> 9774 | I16: =C16+F16 -> 13080 | J16: =D16+G16 -> 22854 | K16: 65 +
A17: المجموع | B17: =SUM(B11:B16) -> 38580 | C17: =SUM(C11:C16) -> 66998 | D17: =B17+C17 -> 105578 | E17: =SUM(E11:E16) -> 48939 | F17: =SUM(F11:F16) -> 153814 | G17: =E17+F17 -> 202753 | H17: =B17+E17 -> 87519 | I17: =C17+F17 -> 220812 | J17: =D17+G17 -> 308331 | K17: Total

Sheet Figure 9
A2: شكل (9) / السكان غير النشيطين اقتصادياً (15 سنة فأكثر) حسب الجنسية وفئات العمر
A3: Figure (9) / Economically Inactive Population (15 years & above) by Nationality and Age groups
A4: مسح القوى العاملة بالعينة - الربع الرابع 2024
A5: Labor Force Sample Survey - The Fourth Quarter 2024
R15: قطري Qatari | S15: غير قطري Non-Qatari
Q16: 15 - 24 | R16: ='14'!D11/'14'!J11 -> 0.33732113 | S16: ='14'!G11/'14'!J11 -> 0.66267887
Q17: 25 - 34 | R17: ='14'!D12/'14'!J12 -> 0.28064892 | S17: ='14'!G12/'14'!J12 -> 0.71935108
Q18: 35 - 44 | R18: ='14'!D13/'14'!J13 -> 0.15393577 | S18: ='14'!G13/'14'!J13 -> 0.84606423
Q19: 45 - 54 | R19: ='14'!D14/'14'!J14 -> 0.29593471 | S19: ='14'!G14/'14'!J14 -> 0.70406529
Q20: 55-64 | R20: ='14'!D15/'14'!J15 -> 0.5543262 | S20: ='14'!G15/'14'!J15 -> 0.4456738
Q21: 65+ | R21: ='14'!D16/'14'!J16 -> 0.6076398 | S21: ='14'!G16/'14'!J16 -> 0.3923602

Sheet Figure 10
A2: شكل (10) / القطريون غير النشيطين اقتصادياً (15 سنة فأكثر) حسب الجنس وفئات العمر
A3: Figure (10) / Qatari Economically Inactive (15 years & above) by Sex and Age groups
A4: مسح القوى العاملة بالعينة - الربع الرابع 2024
A5: Labor Force Sample Survey - The Fourth Quarter 2024
R14: ذكور Males | S14: إناث Females
Q15: 15 - 24 | R15: ='14'!B11/'14'!D11 -> 0.44039728 | S15: ='14'!C11/'14'!D11 -> 0.55960272
