Workbook

Sheet Sheet1 

Sheet Frst
A1: State of Qatar Planning and Statistics Authority Statistics Department | C1: دولـــــــــــة قــطــــــــــر جهاز التخطيط والإحصاء إدارة الإحصاءات
B4: النشرة السنوية لإحصاءات النقل والاتصالات THE ANNUAL BULLETIN OF TRANSPORT & COMMUNICATIONS STATISTICS 2020
A7: Dr.Saleh Bin Mohammed Al-Nabit President , Planning & Statistics Authority

Sheet Preface
A2: Preface
A3: The Planning and Statistics Authority is pleased to present this annual bulletin of its series of bulletins within the framework of its ambitious and balanced plan in providing and developing economic statistics. | D3: يسر جهاز التخطيط والإحصاء أن يقدم هذا العدد من النشرة السنوية ضمن سلسلة نشراته التخصصية المختلفة، وذلك في إطار خطة الجهاز الطموحة والمتوازنة في توفير وتطوير الإحصاءات الإقتصادية.
A4: The Authority has the pleasure to express its gratitude to heads of corporations and companies for their cooperation and contribution in accomplishing this bulletin.XXX | D4: كما يسر الجهاز أن يتقدم بالشكر الجزيل لمسئولي المنشآت من مؤسسات وشركات لتعاونهم ومساهمتهم في إصدار هذه النشرة.
A5: The Authority welcomes any remarks and suggestions that could improve contents of this bulletin. | D5: ويرحب الجهاز بأية ملاحظات وإقتراحات من شأنها تحسين مضمون هذه النشرة.
A6: And Allah grants success | D6: والله ولي التوفيق،،،
A7: Dr.Saleh Bin Mohammed Al-Nabit President ,Planning & Statistics Authority | D7: د. صالح بن محمد النابت رئيس جهاز التخطيط والإحصاء

Sheet Indx
B2: جدول المحتويات
B3: Table of Contents
A4: Table No. | B4: Particulars | D4: البيــــــــــان | E4: رقم الجدول
B5: Preface | D5: تقديم
B6: Introduction | D6: مقدمة
B7: Data presentation | D7: أسلوب عرض البيانات
B8: Concepts and definitions | D8: أهم المفاهيم والتعاريف
B9: CHAPTER 1 : OPERATING ESTABLISHMENTS FRAME | D9: الفصل الأول (إطار المنشأت العاملة)
A10: 1 | B10: NUMBER OF ESTABLISHMENTS & EMPLOYEES BY SIZE OF ESTABLISHMENT & MAIN ECONOMIC ACTIVITY | D10: عدد المنشآت و المشتغلين حسب حجم المنشأة و النشاط الإقتصادي الرئيسي | E10: 1
A11: 2 | B11: NUMBER OF ESTABLISHMENTS & EMPLOYEES BY SIZE OF ESTABLISHMENT & MAIN ECONOMIC ACTIVITY | D11: عدد المنشآت و المشتغلين حسب حجم المنشأة و النشاط الإقتصادي الرئيسي | E11: 2
B12: CHAPTER 2 ESTABLISHMENTS EMPLOYING "LESS THAN 10 EMPLOYEES" | D12: الفصل الثاني المنشأت التي تستخدم أقل من 10 مشتغلين
A13: 3 | B13: NUMBER OF EMPLOYEES BY SEX, NATIONALITY & MAIN ECONOMIC ACTIVITY | D13: عدد المشتغلين حسب الجنسية و الجنس و النشاط الإقتصادي الرئيسي | E13: 3
A14: 4 | B14: NUMBER OF EMPLOYEES & ESTIMATES OF COMPENSATIONS OF EMPLOYEES BY NATIONALITY & MAIN ECONOMIC ACTIVITY | D14: عدد المشتغلين و تقديرات تعويضات العاملين حسب الجنسية و النشاط الإقتصادي الرئيسي | E14: 4
A15: 5 | B15: NUMBER OF EMPLOYEES & ESTIMATES OF COMPENSATIONS OF EMPLOYEES BY SEX & OCCUPATION | D15: عدد المشتغلين وتقديرات تعويضات العاملين حسب الجنس والمهنة | E15: 5
A16: 6 | B16: ESTIMATES OF VALUE OF INTERMEDIATE GOODS BY MAIN ECONOMIC ACTIVITY | D16: تقديرات قيمة المستلزمات السلعية حسب النشاط الاقتصادي | E16: 6
A17: 7 | B17: ESTIMATES OF VALUE OF INTERMEDIATE SERVICES BY MAIN ECONOMIC ACTIVITY | D17: تقديرات قيمة المستلزمات الخدمية حسب النشاط الإقتصادي | E17: 7
A18: 8 | B18: ESTIMATES OF VALUE ADDED BY MAIN ECONOMIC ACTIVITY (two digits) | D18: تقديرات القيمة المضافة حسب النشاط الاقتصادي الرئيسي( الحد الثاني ) | E18: 8
A19: 9 | B19: ESTIMATES OF VALUE ADDED BY MAIN ECONOMIC ACTIVITY (four digits) | D19: تقديرات القيمة المضافة حسب النشاط الاقتصادي الرئيسي( الحد الرابع ) | E19: 9
A20: 10 | B20: MAIN ECONOMIC INDICATORS BY MAIN ECONOMIC ACTIVITY (two digits) | D20: أهم المؤشرات الإقتصادية حسب النشاط الإقتصادي الرئيسي( الحد الثاني ) | E20: 10
A21: 11 | B21: MAIN ECONOMIC INDICATORS BY MAIN ECONOMIC ACTIVITY (four digits) | D21: أهم المؤشرات الإقتصادية حسب النشاط الإقتصادي الرئيسي( الحد الرابع ) | E21: 11
B22: CHAPTER 3 ESTABLISHMENTS EMPLOYING 10 EMPLOYEES & MORE" | D22: الفصل الثالث المنشأت التي تستخدم 10 مشتغلين فأكثر
A23: 12 | B23: NUMBER OF EMPLOYEES BY SEX, NATIONALITY & MAIN ECONOMIC ACTIVITY | D23: عدد المشتغلين حسب الجنس و الجنسية و النشاط الإقتصادي الرئيسي | E23: 12
A24: 13 | B24: NUMBER OF EMPLOYEES & ESTIMATES OF COMPENSATIONS OF EMPLOYEES BY NATIONALITY & MAIN ECONOMIC ACTIVITY | D24: عدد المشتغلين و تقديرات تعويضات العاملين حسب الجنسية و النشاط الإقتصادي الرئيسي | E24: 13
A25: 14 | B25: NUMBER OF EMPLOYEES & ESTIMATES OF COMPENSATIONS OF EMPLOYEES BY SEX & OCCUPATION | D25: عدد المشتغلين وتقديرات تعويضات العاملين حسب الجنس والمهنة | E25: 14
A26: 15 | B26: ESTIMATES OF VALUE OF INTERMEDIATE GOODS BY MAIN ECONOMIC ACTIVITY | D26: تقديرات قيمة المستلزمات السلعية حسب النشاط الاقتصادي | E26: 15
A27: 16 | B27: ESTIMATES OF VALUE OF INTERMEDIATE SERVICES BY MAIN ECONOMIC ACTIVITY | D27: تقديرات قيمة المستلزمات الخدمية حسب النشاط الإقتصادي | E27: 16
A28: 17 | B28: ESTIMATES OF VALUE ADDED BY MAIN ECONOMIC ACTIVITY (two digits) | D28: تقديرات القيمة المضافة حسب النشاط الاقتصادي الرئيسي ( الحد الثاني ) | E28: 17
A29: 18 | B29: ESTIMATES OF VALUE ADDED BY MAIN ECONOMIC ACTIVITY (four digits) | D29: تقديرات القيمة المضافة حسب النشاط الاقتصادي الرئيسي ( الحد الرابع ) | E29: 18
A30: 19 | B30: MAIN ECONOMIC INDICATORS BY MAIN ECONOMIC ACTIVITY (two digits) | D30: أهم المؤشرات الإقتصادية حسب النشاط الإقتصادي الرئيسي( الحد الثاني) | E30: 19
A31: 20 | B31: MAIN ECONOMIC INDICATORS BY MAIN ECONOMIC ACTIVITY (four digits) | D31: أهم المؤشرات الإقتصادية حسب النشاط الإقتصادي الرئيسي( الحد الرابع ) | E31: 20
A32: CHAPTER 4 ESTIMATES OF "TRANSPORT AND COMMUNICATIONS ACTIVITY" (Total of chapters 2 and 3) | D32: الفصل الرابع تقديرات "نشاط النقل والإتصالات" (إجمالي الباب الثاني والثالث)
A33: 21 | B33: NUMBER OF EMPLOYEES BY SEX, NATIONALITY & MAIN ECONOMIC ACTIVITY | D33: عدد المشتغلين حسب الجنس و الجنسية و النشاط الإقتصادي الرئيسي | E33: 21
A34: 22 | B34: NUMBER OF EMPLOYEES & ESTIMATES OF COMPENSATIONS OF EMPLOYEES BY NATIONALITY & MAIN ECONOMIC ACTIVITY | D34: عدد المشتغلين و تقديرات تعويضات العاملين حسب الجنسية و النشاط الإقتصادي الرئيسي | E34: 22
A35: 23 | B35: NUMBER OF EMPLOYEES & ESTIMATES OF COMPENSATION OF EMPLOYEES BY SEX & OCCUPATION | D35: عدد المشتغلين وتقديرات تعويضات العاملين حسب الجنس والمهنة | E35: 23
A36: 24 | B36: ESTIMATES OF VALUE OF INTERMEDIATE GOODS BY MAIN ECONOMIC ACTIVITY | D36: تقديرات قيمة المستلزمات السلعية حسب النشاط الاقتصادي | E36: 24
A37: 25 | B37: ESTIMATES OF VALUE OF INTERMEDIATE SERVICES BY MAIN ECONOMIC ACTIVITY | D37: تقديرات قيمة المستلزمات الخدمية حسب النشاط الإقتصادي | E37: 25
A38: 26 | B38: ESTIMATES OF VALUE ADDED BY MAIN ECONOMIC ACTIVITY (two digits) | D38: تقديرات القيمة المضافة حسب النشاط الاقتصادي الرئيسي( الحد الثاني ) | E38: 26
A39: 27 | B39: ESTIMATES OF VALUE ADDED BY MAIN ECONOMIC ACTIVITY (four digits) | D39: تقديرات القيمة المضافة حسب النشاط الاقتصادي الرئيسي( الحد الرابع ) | E39: 27
A40: 28 | B40: MAIN ECONOMIC INDICATORS BY MAIN ECONOMIC ACTIVITY (two digits) | D40: أهم المؤشرات الإقتصادية حسب النشاط الإقتصادي الرئيسي( الحد الثاني ) | E40: 28
A41: 29 | B41: MAIN ECONOMIC INDICATORS BY MAIN ECONOMIC ACTIVITY (four digits) | D41: أهم المؤشرات الإقتصادية حسب النشاط الإقتصادي الرئيسي( الحد الرابع ) | E41: 29
...

Sheet Introduction
A2: Introduction | D2: مقدمــة
A3: 1- The Scope: | D3: 1 - النطـــاق:
A4: This bulletin covers the activities of transport and communications of the National Classification of Economic Activities, derived from the fourth revision of the International Standard Industrial Classification of all Economic Activities (ISIC), which was adopted by the United Nations Statistical Division (UNSD). As of this issue of the bulletin, a shift to the 4th. revision of the classification has been achieved. National groups of classification are as follows : | D4: تغطي هذه النشرة السنوية أنشطة النقل والاتصالات من التصنيف الوطني للأنشطة الاقتصادية المنبثق عن التنقيح الرابع للتصنيف الصناعي الدولي الموحد لجميع الانشطة الاقتصادية الصادر من شعبة الاحصاء التابعة للأمم المتحدة حيث جرى الانتقال إلى هذا التنقيح اعتبارا من هذا العدد للنشرة مفصلة على مستوى مجموعات تصنيف وطنية وذلك على النحو التالي :
A5: 49 - Land transport and transport via pipelines activities | D5: 49 - انشطة النقل البري والنقل عبر الأنابيب
A6: 50 - Water transport activities | D6: 50 - أنشطة النقل المائي
A7: 51- Air transport activities | D7: 51 - انشطة النقل الجوي
A8: 52-Warehousing and support activities for transportation activities | D8: 52 - التخزين وأنشطة الدعم للنقل
A9: 53- Postal and courier activities | D9: 53 - أنشطة البريد ونقل الطرود
A10: 61- Telecommunications activities | D10: 61 - أنشطة الاتصالات
A11: The bulletin covers 2021 data | D11: تغطي النشرة بيانات عام2021
A12: It should be noted that these statistics include data of public, mixed and private sector establishments it , doesn't include informal sector . | D12: علماً بأن هذه الإحصاءات تتضمن بيانات عن منشآت القطاع الحكومي والمختلط والخاص، ولا تشمل النشاط غير المنظم .
A13: 2- Questionnaires Used: | D13: 2 - الاستمارات المستخدمة:
... A17: 4- Survey method: | D17: 4 - أسلوب المسح:
A18: - | B18: A comprehensive frame was prepared for operating in various economic activity based on data of 2017census establishments based on data of the 2015 ’ census. | D18: تم إعداد إطار متكامل بالمنشآت العاملة في الأنشطة الاقتصادية المختلفة مستنداً على بيانات تعداد منشآت عام 2015 م. | E18: -
A19: - | B19: Field and office reviewing of the frame was made to check the number of employees and the remaining frame data of the economic activity. | D19: تم التدقيق الميداني والمكتبي للإطار للتأكد من عدد العاملين وباقي بيانات الإطار للنشاط الاقتصادي. | E19: -
A20: - | B20: Data of establishments employing ten employees and more were collected through comprehensive counting, while establishments employing less than ten employees were studied through a sample. | D20: تم جمع بيانات المنشآت التي يعمل بها عشرة مشتغلين فأكثر بالحصر الشامل، أما المنشآت التي يعمل بها أقل من عشرة مشتغلين فقد تمت دراستها بالعينة. | E20: -

Sheet Data
A3: Data Presentation | D3: أسلوب عرض البيانات:
A4: Data were presented in four chapters according to the following: | D4: تم عرض البيانات في أربعة فصول على الوجه التالي:-
A5: Chapter one: | B5: Operating establishments frame. | D5: إطار المنشآت العاملة. | E5: الفصل الأول:
A6: Chapter tow: | B6: Establishments estimates (less than 10 employees). | D6: تقديرات المنشآت (أقل من 10 مشتغلين). | E6: الفصل الثاني:
A7: Chapter three: | B7: Comprehensive counting estimates (10 employees and more). | D7: تقديرات الحصر الشامل (10 مشتغلين فأكثر). | E7: الفصل الثالث:
A8: Chapter four: | B8: Estimates of Transport and communications (total of chapters 2 and 3). | D8: تقديرات نشاط النقل والاتصالات (تشمل إجمالي الباب الثاني والثالث). | E8: الفصل الرابع:
A9: Important note: Inequality of totals in some tables هis due to approximation. | D9: ملاحظة هامة: إن عدم تساوي الاجمالي في فصول بعض الجداول يعود للتقريب .

Sheet Concepts
A2: Concepts and Definitions | D2: أهم المفاهيم والتعاريف
A3: 1- The Establishment: | D3: 1- المنشأة:
A4: Project or part of project in a fixed location, performing one or more economic activity under one administration and has or could have regular accounts. Holder of project could be natural or artificial person. | D4: مشروع أو جزء من مشروع، له موقع ثابت، يقوم بأداء نوع أو أكثر من الأنشطة الاقتصادية تحت إدارة واحدة ولديها أو يمكن أن يكون لديها حسابات منتظمة، وقد يكون حائز المشروع شخصاً طبيعياً أو اعتباريا.
A5: 2- Legal Entity: | D5: 2- الكيان القانوني:
A6: It is the legal status of capital ownership of establishments aiming profit; it includes individual, joint-liability companies, partnership companies, limited liability companies and joint-stock companies or a branch of a foreigl establishment or governmental. | D6: هو الوضع القانوني لملكية رأس مال المنشآت التي تهدف إلى الربح وتشمل المنشآت الفردية وشركات التضامن وشركات التوصية البسيطة وشركات التوصية بالأسهم والشركات ذات المسؤولية المحدودة والشركات المساهمة والشركات المساهمة الخاصة وفرع لمنشأة أجنبية و الحكومي .
A7: a- Individual Establishment: | D7: أ ـ المنشأة الفردية:
A8: Establishment owned by one person (natural person), where no one has partnership in its holding. | D8: هي المنشأة التي يحوزها فرد (شخص طبيعي) ولا يشاركه في حيازتها أحد.
A9: b- Joint-liability Company: | D9: ب ـ شركة تضامن:
A10: Company composed of two or more persons and registered by official contract (each partner is joint), i.e. guarantor to other partners jointly. Each of them is has absolute responsibility for company’s financial commitments within the limits of paid capital, as well as his personal properties. | D10: هي شركة تتكون من شخصين أو أكثر وتسجل بعقد رسمي، (كل شريك فيها متضامن) أي ضامناً لغيره من الشركاء متضامناً معهم، وكل منهم مسؤول عن التزامات الشركة المالية مسؤولية مطلقة في حدود رأس المال المدفوع للشركة وكذلك أملاكه الخاصة.
A11: c- Limited Partnership Company: | D11: ج ـ شركة التوصية البسيطة:
A12: Company composed of two or more persons and registered by official contract. It includes two parties of partners: silent partners and acting partners. The company could be composed of one partner of each party. Silent partners are partners stated by name in company’s contract and they are responsible limited responsibility for financial commitments of the company within the limits of their share in capital, while responsibility of acting partners is not limited as silent partners in joint-liability companies. | D12: هي شركة تتكون من شخصين أو أكثر، وتسجل بعقد رسمي وتحتوي على فريقين من الشركاء: شركاء موصون وشركاء متضامنون، وقد تتكون الشركة من شريك واحد من كل فريق. والشركاء الموصون هم شركاء منصوص على أسمائهم في عقد الشركة بصفتهم هذه، وهم مسؤولون عن التزامات الشركة المالية مسؤولية مقيدة في حدود أنصبتهم في رأس المال. أما الشركاء المتضامنون فمسؤوليتهم غير محددة مثل الشركاء المتضامنون في شركات التضامن.
A13: d- Limited joint-stock companies: | D13: د ـ شركة التوصية بالأسهم:
... A16: The following conditions are required to establish such company: | D16: هي شركة يتطلب قيامها توفر الشروط الأساسية الآتية:
A17: * | B17: Composed of two or more partners by official contract and number of partners should not exceed the number stated in the laws of the concerned country and mentioned namely in the company’s contract. | D17: تتكون من شريكين أو أكثر بعقد رسمي، ولا يزيد عدد الشركاء فيها عن عدد تنص عليه قوانين الدولة المعنية، يذكرون بالاسم في عقد الشركة. | E17: *
A18: * | B18: Company’s capital should not be less than a specific amount determined by the laws of the concerned country | D18: لا يقل رأس مال الشركة عن مبلغ تحدده قوانين الدولة المعنية. | E18: *
A19: * | B19: Each partner is responsible for company’s obligations within the amount of his share in capital only. | D19: كل شريك من الشركاء مسؤول عن الالتزامات المالية للشركة بقدر حصته في رأس المال فقط. | E19: *
A20: * | B20: The company is prohibited in general from practicing activities of insurance, banking, saving, receiving deposits or investing funds for others. | D20: محظور على الشركة الإشتغال في أعمال التأمين أو أعمال البنوك أو الإدخار أو تلقي الودائع أو إستثمار الأموال لحساب الغير بوجه عام. | E20: *
A21: * | B21: The company is established for a specific period that should be stated in the company’s articles of incorporation. | D21: تؤسس الشركة لمدة محددة ويُنص بالمدة في عقد تأسيس الشركة. | E21: *
A22: * | B22: The company’s commercial name should be followed by the expression “with limited liability (W.L.L.)”, i.e. such companies could be identified by the address or commercial name. | D22: لابد أن يكون اسم الشركة التجاري متبوعاً بعبارة ذات مسؤولية محدودة ( ذ.م.م) أي أنه يمكن معرفة هذا النوع من الشركات من واقع عنوانها أو إسمها التجاري. | E22: *
A23: f- Joint-stock company: | D23: و ـ شركة مساهمة:
A24: A company approved by the state's supreme authorities. It has two types of partners, founder and shareholder, and its capital is composed of shares equal in value that are placed for underwriting and could be circulated later. The partners are not questioned for company’s financial obligation other than the value of shares they subscribed to. The law should state that company’s capital should not be less than certain amount and its name usually followed by (J.C) | D24: هي شركة تصدر بها موافقة من الجهات العليا بالدولة، فيها نوعان من الشركاء مؤسسون ومساهمون، ويتكون رأسمالها من أسهم متساوية القيمة تطرح للإكتتاب العام وتكون قابلة للتداول فيما بعد، ولا يُسأل المساهمون عن التزامات الشركة المالية إلا بقدر قيمة الأسهم التي إكتتبوا بها. وينص القانون على أن لا يقل رأس مال الشركة عن مبلغ معين وعادة يتبع اسمها بعبارة (م.ع).
A25: g- Special joint-stock Company: | D25: زـ شركة مساهمة خاصة:
A26: Its capital is composed of equal value shares which are non-negotiable or not offered for subscription. Underwriting is for limited number of persons, usually founders, and responsibility of shareholder does not exceed the limit of his shares in company’s capital. | D26: هي شركة يتكون رأسمالها من أسهم متساوية القيمة غير مطروحة للإكتتاب العام وغير قابلة للتداول ويطرح الإكتتاب فيها لعدد محدود من الأشخاص عادة المؤسسون، ولا تتعدى مسؤولية المساهم حدود حصته من الأسهم في رأسمال الشركة.
A27: h- Foreign Establishment Branch: | D27: ح ـ فرع لمنشأة أجنبية:
A28: An establishment authorized by the state, which is considered as a branch of foreign establishment and usually bears the name of Mother Company. The mother company undertakes to pay all financial obligations of the branch in the state in case of occurrence of any financial obligations in accordance with legal entity of Mother Company. | D28: وهي منشأة مرخصة في الدولة تعد فرعا لمنشأة أجنبية وعادة تحمل نفس إسم الشركة الأم، وتتعهد الشركة الأم بتسديد كافة الإلتزامات المالية لفرع المنشأة داخل الدولة في حالة حدوث أية التزامات مالية للغير حسب الكيان القانوني للشركة الأم.
A29: i- Governmental: | D29: ط ـ حكومي:
A30: An establishment owned directly by the state, whether it was related to state’s budget or has separate budget. | D30: هي المنشأة التي تعود ملكيتها إلى الدولة مباشرة، سواء كانت مرتبطة بالميزانية العامة للدولة أو لها ميزانية مستقلة.
A31: 3- Ownership of Establishment: | D31: 3ـ ملكية المنشأة:
A32: A it refers the sector that the establishment belongs to regarding ownership. | D32: ويقصد به القطاع الذي تنتمي إليه المنشأة من حيث الملكية.
A33: a- Government Sector: | D33: أ ـ قطاع حكومي:
A34: Government establishments that usually practice governmental managerial or service activity (i.e. ministries and departments). These departments are non-market producers, i.e. produce goods and services that are supplied to individuals or other establishments for free or with nominal prices without economic feasibility. These departments could supply its goods and services to other government departments. | D34: المنشآت الحكومية التي تمارس عادة نشاطاً إدارياً أو خدمياً حكومياً (مثل الوزارات والإدارات)، وتكون هذه الإدارات منتجة غير سوقية، أي تنتج سلعاً وخدمات يتم توريدها إلى الأفراد أو المنشآت الأخرى بالمجان أو بأسعار رمزية ليست ذات دلالة اقتصادية، ويمكن أن تقوم هذه الإدارات بتوريد سلعها أو خدماتها إلى إدارات حكومية أخرى.
... A83: A form of property income for which the shareholders are entitled to as a result of placing their funds at the disposal of the companies a form of property income entitled for shareholders and entitled to as a result of placing their funds at disposal of companies. | D83: شكل من أشكال دخل الملكية يستحقه حاملو الأسهم نتيجة لوضع أموالهم تحت تصرف الشركات.

Sheet CH1
A17: الفصل الأول (إطار المنشأت العاملة) CHAPTER 1 OPERATING ESTABLISHMENTS FRAME

Sheet 1
B2: عدد المنشآت و المشتغلين حسب حجم المنشأة و النشاط الإقتصادي الرئيسي
B3: إحصاءات النقل والإتصالات
B4: NUMBER OF ESTABLISHMENTS & EMPLOYEES BY SIZE OF ESTABLISHMENT & MAIN ECONOMIC ACTIVITY
B5: TRANSPORT & COMMUNICATION STATISTICS
A6: 2021
A7: Table No. (1) | J7: جدول رقم (1)
A8: رمز نشاط Activity Code | B8: Main Economic Activity | C8: المجموع Total | E8: المنشآت 10 مشتغلين فأكثر | G8: المنشآت أقل من 10مشتغلين | I8: النشاط الاقتصادي الرئيسي
E9: Establishments with 10+ Employee | G9: Establishments with <10 Employee
C10: مشتغلون | D10: منشآت | E10: مشتغلون | F10: منشآت | G10: مشتغلون | H10: منشآت
C11: Emp. | D11: Estb. | E11: Emp. | F11: Estb. | G11: Emp. | H11: Estb.
A12: 49 | B12: Land transport and transport via pipelines | C12: =SUM(G12+E12) -> 31899 | D12: =SUM(H12+F12) -> 368 | E12: 31512 | F12: 297 | G12: 387 | H12: 71 | I12: النقل البري و النقل عبر الأنابيب
A13: 5 | B13: Water transport/Air transport/Warehousing and support activities for transportation/Postal and courier activities | C13: =SUM(G13+E13) -> 35567 | D13: =SUM(H13+F13) -> 202 | E13: 35176 | F13: 127 | G13: 391 | H13: 75 | I13: النقل المائي /النقل الجوي/التخزين وأنشطة الدعم للنقل/ أنشطة البريد ونقل الطرود بواسطة مندوبين
A14: 61 | B14: Telecommunications | C14: =SUM(G14+E14) -> 1921 | D14: =SUM(H14+F14) -> 3 | E14: 1921 | F14: 3 | G14: 0 | H14: 0 | I14: الاتصالات
A15: Total | C15: =SUM(C12:C14) -> 69387 | D15: =SUM(D12:D14) -> 573 | E15: =SUM(E12:E14) -> 68609 | F15: =SUM(F12:F14) -> 427 | G15: =SUM(G12:G14) -> 778 | H15: =SUM(H12:H14) -> 146 | I15: المجموع

Sheet 2
B2: عدد المنشآت و المشتغلين حسب حجم المنشأة و النشاط الإقتصادي الرئيسي
B3: نشاط النقل والإتصالات
B4: NUMBER OF ESTABLISHMENTS & EMPLOYEES BY SIZE OF ESTABLISHMENT & MAIN ECONOMIC ACTIVITY
B5: TRANSPORT & COMMUNICATION STATISTICS
A6: 2021
A7: Table No. (2) | J7: جدول رقم (2)
A8: رمز نشاط Activity Code | B8: Main Economic Activity | C8: المجموع Total | E8: المنشآت 10 مشتغلين فأكثر | G8: المنشآت أقل من 10مشتغلين | I8: النشاط الاقتصادي الرئيسي
E9: Establishments with 10+ Employee | G9: Establishments with <10 Employee
C10: مشتغلون | D10: منشآت | E10: مشتغلون | F10: منشآت | G10: مشتغلون | H10: منشآت
C11: Emp. | D11: Estb. | E11: Emp. | F11: Estb. | G11: Emp. | H11: Estb.
A12: 4922 | B12: Other passenger land transport | C12: =G12+E12 -> 2536 | D12: =H12+F12 -> 33 | E12: 2536 | F12: 33 | G12: 0 | H12: 0 | I12: أنواع النقل البري الأخرى للركاب
A13: 4923 | B13: Freight transport by road | C13: =G13+E13 -> 14018 | D13: =H13+F13 -> 230 | E13: 13703 | F13: 174 | G13: 315 | H13: 56 | I13: النقل البري للبضائع
A14: 4924 | B14: Urban and suburban passenger land transport (with time schedule) | C14: =G14+E14 -> 7553 | D14: =H14+F14 -> 4 | E14: 7553 | F14: 4 | G14: 0 | H14: 0 | I14: النقل البري للركاب في المدن والضواحي ( بمواعيد).
A15: 4925 | B15: Other passenger land transport (without time schedule) | C15: =G15+E15 -> 7792 | D15: =H15+F15 -> 101 | E15: 7720 | F15: 86 | G15: 72 | H15: 15 | I15: النقل البري للركاب غير المحدد بمواعيد
A16: 5 | B16: Water transport/Air transport/Warehousing and support activities for transportation/Postal and courier activities | C16: =G16+E16 -> 35567 | D16: =H16+F16 -> 202 | E16: 35176 | F16: 127 | G16: 391 | H16: 75 | I16: النقل المائي /النقل الجوي/التخزين وأنشطة الدعم للنقل/ أنشطة البريد ونقل الطرود بواسطة مندوبين
A17: 61 | B17: Telecommunications | C17: =G17+E17 -> 1921 | D17: =H17+F17 -> 3 | E17: 1921 | F17: 3 | G17: 0 | H17: 0 | I17: الاتصالات
A18: Total | C18: =SUM(C12:C17) -> 69387 | D18: =SUM(D12:D17) -> 573 | E18: =SUM(E12:E17) -> 68609 | F18: =SUM(F12:F17) -> 427 | G18: =SUM(G12:G17) -> 778 | H18: =SUM(H12:H17) -> 146 | I18: المجموع

Sheet CH2
A1: الفصل الثاني المنشأت التي تستخدم أقل من 10 مشتغلين CHAPTER 2 ESTABLISHMENTS EMPLOYING "LESS THAN 10 EMPLOYEES"

Sheet 3
B2: عدد المشتغلين حسب الجنسية و الجنس و النشاط الإقتصادي الرئيسي
B3: نشاط النقل والإتصالات (أقل من 10 مشتغلين)
B4: NUMBER OF EMPLOYEES BY SEX, NATIONALITY & MAIN ECONOMIC ACTIVITY
B5: TRANSPORT & COMMUNICATION STATISTICSs (LESS THAN 10 EMPLOYEES)
A6: 2021
A7: Table No. (3) | M7: جدول رقم (3)
A8: رمز نشاط Activity Code | B8: Main Economic Activity | C8: المجموع Total | F8: غير قطريين Non - Qatari | I8: قطريون Qataris | L8: النشاط الاقتصادي الرئيسي
C9: المجموع | D9: إناث | E9: ذكور | F9: المجموع | G9: إناث | H9: ذكور | I9: المجموع | J9: إناث | K9: ذكور
C10: Total | D10: Females | E10: Males | F10: Total | G10: Females | H10: Males | I10: Total | J10: Females | K10: Males
A11: 4922 | B11: Other passenger land transport | C11: =SUM(I11+F11) -> 0 | D11: =SUM(J11+G11) -> 0 | E11: =SUM(K11+H11) -> 0 | F11: =SUM(G11:H11) -> 0 | G11: 0 | H11: 0 | I11: =SUM(J11:K11) -> 0 | J11: 0 | K11: 0 | L11: أنواع النقل البري الأخرى للركاب
A12: 4923 | B12: Freight transport by road | C12: =SUM(I12+F12) -> 315 | D12: =SUM(J12+G12) -> 7 | E12: =SUM(K12+H12) -> 308 | F12: =SUM(G12:H12) -> 288 | G12: 7 | H12: 281 | I12: =SUM(J12:K12) -> 27 | J12: 0 | K12: 27 | L12: النقل البري للبضائع
A13: 4924 | B13: Urban and suburban passenger land transport (with time schedule) | C13: =SUM(I13+F13) -> 0 | D13: =SUM(J13+G13) -> 0 | E13: =SUM(K13+H13) -> 0 | F13: =SUM(G13:H13) -> 0 | G13: 0 | H13: 0 | I13: =SUM(J13:K13) -> 0 | J13: 0 | K13: 0 | L13: النقل البري للركاب في المدن والضواحي ( بمواعيد)
A14: 4925 | B14: Other passenger land transport (without time schedule) | C14: =SUM(I14+F14) -> 72 | D14: =SUM(J14+G14) -> 0 | E14: =SUM(K14+H14) -> 72 | F14: =SUM(G14:H14) -> 72 | G14: 0 | H14: 72 | I14: =SUM(J14:K14) -> 0 | J14: 0 | K14: 0 | L14: النقل البري للركاب غير المحدد بمواعيد
A15: 5 | B15: Water transport/Air transport/Warehousing and support activities for transportation/Postal and courier activities | C15: =SUM(I15+F15) -> 391 | D15: =SUM(J15+G15) -> 25 | E15: =SUM(K15+H15) -> 366 | F15: =SUM(G15:H15) -> 382 | G15: 24 | H15: 358 | I15: =SUM(J15:K15) -> 9 | J15: 1 | K15: 8 | L15: النقل المائي /النقل الجوي/التخزين وأنشطة الدعم للنقل/ أنشطة البريد ونقل الطرود بواسطة مندوبين
A16: 61 | B16: Telecommunications | C16: =SUM(I16+F16) -> 0 | D16: =SUM(J16+G16) -> 0 | E16: =SUM(K16+H16) -> 0 | F16: =SUM(G16:H16) -> 0 | G16: 0 | H16: 0 | I16: =SUM(J16:K16) -> 0 | J16: 0 | K16: 0 | L16: الاتصالات
A17: Total | C17: =SUM(C11:C16) -> 778 | D17: =SUM(D11:D16) -> 32 | E17: =SUM(E11:E16) -> 746 | F17: =SUM(F11:F16) -> 742 | G17: =SUM(G11:G16) -> 31 | H17: =SUM(H11:H16) -> 711 | I17: =SUM(I11:I16) -> 36 | J17: =SUM(J11:J16) -> 1 | K17: =SUM(K11:K16) -> 35 | L17: المجموع
A18: * The zero values mean that there is no establishments in these economic activities. | J18: . قيمة الاصفار تدل على عدم وجود منشآت في هذه الانشطة الاقتصادية *

Sheet 4
A2: عدد المشتغلين و تقديرات تعويضات العاملين حسب الجنسية و النشاط الإقتصادي الرئيسي
A3: نشاط النقل والإتصالات (أقل من 10 مشتغلين)
A4: NUMBER OF EMPLOYEES & ESTIMATES OF COMPENSATIONS OF EMPLOYEES BY NATIONALITY & MAIN ECONOMIC ACTIVITY
A5: TRANSPORT & COMMUNICATION STATISTICS (LESS THAN 10 EMPLOYEES)
A6: 2021
A7: Table No. (4) Value (QR.000) | I7: جدول رقم (4) القيمة ( ألف ريال قطري )
A8: رمز نشاط Activity Code | B8: Main Economic Activity | C8: تعويضات العاملين | F8: عدد المشتغلين | I8: النشاط الاقتصادي الرئيسي
C9: Compensations Of Employees | F9: Number of Employees
C10: المجموع | D10: غير قطريين | E10: قطريون | F10: المجموع | G10: غير قطريين | H10: قطريون
C11: Total | D11: Non-Qatari | E11: Qataris | F11: Total | G11: Non-Qatari | H11: Qataris
A12: 4922 | B12: Other passenger land transport | C12: =SUM(D12:E12) -> 0 | D12: 0 | E12: 0 | F12: =SUM(G12:H12) -> 0 | G12: 0 | H12: 0 | I12: أنواع النقل البري الأخرى للركاب
A13: 4923 | B13: Freight transport by road | C13: =SUM(D13:E13) -> 17696 | D13: 15698 | E13: 1998 | F13: =SUM(G13:H13) -> 315 | G13: 288 | H13: 27 | I13: النقل البري للبضائع
A14: 4924 | B14: Urban and suburban passenger land transport (with time schedule) | C14: =SUM(D14:E14) -> 0 | D14: 0 | E14: 0 | F14: =SUM(G14:H14) -> 0 | G14: 0 | H14: 0 | I14: النقل البري للركاب في المدن والضواحي ( بمواعيد)
A15: 4925 | B15: Other passenger land transport (without time schedule) | C15: =SUM(D15:E15) -> 2627 | D15: 2627 | E15: 0 | F15: =SUM(G15:H15) -> 72 | G15: 72 | H15: 0 | I15: النقل البري للركاب غير المحدد بمواعيد
A16: 5 | B16: Water transport/Air transport/Warehousing and support activities for transportation/Postal and courier activities | C16: =SUM(D16:E16) -> 27711 | D16: 26821 | E16: 890 | F16: =SUM(G16:H16) -> 391 | G16: 382 | H16: 9 | I16: النقل المائي /النقل الجوي/التخزين وأنشطة الدعم للنقل/ أنشطة البريد ونقل الطرود بواسطة مندوبين
A17: 61 | B17: Telecommunications | C17: =SUM(D17:E17) -> 0 | D17: 0 | E17: 0 | F17: =SUM(G17:H17) -> 0 | G17: 0 | H17: 0 | I17: الاتصالات
A18: Total | C18: =SUM(C12:C17) -> 48034 | D18: =SUM(D12:D17) -> 45146 | E18: =SUM(E12:E17) -> 2888 | F18: =SUM(F12:F17) -> 778 | G18: =SUM(G12:G17) -> 742 | H18: =SUM(H12:H17) -> 36 | I18: المجموع
A19: * The zero values mean that there is no establishments in these economic activities. | G19: . قيمة الاصفار تدل على عدم وجود منشآت في هذه الانشطة الاقتصادية *

Sheet 5
A2: عدد المشتغلين وتقديرات تعويضات العاملين حسب الجنس والمهنة
A3: نشاط النقل والإتصالات (أقل من 10 مشتغلين)
A4: NUMBER OF EMPLOYEES & ESTIMATES OF COMPENSATIONS OF EMPLOYEES BY SEX & OCCUPATION
A5: TRANSPORT & COMMUNICATION STATISTICS (LESS THAN 10 EMPLOYEES)
A6: 2021
A7: Table No. (5) Value QR.000 | I7: جدول رقم (5) القيمة ألف ريال قطري
A8: Occupation | C8: تعويضات العاملين | F8: عدد المشتغلين | I8: المهنة
C9: Compensations Of Employees | F9: Number of Employees
C10: المجموع | D10: المزايا العينية | E10: الاجور والرواتب | F10: المجموع | G10: إناث | H10: ذكور
C11: Total | D11: Payments in-kind | E11: Wages & Salaries | F11: Total | G11: Females | H11: Males
A12: Working proprietors with payment | C12: =SUM(D12:E12) -> 7782 | D12: 137 | E12: 7645 | F12: =SUM(G12:H12) -> 42 | G12: 0 | H12: 42 | I12: أصحاب عمل يعملون بالمنشأة بأجر
A13: Working proprietors without payment | C13: =SUM(D13:E13) -> 0 | D13: 0 | E13: 0 | F13: =SUM(G13:H13) -> 24 | G13: 0 | H13: 24 | I13: أصحاب عمل يعملون بالمنشأة بدون اجر
A14: Managers | C14: =SUM(D14:E14) -> 17556 | D14: 267 | E14: 17289 | F14: =SUM(G14:H14) -> 138 | G14: 7 | H14: 131 | I14: مديرون
A15: Administrators | C15: =SUM(D15:E15) -> 3086 | D15: 55 | E15: 3031 | F15: =SUM(G15:H15) -> 57 | G15: 16 | H15: 41 | I15: إداريون
A16: Specialist and Technicians (engineers, technicians,accountants, purchases and sales staff...etc) | C16: =SUM(D16:E16) -> 6946 | D16: 55 | E16: 6891 | F16: =SUM(G16:H16) -> 84 | G16: 9 | H16: 75 | I16: أخصائيون وفنيون مهندسون وفنيون ومحاسبون و موظفو مشتريات ومبيعات
A17: Clerks | C17: =SUM(D17:E17) -> 930 | D17: 27 | E17: 903 | F17: =SUM(G17:H17) -> 28 | G17: 0 | H17: 28 | I17: كتبـــة
A18: Production & Operations Supervisors | C18: =SUM(D18:E18) -> 1207 | D18: 0 | E18: 1207 | F18: =SUM(G18:H18) -> 28 | G18: 0 | H18: 28 | I18: مشرفو الانتاج والتشغيل
A19: Production and related workers | C19: =SUM(D19:E19) -> 10529 | D19: 0 | E19: 10529 | F19: =SUM(G19:H19) -> 377 | G19: 0 | H19: 377 | I19: عمال الانتاج والتشغيل
A20: Services workers and others | C20: =SUM(D20:E20) -> 0 | D20: 0 | E20: 0 | F20: =SUM(G20:H20) -> 0 | G20: 0 | H20: 0 | I20: عمال خدمات واّخرون
A21: Total | C21: =SUM(C12:C20) -> 48036 | D21: =SUM(D12:D20) -> 541 | E21: =SUM(E12:E20) -> 47495 | F21: =SUM(F12:F20) -> 778 | G21: =SUM(G12:G20) -> 32 | H21: =SUM(H12:H20) -> 746 | I21: المجموع

Sheet 6
A2: تقديرات قيمة المستلزمات السلعية حسب النشاط الاقتصادي
A3: نشاط النقل والإتصالات (أقل من 10 مشتغلين)
A4: ESTIMATES OF VALUE OF INTERMEDIATE GOODS BY MAIN ECONOMIC ACTIVITY
A5: TRANSPORT & COMMUNICATION STATISTICS (LESS THAN 10 EMPLOYEES)
A6: 2021
A7: Table No. (6) Value QR.000 | K7: جدول رقم (6) القيمة ألف ريال قطري
A8: رمز نشاط Activity Code | B8: Main Economic Activity | C8: المجمــوع | D8: مواد سلعيه أخــرى | E8: أدوات كتابية وقرطاسية ومطبوعات | F8: قطع غيار وعدد وادوات مسنهلكة | G8: كهرباء ومــاء | H8: وقود وزيوت وقوى محركه | I8: مواد تعبئه وتغليف وحزم | J8: خامات ومواد اولية | K8: النشاط الاقتصادي الرئيسي
C9: Total | D9: Other goods | E9: Stationery and Printed matters | F9: Spare Parts and Consumable tools | G9: Electricity and Water | H9: Fuels, Lubricants and energy | I9: Packing Material | J9: Raw material and intermediate goods
A10: 4922 | B10: Other passenger land transport | C10: =SUM(D10:J10) -> 0 | D10: 0 | E10: 0 | F10: 0 | G10: 0 | H10: 0 | I10: 0 | J10: 0 | K10: أنواع النقل البري الأخرى للركاب
A11: 4923 | B11: Freight transport by road | C11: =SUM(D11:J11) -> 12536 | D11: 84 | E11: 148 | F11: 3629 | G11: 3886 | H11: 4789 | I11: 0 | J11: 0 | K11: النقل البري للبضائع
A12: 4924 | B12: Urban and suburban passenger land transport (with time schedule) | C12: =SUM(D12:J12) -> 0 | D12: 0 | E12: 0 | F12: 0 | G12: 0 | H12: 0 | I12: 0 | J12: 0 | K12: النقل البري للركاب في المدن والضواحي ( بمواعيد)
A13: 4925 | B13: Other passenger land transport (without time schedule) | C13: =SUM(D13:J13) -> 5985 | D13: 252 | E13: 56 | F13: 424 | G13: 96 | H13: 5157 | I13: 0 | J13: 0 | K13: النقل البري للركاب غير المحدد بمواعيد
A14: 5 | B14: Water transport/Air transport/Warehousing and support activities for transportation/Postal and courier activities | C14: =SUM(D14:J14) -> 34322 | D14: 558 | E14: 633 | F14: 5347 | G14: 1037 | H14: 26553 | I14: 194 | J14: 0 | K14: النقل المائي /النقل الجوي/التخزين وأنشطة الدعم للنقل/ أنشطة البريد ونقل الطرود بواسطة مندوبين
A15: 61 | B15: Telecommunications | C15: =SUM(D15:J15) -> 0 | D15: 0 | E15: 0 | F15: 0 | G15: 0 | H15: 0 | I15: 0 | J15: 0 | K15: الاتصالات
A16: Total | C16: =SUM(C10:C15) -> 52843 | D16: =SUM(D10:D15) -> 894 | E16: =SUM(E10:E15) -> 837 | F16: =SUM(F10:F15) -> 9400 | G16: =SUM(G10:G15) -> 5019 | H16: =SUM(H10:H15) -> 36499 | I16: =SUM(I10:I15) -> 194 | J16: =SUM(J10:J15) -> 0 | K16: المجموع
A17: * The zero values mean that there is no establishments in these economic activities. | I17: . قيمة الاصفار تدل على عدم وجود منشآت في هذه الانشطة الاقتصادية *

Sheet 7
A2: تقديرات قيمة المستلزمات الخدمية حسب النشاط الإقتصادي
A3: نشاط النقل والإتصالات (أقل من 10 مشتغلين)
A4: ESTIMATES OF VALUE OF INTERMEDIATE SERVICES BY MAIN ECONOMIC ACTIVITY
A5: TRANSPORT & COMMUNICATION STATISTICS (LESS THAN 10 EMPLOYEES)
A6: 2021
A7: Table No. (7) Value QR.000 | N7: جدول رقم (7) القيمة ألف ريال قطري
A8: رمز نشاط Activity Code | B8: Main Economic Activity | C8: المجمــوع | D8: مصروفات خدمية اخرى | E8: خسائر بضائع مشتراة بغرض البيع | F8: نقل وانتقالات عمه تشمل مصاريف نقل مهمات رسمية | G8: تشغيل وخدمات صناعية لدى الغيـــر | H8: صيانة وسائل نقل سيارات | I8: صيانة الات ومعـدات | J8: صيانة مبانــي | K8: إيجارات وسائل نقـل | L8: إيجارات اّلات ومعدات | M8: إيجارات مباني غير سكنية | N8: النشاط الاقتصادي الرئيسي
C9: Total | D9: Other Service expenses | E9: Losses of goods purchased for sale | F9: Transportati on (Include Travel Expenses For Official Trips) | G9: Work done & Industrial services rendered by other | H9: Transport equipment maintenance | I9: Tools & equipment maintenance | J9: Building repairs and maintenance | K9: Rents of transportati on equipment | L9: Rents of machinery and equipment | M9: Rents of non- residential buildings
A10: 4922 | B10: Other passenger land transport | C10: =SUM(D10:M10) -> 0 | D10: 0 | E10: 0 | F10: 0 | G10: 0 | H10: 0 | I10: 0 | J10: 0 | K10: 0 | L10: 0 | M10: 0 | N10: أنواع النقل البري الأخرى للركاب
A11: 4923 | B11: Freight transport by road | C11: =SUM(D11:M11) -> 7109 | D11: 277 | E11: 266 | F11: 999 | G11: 0 | H11: 47 | I11: 799 | J11: 10 | K11: 1265 | L11: 733 | M11: 2713 | N11: النقل البري للبضائع
A12: 4924 | B12: Urban and suburban passenger land transport (with time schedule) | C12: =SUM(D12:M12) -> 0 | D12: 0 | E12: 0 | F12: 0 | G12: 0 | H12: 0 | I12: 0 | J12: 0 | K12: 0 | L12: 0 | M12: 0 | N12: النقل البري للركاب في المدن والضواحي ( بمواعيد)
A13: 4925 | B13: Other passenger land transport (without time schedule) | C13: =SUM(D13:M13) -> 3001 | D13: 19 | E13: 0 | F13: 7 | G13: 88 | H13: 301 | I13: 20 | J13: 0 | K13: 0 | L13: 0 | M13: 2566 | N13: النقل البري للركاب غير المحدد بمواعيد
A14: 5 | B14: Water transport/Air transport/Warehousing and support activities for transportation/Postal and courier activities | C14: =SUM(D14:M14) -> 44808 | D14: 7399 | E14: 65 | F14: 5787 | G14: 69 | H14: 16516 | I14: 226 | J14: 258 | K14: 2773 | L14: 57 | M14: 11658 | N14: النقل المائي /النقل الجوي/التخزين وأنشطة الدعم للنقل/ أنشطة البريد ونقل الطرود بواسطة مندوبين
A15: 61 | B15: Telecommunications | C15: =SUM(D15:M15) -> 0 | D15: 0 | E15: 0 | F15: 0 | G15: 0 | H15: 0 | I15: 0 | J15: 0 | K15: 0 | L15: 0 | M15: 0 | N15: الاتصالات
A16: Total | C16: =SUM(C10:C15) -> 54918 | D16: =SUM(D10:D15) -> 7695 | E16: =SUM(E10:E15) -> 331 | F16: =SUM(F10:F15) -> 6793 | G16: =SUM(G10:G15) -> 157 | H16: =SUM(H10:H15) -> 16864 | I16: =SUM(I10:I15) -> 1045 | J16: =SUM(J10:J15) -> 268 | ... M16: =SUM(M10:M15) -> 16937 | N16: المجموع
A17: * The zero values mean that there is no establishments in these economic activities. | J17: . قيمة الاصفار تدل على عدم وجود منشآت في هذه الانشطة الاقتصادية *

Sheet 8
A2: تقديرات القيمة المضافة حسب النشاط الاقتصادي الرئيسي
A3: نشاط النقل والإتصالات (أقل من 10 مشتغلين)
A4: ESTIMATES OF VALUE ADDED BY MAIN ECONOMIC ACTIVITY
A5: TRANSPORT & COMMUNICATION STATISTICS (LESS THAN 10 EMPLOYEES)
A6: 2021
A7: Table No. (8) Value QR.000 | L7: جدول رقم (8) القيمة ألف ريال قطري
A8: رمز النشاط Activity Code | B8: Main Economic Activity | C8: القيمة المضافة الصافية | D8: الإهتلاكات | E8: القيمة المضافة الإجمالية | F8: قيمة المستلزمات السلعية والخدمية | I8: قيمة الإنتاج | L8: النشاط الاقتصادى الرئيسي
F9: Intermediate Goods & Services Value | I9: Production Value
C10: Net Value Added | D10: Depreciations | E10: Gross Value Added | F10: المجموع | G10: خدمات | H10: سلع | I10: المجموع | J10: إيرادات إخرى | K10: منتجات
F11: Total | G11: Services | H11: Goods | I11: Total | J11: Other Revenues | K11: Products
A12: 49 | B12: Land transport and transport via pipelines | C12: =SUM(E12-D12) -> 41988 | D12: 2184 | E12: 44172 | F12: =SUM(G12:H12) -> 28632 | G12: 10110 | H12: 18522 | I12: =SUM(J12:K12) -> 72804 | J12: 1362 | K12: 71442 | L12: النقل البري و النقل عبر الأنابيب
A13: 5 | B13: Water transport/Air transport/Warehousing and support activities for transportation/Postal and courier activities | C13: =SUM(E13-D13) -> 460645 | D13: 96652 | E13: 557297 | F13: =SUM(G13:H13) -> 79129 | G13: 44809 | H13: 34320 | I13: =SUM(J13:K13) -> 636426 | J13: 312 | K13: 636114 | L13: النقل المائي /النقل الجوي/التخزين وأنشطة الدعم للنقل/ أنشطة البريد ونقل الطرود بواسطة مندوبين
A14: 61 | B14: Telecommunications | C14: =SUM(E14-D14) -> 0 | D14: 0 | E14: 0 | F14: =SUM(G14:H14) -> 0 | G14: 0 | H14: 0 | I14: =SUM(J14:K14) -> 0 | J14: 0 | K14: 0 | L14: الاتصالات
A15: Total | C15: =SUM(C12:C14) -> 502633 | D15: =SUM(D12:D14) -> 98836 | E15: =SUM(E12:E14) -> 601469 | F15: =SUM(F12:F14) -> 107761 | G15: =SUM(G12:G14) -> 54919 | H15: =SUM(H12:H14) -> 52842 | I15: =SUM(I12:I14) -> 709230 | J15: =SUM(J12:J14) -> 1674 | K15: =SUM(K12:K14) -> 707556 | L15: المجموع
A16: * The zero values mean that there is no establishments in these economic activities. | J16: . قيمة الاصفار تدل على عدم وجود منشآت في هذه الانشطة الاقتصادية *

Sheet 9
A2: تقديرات القيمة المضافة حسب النشاط الاقتصادي الرئيسي
A3: نشاط النقل والإتصالات (أقل من 10 مشتغلين)
A4: ESTIMATES OF VALUE ADDED BY MAIN ECONOMIC ACTIVITY
A5: TRANSPORT & COMMUNICATION STATISTICS (LESS THAN 10 EMPLOYEES)
A6: 2021
A7: Table No. (9) Value QR.000 | L7: جدول رقم (9) القيمة ألف ريال قطري
A8: رمز النشاط Activity Code | B8: Main Economic Activity | C8: القيمة المضافة الصافية | D8: الإهتلاكات | E8: القيمة المضافة الإجمالية | F8: قيمة المستلزمات السلعية والخدمية | I8: قيمة الإنتاج | L8: النشاط الاقتصادى الرئيسي
F9: Intermediate Goods & Services Value | I9: Production Value
C10: Net Value Added | D10: Depreciations | E10: Gross Value Added | F10: المجموع | G10: خدمات | H10: سلع | I10: المجموع | J10: إيرادات إخرى | K10: منتجات
F11: Total | G11: Services | H11: Goods | I11: Total | J11: Other Revenues | K11: Products
A12: 4922 | B12: Other passenger land transport | C12: =SUM(E12-D12) -> 0 | D12: 0 | E12: =SUM(I12-F12) -> 0 | F12: =SUM(G12:H12) -> 0 | G12: 0 | H12: 0 | I12: =SUM(J12:K12) -> 0 | J12: 0 | K12: 0 | L12: أنواع النقل البري الأخرى للركاب
A13: 4923 | B13: Freight transport by road | C13: =SUM(E13-D13) -> 34116 | D13: 1362 | E13: =SUM(I13-F13) -> 35478 | F13: =SUM(G13:H13) -> 19645 | G13: 7109 | H13: 12536 | I13: =SUM(J13:K13) -> 55123 | J13: 1312 | K13: 53811 | L13: النقل البري للبضائع
A14: 4924 | B14: Urban and suburban passenger land transport (with time schedule) | C14: =SUM(E14-D14) -> 0 | D14: 0 | E14: =SUM(I14-F14) -> 0 | F14: =SUM(G14:H14) -> 0 | G14: 0 | H14: 0 | I14: =SUM(J14:K14) -> 0 | J14: 0 | K14: 0 | L14: النقل البري للركاب في المدن والضواحي ( بمواعيد)
A15: 4925 | B15: Other passenger land transport (without time schedule) | C15: =SUM(E15-D15) -> 7872 | D15: 822 | E15: =SUM(I15-F15) -> 8694 | F15: =SUM(G15:H15) -> 8987 | G15: 3001 | H15: 5986 | I15: =SUM(J15:K15) -> 17681 | J15: 50 | K15: 17631 | L15: النقل البري للركاب غير المحدد بمواعيد
A16: 5 | B16: Water transport/Air transport/Warehousing and support activities for transportation/Postal and courier activities | C16: =SUM(E16-D16) -> 460644 | D16: 96653 | E16: =SUM(I16-F16) -> 557297 | F16: =H16+G16 -> 79130 | G16: 44810 | H16: 34320 | I16: =K16+J16 -> 636427 | J16: 312 | K16: 636115 | L16: النقل المائي /النقل الجوي/التخزين وأنشطة الدعم للنقل/ أنشطة البريد ونقل الطرود بواسطة مندوبين
A17: 61 | B17: Telecommunications | C17: =SUM(E17-D17) -> 0 | D17: 0 | E17: =SUM(I17-F17) -> 0 | F17: =SUM(G17:H17) -> 0 | G17: 0 | H17: 0 | I17: =SUM(J17:K17) -> 0 | J17: 0 | K17: 0 | L17: الاتصالات
A18: Total | C18: =SUM(C12:C17) -> 502632 | D18: =SUM(D12:D17) -> 98837 | E18: =SUM(E12:E17) -> 601469 | F18: =SUM(F12:F17) -> 107762 | G18: =SUM(G12:G17) -> 54920 | H18: =SUM(H12:H17) -> 52842 | I18: =SUM(I12:I17) -> 709231 | J18: =SUM(J12:J17) -> 1674 | K18: =SUM(K12:K17) -> 707557 | L18: المجموع
A19: * The zero values mean that there is no establishments in these economic activities. | I19: . قيمة الاصفار تدل على عدم وجود منشآت في هذه الانشطة الاقتصادية *

Sheet 10
A2: أهم المؤشرات الإقتصادية حسب النشاط الإقتصادي الرئيسي
A3: نشاط النقل والإتصالات (أقل من 10 مشتغلين)
A4: MAIN ECONOMIC INDICATORS BY MAIN ECONOMIC ACTIVITY
A5: TRANSPORT & COMMUNICATION STATISTICS (LESS THAN 10 EMPLOYEES)
A6: 2021
A7: Table No. (10) | J7: جدول رقم (10)
A8: رمز نشاط Activity Code | B8: Main Economic Activity | C8: توزيعات القيمة المضافة الصافية ألف ريال قطري | E8: نصيب المشتغل من القيمة المضافة الاجمالية ريال قطري | F8: انتاجية المشتغل ريال قطري | G8: نسبة قيمة المستلزمات الخدمية إلى قيمة الإنتاج | H8: نسبة قيمة المستلزمات السلعية إلى قيمة الإنتاج | I8: متوسط الأجر السنوي 1 ريال قطري | J8: النشاط الاقتصادى الرئيسي
C9: Distribution Of Net Value Added (QR. 000)
C10: فائض التشغيل | D10: تعويضات العاملين | E10: Value Added Per Worker (QR.) | F10: Productivity Of Employee (QR.) | G10: (%) | H10: (%) | I10: Average Annual Wage (1) (QR.)
C11: Operating Surplus | D11: Compensat ion Of Employees | G11: Percentage Of Intermediate Services Value To Output | H11: Percentage Of Intermediate Goods Value To Output
A12: 49 | B12: Land transport and transport via pipelines | C12: 21665 | D12: 20323 | E12: 114140 | F12: 188124 | G12: 13.89 | H12: 25.44 | I12: 55832 | J12: النقل البري و النقل عبر الأنابيب
A13: 5 | B13: Water transport/Air transport/Warehousing and support activities for transportation/Postal and courier activities | C13: 432933 | D13: 27711 | E13: ='9'!E16/'2'!G16 -> 1425.312 | F13: ='9'!I16/'4'!F16 -> 1627.6905 | G13: 7.04 | H13: 5.39 | I13: =D13/'4'!F16 -> 70.872123 | J13: النقل المائي /النقل الجوي/التخزين وأنشطة الدعم للنقل/ أنشطة البريد ونقل الطرود بواسطة مندوبين
A14: 61 | B14: Telecommunications | C14: 0 | D14: 0 | E14: 0 | F14: 0 | G14: 0 | H14: 0 | I14: 0 | J14: الاتصالات
A15: Total | C15: 454598 | D15: 48034 | E15: 773095 | F15: 911606 | G15: 7.74 | H15: 7.45 | I15: 63706 | J15: المجموع
A16: * The zero values mean that there is no establishments in these economic activities. | G16: . قيمة الاصفار تدل على عدم وجود منشآت في هذه الانشطة الاقتصادية *
A17: (1) Includes Wages, Salaries, Payments in-kind & remuneration of board of directors. | H17: (1) يشمل الأجور و الرواتب و المزايا العينية و مكافآت مجلس الإدارة.
E19: ='9'!E16/'2'!G16 -> 1425.312 | F19: ='9'!I16/'4'!F16 -> 1627.6905 | I19: =D13/'4'!F16 -> 70.872123

Sheet 11
B2: أهم المؤشرات الإقتصادية حسب النشاط الإقتصادي الرئيسي
B3: نشاط النقل والإتصالات (أقل من 10 مشتغلين)
B4: MAIN ECONOMIC INDICATORS BY MAIN ECONOMIC ACTIVITY
B5: TRANSPORT & COMMUNICATION STATISTICS (LESS THAN 10 EMPLOYEES)
A6: 2021
A7: Table No. (11) | J7: جدول رقم (11)
A8: رمز نشاط Activity Code | B8: Main Economic Activity | C8: توزيعات القيمة المضافة الصافية ألف ريال قطري | E8: نصيب المشتغل من القيمة المضافة الاجمالية ريال قطري | F8: انتاجية المشتغل ريال قطري | G8: نسبة قيمة المستلزمات الخدمية إلى قيمة الإنتاج | H8: نسبة قيمة المستلزمات السلعية إلى قيمة الإنتاج | I8: متوسط الأجر السنوي 1 ريال قطري | J8: النشاط الاقتصادى الرئيسي
C9: Distribution Of Net Value Added (QR. 000)
C10: فائض التشغيل | D10: تعويضات العاملين | E10: Value Added Per Worker (QR.) | F10: Productivity Of Employee (QR.) | G10: (%) | H10: (%) | I10: Average Annual Wage (1) (QR.)
C11: Operating Surplus | D11: Compensat ion Of Employees | G11: Percentage Of Intermediate Services To Output | H11: Percentage Of Intermediate Goods To Output
A12: 4922 | B12: Other passenger land transport | C12: 0 | D12: 0 | E12: 0 | F12: 0 | G12: 0 | H12: 0 | I12: 0 | J12: أنواع النقل البري الأخرى للركاب
A13: 4923 | B13: Freight transport by road | C13: 16421 | D13: 17695 | E13: 112630 | F13: 174994 | G13: 12.9 | H13: 22.74 | I13: 59985 | J13: النقل البري للبضائع
A14: 4924 | B14: Urban and suburban passenger land transport (with time schedule) | C14: 0 | D14: 0 | E14: 0 | F14: 0 | G14: 0 | H14: 0 | I14: 0 | J14: النقل البري للركاب في المدن والضواحي ( بمواعيد)
A15: 4925 | B15: Other passenger land transport (without time schedule) | C15: 5244 | D15: 2627 | E15: 120747 | F15: 245566 | G15: 16.97 | H15: 33.86 | I15: 38077 | J15: النقل البري للركاب غير المحدد بمواعيد
A16: 5 | B16: Water transport/Air transport/Warehousing and support activities for transportation/Postal and courier activities | C16: 432933 | D16: 27712 | E16: 1425.312 | F16: 1627.6905 | G16: 7.04 | H16: 5.39 | I16: 71 | J16: النقل المائي /النقل الجوي/التخزين وأنشطة الدعم للنقل/ أنشطة البريد ونقل الطرود بواسطة مندوبين
A17: 61 | B17: Telecommunications | C17: 0 | D17: 0 | E17: 0 | F17: 0 | G17: 0 | H17: 0 | I17: 0 | J17: الاتصالات
A18: Total | C18: 454598 | D18: 48034 | E18: 773095 | F18: 911606 | G18: 7.74 | H18: 7.45 | I18: 63706 | J18: المجموع
A19: * The zero values mean that there is no establishments in these economic activities. | G19: . قيمة الاصفار تدل على عدم وجود منشآت في هذه الانشطة الاقتصادية *
A20: (1) Includes Wages, Salaries, Payments in-kind & remuneration of board of directors. | H20: (1) يشمل الأجور و الرواتب و المزايا العينية و مكافآت مجلس الإدارة.

Sheet CH3
A11: الفصل الثالث المنشأت التي تستخدم 10 مشتغلين فأكثر CHAPTER 3 ESTABLISHMENTS EMPLOYING "10 EMPLOYEES & MORE

Sheet 12
A2: عدد المشتغلين حسب الجنس و الجنسية و النشاط الإقتصادي الرئيسي
A3: نشاط النقل والإتصالات (منشأت تستخدم 10 مشتغلين فأكثر)
A4: NUMBER OF EMPLOYEES BY SEX, NATIONALITY & MAIN ECONOMIC ACTIVITY
A5: TRANSPORT & COMMUNICATION STATISTICS (10 EMPLOYEES & MORE)
A6: 2021
A7: Table No. (12) | L7: جدول رقم (12)
A8: رمز نشاط Activity Code | B8: Main Economic Activity | C8: المجموع Total | F8: غير قطريين Non - Qatari | I8: قطريون Qataris | L8: النشاط الاقتصادي الرئيسي
C9: المجموع | D9: إناث | E9: ذكور | F9: المجموع | G9: إناث | H9: ذكور | I9: المجموع | J9: إناث | K9: ذكور
C10: Total | D10: Females | E10: Males | F10: Total | G10: Females | H10: Males | I10: Total | J10: Females | K10: Males
A11: 4922 | B11: Other passenger land transport | C11: =SUM(I11+F11) -> 2536 | D11: =SUM(J11+G11) -> 32 | E11: =SUM(K11+H11) -> 2504 | F11: =SUM(G11:H11) -> 2528 | G11: 30 | H11: 2498 | I11: =SUM(J11:K11) -> 8 | J11: 2 | K11: 6 | L11: أنواع النقل البري الأخرى للركاب
A12: 4923 | B12: Freight transport by road | C12: =SUM(I12+F12) -> 13703 | D12: =SUM(J12+G12) -> 178 | E12: =SUM(K12+H12) -> 13525 | F12: =SUM(G12:H12) -> 13661 | G12: 178 | H12: 13483 | I12: =SUM(J12:K12) -> 42 | J12: 0 | K12: 42 | L12: النقل البري للبضائع
A13: 4924 | B13: Urban and suburban passenger land transport (with time schedule) | C13: =SUM(I13+F13) -> 7553 | D13: =SUM(J13+G13) -> 72 | E13: =SUM(K13+H13) -> 7481 | F13: =SUM(G13:H13) -> 7494 | G13: 60 | H13: 7434 | I13: =SUM(J13:K13) -> 59 | J13: 12 | K13: 47 | L13: النقل البري للركاب في المدن والضواحي ( بمواعيد)
A14: 4925 | B14: Other passenger land transport (without time schedule) | C14: =SUM(I14+F14) -> 7720 | D14: =SUM(J14+G14) -> 36 | E14: =SUM(K14+H14) -> 7684 | F14: =SUM(G14:H14) -> 7702 | G14: 36 | H14: 7666 | I14: =SUM(J14:K14) -> 18 | J14: 0 | K14: 18 | L14: النقل البري للركاب غير المحدد بمواعيد
A15: 5010 | B15: Water transport, marine and coastal passenger includes(Passenger transport,and Freight) | C15: =SUM(I15+F15) -> 1439 | D15: =SUM(J15+G15) -> 59 | E15: =SUM(K15+H15) -> 1380 | F15: =SUM(G15:H15) -> 1360 | G15: 33 | H15: 1327 | I15: =SUM(J15:K15) -> 79 | J15: 26 | K15: 53 | L15: النقل المائي البحري والساحلي ويشمل (نقل الركاب والبضائع)
A16: 5110 | B16: passenger air transport | C16: =SUM(I16+F16) -> 23092 | D16: =SUM(J16+G16) -> 9139 | E16: =SUM(K16+H16) -> 13953 | F16: =SUM(G16:H16) -> 22446 | G16: 8913 | H16: 13533 | I16: =SUM(J16:K16) -> 646 | J16: 226 | K16: 420 | L16: النقل الجوي للركاب
A17: 5210 | B17: Warehousing and storage | C17: =SUM(I17+F17) -> 3206 | D17: =SUM(J17+G17) -> 195 | E17: =SUM(K17+H17) -> 3011 | F17: =SUM(G17:H17) -> 3163 | G17: 181 | H17: 2982 | I17: =SUM(J17:K17) -> 43 | J17: 14 | K17: 29 | L17: التخزين
A18: 5221 | B18: Service activities incidental to land transportation | C18: =SUM(I18+F18) -> 0 | D18: =SUM(J18+G18) -> 0 | E18: =SUM(K18+H18) -> 0 | F18: =SUM(G18:H18) -> 0 | G18: 0 | H18: 0 | I18: =SUM(J18:K18) -> 0 | J18: 0 | K18: 0 | L18: أنشطة الخدمات المتصلة بالنقل البري
A19: 5222 | B19: Service activities incidental to water transportation | C19: =SUM(I19+F19) -> 459 | D19: =SUM(J19+G19) -> 15 | E19: =SUM(K19+H19) -> 444 | F19: =SUM(G19:H19) -> 459 | G19: 15 | H19: 444 | I19: =SUM(J19:K19) -> 0 | J19: 0 | K19: 0 | L19: أنشطة الخدمات المتصلة بالنقل المائي
A20: 5224 | B20: Cargo handling | C20: =SUM(I20+F20) -> 1682 | D20: =SUM(J20+G20) -> 151 | E20: =SUM(K20+H20) -> 1531 | F20: =SUM(G20:H20) -> 1677 | G20: 150 | H20: 1527 | I20: =SUM(J20:K20) -> 5 | J20: 1 | K20: 4 | L20: مناولة البضائع
A21: 5229 | B21: Other transportation support activities | C21: =SUM(I21+F21) -> 3821 | D21: =SUM(J21+G21) -> 213 | E21: =SUM(K21+H21) -> 3608 | F21: =SUM(G21:H21) -> 3801 | G21: 209 | H21: 3592 | I21: =SUM(J21:K21) -> 20 | J21: 4 | K21: 16 | L21: أنشطة دعم النقل الأخرى
A22: 53 | B22: Postal activities and Courier activities | C22: =SUM(I22+F22) -> 1477 | D22: =SUM(J22+G22) -> 221 | E22: =SUM(K22+H22) -> 1256 | F22: =SUM(G22:H22) -> 1352 | G22: 175 | H22: 1177 | I22: =SUM(J22:K22) -> 125 | J22: 46 | K22: 79 | L22: أنشطة البريد وانشطة شركات نقل البريد الخاصة
A23: 61 | B23: Telecommunications | C23: =SUM(I23+F23) -> 1921 | D23: =SUM(J23+G23) -> 424 | E23: =SUM(K23+H23) -> 1497 | F23: =SUM(G23:H23) -> 1298 | G23: 147 | H23: 1151 | I23: =SUM(J23:K23) -> 623 | J23: 277 | K23: 346 | L23: الاتصالات
A24: Total | C24: =SUM(C11:C23) -> 68609 | D24: =SUM(D11:D23) -> 10735 | E24: =SUM(E11:E23) -> 57874 | F24: =SUM(F11:F23) -> 66941 | G24: =SUM(G11:G23) -> 10127 | H24: =SUM(H11:H23) -> 56814 | I24: =SUM(I11:I23) -> 1668 | J24: =SUM(J11:J23) -> 608 | K24: =SUM(K11:K23) -> 1060 | L24: المجموع

Sheet 13
A2: عدد المشتغلين و تقديرات تعويضات العاملين حسب الجنسية و النشاط الإقتصادي الرئيسي
A3: نشاط النقل والإتصالات (منشأت تستخدم 10 مشتغلين فأكثر)
A4: NUMBER OF EMPLOYEES & ESTIMATES OF COMPENSATIONS OF EMPLOYEES BY NATIONALITY & MAIN ECONOMIC ACTIVITY
A5: TRANSPORT & COMMUNICATION STATISTICS (10 EMPLOYEES & MORE)
A6: 2021
A7: Table No. (13) Value QR.000 | I7: جدول رقم (13) القيمة ألف ريال قطري
A8: رمز نشاط Activity Code | B8: Main Economic Activity | C8: تعويضات العاملين | F8: عدد المشتغلين | I8: النشاط الاقتصادي الرئيسي
C9: Compensation Of Employees | F9: Number of Employees
C10: المجموع | D10: غير قطريين | E10: قطريون | F10: المجموع | G10: غير قطريين | H10: قطريون
C11: Total | D11: Non-Qatari | E11: Qataris | F11: Total | G11: Non-Qatari | H11: Qataris
A12: 4922 | B12: Other passenger land transport | C12: =SUM(D12:E12) -> 63607 | D12: 63607 | E12: 0 | F12: =SUM(G12:H12) -> 2536 | G12: 2528 | H12: 8 | I12: أنواع النقل البري الأخرى للركاب
A13: 4923 | B13: Freight transport by road | C13: =SUM(D13:E13) -> 442497 | D13: 437904 | E13: 4593 | F13: =SUM(G13:H13) -> 13703 | G13: 13661 | H13: 42 | I13: النقل البري للبضائع
A14: 4924 | B14: Urban and suburban passenger land transport (with time schedule) | C14: =SUM(D14:E14) -> 390734 | D14: 341610 | E14: 49124 | F14: =SUM(G14:H14) -> 7553 | G14: 7494 | H14: 59 | I14: النقل البري للركاب في المدن والضواحي ( بمواعيد)
A15: 4925 | B15: Other passenger land transport (without time schedule) | C15: =SUM(D15:E15) -> 148109 | D15: 146939 | E15: 1170 | F15: =SUM(G15:H15) -> 7720 | G15: 7702 | H15: 18 | I15: النقل البري للركاب غير المحدد بمواعيد
A16: 5010 | B16: Water transport, marine and coastal passenger includes(Passenger transport,and Freight) | C16: =SUM(D16:E16) -> 254011 | D16: 188766 | E16: 65245 | F16: =SUM(G16:H16) -> 1439 | G16: 1360 | H16: 79 | I16: النقل المائي البحري والساحلي ويشمل (نقل الركاب والبضائع)
A17: 5110 | B17: Passenger air transport | C17: =SUM(D17:E17) -> 8487333 | D17: 8104571 | E17: 382762 | F17: =SUM(G17:H17) -> 23092 | G17: 22446 | H17: 646 | I17: النقل الجوي للركاب
A18: 5210 | B18: Warehousing and storage | C18: =SUM(D18:E18) -> 312294 | D18: 295146 | E18: 17148 | F18: =SUM(G18:H18) -> 3206 | G18: 3163 | H18: 43 | I18: التخزين
A19: 5221 | B19: Service activities incidental to land transportation | C19: =SUM(D19:E19) -> 0 | D19: 0 | E19: 0 | F19: =SUM(G19:H19) -> 0 | G19: 0 | H19: 0 | I19: أنشطة الخدمات المتصلة بالنقل البري
A20: 5222 | B20: Service activities incidental to water transportation | C20: =SUM(D20:E20) -> 29101 | D20: 29101 | E20: 0 | F20: =SUM(G20:H20) -> 459 | G20: 459 | H20: 0 | I20: أنشطة الخدمات المتصلة بالنقل المائي
A21: 5224 | B21: Cargo handling | C21: =SUM(D21:E21) -> 148361 | D21: 146614 | E21: 1747 | F21: =SUM(G21:H21) -> 1682 | G21: 1677 | H21: 5 | I21: مناولة البضائع
A22: 5229 | B22: Other transportation support activities | C22: =SUM(D22:E22) -> 214824 | D22: 212635 | E22: 2189 | F22: =SUM(G22:H22) -> 3821 | G22: 3801 | H22: 20 | I22: أنشطة دعم النقل الأخرى
A23: 53 | B23: Postal activities and Courier activities | C23: =SUM(D23:E23) -> 213684 | D23: 131465 | E23: 82219 | F23: =SUM(G23:H23) -> 1477 | G23: 1352 | H23: 125 | I23: أنشطة البريد وانشطة شركات نقل البريد الخاصة
A24: 61 | B24: Telecommunications | C24: =SUM(D24:E24) -> 1124496 | D24: 637437 | E24: 487059 | F24: =SUM(G24:H24) -> 1921 | G24: 1298 | H24: 623 | I24: الاتصالات
A25: Total | C25: =SUM(C12:C24) -> 11829051 | D25: =SUM(D12:D24) -> 10735795 | E25: =SUM(E12:E24) -> 1093256 | F25: =SUM(F12:F24) -> 68609 | G25: =SUM(G12:G24) -> 66941 | H25: =SUM(H12:H24) -> 1668 | I25: المجموع

Sheet 14
A2: عدد المشتغلين وتقديرات تعويضات العاملين حسب الجنس والمهنة
A3: نشاط النقل والإتصالات (منشأت تستخدم 10 مشتغلين فأكثر)
A4: NUMBER OF EMPLOYEES & ESTIMATES OF COMPENSATION OF EMPLOYEES BY SEX & OCCUPATION
A5: TRANSPORT & COMMUNICATION STATISTICS (10 EMPLOYEES & MORE)
A6: 2021
A7: Table No. (14) Value (QR.000) | I7: جدول رقم (14) القيمة (ألف ريال قطري)
A8: Occupation | C8: تعويضات العاملين | F8: عدد المشتغلين | I8: المهنة
C9: Compensations Of Employees | F9: Number of Employees
C10: المجموع | D10: المزايا العينية | E10: الاجور والرواتب | F10: المجموع | G10: إناث | H10: ذكور
C11: Total | D11: Payments in-kind | E11: Wages & Salaries | F11: Total | G11: Females | H11: Males
A12: Working proprietors with payment | C12: =SUM(D12:E12) -> 34243 | D12: 691 | E12: 33552 | F12: =SUM(G12:H12) -> 150 | G12: 8 | H12: 142 | I12: أصحاب عمل يعملون بالمنشأة بأجر
A13: Working proprietors without payment | C13: =SUM(D13:E13) -> 0 | D13: 0 | E13: 0 | F13: =SUM(G13:H13) -> 101 | G13: 7 | H13: 94 | I13: أصحاب عمل يعملون بالمنشأة بدون اجر
A14: Managers | C14: =SUM(D14:E14) -> 1759299 | D14: 45325 | E14: 1713974 | F14: =SUM(G14:H14) -> 3058 | G14: 469 | H14: 2589 | I14: مديرون
A15: Administrators | C15: =SUM(D15:E15) -> 1013219 | D15: 22938 | E15: 990281 | F15: =SUM(G15:H15) -> 6228 | G15: 1162 | H15: 5066 | I15: إداريون
A16: Specialist and Technicians (engineers, technicians,accountants, purchases and sales staff...etc) | C16: =SUM(D16:E16) -> 6466462 | D16: 347578 | E16: 6118884 | F16: =SUM(G16:H16) -> 12402 | G16: 2271 | H16: 10131 | I16: أخصائيون وفنيون مهندسون وفنيون ومحاسبون و موظفو مشتريات ومبيعات
A17: Clerks | C17: =SUM(D17:E17) -> 190251 | D17: 6776 | E17: 183475 | F17: =SUM(G17:H17) -> 2390 | G17: 465 | H17: 1925 | I17: كتبـــة
A18: Production & Operations Supervisors | C18: =SUM(D18:E18) -> 84014 | D18: 2535 | E18: 81479 | F18: =SUM(G18:H18) -> 1879 | G18: 36 | H18: 1843 | I18: مشرفو الانتاج والتشغيل
A19: Production and related workers | C19: =SUM(D19:E19) -> 2248048 | D19: 306523 | E19: 1941525 | F19: =SUM(G19:H19) -> 41408 | G19: 6314 | H19: 35094 | I19: عمال الانتاج والتشغيل
A20: Services workers & others | B20: Services workers and others | C20: =SUM(D20:E20) -> 33517 | D20: 0 | E20: 33517 | F20: =SUM(G20:H20) -> 993 | G20: 3 | H20: 990 | I20: عمال خدمات واّخرون
A21: Total | C21: =SUM(C12:C20) -> 11829053 | D21: =SUM(D12:D20) -> 732366 | E21: =SUM(E12:E20) -> 11096687 | F21: =SUM(F12:F20) -> 68609 | G21: =SUM(G12:G20) -> 10735 | H21: =SUM(H12:H20) -> 57874 | I21: المجموع

Sheet 15
A2: تقديرات قيمة المستلزمات السلعية حسب النشاط الاقتصادي
A3: نشاط النقل والإتصالات (منشأت تستخدم 10 مشتغلين فأكثر)
A4: ESTIMATES OF VALUE OF INTERMEDIATE GOODS BY MAIN ECONOMIC ACTIVITY
A5: TRANSPORT & COMMUNICATION STATISTICS (10 EMPLOYEES & MORE)
A6: 2021
A7: Table No. (15) Value QR.000 | K7: جدول رقم (15) القيمة ألف ريال قطري
A8: رمز نشاط Activity Code | B8: Main Economic Activity | C8: المجمــوع | D8: مواد سلعيه أخــرى | E8: أدوات كتابية وقرطاسية ومطبوعات | F8: قطع غيار وعدد وادوات مسنهلكة | G8: كهرباء ومــاء | H8: وقود وزيوت وقوى محركه | I8: مواد تعبئه وتغليف وحزم | J8: خامات ومواد اولية | K8: النشاط الاقتصادي الرئيسي
C9: Total | D9: Other goods | E9: Stationery and Printed matters | F9: Spare Parts and Consumable tools | G9: Electricity and Water | H9: Fuels, Lubricants and energy | I9: Packing Material | J9: Raw material and intermediate goods
A10: 4922 | B10: Other passenger land transport | C10: =SUM(D10:J10) -> 21725 | D10: 6098 | E10: 295 | F10: 5863 | G10: 701 | H10: 7197 | I10: 0 | J10: 1571 | K10: أنواع النقل البري الأخرى للركاب
A11: 4923 | B11: Freight transport by road | C11: =SUM(D11:J11) -> 381572 | D11: 71074 | E11: 3782 | F11: 96085 | G11: 12181 | H11: 169757 | I11: 203 | J11: 28490 | K11: النقل البري للبضائع
A12: 4924 | B12: Urban and suburban passenger land transport (with time schedule) | C12: =SUM(D12:J12) -> 100626 | D12: 0 | E12: 410 | F12: 798 | G12: 10873 | H12: 88545 | I12: 0 | J12: 0 | K12: النقل البري للركاب في المدن والضواحي ( بمواعيد)
A13: 4925 | B13: Other passenger land transport (without time schedule) | C13: =SUM(D13:J13) -> 40320 | D13: 3931 | E13: 1675 | F13: 11075 | G13: 2213 | H13: 20879 | I13: 0 | J13: 547 | K13: النقل البري للركاب غير المحدد بمواعيد
A14: 5010 | B14: Water transport, marine and coastal passenger includes(Passenger transport,and Freight) | C14: =SUM(D14:J14) -> 160938 | D14: 10728 | E14: 435 | F14: 50058 | G14: 941 | H14: 98216 | I14: 560 | J14: 0 | K14: النقل المائي البحري والساحلي ويشمل (نقل الركاب والبضائع)
A15: 5110 | B15: Passenger air transport | C15: =SUM(D15:J15) -> 12856546 | D15: 485269 | E15: 71476 | F15: 236661 | G15: 6655 | H15: 12056485 | I15: 0 | J15: 0 | K15: النقل الجوي للركاب
A16: 5210 | B16: Warehousing and storage | C16: =SUM(D16:J16) -> 59726 | D16: 771 | E16: 2748 | F16: 0 | G16: 39369 | H16: 16838 | I16: 0 | J16: 0 | K16: التخزين
A17: 5221 | B17: Service activities incidental to land transportation | C17: =SUM(D17:J17) -> 0 | D17: 0 | E17: 0 | F17: 0 | G17: 0 | H17: 0 | I17: 0 | J17: 0 | K17: أنشطة الخدمات المتصلة بالنقل البري
